{"text_format":"1","workbook":"xlsx","n_sheets":22,"sheets":["Utente","elenco consumatori","pivot utente","impianto_FV","Distribuzione (2)","Distribuzione","Contributo cer","Pivot_2","output_utente_back","Contributo cer (2)","impianto_HYDRO","orario","COPYRIGHT","MODE D'EMPLOI","OUTPUT OUTIL ENERGETIQUE","Données","FR INPUT CONSOMMATEUR","FR INPUT TARIFS ACC","FR INPUT PRODUCTEUR","FR ANALYSE PRODUCTEUR","FR ANALYSE CONSOMMATEUR","percorso file"],"not_rendered":{"charts":9,"images":8,"macros":1,"external_links":0,"defined_names":32,"comments":2,"pivot_tables":0},"unopened":[],"bounds":{"document_bytes":16777216,"sheet_cells":100000,"rows_first":2000,"rows_last":500,"rows_between":2000,"halvings":0,"cell_chars":16384,"cell_head_chars":4096},"cells_cut":0,"cells_raw":0,"read":"whole","date_system":"1900"}

{"sheet":"Utente","index":0,"n_rows":11,"n_cols":3,"rows_kept":11,"cut":false,"hidden":true,"merged":[]}
["Source.Name.1","Participant ","INPUT"]
["01_User","Nom du participant"]
["01_User","Lieu/adresse/coordonnées/commune"]
["01_User","Type"]
["01_User","Catégorie juridique"]
["01_User","En cas de clé statique, indiquer le coefficient de répartition "]
["01_User","Nombre d'autres participants similaires",0]
["01_User","Dispose-t-on de données de consommation horaire ?"]
["01_User","Si non : choisir un profil de consommation"]
["01_User","Dispose-t-on de données de production horaire ?"]
["01_User","Type de production d'énergie"]

{"sheet":"elenco consumatori","index":1,"n_rows":2,"n_cols":6,"rows_kept":2,"cut":false,"hidden":true,"merged":[]}
["Name","Extension","Date accessed","Date modified","Date created","Folder Path"]
["01_User.xlsm",".xlsm","2025-06-04T11:43:39.577","2025-05-28T12:08:31.399","2025-06-04T11:43:29.582","C:\\Users\\etien\\Desktop\\Nextcloud AssoCV\\AssoCV\\12_PROJETS UE\\02_ALCOTRA_RECROSSES\\4_OUTILLAGE_CER\\Fusion outils énergétiques et économiques\\Version française\\Input\\"]

{"sheet":"pivot utente","index":2,"n_rows":13,"n_cols":6,"rows_kept":13,"cut":false,"hidden":true,"merged":[]}
["Source.Name.1","mese","Somma di consumo","Somma di produzione","Somma di immessa in rete","Somma di consumi rimanenti"]
["01_User",1,null,0]
["01_User",2,null,0]
["01_User",3,null,0]
["01_User",4,null,0]
["01_User",5,null,0]
["01_User",6,null,0]
["01_User",7,null,0]
["01_User",8,null,0]
["01_User",9,null,0]
["01_User",10,null,0]
["01_User",11,null,0]
["01_User",12,null,0]

{"sheet":"impianto_FV","index":3,"n_rows":6,"n_cols":6,"rows_kept":6,"cut":false,"hidden":true,"merged":[]}
["Source.Name.1","Photovoltaïque","Installation 1","Installation 2","Installation 3","Installation 4"]
["01_User","Puissance installée [kW]"]
["01_User","Inclinaison [°] - 0° correspond au toit plat, 45° très incliné"]
["01_User","Orientation [°] - 0° correspond au Sud, les ° positif vers l'Ouest et négatifs vers l'Est"]
["01_User","Calcul de la production horaire par PVGIS","https://re.jrc.ec.europa.eu/pvg_tools/en/ ","https://re.jrc.ec.europa.eu/pvg_tools/en/ ","https://re.jrc.ec.europa.eu/pvg_tools/en/ ","https://re.jrc.ec.europa.eu/pvg_tools/en/ "]
["01_User","Indiquer la couleur correspondant au lieu simulé d'après la carte à droite du tableau"]

{"sheet":"Distribuzione (2)","index":4,"n_rows":25,"n_cols":3,"rows_kept":25,"cut":false,"hidden":true,"merged":[]}
["mese","Attributo","somma"]
[1,"01_User"]
[1,"energia non autoconsumata"]
[2,"01_User"]
[2,"energia non autoconsumata"]
[3,"01_User"]
[3,"energia non autoconsumata"]
[4,"01_User"]
[4,"energia non autoconsumata"]
[5,"01_User"]
[5,"energia non autoconsumata"]
[6,"01_User"]
[6,"energia non autoconsumata"]
[7,"01_User"]
[7,"energia non autoconsumata"]
[8,"01_User"]
[8,"energia non autoconsumata"]
[9,"01_User"]
[9,"energia non autoconsumata"]
[10,"01_User"]
[10,"energia non autoconsumata"]
[11,"01_User"]
[11,"energia non autoconsumata"]
[12,"01_User"]
[12,"energia non autoconsumata"]

{"sheet":"Distribuzione","index":5,"n_rows":3,"n_cols":3,"rows_kept":3,"cut":false,"hidden":true,"merged":[]}
["Distribuzione","User","Somma"]
["Distribuzione","01_User"]
["Somma"]

{"sheet":"Contributo cer","index":6,"n_rows":8763,"n_cols":435,"rows_kept":8763,"cut":false,"hidden":true,"merged":[]}
["MMGGOO","Colonna1","Totale energia condivisa","01_User - Fasce Francesi stagionalità","01_User - consumo","01_User - immessa in rete","01_User - consumi rimanenti","01_User - cle","Totale Immissione in rete","Totale Consumi rimanenti","Distribuzione - 01_User - consumi rimanenti","Somma Distribuzione"]
["010100",1,{"$f":"+MIN(Contributo_cer[[#This Row],[Totale Immissione in rete]:[Totale Consumi rimanenti]])","v":0},"HC",null,null,null,0]
["010101",1,{"$f":"+MIN(Contributo_cer[[#This Row],[Totale Immissione in rete]:[Totale Consumi rimanenti]])","v":0},"HC",null,null,null,0]
["010102",1,{"$f":"+MIN(Contributo_cer[[#This Row],[Totale Immissione in rete]:[Totale Consumi rimanenti]])","v":0},"HC",null,null,null,0]
["010103",1,{"$f":"+MIN(Contributo_cer[[#This Row],[Totale Immissione in rete]:[Totale Consumi rimanenti]])","v":0},"HC",null,null,null,0]
["010104",1,{"$f":"+MIN(Contributo_cer[[#This Row],[Totale Immissione in rete]:[Totale Consumi rimanenti]])","v":0},"HC",null,null,null,0]
["010105",1,{"$f":"+MIN(Contributo_cer[[#This Row],[Totale Immissione in rete]:[Totale Consumi rimanenti]])","v":0},"HC",null,null,null,0]
["010106",1,{"$f":"+MIN(Contributo_cer[[#This Row],[Totale Immissione in rete]:[Totale Consumi rimanenti]])","v":0},"HP",null,null,null,0]
["010107",1,{"$f":"+MIN(Contributo_cer[[#This Row],[Totale Immissione in rete]:[Totale Consumi rimanenti]])","v":0},"HP",null,null,null,0]
["010108",1,{"$f":"+MIN(Contributo_cer[[#This Row],[Totale Immissione in rete]:[Totale Consumi rimanenti]])","v":0},"HP",null,null,null,0]
["010109",1,{"$f":"+MIN(Contributo_cer[[#This Row],[Totale Immissione in rete]:[Totale Consumi rimanenti]])","v":0},"HP",null,null,null,0]
["010110",1,{"$f":"+MIN(Contributo_cer[[#This Row],[Totale Immissione in rete]:[Totale Consumi rimanenti]])","v":0},"HP",null,null,null,0]
["010111",1,{"$f":"+MIN(Contributo_cer[[#This Row],[Totale Immissione in rete]:[Totale Consumi rimanenti]])","v":0},"HP",null,null,null,0]
["010112",1,{"$f":"+MIN(Contributo_cer[[#This Row],[Totale Immissione in rete]:[Totale Consumi rimanenti]])","v":0},"HP",null,null,null,0]
["010113",1,{"$f":"+MIN(Contributo_cer[[#This Row],[Totale Immissione in rete]:[Totale Consumi rimanenti]])","v":0},"HP",null,null,null,0]
["010114",1,{"$f":"+MIN(Contributo_cer[[#This Row],[Totale Immissione in rete]:[Totale Consumi rimanenti]])","v":0},"HP",null,null,null,0]
["010115",1,{"$f":"+MIN(Contributo_cer[[#This Row],[Totale Immissione in rete]:[Totale Consumi rimanenti]])","v":0},"HP",null,null,null,0]
["010116",1,{"$f":"+MIN(Contributo_cer[[#This Row],[Totale Immissione in rete]:[Totale Consumi rimanenti]])","v":0},"HP",null,null,null,0]
["010117",1,{"$f":"+MIN(Contributo_cer[[#This Row],[Totale Immissione in rete]:[Totale Consumi rimanenti]])","v":0},"HP",null,null,null,0]
["010118",1,{"$f":"+MIN(Contributo_cer[[#This Row],[Totale Immissione in rete]:[Totale Consumi rimanenti]])","v":0},"HP",null,null,null,0]
["010119",1,{"$f":"+MIN(Contributo_cer[[#This Row],[Totale Immissione in rete]:[Totale Consumi rimanenti]])","v":0},"HP",null,null,null,0]
["010120",1,{"$f":"+MIN(Contributo_cer[[#This Row],[Totale Immissione in rete]:[Totale Consumi rimanenti]])","v":0},"HP",null,null,null,0]
["010121",1,{"$f":"+MIN(Contributo_cer[[#This Row],[Totale Immissione in rete]:[Totale Consumi rimanenti]])","v":0},"HP",null,null,null,0]
["010122",1,{"$f":"+MIN(Contributo_cer[[#This Row],[Totale Immissione in rete]:[Totale Consumi rimanenti]])","v":0},"HC",null,null,null,0]
["010123",1,{"$f":"+MIN(Contributo_cer[[#This Row],[Totale Immissione in rete]:[Totale Consumi rimanenti]])","v":0},"HC",null,null,null,0]
["010200",1,{"$f":"+MIN(Contributo_cer[[#This Row],[Totale Immissione in rete]:[Totale Consumi rimanenti]])","v":0},"HC",null,null,null,0]
["010201",1,{"$f":"+MIN(Contributo_cer[[#This Row],[Totale Immissione in rete]:[Totale Consumi rimanenti]])","v":0},"HC",null,null,null,0]
["010202",1,{"$f":"+MIN(Contributo_cer[[#This Row],[Totale Immissione in rete]:[Totale Consumi rimanenti]])","v":0},"HC",null,null,null,0]
["010203",1,{"$f":"+MIN(Contributo_cer[[#This Row],[Totale Immissione in rete]:[Totale Consumi rimanenti]])","v":0},"HC",null,null,null,0]
["010204",1,{"$f":"+MIN(Contributo_cer[[#This Row],[Totale Immissione in rete]:[Totale Consumi rimanenti]])","v":0},"HC",null,null,null,0]
["010205",1,{"$f":"+MIN(Contributo_cer[[#This Row],[Totale Immissione in rete]:[Totale Consumi rimanenti]])","v":0},"HC",null,null,null,0]
["010206",1,{"$f":"+MIN(Contributo_cer[[#This Row],[Totale Immissione in rete]:[Totale Consumi rimanenti]])","v":0},"HP",null,null,null,0]
["010207",1,{"$f":"+MIN(Contributo_cer[[#This Row],[Totale Immissione in rete]:[Totale Consumi rimanenti]])","v":0},"HP",null,null,null,0]
["010208",1,{"$f":"+MIN(Contributo_cer[[#This Row],[Totale Immissione in rete]:[Totale Consumi rimanenti]])","v":0},"HP",null,null,null,0]
["010209",1,{"$f":"+MIN(Contributo_cer[[#This Row],[Totale Immissione in rete]:[Totale Consumi rimanenti]])","v":0},"HP",null,null,null,0]
["010210",1,{"$f":"+MIN(Contributo_cer[[#This Row],[Totale Immissione in rete]:[Totale Consumi rimanenti]])","v":0},"HP",null,null,null,0]
["010211",1,{"$f":"+MIN(Contributo_cer[[#This Row],[Totale Immissione in rete]:[Totale Consumi rimanenti]])","v":0},"HP",null,null,null,0]
["010212",1,{"$f":"+MIN(Contributo_cer[[#This Row],[Totale Immissione in rete]:[Totale Consumi rimanenti]])","v":0},"HP",null,null,null,0]
["010213",1,{"$f":"+MIN(Contributo_cer[[#This Row],[Totale Immissione in rete]:[Totale Consumi rimanenti]])","v":0},"HP",null,null,null,0]
["010214",1,{"$f":"+MIN(Contributo_cer[[#This Row],[Totale Immissione in rete]:[Totale Consumi rimanenti]])","v":0},"HP",null,null,null,0]
["010215",1,{"$f":"+MIN(Contributo_cer[[#This Row],[Totale Immissione in rete]:[Totale Consumi rimanenti]])","v":0},"HP",null,null,null,0]
["010216",1,{"$f":"+MIN(Contributo_cer[[#This Row],[Totale Immissione in rete]:[Totale Consumi rimanenti]])","v":0},"HP",null,null,null,0]
["010217",1,{"$f":"+MIN(Contributo_cer[[#This Row],[Totale Immissione in rete]:[Totale Consumi rimanenti]])","v":0},"HP",null,null,null,0]
["010218",1,{"$f":"+MIN(Contributo_cer[[#This Row],[Totale Immissione in rete]:[Totale Consumi rimanenti]])","v":0},"HP",null,null,null,0]
["010219",1,{"$f":"+MIN(Contributo_cer[[#This Row],[Totale Immissione in rete]:[Totale Consumi rimanenti]])","v":0},"HP",null,null,null,0]
["010220",1,{"$f":"+MIN(Contributo_cer[[#This Row],[Totale Immissione in rete]:[Totale Consumi rimanenti]])","v":0},"HP",null,null,null,0]
["010221",1,{"$f":"+MIN(Contributo_cer[[#This Row],[Totale Immissione in rete]:[Totale Consumi rimanenti]])","v":0},"HP",null,null,null,0]
["010222",1,{"$f":"+MIN(Contributo_cer[[#This Row],[Totale Immissione in rete]:[Totale Consumi rimanenti]])","v":0},"HC",null,null,null,0]
["010223",1,{"$f":"+MIN(Contributo_cer[[#This Row],[Totale Immissione in rete]:[Totale Consumi rimanenti]])","v":0},"HC",null,null,null,0]
["010300",1,{"$f":"+MIN(Contributo_cer[[#This Row],[Totale Immissione in rete]:[Totale Consumi rimanenti]])","v":0},"HC",null,null,null,0]
["010301",1,{"$f":"+MIN(Contributo_cer[[#This Row],[Totale Immissione in rete]:[Totale Consumi rimanenti]])","v":0},"HC",null,null,null,0]
["010302",1,{"$f":"+MIN(Contributo_cer[[#This Row],[Totale Immissione in rete]:[Totale Consumi rimanenti]])","v":0},"HC",null,null,null,0]
["010303",1,{"$f":"+MIN(Contributo_cer[[#This Row],[Totale Immissione in rete]:[Totale Consumi rimanenti]])","v":0},"HC",null,null,null,0]
["010304",1,{"$f":"+MIN(Contributo_cer[[#This Row],[Totale Immissione in rete]:[Totale Consumi rimanenti]])","v":0},"HC",null,null,null,0]
["010305",1,{"$f":"+MIN(Contributo_cer[[#This Row],[Totale Immissione in rete]:[Totale Consumi rimanenti]])","v":0},"HC",null,null,null,0]
["010306",1,{"$f":"+MIN(Contributo_cer[[#This Row],[Totale Immissione in rete]:[Totale Consumi rimanenti]])","v":0},"HP",null,null,null,0]
["010307",1,{"$f":"+MIN(Contributo_cer[[#This Row],[Totale Immissione in rete]:[Totale Consumi rimanenti]])","v":0},"HP",null,null,null,0]
["010308",1,{"$f":"+MIN(Contributo_cer[[#This Row],[Totale Immissione in rete]:[Totale Consumi rimanenti]])","v":0},"HP",null,null,null,0]
["010309",1,{"$f":"+MIN(Contributo_cer[[#This Row],[Totale Immissione in rete]:[Totale Consumi rimanenti]])","v":0},"HP",null,null,null,0]
["010310",1,{"$f":"+MIN(Contributo_cer[[#This Row],[Totale Immissione in rete]:[Totale Consumi rimanenti]])","v":0},"HP",null,null,null,0]
["010311",1,{"$f":"+MIN(Contributo_cer[[#This Row],[Totale Immissione in rete]:[Totale Consumi rimanenti]])","v":0},"HP",null,null,null,0]
["010312",1,{"$f":"+MIN(Contributo_cer[[#This Row],[Totale Immissione in rete]:[Totale Consumi rimanenti]])","v":0},"HP",null,null,null,0]
["010313",1,{"$f":"+MIN(Contributo_cer[[#This Row],[Totale Immissione in rete]:[Totale Consumi rimanenti]])","v":0},"HP",null,null,null,0]
["010314",1,{"$f":"+MIN(Contributo_cer[[#This Row],[Totale Immissione in rete]:[Totale Consumi rimanenti]])","v":0},"HP",null,null,null,0]
["010315",1,{"$f":"+MIN(Contributo_cer[[#This Row],[Totale Immissione in rete]:[Totale Consumi rimanenti]])","v":0},"HP",null,null,null,0]
["010316",1,{"$f":"+MIN(Contributo_cer[[#This Row],[Totale Immissione in rete]:[Totale Consumi rimanenti]])","v":0},"HP",null,null,null,0]
["010317",1,{"$f":"+MIN(Contributo_cer[[#This Row],[Totale Immissione in rete]:[Totale Consumi rimanenti]])","v":0},"HP",null,null,null,0]
["010318",1,{"$f":"+MIN(Contributo_cer[[#This Row],[Totale Immissione in rete]:[Totale Consumi rimanenti]])","v":0},"HP",null,null,null,0]
["010319",1,{"$f":"+MIN(Contributo_cer[[#This Row],[Totale Immissione in rete]:[Totale Consumi rimanenti]])","v":0},"HP",null,null,null,0]
["010320",1,{"$f":"+MIN(Contributo_cer[[#This Row],[Totale Immissione in rete]:[Totale Consumi rimanenti]])","v":0},"HP",null,null,null,0]
["010321",1,{"$f":"+MIN(Contributo_cer[[#This Row],[Totale Immissione in rete]:[Totale Consumi rimanenti]])","v":0},"HP",null,null,null,0]
["010322",1,{"$f":"+MIN(Contributo_cer[[#This Row],[Totale Immissione in rete]:[Totale Consumi rimanenti]])","v":0},"HC",null,null,null,0]
["010323",1,{"$f":"+MIN(Contributo_cer[[#This Row],[Totale Immissione in rete]:[Totale Consumi rimanenti]])","v":0},"HC",null,null,null,0]
["010400",1,{"$f":"+MIN(Contributo_cer[[#This Row],[Totale Immissione in rete]:[Totale Consumi rimanenti]])","v":0},"HC",null,null,null,0]
["010401",1,{"$f":"+MIN(Contributo_cer[[#This Row],[Totale Immissione in rete]:[Totale Consumi rimanenti]])","v":0},"HC",null,null,null,0]
["010402",1,{"$f":"+MIN(Contributo_cer[[#This Row],[Totale Immissione in rete]:[Totale Consumi rimanenti]])","v":0},"HC",null,null,null,0]
["010403",1,{"$f":"+MIN(Contributo_cer[[#This Row],[Totale Immissione in rete]:[Totale Consumi rimanenti]])","v":0},"HC",null,null,null,0]
["010404",1,{"$f":"+MIN(Contributo_cer[[#This Row],[Totale Immissione in rete]:[Totale Consumi rimanenti]])","v":0},"HC",null,null,null,0]
["010405",1,{"$f":"+MIN(Contributo_cer[[#This Row],[Totale Immissione in rete]:[Totale Consumi rimanenti]])","v":0},"HC",null,null,null,0]
["010406",1,{"$f":"+MIN(Contributo_cer[[#This Row],[Totale Immissione in rete]:[Totale Consumi rimanenti]])","v":0},"HP",null,null,null,0]
["010407",1,{"$f":"+MIN(Contributo_cer[[#This Row],[Totale Immissione in rete]:[Totale Consumi rimanenti]])","v":0},"HP",null,null,null,0]
["010408",1,{"$f":"+MIN(Contributo_cer[[#This Row],[Totale Immissione in rete]:[Totale Consumi rimanenti]])","v":0},"HP",null,null,null,0]
["010409",1,{"$f":"+MIN(Contributo_cer[[#This Row],[Totale Immissione in rete]:[Totale Consumi rimanenti]])","v":0},"HP",null,null,null,0]
["010410",1,{"$f":"+MIN(Contributo_cer[[#This Row],[Totale Immissione in rete]:[Totale Consumi rimanenti]])","v":0},"HP",null,null,null,0]
["010411",1,{"$f":"+MIN(Contributo_cer[[#This Row],[Totale Immissione in rete]:[Totale Consumi rimanenti]])","v":0},"HP",null,null,null,0]
["010412",1,{"$f":"+MIN(Contributo_cer[[#This Row],[Totale Immissione in rete]:[Totale Consumi rimanenti]])","v":0},"HP",null,null,null,0]
["010413",1,{"$f":"+MIN(Contributo_cer[[#This Row],[Totale Immissione in rete]:[Totale Consumi rimanenti]])","v":0},"HP",null,null,null,0]
["010414",1,{"$f":"+MIN(Contributo_cer[[#This Row],[Totale Immissione in rete]:[Totale Consumi rimanenti]])","v":0},"HP",null,null,null,0]
["010415",1,{"$f":"+MIN(Contributo_cer[[#This Row],[Totale Immissione in rete]:[Totale Consumi rimanenti]])","v":0},"HP",null,null,null,0]
["010416",1,{"$f":"+MIN(Contributo_cer[[#This Row],[Totale Immissione in rete]:[Totale Consumi rimanenti]])","v":0},"HP",null,null,null,0]
["010417",1,{"$f":"+MIN(Contributo_cer[[#This Row],[Totale Immissione in rete]:[Totale Consumi rimanenti]])","v":0},"HP",null,null,null,0]
["010418",1,{"$f":"+MIN(Contributo_cer[[#This Row],[Totale Immissione in rete]:[Totale Consumi rimanenti]])","v":0},"HP",null,null,null,0]
["010419",1,{"$f":"+MIN(Contributo_cer[[#This Row],[Totale Immissione in rete]:[Totale Consumi rimanenti]])","v":0},"HP",null,null,null,0]
["010420",1,{"$f":"+MIN(Contributo_cer[[#This Row],[Totale Immissione in rete]:[Totale Consumi rimanenti]])","v":0},"HP",null,null,null,0]
["010421",1,{"$f":"+MIN(Contributo_cer[[#This Row],[Totale Immissione in rete]:[Totale Consumi rimanenti]])","v":0},"HP",null,null,null,0]
["010422",1,{"$f":"+MIN(Contributo_cer[[#This Row],[Totale Immissione in rete]:[Totale Consumi rimanenti]])","v":0},"HC",null,null,null,0]
["010423",1,{"$f":"+MIN(Contributo_cer[[#This Row],[Totale Immissione in rete]:[Totale Consumi rimanenti]])","v":0},"HC",null,null,null,0]
["010500",1,{"$f":"+MIN(Contributo_cer[[#This Row],[Totale Immissione in rete]:[Totale Consumi rimanenti]])","v":0},"HC",null,null,null,0]
["010501",1,{"$f":"+MIN(Contributo_cer[[#This Row],[Totale Immissione in rete]:[Totale Consumi rimanenti]])","v":0},"HC",null,null,null,0]
["010502",1,{"$f":"+MIN(Contributo_cer[[#This Row],[Totale Immissione in rete]:[Totale Consumi rimanenti]])","v":0},"HC",null,null,null,0]
["010503",1,{"$f":"+MIN(Contributo_cer[[#This Row],[Totale Immissione in rete]:[Totale Consumi rimanenti]])","v":0},"HC",null,null,null,0]
["010504",1,{"$f":"+MIN(Contributo_cer[[#This Row],[Totale Immissione in rete]:[Totale Consumi rimanenti]])","v":0},"HC",null,null,null,0]
["010505",1,{"$f":"+MIN(Contributo_cer[[#This Row],[Totale Immissione in rete]:[Totale Consumi rimanenti]])","v":0},"HC",null,null,null,0]
["010506",1,{"$f":"+MIN(Contributo_cer[[#This Row],[Totale Immissione in rete]:[Totale Consumi rimanenti]])","v":0},"HP",null,null,null,0]
["010507",1,{"$f":"+MIN(Contributo_cer[[#This Row],[Totale Immissione in rete]:[Totale Consumi rimanenti]])","v":0},"HP",null,null,null,0]
["010508",1,{"$f":"+MIN(Contributo_cer[[#This Row],[Totale Immissione in rete]:[Totale Consumi rimanenti]])","v":0},"HP",null,null,null,0]
["010509",1,{"$f":"+MIN(Contributo_cer[[#This Row],[Totale Immissione in rete]:[Totale Consumi rimanenti]])","v":0},"HP",null,null,null,0]
["010510",1,{"$f":"+MIN(Contributo_cer[[#This Row],[Totale Immissione in rete]:[Totale Consumi rimanenti]])","v":0},"HP",null,null,null,0]
["010511",1,{"$f":"+MIN(Contributo_cer[[#This Row],[Totale Immissione in rete]:[Totale Consumi rimanenti]])","v":0},"HP",null,null,null,0]
["010512",1,{"$f":"+MIN(Contributo_cer[[#This Row],[Totale Immissione in rete]:[Totale Consumi rimanenti]])","v":0},"HP",null,null,null,0]
["010513",1,{"$f":"+MIN(Contributo_cer[[#This Row],[Totale Immissione in rete]:[Totale Consumi rimanenti]])","v":0},"HP",null,null,null,0]
["010514",1,{"$f":"+MIN(Contributo_cer[[#This Row],[Totale Immissione in rete]:[Totale Consumi rimanenti]])","v":0},"HP",null,null,null,0]
["010515",1,{"$f":"+MIN(Contributo_cer[[#This Row],[Totale Immissione in rete]:[Totale Consumi rimanenti]])","v":0},"HP",null,null,null,0]
["010516",1,{"$f":"+MIN(Contributo_cer[[#This Row],[Totale Immissione in rete]:[Totale Consumi rimanenti]])","v":0},"HP",null,null,null,0]
["010517",1,{"$f":"+MIN(Contributo_cer[[#This Row],[Totale Immissione in rete]:[Totale Consumi rimanenti]])","v":0},"HP",null,null,null,0]
["010518",1,{"$f":"+MIN(Contributo_cer[[#This Row],[Totale Immissione in rete]:[Totale Consumi rimanenti]])","v":0},"HP",null,null,null,0]
["010519",1,{"$f":"+MIN(Contributo_cer[[#This Row],[Totale Immissione in rete]:[Totale Consumi rimanenti]])","v":0},"HP",null,null,null,0]
["010520",1,{"$f":"+MIN(Contributo_cer[[#This Row],[Totale Immissione in rete]:[Totale Consumi rimanenti]])","v":0},"HP",null,null,null,0]
["010521",1,{"$f":"+MIN(Contributo_cer[[#This Row],[Totale Immissione in rete]:[Totale Consumi rimanenti]])","v":0},"HP",null,null,null,0]
["010522",1,{"$f":"+MIN(Contributo_cer[[#This Row],[Totale Immissione in rete]:[Totale Consumi rimanenti]])","v":0},"HC",null,null,null,0]
["010523",1,{"$f":"+MIN(Contributo_cer[[#This Row],[Totale Immissione in rete]:[Totale Consumi rimanenti]])","v":0},"HC",null,null,null,0]
["010600",1,{"$f":"+MIN(Contributo_cer[[#This Row],[Totale Immissione in rete]:[Totale Consumi rimanenti]])","v":0},"HC",null,null,null,0]
["010601",1,{"$f":"+MIN(Contributo_cer[[#This Row],[Totale Immissione in rete]:[Totale Consumi rimanenti]])","v":0},"HC",null,null,null,0]
["010602",1,{"$f":"+MIN(Contributo_cer[[#This Row],[Totale Immissione in rete]:[Totale Consumi rimanenti]])","v":0},"HC",null,null,null,0]
["010603",1,{"$f":"+MIN(Contributo_cer[[#This Row],[Totale Immissione in rete]:[Totale Consumi rimanenti]])","v":0},"HC",null,null,null,0]
["010604",1,{"$f":"+MIN(Contributo_cer[[#This Row],[Totale Immissione in rete]:[Totale Consumi rimanenti]])","v":0},"HC",null,null,null,0]
["010605",1,{"$f":"+MIN(Contributo_cer[[#This Row],[Totale Immissione in rete]:[Totale Consumi rimanenti]])","v":0},"HC",null,null,null,0]
["010606",1,{"$f":"+MIN(Contributo_cer[[#This Row],[Totale Immissione in rete]:[Totale Consumi rimanenti]])","v":0},"HP",null,null,null,0]
["010607",1,{"$f":"+MIN(Contributo_cer[[#This Row],[Totale Immissione in rete]:[Totale Consumi rimanenti]])","v":0},"HP",null,null,null,0]
["010608",1,{"$f":"+MIN(Contributo_cer[[#This Row],[Totale Immissione in rete]:[Totale Consumi rimanenti]])","v":0},"HP",null,null,null,0]
["010609",1,{"$f":"+MIN(Contributo_cer[[#This Row],[Totale Immissione in rete]:[Totale Consumi rimanenti]])","v":0},"HP",null,null,null,0]
["010610",1,{"$f":"+MIN(Contributo_cer[[#This Row],[Totale Immissione in rete]:[Totale Consumi rimanenti]])","v":0},"HP",null,null,null,0]
["010611",1,{"$f":"+MIN(Contributo_cer[[#This Row],[Totale Immissione in rete]:[Totale Consumi rimanenti]])","v":0},"HP",null,null,null,0]
["010612",1,{"$f":"+MIN(Contributo_cer[[#This Row],[Totale Immissione in rete]:[Totale Consumi rimanenti]])","v":0},"HP",null,null,null,0]
["010613",1,{"$f":"+MIN(Contributo_cer[[#This Row],[Totale Immissione in rete]:[Totale Consumi rimanenti]])","v":0},"HP",null,null,null,0]
["010614",1,{"$f":"+MIN(Contributo_cer[[#This Row],[Totale Immissione in rete]:[Totale Consumi rimanenti]])","v":0},"HP",null,null,null,0]
["010615",1,{"$f":"+MIN(Contributo_cer[[#This Row],[Totale Immissione in rete]:[Totale Consumi rimanenti]])","v":0},"HP",null,null,null,0]
["010616",1,{"$f":"+MIN(Contributo_cer[[#This Row],[Totale Immissione in rete]:[Totale Consumi rimanenti]])","v":0},"HP",null,null,null,0]
["010617",1,{"$f":"+MIN(Contributo_cer[[#This Row],[Totale Immissione in rete]:[Totale Consumi rimanenti]])","v":0},"HP",null,null,null,0]
["010618",1,{"$f":"+MIN(Contributo_cer[[#This Row],[Totale Immissione in rete]:[Totale Consumi rimanenti]])","v":0},"HP",null,null,null,0]
["010619",1,{"$f":"+MIN(Contributo_cer[[#This Row],[Totale Immissione in rete]:[Totale Consumi rimanenti]])","v":0},"HP",null,null,null,0]
["010620",1,{"$f":"+MIN(Contributo_cer[[#This Row],[Totale Immissione in rete]:[Totale Consumi rimanenti]])","v":0},"HP",null,null,null,0]
["010621",1,{"$f":"+MIN(Contributo_cer[[#This Row],[Totale Immissione in rete]:[Totale Consumi rimanenti]])","v":0},"HP",null,null,null,0]
["010622",1,{"$f":"+MIN(Contributo_cer[[#This Row],[Totale Immissione in rete]:[Totale Consumi rimanenti]])","v":0},"HC",null,null,null,0]
["010623",1,{"$f":"+MIN(Contributo_cer[[#This Row],[Totale Immissione in rete]:[Totale Consumi rimanenti]])","v":0},"HC",null,null,null,0]
["010700",1,{"$f":"+MIN(Contributo_cer[[#This Row],[Totale Immissione in rete]:[Totale Consumi rimanenti]])","v":0},"HC",null,null,null,0]
["010701",1,{"$f":"+MIN(Contributo_cer[[#This Row],[Totale Immissione in rete]:[Totale Consumi rimanenti]])","v":0},"HC",null,null,null,0]
["010702",1,{"$f":"+MIN(Contributo_cer[[#This Row],[Totale Immissione in rete]:[Totale Consumi rimanenti]])","v":0},"HC",null,null,null,0]
["010703",1,{"$f":"+MIN(Contributo_cer[[#This Row],[Totale Immissione in rete]:[Totale Consumi rimanenti]])","v":0},"HC",null,null,null,0]
["010704",1,{"$f":"+MIN(Contributo_cer[[#This Row],[Totale Immissione in rete]:[Totale Consumi rimanenti]])","v":0},"HC",null,null,null,0]
["010705",1,{"$f":"+MIN(Contributo_cer[[#This Row],[Totale Immissione in rete]:[Totale Consumi rimanenti]])","v":0},"HC",null,null,null,0]
["010706",1,{"$f":"+MIN(Contributo_cer[[#This Row],[Totale Immissione in rete]:[Totale Consumi rimanenti]])","v":0},"HP",null,null,null,0]
["010707",1,{"$f":"+MIN(Contributo_cer[[#This Row],[Totale Immissione in rete]:[Totale Consumi rimanenti]])","v":0},"HP",null,null,null,0]
["010708",1,{"$f":"+MIN(Contributo_cer[[#This Row],[Totale Immissione in rete]:[Totale Consumi rimanenti]])","v":0},"HP",null,null,null,0]
["010709",1,{"$f":"+MIN(Contributo_cer[[#This Row],[Totale Immissione in rete]:[Totale Consumi rimanenti]])","v":0},"HP",null,null,null,0]
["010710",1,{"$f":"+MIN(Contributo_cer[[#This Row],[Totale Immissione in rete]:[Totale Consumi rimanenti]])","v":0},"HP",null,null,null,0]
["010711",1,{"$f":"+MIN(Contributo_cer[[#This Row],[Totale Immissione in rete]:[Totale Consumi rimanenti]])","v":0},"HP",null,null,null,0]
["010712",1,{"$f":"+MIN(Contributo_cer[[#This Row],[Totale Immissione in rete]:[Totale Consumi rimanenti]])","v":0},"HP",null,null,null,0]
["010713",1,{"$f":"+MIN(Contributo_cer[[#This Row],[Totale Immissione in rete]:[Totale Consumi rimanenti]])","v":0},"HP",null,null,null,0]
["010714",1,{"$f":"+MIN(Contributo_cer[[#This Row],[Totale Immissione in rete]:[Totale Consumi rimanenti]])","v":0},"HP",null,null,null,0]
["010715",1,{"$f":"+MIN(Contributo_cer[[#This Row],[Totale Immissione in rete]:[Totale Consumi rimanenti]])","v":0},"HP",null,null,null,0]
["010716",1,{"$f":"+MIN(Contributo_cer[[#This Row],[Totale Immissione in rete]:[Totale Consumi rimanenti]])","v":0},"HP",null,null,null,0]
["010717",1,{"$f":"+MIN(Contributo_cer[[#This Row],[Totale Immissione in rete]:[Totale Consumi rimanenti]])","v":0},"HP",null,null,null,0]
["010718",1,{"$f":"+MIN(Contributo_cer[[#This Row],[Totale Immissione in rete]:[Totale Consumi rimanenti]])","v":0},"HP",null,null,null,0]
["010719",1,{"$f":"+MIN(Contributo_cer[[#This Row],[Totale Immissione in rete]:[Totale Consumi rimanenti]])","v":0},"HP",null,null,null,0]
["010720",1,{"$f":"+MIN(Contributo_cer[[#This Row],[Totale Immissione in rete]:[Totale Consumi rimanenti]])","v":0},"HP",null,null,null,0]
["010721",1,{"$f":"+MIN(Contributo_cer[[#This Row],[Totale Immissione in rete]:[Totale Consumi rimanenti]])","v":0},"HP",null,null,null,0]
["010722",1,{"$f":"+MIN(Contributo_cer[[#This Row],[Totale Immissione in rete]:[Totale Consumi rimanenti]])","v":0},"HC",null,null,null,0]
["010723",1,{"$f":"+MIN(Contributo_cer[[#This Row],[Totale Immissione in rete]:[Totale Consumi rimanenti]])","v":0},"HC",null,null,null,0]
["010800",1,{"$f":"+MIN(Contributo_cer[[#This Row],[Totale Immissione in rete]:[Totale Consumi rimanenti]])","v":0},"HC",null,null,null,0]
["010801",1,{"$f":"+MIN(Contributo_cer[[#This Row],[Totale Immissione in rete]:[Totale Consumi rimanenti]])","v":0},"HC",null,null,null,0]
["010802",1,{"$f":"+MIN(Contributo_cer[[#This Row],[Totale Immissione in rete]:[Totale Consumi rimanenti]])","v":0},"HC",null,null,null,0]
["010803",1,{"$f":"+MIN(Contributo_cer[[#This Row],[Totale Immissione in rete]:[Totale Consumi rimanenti]])","v":0},"HC",null,null,null,0]
["010804",1,{"$f":"+MIN(Contributo_cer[[#This Row],[Totale Immissione in rete]:[Totale Consumi rimanenti]])","v":0},"HC",null,null,null,0]
["010805",1,{"$f":"+MIN(Contributo_cer[[#This Row],[Totale Immissione in rete]:[Totale Consumi rimanenti]])","v":0},"HC",null,null,null,0]
["010806",1,{"$f":"+MIN(Contributo_cer[[#This Row],[Totale Immissione in rete]:[Totale Consumi rimanenti]])","v":0},"HP",null,null,null,0]
["010807",1,{"$f":"+MIN(Contributo_cer[[#This Row],[Totale Immissione in rete]:[Totale Consumi rimanenti]])","v":0},"HP",null,null,null,0]
["010808",1,{"$f":"+MIN(Contributo_cer[[#This Row],[Totale Immissione in rete]:[Totale Consumi rimanenti]])","v":0},"HP",null,null,null,0]
["010809",1,{"$f":"+MIN(Contributo_cer[[#This Row],[Totale Immissione in rete]:[Totale Consumi rimanenti]])","v":0},"HP",null,null,null,0]
["010810",1,{"$f":"+MIN(Contributo_cer[[#This Row],[Totale Immissione in rete]:[Totale Consumi rimanenti]])","v":0},"HP",null,null,null,0]
["010811",1,{"$f":"+MIN(Contributo_cer[[#This Row],[Totale Immissione in rete]:[Totale Consumi rimanenti]])","v":0},"HP",null,null,null,0]
["010812",1,{"$f":"+MIN(Contributo_cer[[#This Row],[Totale Immissione in rete]:[Totale Consumi rimanenti]])","v":0},"HP",null,null,null,0]
["010813",1,{"$f":"+MIN(Contributo_cer[[#This Row],[Totale Immissione in rete]:[Totale Consumi rimanenti]])","v":0},"HP",null,null,null,0]
["010814",1,{"$f":"+MIN(Contributo_cer[[#This Row],[Totale Immissione in rete]:[Totale Consumi rimanenti]])","v":0},"HP",null,null,null,0]
["010815",1,{"$f":"+MIN(Contributo_cer[[#This Row],[Totale Immissione in rete]:[Totale Consumi rimanenti]])","v":0},"HP",null,null,null,0]
["010816",1,{"$f":"+MIN(Contributo_cer[[#This Row],[Totale Immissione in rete]:[Totale Consumi rimanenti]])","v":0},"HP",null,null,null,0]
["010817",1,{"$f":"+MIN(Contributo_cer[[#This Row],[Totale Immissione in rete]:[Totale Consumi rimanenti]])","v":0},"HP",null,null,null,0]
["010818",1,{"$f":"+MIN(Contributo_cer[[#This Row],[Totale Immissione in rete]:[Totale Consumi rimanenti]])","v":0},"HP",null,null,null,0]
["010819",1,{"$f":"+MIN(Contributo_cer[[#This Row],[Totale Immissione in rete]:[Totale Consumi rimanenti]])","v":0},"HP",null,null,null,0]
["010820",1,{"$f":"+MIN(Contributo_cer[[#This Row],[Totale Immissione in rete]:[Totale Consumi rimanenti]])","v":0},"HP",null,null,null,0]
["010821",1,{"$f":"+MIN(Contributo_cer[[#This Row],[Totale Immissione in rete]:[Totale Consumi rimanenti]])","v":0},"HP",null,null,null,0]
["010822",1,{"$f":"+MIN(Contributo_cer[[#This Row],[Totale Immissione in rete]:[Totale Consumi rimanenti]])","v":0},"HC",null,null,null,0]
["010823",1,{"$f":"+MIN(Contributo_cer[[#This Row],[Totale Immissione in rete]:[Totale Consumi rimanenti]])","v":0},"HC",null,null,null,0]
["010900",1,{"$f":"+MIN(Contributo_cer[[#This Row],[Totale Immissione in rete]:[Totale Consumi rimanenti]])","v":0},"HC",null,null,null,0]
["010901",1,{"$f":"+MIN(Contributo_cer[[#This Row],[Totale Immissione in rete]:[Totale Consumi rimanenti]])","v":0},"HC",null,null,null,0]
["010902",1,{"$f":"+MIN(Contributo_cer[[#This Row],[Totale Immissione in rete]:[Totale Consumi rimanenti]])","v":0},"HC",null,null,null,0]
["010903",1,{"$f":"+MIN(Contributo_cer[[#This Row],[Totale Immissione in rete]:[Totale Consumi rimanenti]])","v":0},"HC",null,null,null,0]
["010904",1,{"$f":"+MIN(Contributo_cer[[#This Row],[Totale Immissione in rete]:[Totale Consumi rimanenti]])","v":0},"HC",null,null,null,0]
["010905",1,{"$f":"+MIN(Contributo_cer[[#This Row],[Totale Immissione in rete]:[Totale Consumi rimanenti]])","v":0},"HC",null,null,null,0]
["010906",1,{"$f":"+MIN(Contributo_cer[[#This Row],[Totale Immissione in rete]:[Totale Consumi rimanenti]])","v":0},"HP",null,null,null,0]
["010907",1,{"$f":"+MIN(Contributo_cer[[#This Row],[Totale Immissione in rete]:[Totale Consumi rimanenti]])","v":0},"HP",null,null,null,0]
["010908",1,{"$f":"+MIN(Contributo_cer[[#This Row],[Totale Immissione in rete]:[Totale Consumi rimanenti]])","v":0},"HP",null,null,null,0]
["010909",1,{"$f":"+MIN(Contributo_cer[[#This Row],[Totale Immissione in rete]:[Totale Consumi rimanenti]])","v":0},"HP",null,null,null,0]
["010910",1,{"$f":"+MIN(Contributo_cer[[#This Row],[Totale Immissione in rete]:[Totale Consumi rimanenti]])","v":0},"HP",null,null,null,0]
["010911",1,{"$f":"+MIN(Contributo_cer[[#This Row],[Totale Immissione in rete]:[Totale Consumi rimanenti]])","v":0},"HP",null,null,null,0]
["010912",1,{"$f":"+MIN(Contributo_cer[[#This Row],[Totale Immissione in rete]:[Totale Consumi rimanenti]])","v":0},"HP",null,null,null,0]
["010913",1,{"$f":"+MIN(Contributo_cer[[#This Row],[Totale Immissione in rete]:[Totale Consumi rimanenti]])","v":0},"HP",null,null,null,0]
["010914",1,{"$f":"+MIN(Contributo_cer[[#This Row],[Totale Immissione in rete]:[Totale Consumi rimanenti]])","v":0},"HP",null,null,null,0]
["010915",1,{"$f":"+MIN(Contributo_cer[[#This Row],[Totale Immissione in rete]:[Totale Consumi rimanenti]])","v":0},"HP",null,null,null,0]
["010916",1,{"$f":"+MIN(Contributo_cer[[#This Row],[Totale Immissione in rete]:[Totale Consumi rimanenti]])","v":0},"HP",null,null,null,0]
["010917",1,{"$f":"+MIN(Contributo_cer[[#This Row],[Totale Immissione in rete]:[Totale Consumi rimanenti]])","v":0},"HP",null,null,null,0]
["010918",1,{"$f":"+MIN(Contributo_cer[[#This Row],[Totale Immissione in rete]:[Totale Consumi rimanenti]])","v":0},"HP",null,null,null,0]
["010919",1,{"$f":"+MIN(Contributo_cer[[#This Row],[Totale Immissione in rete]:[Totale Consumi rimanenti]])","v":0},"HP",null,null,null,0]
["010920",1,{"$f":"+MIN(Contributo_cer[[#This Row],[Totale Immissione in rete]:[Totale Consumi rimanenti]])","v":0},"HP",null,null,null,0]
["010921",1,{"$f":"+MIN(Contributo_cer[[#This Row],[Totale Immissione in rete]:[Totale Consumi rimanenti]])","v":0},"HP",null,null,null,0]
["010922",1,{"$f":"+MIN(Contributo_cer[[#This Row],[Totale Immissione in rete]:[Totale Consumi rimanenti]])","v":0},"HC",null,null,null,0]
["010923",1,{"$f":"+MIN(Contributo_cer[[#This Row],[Totale Immissione in rete]:[Totale Consumi rimanenti]])","v":0},"HC",null,null,null,0]
["011000",1,{"$f":"+MIN(Contributo_cer[[#This Row],[Totale Immissione in rete]:[Totale Consumi rimanenti]])","v":0},"HC",null,null,null,0]
["011001",1,{"$f":"+MIN(Contributo_cer[[#This Row],[Totale Immissione in rete]:[Totale Consumi rimanenti]])","v":0},"HC",null,null,null,0]
["011002",1,{"$f":"+MIN(Contributo_cer[[#This Row],[Totale Immissione in rete]:[Totale Consumi rimanenti]])","v":0},"HC",null,null,null,0]
["011003",1,{"$f":"+MIN(Contributo_cer[[#This Row],[Totale Immissione in rete]:[Totale Consumi rimanenti]])","v":0},"HC",null,null,null,0]
["011004",1,{"$f":"+MIN(Contributo_cer[[#This Row],[Totale Immissione in rete]:[Totale Consumi rimanenti]])","v":0},"HC",null,null,null,0]
["011005",1,{"$f":"+MIN(Contributo_cer[[#This Row],[Totale Immissione in rete]:[Totale Consumi rimanenti]])","v":0},"HC",null,null,null,0]
["011006",1,{"$f":"+MIN(Contributo_cer[[#This Row],[Totale Immissione in rete]:[Totale Consumi rimanenti]])","v":0},"HP",null,null,null,0]
["011007",1,{"$f":"+MIN(Contributo_cer[[#This Row],[Totale Immissione in rete]:[Totale Consumi rimanenti]])","v":0},"HP",null,null,null,0]
["011008",1,{"$f":"+MIN(Contributo_cer[[#This Row],[Totale Immissione in rete]:[Totale Consumi rimanenti]])","v":0},"HP",null,null,null,0]
["011009",1,{"$f":"+MIN(Contributo_cer[[#This Row],[Totale Immissione in rete]:[Totale Consumi rimanenti]])","v":0},"HP",null,null,null,0]
["011010",1,{"$f":"+MIN(Contributo_cer[[#This Row],[Totale Immissione in rete]:[Totale Consumi rimanenti]])","v":0},"HP",null,null,null,0]
["011011",1,{"$f":"+MIN(Contributo_cer[[#This Row],[Totale Immissione in rete]:[Totale Consumi rimanenti]])","v":0},"HP",null,null,null,0]
["011012",1,{"$f":"+MIN(Contributo_cer[[#This Row],[Totale Immissione in rete]:[Totale Consumi rimanenti]])","v":0},"HP",null,null,null,0]
["011013",1,{"$f":"+MIN(Contributo_cer[[#This Row],[Totale Immissione in rete]:[Totale Consumi rimanenti]])","v":0},"HP",null,null,null,0]
["011014",1,{"$f":"+MIN(Contributo_cer[[#This Row],[Totale Immissione in rete]:[Totale Consumi rimanenti]])","v":0},"HP",null,null,null,0]
["011015",1,{"$f":"+MIN(Contributo_cer[[#This Row],[Totale Immissione in rete]:[Totale Consumi rimanenti]])","v":0},"HP",null,null,null,0]
["011016",1,{"$f":"+MIN(Contributo_cer[[#This Row],[Totale Immissione in rete]:[Totale Consumi rimanenti]])","v":0},"HP",null,null,null,0]
["011017",1,{"$f":"+MIN(Contributo_cer[[#This Row],[Totale Immissione in rete]:[Totale Consumi rimanenti]])","v":0},"HP",null,null,null,0]
["011018",1,{"$f":"+MIN(Contributo_cer[[#This Row],[Totale Immissione in rete]:[Totale Consumi rimanenti]])","v":0},"HP",null,null,null,0]
["011019",1,{"$f":"+MIN(Contributo_cer[[#This Row],[Totale Immissione in rete]:[Totale Consumi rimanenti]])","v":0},"HP",null,null,null,0]
["011020",1,{"$f":"+MIN(Contributo_cer[[#This Row],[Totale Immissione in rete]:[Totale Consumi rimanenti]])","v":0},"HP",null,null,null,0]
["011021",1,{"$f":"+MIN(Contributo_cer[[#This Row],[Totale Immissione in rete]:[Totale Consumi rimanenti]])","v":0},"HP",null,null,null,0]
["011022",1,{"$f":"+MIN(Contributo_cer[[#This Row],[Totale Immissione in rete]:[Totale Consumi rimanenti]])","v":0},"HC",null,null,null,0]
["011023",1,{"$f":"+MIN(Contributo_cer[[#This Row],[Totale Immissione in rete]:[Totale Consumi rimanenti]])","v":0},"HC",null,null,null,0]
["011100",1,{"$f":"+MIN(Contributo_cer[[#This Row],[Totale Immissione in rete]:[Totale Consumi rimanenti]])","v":0},"HC",null,null,null,0]
["011101",1,{"$f":"+MIN(Contributo_cer[[#This Row],[Totale Immissione in rete]:[Totale Consumi rimanenti]])","v":0},"HC",null,null,null,0]
["011102",1,{"$f":"+MIN(Contributo_cer[[#This Row],[Totale Immissione in rete]:[Totale Consumi rimanenti]])","v":0},"HC",null,null,null,0]
["011103",1,{"$f":"+MIN(Contributo_cer[[#This Row],[Totale Immissione in rete]:[Totale Consumi rimanenti]])","v":0},"HC",null,null,null,0]
["011104",1,{"$f":"+MIN(Contributo_cer[[#This Row],[Totale Immissione in rete]:[Totale Consumi rimanenti]])","v":0},"HC",null,null,null,0]
["011105",1,{"$f":"+MIN(Contributo_cer[[#This Row],[Totale Immissione in rete]:[Totale Consumi rimanenti]])","v":0},"HC",null,null,null,0]
["011106",1,{"$f":"+MIN(Contributo_cer[[#This Row],[Totale Immissione in rete]:[Totale Consumi rimanenti]])","v":0},"HP",null,null,null,0]
["011107",1,{"$f":"+MIN(Contributo_cer[[#This Row],[Totale Immissione in rete]:[Totale Consumi rimanenti]])","v":0},"HP",null,null,null,0]
["011108",1,{"$f":"+MIN(Contributo_cer[[#This Row],[Totale Immissione in rete]:[Totale Consumi rimanenti]])","v":0},"HP",null,null,null,0]
["011109",1,{"$f":"+MIN(Contributo_cer[[#This Row],[Totale Immissione in rete]:[Totale Consumi rimanenti]])","v":0},"HP",null,null,null,0]
["011110",1,{"$f":"+MIN(Contributo_cer[[#This Row],[Totale Immissione in rete]:[Totale Consumi rimanenti]])","v":0},"HP",null,null,null,0]
["011111",1,{"$f":"+MIN(Contributo_cer[[#This Row],[Totale Immissione in rete]:[Totale Consumi rimanenti]])","v":0},"HP",null,null,null,0]
["011112",1,{"$f":"+MIN(Contributo_cer[[#This Row],[Totale Immissione in rete]:[Totale Consumi rimanenti]])","v":0},"HP",null,null,null,0]
["011113",1,{"$f":"+MIN(Contributo_cer[[#This Row],[Totale Immissione in rete]:[Totale Consumi rimanenti]])","v":0},"HP",null,null,null,0]
["011114",1,{"$f":"+MIN(Contributo_cer[[#This Row],[Totale Immissione in rete]:[Totale Consumi rimanenti]])","v":0},"HP",null,null,null,0]
["011115",1,{"$f":"+MIN(Contributo_cer[[#This Row],[Totale Immissione in rete]:[Totale Consumi rimanenti]])","v":0},"HP",null,null,null,0]
["011116",1,{"$f":"+MIN(Contributo_cer[[#This Row],[Totale Immissione in rete]:[Totale Consumi rimanenti]])","v":0},"HP",null,null,null,0]
["011117",1,{"$f":"+MIN(Contributo_cer[[#This Row],[Totale Immissione in rete]:[Totale Consumi rimanenti]])","v":0},"HP",null,null,null,0]
["011118",1,{"$f":"+MIN(Contributo_cer[[#This Row],[Totale Immissione in rete]:[Totale Consumi rimanenti]])","v":0},"HP",null,null,null,0]
["011119",1,{"$f":"+MIN(Contributo_cer[[#This Row],[Totale Immissione in rete]:[Totale Consumi rimanenti]])","v":0},"HP",null,null,null,0]
["011120",1,{"$f":"+MIN(Contributo_cer[[#This Row],[Totale Immissione in rete]:[Totale Consumi rimanenti]])","v":0},"HP",null,null,null,0]
["011121",1,{"$f":"+MIN(Contributo_cer[[#This Row],[Totale Immissione in rete]:[Totale Consumi rimanenti]])","v":0},"HP",null,null,null,0]
["011122",1,{"$f":"+MIN(Contributo_cer[[#This Row],[Totale Immissione in rete]:[Totale Consumi rimanenti]])","v":0},"HC",null,null,null,0]
["011123",1,{"$f":"+MIN(Contributo_cer[[#This Row],[Totale Immissione in rete]:[Totale Consumi rimanenti]])","v":0},"HC",null,null,null,0]
["011200",1,{"$f":"+MIN(Contributo_cer[[#This Row],[Totale Immissione in rete]:[Totale Consumi rimanenti]])","v":0},"HC",null,null,null,0]
["011201",1,{"$f":"+MIN(Contributo_cer[[#This Row],[Totale Immissione in rete]:[Totale Consumi rimanenti]])","v":0},"HC",null,null,null,0]
["011202",1,{"$f":"+MIN(Contributo_cer[[#This Row],[Totale Immissione in rete]:[Totale Consumi rimanenti]])","v":0},"HC",null,null,null,0]
["011203",1,{"$f":"+MIN(Contributo_cer[[#This Row],[Totale Immissione in rete]:[Totale Consumi rimanenti]])","v":0},"HC",null,null,null,0]
["011204",1,{"$f":"+MIN(Contributo_cer[[#This Row],[Totale Immissione in rete]:[Totale Consumi rimanenti]])","v":0},"HC",null,null,null,0]
["011205",1,{"$f":"+MIN(Contributo_cer[[#This Row],[Totale Immissione in rete]:[Totale Consumi rimanenti]])","v":0},"HC",null,null,null,0]
["011206",1,{"$f":"+MIN(Contributo_cer[[#This Row],[Totale Immissione in rete]:[Totale Consumi rimanenti]])","v":0},"HP",null,null,null,0]
["011207",1,{"$f":"+MIN(Contributo_cer[[#This Row],[Totale Immissione in rete]:[Totale Consumi rimanenti]])","v":0},"HP",null,null,null,0]
["011208",1,{"$f":"+MIN(Contributo_cer[[#This Row],[Totale Immissione in rete]:[Totale Consumi rimanenti]])","v":0},"HP",null,null,null,0]
["011209",1,{"$f":"+MIN(Contributo_cer[[#This Row],[Totale Immissione in rete]:[Totale Consumi rimanenti]])","v":0},"HP",null,null,null,0]
["011210",1,{"$f":"+MIN(Contributo_cer[[#This Row],[Totale Immissione in rete]:[Totale Consumi rimanenti]])","v":0},"HP",null,null,null,0]
["011211",1,{"$f":"+MIN(Contributo_cer[[#This Row],[Totale Immissione in rete]:[Totale Consumi rimanenti]])","v":0},"HP",null,null,null,0]
["011212",1,{"$f":"+MIN(Contributo_cer[[#This Row],[Totale Immissione in rete]:[Totale Consumi rimanenti]])","v":0},"HP",null,null,null,0]
["011213",1,{"$f":"+MIN(Contributo_cer[[#This Row],[Totale Immissione in rete]:[Totale Consumi rimanenti]])","v":0},"HP",null,null,null,0]
["011214",1,{"$f":"+MIN(Contributo_cer[[#This Row],[Totale Immissione in rete]:[Totale Consumi rimanenti]])","v":0},"HP",null,null,null,0]
["011215",1,{"$f":"+MIN(Contributo_cer[[#This Row],[Totale Immissione in rete]:[Totale Consumi rimanenti]])","v":0},"HP",null,null,null,0]
["011216",1,{"$f":"+MIN(Contributo_cer[[#This Row],[Totale Immissione in rete]:[Totale Consumi rimanenti]])","v":0},"HP",null,null,null,0]
["011217",1,{"$f":"+MIN(Contributo_cer[[#This Row],[Totale Immissione in rete]:[Totale Consumi rimanenti]])","v":0},"HP",null,null,null,0]
["011218",1,{"$f":"+MIN(Contributo_cer[[#This Row],[Totale Immissione in rete]:[Totale Consumi rimanenti]])","v":0},"HP",null,null,null,0]
["011219",1,{"$f":"+MIN(Contributo_cer[[#This Row],[Totale Immissione in rete]:[Totale Consumi rimanenti]])","v":0},"HP",null,null,null,0]
["011220",1,{"$f":"+MIN(Contributo_cer[[#This Row],[Totale Immissione in rete]:[Totale Consumi rimanenti]])","v":0},"HP",null,null,null,0]
["011221",1,{"$f":"+MIN(Contributo_cer[[#This Row],[Totale Immissione in rete]:[Totale Consumi rimanenti]])","v":0},"HP",null,null,null,0]
["011222",1,{"$f":"+MIN(Contributo_cer[[#This Row],[Totale Immissione in rete]:[Totale Consumi rimanenti]])","v":0},"HC",null,null,null,0]
["011223",1,{"$f":"+MIN(Contributo_cer[[#This Row],[Totale Immissione in rete]:[Totale Consumi rimanenti]])","v":0},"HC",null,null,null,0]
["011300",1,{"$f":"+MIN(Contributo_cer[[#This Row],[Totale Immissione in rete]:[Totale Consumi rimanenti]])","v":0},"HC",null,null,null,0]
["011301",1,{"$f":"+MIN(Contributo_cer[[#This Row],[Totale Immissione in rete]:[Totale Consumi rimanenti]])","v":0},"HC",null,null,null,0]
["011302",1,{"$f":"+MIN(Contributo_cer[[#This Row],[Totale Immissione in rete]:[Totale Consumi rimanenti]])","v":0},"HC",null,null,null,0]
["011303",1,{"$f":"+MIN(Contributo_cer[[#This Row],[Totale Immissione in rete]:[Totale Consumi rimanenti]])","v":0},"HC",null,null,null,0]
["011304",1,{"$f":"+MIN(Contributo_cer[[#This Row],[Totale Immissione in rete]:[Totale Consumi rimanenti]])","v":0},"HC",null,null,null,0]
["011305",1,{"$f":"+MIN(Contributo_cer[[#This Row],[Totale Immissione in rete]:[Totale Consumi rimanenti]])","v":0},"HC",null,null,null,0]
["011306",1,{"$f":"+MIN(Contributo_cer[[#This Row],[Totale Immissione in rete]:[Totale Consumi rimanenti]])","v":0},"HP",null,null,null,0]
["011307",1,{"$f":"+MIN(Contributo_cer[[#This Row],[Totale Immissione in rete]:[Totale Consumi rimanenti]])","v":0},"HP",null,null,null,0]
["011308",1,{"$f":"+MIN(Contributo_cer[[#This Row],[Totale Immissione in rete]:[Totale Consumi rimanenti]])","v":0},"HP",null,null,null,0]
["011309",1,{"$f":"+MIN(Contributo_cer[[#This Row],[Totale Immissione in rete]:[Totale Consumi rimanenti]])","v":0},"HP",null,null,null,0]
["011310",1,{"$f":"+MIN(Contributo_cer[[#This Row],[Totale Immissione in rete]:[Totale Consumi rimanenti]])","v":0},"HP",null,null,null,0]
["011311",1,{"$f":"+MIN(Contributo_cer[[#This Row],[Totale Immissione in rete]:[Totale Consumi rimanenti]])","v":0},"HP",null,null,null,0]
["011312",1,{"$f":"+MIN(Contributo_cer[[#This Row],[Totale Immissione in rete]:[Totale Consumi rimanenti]])","v":0},"HP",null,null,null,0]
["011313",1,{"$f":"+MIN(Contributo_cer[[#This Row],[Totale Immissione in rete]:[Totale Consumi rimanenti]])","v":0},"HP",null,null,null,0]
["011314",1,{"$f":"+MIN(Contributo_cer[[#This Row],[Totale Immissione in rete]:[Totale Consumi rimanenti]])","v":0},"HP",null,null,null,0]
["011315",1,{"$f":"+MIN(Contributo_cer[[#This Row],[Totale Immissione in rete]:[Totale Consumi rimanenti]])","v":0},"HP",null,null,null,0]
["011316",1,{"$f":"+MIN(Contributo_cer[[#This Row],[Totale Immissione in rete]:[Totale Consumi rimanenti]])","v":0},"HP",null,null,null,0]
["011317",1,{"$f":"+MIN(Contributo_cer[[#This Row],[Totale Immissione in rete]:[Totale Consumi rimanenti]])","v":0},"HP",null,null,null,0]
["011318",1,{"$f":"+MIN(Contributo_cer[[#This Row],[Totale Immissione in rete]:[Totale Consumi rimanenti]])","v":0},"HP",null,null,null,0]
["011319",1,{"$f":"+MIN(Contributo_cer[[#This Row],[Totale Immissione in rete]:[Totale Consumi rimanenti]])","v":0},"HP",null,null,null,0]
["011320",1,{"$f":"+MIN(Contributo_cer[[#This Row],[Totale Immissione in rete]:[Totale Consumi rimanenti]])","v":0},"HP",null,null,null,0]
["011321",1,{"$f":"+MIN(Contributo_cer[[#This Row],[Totale Immissione in rete]:[Totale Consumi rimanenti]])","v":0},"HP",null,null,null,0]
["011322",1,{"$f":"+MIN(Contributo_cer[[#This Row],[Totale Immissione in rete]:[Totale Consumi rimanenti]])","v":0},"HC",null,null,null,0]
["011323",1,{"$f":"+MIN(Contributo_cer[[#This Row],[Totale Immissione in rete]:[Totale Consumi rimanenti]])","v":0},"HC",null,null,null,0]
["011400",1,{"$f":"+MIN(Contributo_cer[[#This Row],[Totale Immissione in rete]:[Totale Consumi rimanenti]])","v":0},"HC",null,null,null,0]
["011401",1,{"$f":"+MIN(Contributo_cer[[#This Row],[Totale Immissione in rete]:[Totale Consumi rimanenti]])","v":0},"HC",null,null,null,0]
["011402",1,{"$f":"+MIN(Contributo_cer[[#This Row],[Totale Immissione in rete]:[Totale Consumi rimanenti]])","v":0},"HC",null,null,null,0]
["011403",1,{"$f":"+MIN(Contributo_cer[[#This Row],[Totale Immissione in rete]:[Totale Consumi rimanenti]])","v":0},"HC",null,null,null,0]
["011404",1,{"$f":"+MIN(Contributo_cer[[#This Row],[Totale Immissione in rete]:[Totale Consumi rimanenti]])","v":0},"HC",null,null,null,0]
["011405",1,{"$f":"+MIN(Contributo_cer[[#This Row],[Totale Immissione in rete]:[Totale Consumi rimanenti]])","v":0},"HC",null,null,null,0]
["011406",1,{"$f":"+MIN(Contributo_cer[[#This Row],[Totale Immissione in rete]:[Totale Consumi rimanenti]])","v":0},"HP",null,null,null,0]
["011407",1,{"$f":"+MIN(Contributo_cer[[#This Row],[Totale Immissione in rete]:[Totale Consumi rimanenti]])","v":0},"HP",null,null,null,0]
["011408",1,{"$f":"+MIN(Contributo_cer[[#This Row],[Totale Immissione in rete]:[Totale Consumi rimanenti]])","v":0},"HP",null,null,null,0]
["011409",1,{"$f":"+MIN(Contributo_cer[[#This Row],[Totale Immissione in rete]:[Totale Consumi rimanenti]])","v":0},"HP",null,null,null,0]
["011410",1,{"$f":"+MIN(Contributo_cer[[#This Row],[Totale Immissione in rete]:[Totale Consumi rimanenti]])","v":0},"HP",null,null,null,0]
["011411",1,{"$f":"+MIN(Contributo_cer[[#This Row],[Totale Immissione in rete]:[Totale Consumi rimanenti]])","v":0},"HP",null,null,null,0]
["011412",1,{"$f":"+MIN(Contributo_cer[[#This Row],[Totale Immissione in rete]:[Totale Consumi rimanenti]])","v":0},"HP",null,null,null,0]
["011413",1,{"$f":"+MIN(Contributo_cer[[#This Row],[Totale Immissione in rete]:[Totale Consumi rimanenti]])","v":0},"HP",null,null,null,0]
["011414",1,{"$f":"+MIN(Contributo_cer[[#This Row],[Totale Immissione in rete]:[Totale Consumi rimanenti]])","v":0},"HP",null,null,null,0]
["011415",1,{"$f":"+MIN(Contributo_cer[[#This Row],[Totale Immissione in rete]:[Totale Consumi rimanenti]])","v":0},"HP",null,null,null,0]
["011416",1,{"$f":"+MIN(Contributo_cer[[#This Row],[Totale Immissione in rete]:[Totale Consumi rimanenti]])","v":0},"HP",null,null,null,0]
["011417",1,{"$f":"+MIN(Contributo_cer[[#This Row],[Totale Immissione in rete]:[Totale Consumi rimanenti]])","v":0},"HP",null,null,null,0]
["011418",1,{"$f":"+MIN(Contributo_cer[[#This Row],[Totale Immissione in rete]:[Totale Consumi rimanenti]])","v":0},"HP",null,null,null,0]
["011419",1,{"$f":"+MIN(Contributo_cer[[#This Row],[Totale Immissione in rete]:[Totale Consumi rimanenti]])","v":0},"HP",null,null,null,0]
["011420",1,{"$f":"+MIN(Contributo_cer[[#This Row],[Totale Immissione in rete]:[Totale Consumi rimanenti]])","v":0},"HP",null,null,null,0]
["011421",1,{"$f":"+MIN(Contributo_cer[[#This Row],[Totale Immissione in rete]:[Totale Consumi rimanenti]])","v":0},"HP",null,null,null,0]
["011422",1,{"$f":"+MIN(Contributo_cer[[#This Row],[Totale Immissione in rete]:[Totale Consumi rimanenti]])","v":0},"HC",null,null,null,0]
["011423",1,{"$f":"+MIN(Contributo_cer[[#This Row],[Totale Immissione in rete]:[Totale Consumi rimanenti]])","v":0},"HC",null,null,null,0]
["011500",1,{"$f":"+MIN(Contributo_cer[[#This Row],[Totale Immissione in rete]:[Totale Consumi rimanenti]])","v":0},"HC",null,null,null,0]
["011501",1,{"$f":"+MIN(Contributo_cer[[#This Row],[Totale Immissione in rete]:[Totale Consumi rimanenti]])","v":0},"HC",null,null,null,0]
["011502",1,{"$f":"+MIN(Contributo_cer[[#This Row],[Totale Immissione in rete]:[Totale Consumi rimanenti]])","v":0},"HC",null,null,null,0]
["011503",1,{"$f":"+MIN(Contributo_cer[[#This Row],[Totale Immissione in rete]:[Totale Consumi rimanenti]])","v":0},"HC",null,null,null,0]
["011504",1,{"$f":"+MIN(Contributo_cer[[#This Row],[Totale Immissione in rete]:[Totale Consumi rimanenti]])","v":0},"HC",null,null,null,0]
["011505",1,{"$f":"+MIN(Contributo_cer[[#This Row],[Totale Immissione in rete]:[Totale Consumi rimanenti]])","v":0},"HC",null,null,null,0]
["011506",1,{"$f":"+MIN(Contributo_cer[[#This Row],[Totale Immissione in rete]:[Totale Consumi rimanenti]])","v":0},"HP",null,null,null,0]
["011507",1,{"$f":"+MIN(Contributo_cer[[#This Row],[Totale Immissione in rete]:[Totale Consumi rimanenti]])","v":0},"HP",null,null,null,0]
["011508",1,{"$f":"+MIN(Contributo_cer[[#This Row],[Totale Immissione in rete]:[Totale Consumi rimanenti]])","v":0},"HP",null,null,null,0]
["011509",1,{"$f":"+MIN(Contributo_cer[[#This Row],[Totale Immissione in rete]:[Totale Consumi rimanenti]])","v":0},"HP",null,null,null,0]
["011510",1,{"$f":"+MIN(Contributo_cer[[#This Row],[Totale Immissione in rete]:[Totale Consumi rimanenti]])","v":0},"HP",null,null,null,0]
["011511",1,{"$f":"+MIN(Contributo_cer[[#This Row],[Totale Immissione in rete]:[Totale Consumi rimanenti]])","v":0},"HP",null,null,null,0]
["011512",1,{"$f":"+MIN(Contributo_cer[[#This Row],[Totale Immissione in rete]:[Totale Consumi rimanenti]])","v":0},"HP",null,null,null,0]
["011513",1,{"$f":"+MIN(Contributo_cer[[#This Row],[Totale Immissione in rete]:[Totale Consumi rimanenti]])","v":0},"HP",null,null,null,0]
["011514",1,{"$f":"+MIN(Contributo_cer[[#This Row],[Totale Immissione in rete]:[Totale Consumi rimanenti]])","v":0},"HP",null,null,null,0]
["011515",1,{"$f":"+MIN(Contributo_cer[[#This Row],[Totale Immissione in rete]:[Totale Consumi rimanenti]])","v":0},"HP",null,null,null,0]
["011516",1,{"$f":"+MIN(Contributo_cer[[#This Row],[Totale Immissione in rete]:[Totale Consumi rimanenti]])","v":0},"HP",null,null,null,0]
["011517",1,{"$f":"+MIN(Contributo_cer[[#This Row],[Totale Immissione in rete]:[Totale Consumi rimanenti]])","v":0},"HP",null,null,null,0]
["011518",1,{"$f":"+MIN(Contributo_cer[[#This Row],[Totale Immissione in rete]:[Totale Consumi rimanenti]])","v":0},"HP",null,null,null,0]
["011519",1,{"$f":"+MIN(Contributo_cer[[#This Row],[Totale Immissione in rete]:[Totale Consumi rimanenti]])","v":0},"HP",null,null,null,0]
["011520",1,{"$f":"+MIN(Contributo_cer[[#This Row],[Totale Immissione in rete]:[Totale Consumi rimanenti]])","v":0},"HP",null,null,null,0]
["011521",1,{"$f":"+MIN(Contributo_cer[[#This Row],[Totale Immissione in rete]:[Totale Consumi rimanenti]])","v":0},"HP",null,null,null,0]
["011522",1,{"$f":"+MIN(Contributo_cer[[#This Row],[Totale Immissione in rete]:[Totale Consumi rimanenti]])","v":0},"HC",null,null,null,0]
["011523",1,{"$f":"+MIN(Contributo_cer[[#This Row],[Totale Immissione in rete]:[Totale Consumi rimanenti]])","v":0},"HC",null,null,null,0]
["011600",1,{"$f":"+MIN(Contributo_cer[[#This Row],[Totale Immissione in rete]:[Totale Consumi rimanenti]])","v":0},"HC",null,null,null,0]
["011601",1,{"$f":"+MIN(Contributo_cer[[#This Row],[Totale Immissione in rete]:[Totale Consumi rimanenti]])","v":0},"HC",null,null,null,0]
["011602",1,{"$f":"+MIN(Contributo_cer[[#This Row],[Totale Immissione in rete]:[Totale Consumi rimanenti]])","v":0},"HC",null,null,null,0]
["011603",1,{"$f":"+MIN(Contributo_cer[[#This Row],[Totale Immissione in rete]:[Totale Consumi rimanenti]])","v":0},"HC",null,null,null,0]
["011604",1,{"$f":"+MIN(Contributo_cer[[#This Row],[Totale Immissione in rete]:[Totale Consumi rimanenti]])","v":0},"HC",null,null,null,0]
["011605",1,{"$f":"+MIN(Contributo_cer[[#This Row],[Totale Immissione in rete]:[Totale Consumi rimanenti]])","v":0},"HC",null,null,null,0]
["011606",1,{"$f":"+MIN(Contributo_cer[[#This Row],[Totale Immissione in rete]:[Totale Consumi rimanenti]])","v":0},"HP",null,null,null,0]
["011607",1,{"$f":"+MIN(Contributo_cer[[#This Row],[Totale Immissione in rete]:[Totale Consumi rimanenti]])","v":0},"HP",null,null,null,0]
["011608",1,{"$f":"+MIN(Contributo_cer[[#This Row],[Totale Immissione in rete]:[Totale Consumi rimanenti]])","v":0},"HP",null,null,null,0]
["011609",1,{"$f":"+MIN(Contributo_cer[[#This Row],[Totale Immissione in rete]:[Totale Consumi rimanenti]])","v":0},"HP",null,null,null,0]
["011610",1,{"$f":"+MIN(Contributo_cer[[#This Row],[Totale Immissione in rete]:[Totale Consumi rimanenti]])","v":0},"HP",null,null,null,0]
["011611",1,{"$f":"+MIN(Contributo_cer[[#This Row],[Totale Immissione in rete]:[Totale Consumi rimanenti]])","v":0},"HP",null,null,null,0]
["011612",1,{"$f":"+MIN(Contributo_cer[[#This Row],[Totale Immissione in rete]:[Totale Consumi rimanenti]])","v":0},"HP",null,null,null,0]
["011613",1,{"$f":"+MIN(Contributo_cer[[#This Row],[Totale Immissione in rete]:[Totale Consumi rimanenti]])","v":0},"HP",null,null,null,0]
["011614",1,{"$f":"+MIN(Contributo_cer[[#This Row],[Totale Immissione in rete]:[Totale Consumi rimanenti]])","v":0},"HP",null,null,null,0]
["011615",1,{"$f":"+MIN(Contributo_cer[[#This Row],[Totale Immissione in rete]:[Totale Consumi rimanenti]])","v":0},"HP",null,null,null,0]
["011616",1,{"$f":"+MIN(Contributo_cer[[#This Row],[Totale Immissione in rete]:[Totale Consumi rimanenti]])","v":0},"HP",null,null,null,0]
["011617",1,{"$f":"+MIN(Contributo_cer[[#This Row],[Totale Immissione in rete]:[Totale Consumi rimanenti]])","v":0},"HP",null,null,null,0]
["011618",1,{"$f":"+MIN(Contributo_cer[[#This Row],[Totale Immissione in rete]:[Totale Consumi rimanenti]])","v":0},"HP",null,null,null,0]
["011619",1,{"$f":"+MIN(Contributo_cer[[#This Row],[Totale Immissione in rete]:[Totale Consumi rimanenti]])","v":0},"HP",null,null,null,0]
["011620",1,{"$f":"+MIN(Contributo_cer[[#This Row],[Totale Immissione in rete]:[Totale Consumi rimanenti]])","v":0},"HP",null,null,null,0]
["011621",1,{"$f":"+MIN(Contributo_cer[[#This Row],[Totale Immissione in rete]:[Totale Consumi rimanenti]])","v":0},"HP",null,null,null,0]
["011622",1,{"$f":"+MIN(Contributo_cer[[#This Row],[Totale Immissione in rete]:[Totale Consumi rimanenti]])","v":0},"HC",null,null,null,0]
["011623",1,{"$f":"+MIN(Contributo_cer[[#This Row],[Totale Immissione in rete]:[Totale Consumi rimanenti]])","v":0},"HC",null,null,null,0]
["011700",1,{"$f":"+MIN(Contributo_cer[[#This Row],[Totale Immissione in rete]:[Totale Consumi rimanenti]])","v":0},"HC",null,null,null,0]
["011701",1,{"$f":"+MIN(Contributo_cer[[#This Row],[Totale Immissione in rete]:[Totale Consumi rimanenti]])","v":0},"HC",null,null,null,0]
["011702",1,{"$f":"+MIN(Contributo_cer[[#This Row],[Totale Immissione in rete]:[Totale Consumi rimanenti]])","v":0},"HC",null,null,null,0]
["011703",1,{"$f":"+MIN(Contributo_cer[[#This Row],[Totale Immissione in rete]:[Totale Consumi rimanenti]])","v":0},"HC",null,null,null,0]
["011704",1,{"$f":"+MIN(Contributo_cer[[#This Row],[Totale Immissione in rete]:[Totale Consumi rimanenti]])","v":0},"HC",null,null,null,0]
["011705",1,{"$f":"+MIN(Contributo_cer[[#This Row],[Totale Immissione in rete]:[Totale Consumi rimanenti]])","v":0},"HC",null,null,null,0]
["011706",1,{"$f":"+MIN(Contributo_cer[[#This Row],[Totale Immissione in rete]:[Totale Consumi rimanenti]])","v":0},"HP",null,null,null,0]
["011707",1,{"$f":"+MIN(Contributo_cer[[#This Row],[Totale Immissione in rete]:[Totale Consumi rimanenti]])","v":0},"HP",null,null,null,0]
["011708",1,{"$f":"+MIN(Contributo_cer[[#This Row],[Totale Immissione in rete]:[Totale Consumi rimanenti]])","v":0},"HP",null,null,null,0]
["011709",1,{"$f":"+MIN(Contributo_cer[[#This Row],[Totale Immissione in rete]:[Totale Consumi rimanenti]])","v":0},"HP",null,null,null,0]
["011710",1,{"$f":"+MIN(Contributo_cer[[#This Row],[Totale Immissione in rete]:[Totale Consumi rimanenti]])","v":0},"HP",null,null,null,0]
["011711",1,{"$f":"+MIN(Contributo_cer[[#This Row],[Totale Immissione in rete]:[Totale Consumi rimanenti]])","v":0},"HP",null,null,null,0]
["011712",1,{"$f":"+MIN(Contributo_cer[[#This Row],[Totale Immissione in rete]:[Totale Consumi rimanenti]])","v":0},"HP",null,null,null,0]
["011713",1,{"$f":"+MIN(Contributo_cer[[#This Row],[Totale Immissione in rete]:[Totale Consumi rimanenti]])","v":0},"HP",null,null,null,0]
["011714",1,{"$f":"+MIN(Contributo_cer[[#This Row],[Totale Immissione in rete]:[Totale Consumi rimanenti]])","v":0},"HP",null,null,null,0]
["011715",1,{"$f":"+MIN(Contributo_cer[[#This Row],[Totale Immissione in rete]:[Totale Consumi rimanenti]])","v":0},"HP",null,null,null,0]
["011716",1,{"$f":"+MIN(Contributo_cer[[#This Row],[Totale Immissione in rete]:[Totale Consumi rimanenti]])","v":0},"HP",null,null,null,0]
["011717",1,{"$f":"+MIN(Contributo_cer[[#This Row],[Totale Immissione in rete]:[Totale Consumi rimanenti]])","v":0},"HP",null,null,null,0]
["011718",1,{"$f":"+MIN(Contributo_cer[[#This Row],[Totale Immissione in rete]:[Totale Consumi rimanenti]])","v":0},"HP",null,null,null,0]
["011719",1,{"$f":"+MIN(Contributo_cer[[#This Row],[Totale Immissione in rete]:[Totale Consumi rimanenti]])","v":0},"HP",null,null,null,0]
["011720",1,{"$f":"+MIN(Contributo_cer[[#This Row],[Totale Immissione in rete]:[Totale Consumi rimanenti]])","v":0},"HP",null,null,null,0]
["011721",1,{"$f":"+MIN(Contributo_cer[[#This Row],[Totale Immissione in rete]:[Totale Consumi rimanenti]])","v":0},"HP",null,null,null,0]
["011722",1,{"$f":"+MIN(Contributo_cer[[#This Row],[Totale Immissione in rete]:[Totale Consumi rimanenti]])","v":0},"HC",null,null,null,0]
["011723",1,{"$f":"+MIN(Contributo_cer[[#This Row],[Totale Immissione in rete]:[Totale Consumi rimanenti]])","v":0},"HC",null,null,null,0]
["011800",1,{"$f":"+MIN(Contributo_cer[[#This Row],[Totale Immissione in rete]:[Totale Consumi rimanenti]])","v":0},"HC",null,null,null,0]
["011801",1,{"$f":"+MIN(Contributo_cer[[#This Row],[Totale Immissione in rete]:[Totale Consumi rimanenti]])","v":0},"HC",null,null,null,0]
["011802",1,{"$f":"+MIN(Contributo_cer[[#This Row],[Totale Immissione in rete]:[Totale Consumi rimanenti]])","v":0},"HC",null,null,null,0]
["011803",1,{"$f":"+MIN(Contributo_cer[[#This Row],[Totale Immissione in rete]:[Totale Consumi rimanenti]])","v":0},"HC",null,null,null,0]
["011804",1,{"$f":"+MIN(Contributo_cer[[#This Row],[Totale Immissione in rete]:[Totale Consumi rimanenti]])","v":0},"HC",null,null,null,0]
["011805",1,{"$f":"+MIN(Contributo_cer[[#This Row],[Totale Immissione in rete]:[Totale Consumi rimanenti]])","v":0},"HC",null,null,null,0]
["011806",1,{"$f":"+MIN(Contributo_cer[[#This Row],[Totale Immissione in rete]:[Totale Consumi rimanenti]])","v":0},"HP",null,null,null,0]
["011807",1,{"$f":"+MIN(Contributo_cer[[#This Row],[Totale Immissione in rete]:[Totale Consumi rimanenti]])","v":0},"HP",null,null,null,0]
["011808",1,{"$f":"+MIN(Contributo_cer[[#This Row],[Totale Immissione in rete]:[Totale Consumi rimanenti]])","v":0},"HP",null,null,null,0]
["011809",1,{"$f":"+MIN(Contributo_cer[[#This Row],[Totale Immissione in rete]:[Totale Consumi rimanenti]])","v":0},"HP",null,null,null,0]
["011810",1,{"$f":"+MIN(Contributo_cer[[#This Row],[Totale Immissione in rete]:[Totale Consumi rimanenti]])","v":0},"HP",null,null,null,0]
["011811",1,{"$f":"+MIN(Contributo_cer[[#This Row],[Totale Immissione in rete]:[Totale Consumi rimanenti]])","v":0},"HP",null,null,null,0]
["011812",1,{"$f":"+MIN(Contributo_cer[[#This Row],[Totale Immissione in rete]:[Totale Consumi rimanenti]])","v":0},"HP",null,null,null,0]
["011813",1,{"$f":"+MIN(Contributo_cer[[#This Row],[Totale Immissione in rete]:[Totale Consumi rimanenti]])","v":0},"HP",null,null,null,0]
["011814",1,{"$f":"+MIN(Contributo_cer[[#This Row],[Totale Immissione in rete]:[Totale Consumi rimanenti]])","v":0},"HP",null,null,null,0]
["011815",1,{"$f":"+MIN(Contributo_cer[[#This Row],[Totale Immissione in rete]:[Totale Consumi rimanenti]])","v":0},"HP",null,null,null,0]
["011816",1,{"$f":"+MIN(Contributo_cer[[#This Row],[Totale Immissione in rete]:[Totale Consumi rimanenti]])","v":0},"HP",null,null,null,0]
["011817",1,{"$f":"+MIN(Contributo_cer[[#This Row],[Totale Immissione in rete]:[Totale Consumi rimanenti]])","v":0},"HP",null,null,null,0]
["011818",1,{"$f":"+MIN(Contributo_cer[[#This Row],[Totale Immissione in rete]:[Totale Consumi rimanenti]])","v":0},"HP",null,null,null,0]
["011819",1,{"$f":"+MIN(Contributo_cer[[#This Row],[Totale Immissione in rete]:[Totale Consumi rimanenti]])","v":0},"HP",null,null,null,0]
["011820",1,{"$f":"+MIN(Contributo_cer[[#This Row],[Totale Immissione in rete]:[Totale Consumi rimanenti]])","v":0},"HP",null,null,null,0]
["011821",1,{"$f":"+MIN(Contributo_cer[[#This Row],[Totale Immissione in rete]:[Totale Consumi rimanenti]])","v":0},"HP",null,null,null,0]
["011822",1,{"$f":"+MIN(Contributo_cer[[#This Row],[Totale Immissione in rete]:[Totale Consumi rimanenti]])","v":0},"HC",null,null,null,0]
["011823",1,{"$f":"+MIN(Contributo_cer[[#This Row],[Totale Immissione in rete]:[Totale Consumi rimanenti]])","v":0},"HC",null,null,null,0]
["011900",1,{"$f":"+MIN(Contributo_cer[[#This Row],[Totale Immissione in rete]:[Totale Consumi rimanenti]])","v":0},"HC",null,null,null,0]
["011901",1,{"$f":"+MIN(Contributo_cer[[#This Row],[Totale Immissione in rete]:[Totale Consumi rimanenti]])","v":0},"HC",null,null,null,0]
["011902",1,{"$f":"+MIN(Contributo_cer[[#This Row],[Totale Immissione in rete]:[Totale Consumi rimanenti]])","v":0},"HC",null,null,null,0]
["011903",1,{"$f":"+MIN(Contributo_cer[[#This Row],[Totale Immissione in rete]:[Totale Consumi rimanenti]])","v":0},"HC",null,null,null,0]
["011904",1,{"$f":"+MIN(Contributo_cer[[#This Row],[Totale Immissione in rete]:[Totale Consumi rimanenti]])","v":0},"HC",null,null,null,0]
["011905",1,{"$f":"+MIN(Contributo_cer[[#This Row],[Totale Immissione in rete]:[Totale Consumi rimanenti]])","v":0},"HC",null,null,null,0]
["011906",1,{"$f":"+MIN(Contributo_cer[[#This Row],[Totale Immissione in rete]:[Totale Consumi rimanenti]])","v":0},"HP",null,null,null,0]
["011907",1,{"$f":"+MIN(Contributo_cer[[#This Row],[Totale Immissione in rete]:[Totale Consumi rimanenti]])","v":0},"HP",null,null,null,0]
["011908",1,{"$f":"+MIN(Contributo_cer[[#This Row],[Totale Immissione in rete]:[Totale Consumi rimanenti]])","v":0},"HP",null,null,null,0]
["011909",1,{"$f":"+MIN(Contributo_cer[[#This Row],[Totale Immissione in rete]:[Totale Consumi rimanenti]])","v":0},"HP",null,null,null,0]
["011910",1,{"$f":"+MIN(Contributo_cer[[#This Row],[Totale Immissione in rete]:[Totale Consumi rimanenti]])","v":0},"HP",null,null,null,0]
["011911",1,{"$f":"+MIN(Contributo_cer[[#This Row],[Totale Immissione in rete]:[Totale Consumi rimanenti]])","v":0},"HP",null,null,null,0]
["011912",1,{"$f":"+MIN(Contributo_cer[[#This Row],[Totale Immissione in rete]:[Totale Consumi rimanenti]])","v":0},"HP",null,null,null,0]
["011913",1,{"$f":"+MIN(Contributo_cer[[#This Row],[Totale Immissione in rete]:[Totale Consumi rimanenti]])","v":0},"HP",null,null,null,0]
["011914",1,{"$f":"+MIN(Contributo_cer[[#This Row],[Totale Immissione in rete]:[Totale Consumi rimanenti]])","v":0},"HP",null,null,null,0]
["011915",1,{"$f":"+MIN(Contributo_cer[[#This Row],[Totale Immissione in rete]:[Totale Consumi rimanenti]])","v":0},"HP",null,null,null,0]
["011916",1,{"$f":"+MIN(Contributo_cer[[#This Row],[Totale Immissione in rete]:[Totale Consumi rimanenti]])","v":0},"HP",null,null,null,0]
["011917",1,{"$f":"+MIN(Contributo_cer[[#This Row],[Totale Immissione in rete]:[Totale Consumi rimanenti]])","v":0},"HP",null,null,null,0]
["011918",1,{"$f":"+MIN(Contributo_cer[[#This Row],[Totale Immissione in rete]:[Totale Consumi rimanenti]])","v":0},"HP",null,null,null,0]
["011919",1,{"$f":"+MIN(Contributo_cer[[#This Row],[Totale Immissione in rete]:[Totale Consumi rimanenti]])","v":0},"HP",null,null,null,0]
["011920",1,{"$f":"+MIN(Contributo_cer[[#This Row],[Totale Immissione in rete]:[Totale Consumi rimanenti]])","v":0},"HP",null,null,null,0]
["011921",1,{"$f":"+MIN(Contributo_cer[[#This Row],[Totale Immissione in rete]:[Totale Consumi rimanenti]])","v":0},"HP",null,null,null,0]
["011922",1,{"$f":"+MIN(Contributo_cer[[#This Row],[Totale Immissione in rete]:[Totale Consumi rimanenti]])","v":0},"HC",null,null,null,0]
["011923",1,{"$f":"+MIN(Contributo_cer[[#This Row],[Totale Immissione in rete]:[Totale Consumi rimanenti]])","v":0},"HC",null,null,null,0]
["012000",1,{"$f":"+MIN(Contributo_cer[[#This Row],[Totale Immissione in rete]:[Totale Consumi rimanenti]])","v":0},"HC",null,null,null,0]
["012001",1,{"$f":"+MIN(Contributo_cer[[#This Row],[Totale Immissione in rete]:[Totale Consumi rimanenti]])","v":0},"HC",null,null,null,0]
["012002",1,{"$f":"+MIN(Contributo_cer[[#This Row],[Totale Immissione in rete]:[Totale Consumi rimanenti]])","v":0},"HC",null,null,null,0]
["012003",1,{"$f":"+MIN(Contributo_cer[[#This Row],[Totale Immissione in rete]:[Totale Consumi rimanenti]])","v":0},"HC",null,null,null,0]
["012004",1,{"$f":"+MIN(Contributo_cer[[#This Row],[Totale Immissione in rete]:[Totale Consumi rimanenti]])","v":0},"HC",null,null,null,0]
["012005",1,{"$f":"+MIN(Contributo_cer[[#This Row],[Totale Immissione in rete]:[Totale Consumi rimanenti]])","v":0},"HC",null,null,null,0]
["012006",1,{"$f":"+MIN(Contributo_cer[[#This Row],[Totale Immissione in rete]:[Totale Consumi rimanenti]])","v":0},"HP",null,null,null,0]
["012007",1,{"$f":"+MIN(Contributo_cer[[#This Row],[Totale Immissione in rete]:[Totale Consumi rimanenti]])","v":0},"HP",null,null,null,0]
["012008",1,{"$f":"+MIN(Contributo_cer[[#This Row],[Totale Immissione in rete]:[Totale Consumi rimanenti]])","v":0},"HP",null,null,null,0]
["012009",1,{"$f":"+MIN(Contributo_cer[[#This Row],[Totale Immissione in rete]:[Totale Consumi rimanenti]])","v":0},"HP",null,null,null,0]
["012010",1,{"$f":"+MIN(Contributo_cer[[#This Row],[Totale Immissione in rete]:[Totale Consumi rimanenti]])","v":0},"HP",null,null,null,0]
["012011",1,{"$f":"+MIN(Contributo_cer[[#This Row],[Totale Immissione in rete]:[Totale Consumi rimanenti]])","v":0},"HP",null,null,null,0]
["012012",1,{"$f":"+MIN(Contributo_cer[[#This Row],[Totale Immissione in rete]:[Totale Consumi rimanenti]])","v":0},"HP",null,null,null,0]
["012013",1,{"$f":"+MIN(Contributo_cer[[#This Row],[Totale Immissione in rete]:[Totale Consumi rimanenti]])","v":0},"HP",null,null,null,0]
["012014",1,{"$f":"+MIN(Contributo_cer[[#This Row],[Totale Immissione in rete]:[Totale Consumi rimanenti]])","v":0},"HP",null,null,null,0]
["012015",1,{"$f":"+MIN(Contributo_cer[[#This Row],[Totale Immissione in rete]:[Totale Consumi rimanenti]])","v":0},"HP",null,null,null,0]
["012016",1,{"$f":"+MIN(Contributo_cer[[#This Row],[Totale Immissione in rete]:[Totale Consumi rimanenti]])","v":0},"HP",null,null,null,0]
["012017",1,{"$f":"+MIN(Contributo_cer[[#This Row],[Totale Immissione in rete]:[Totale Consumi rimanenti]])","v":0},"HP",null,null,null,0]
["012018",1,{"$f":"+MIN(Contributo_cer[[#This Row],[Totale Immissione in rete]:[Totale Consumi rimanenti]])","v":0},"HP",null,null,null,0]
["012019",1,{"$f":"+MIN(Contributo_cer[[#This Row],[Totale Immissione in rete]:[Totale Consumi rimanenti]])","v":0},"HP",null,null,null,0]
["012020",1,{"$f":"+MIN(Contributo_cer[[#This Row],[Totale Immissione in rete]:[Totale Consumi rimanenti]])","v":0},"HP",null,null,null,0]
["012021",1,{"$f":"+MIN(Contributo_cer[[#This Row],[Totale Immissione in rete]:[Totale Consumi rimanenti]])","v":0},"HP",null,null,null,0]
["012022",1,{"$f":"+MIN(Contributo_cer[[#This Row],[Totale Immissione in rete]:[Totale Consumi rimanenti]])","v":0},"HC",null,null,null,0]
["012023",1,{"$f":"+MIN(Contributo_cer[[#This Row],[Totale Immissione in rete]:[Totale Consumi rimanenti]])","v":0},"HC",null,null,null,0]
["012100",1,{"$f":"+MIN(Contributo_cer[[#This Row],[Totale Immissione in rete]:[Totale Consumi rimanenti]])","v":0},"HC",null,null,null,0]
["012101",1,{"$f":"+MIN(Contributo_cer[[#This Row],[Totale Immissione in rete]:[Totale Consumi rimanenti]])","v":0},"HC",null,null,null,0]
["012102",1,{"$f":"+MIN(Contributo_cer[[#This Row],[Totale Immissione in rete]:[Totale Consumi rimanenti]])","v":0},"HC",null,null,null,0]
["012103",1,{"$f":"+MIN(Contributo_cer[[#This Row],[Totale Immissione in rete]:[Totale Consumi rimanenti]])","v":0},"HC",null,null,null,0]
["012104",1,{"$f":"+MIN(Contributo_cer[[#This Row],[Totale Immissione in rete]:[Totale Consumi rimanenti]])","v":0},"HC",null,null,null,0]
["012105",1,{"$f":"+MIN(Contributo_cer[[#This Row],[Totale Immissione in rete]:[Totale Consumi rimanenti]])","v":0},"HC",null,null,null,0]
["012106",1,{"$f":"+MIN(Contributo_cer[[#This Row],[Totale Immissione in rete]:[Totale Consumi rimanenti]])","v":0},"HP",null,null,null,0]
["012107",1,{"$f":"+MIN(Contributo_cer[[#This Row],[Totale Immissione in rete]:[Totale Consumi rimanenti]])","v":0},"HP",null,null,null,0]
["012108",1,{"$f":"+MIN(Contributo_cer[[#This Row],[Totale Immissione in rete]:[Totale Consumi rimanenti]])","v":0},"HP",null,null,null,0]
["012109",1,{"$f":"+MIN(Contributo_cer[[#This Row],[Totale Immissione in rete]:[Totale Consumi rimanenti]])","v":0},"HP",null,null,null,0]
["012110",1,{"$f":"+MIN(Contributo_cer[[#This Row],[Totale Immissione in rete]:[Totale Consumi rimanenti]])","v":0},"HP",null,null,null,0]
["012111",1,{"$f":"+MIN(Contributo_cer[[#This Row],[Totale Immissione in rete]:[Totale Consumi rimanenti]])","v":0},"HP",null,null,null,0]
["012112",1,{"$f":"+MIN(Contributo_cer[[#This Row],[Totale Immissione in rete]:[Totale Consumi rimanenti]])","v":0},"HP",null,null,null,0]
["012113",1,{"$f":"+MIN(Contributo_cer[[#This Row],[Totale Immissione in rete]:[Totale Consumi rimanenti]])","v":0},"HP",null,null,null,0]
["012114",1,{"$f":"+MIN(Contributo_cer[[#This Row],[Totale Immissione in rete]:[Totale Consumi rimanenti]])","v":0},"HP",null,null,null,0]
["012115",1,{"$f":"+MIN(Contributo_cer[[#This Row],[Totale Immissione in rete]:[Totale Consumi rimanenti]])","v":0},"HP",null,null,null,0]
["012116",1,{"$f":"+MIN(Contributo_cer[[#This Row],[Totale Immissione in rete]:[Totale Consumi rimanenti]])","v":0},"HP",null,null,null,0]
["012117",1,{"$f":"+MIN(Contributo_cer[[#This Row],[Totale Immissione in rete]:[Totale Consumi rimanenti]])","v":0},"HP",null,null,null,0]
["012118",1,{"$f":"+MIN(Contributo_cer[[#This Row],[Totale Immissione in rete]:[Totale Consumi rimanenti]])","v":0},"HP",null,null,null,0]
["012119",1,{"$f":"+MIN(Contributo_cer[[#This Row],[Totale Immissione in rete]:[Totale Consumi rimanenti]])","v":0},"HP",null,null,null,0]
["012120",1,{"$f":"+MIN(Contributo_cer[[#This Row],[Totale Immissione in rete]:[Totale Consumi rimanenti]])","v":0},"HP",null,null,null,0]
["012121",1,{"$f":"+MIN(Contributo_cer[[#This Row],[Totale Immissione in rete]:[Totale Consumi rimanenti]])","v":0},"HP",null,null,null,0]
["012122",1,{"$f":"+MIN(Contributo_cer[[#This Row],[Totale Immissione in rete]:[Totale Consumi rimanenti]])","v":0},"HC",null,null,null,0]
["012123",1,{"$f":"+MIN(Contributo_cer[[#This Row],[Totale Immissione in rete]:[Totale Consumi rimanenti]])","v":0},"HC",null,null,null,0]
["012200",1,{"$f":"+MIN(Contributo_cer[[#This Row],[Totale Immissione in rete]:[Totale Consumi rimanenti]])","v":0},"HC",null,null,null,0]
["012201",1,{"$f":"+MIN(Contributo_cer[[#This Row],[Totale Immissione in rete]:[Totale Consumi rimanenti]])","v":0},"HC",null,null,null,0]
["012202",1,{"$f":"+MIN(Contributo_cer[[#This Row],[Totale Immissione in rete]:[Totale Consumi rimanenti]])","v":0},"HC",null,null,null,0]
["012203",1,{"$f":"+MIN(Contributo_cer[[#This Row],[Totale Immissione in rete]:[Totale Consumi rimanenti]])","v":0},"HC",null,null,null,0]
["012204",1,{"$f":"+MIN(Contributo_cer[[#This Row],[Totale Immissione in rete]:[Totale Consumi rimanenti]])","v":0},"HC",null,null,null,0]
["012205",1,{"$f":"+MIN(Contributo_cer[[#This Row],[Totale Immissione in rete]:[Totale Consumi rimanenti]])","v":0},"HC",null,null,null,0]
["012206",1,{"$f":"+MIN(Contributo_cer[[#This Row],[Totale Immissione in rete]:[Totale Consumi rimanenti]])","v":0},"HP",null,null,null,0]
["012207",1,{"$f":"+MIN(Contributo_cer[[#This Row],[Totale Immissione in rete]:[Totale Consumi rimanenti]])","v":0},"HP",null,null,null,0]
["012208",1,{"$f":"+MIN(Contributo_cer[[#This Row],[Totale Immissione in rete]:[Totale Consumi rimanenti]])","v":0},"HP",null,null,null,0]
["012209",1,{"$f":"+MIN(Contributo_cer[[#This Row],[Totale Immissione in rete]:[Totale Consumi rimanenti]])","v":0},"HP",null,null,null,0]
["012210",1,{"$f":"+MIN(Contributo_cer[[#This Row],[Totale Immissione in rete]:[Totale Consumi rimanenti]])","v":0},"HP",null,null,null,0]
["012211",1,{"$f":"+MIN(Contributo_cer[[#This Row],[Totale Immissione in rete]:[Totale Consumi rimanenti]])","v":0},"HP",null,null,null,0]
["012212",1,{"$f":"+MIN(Contributo_cer[[#This Row],[Totale Immissione in rete]:[Totale Consumi rimanenti]])","v":0},"HP",null,null,null,0]
["012213",1,{"$f":"+MIN(Contributo_cer[[#This Row],[Totale Immissione in rete]:[Totale Consumi rimanenti]])","v":0},"HP",null,null,null,0]
["012214",1,{"$f":"+MIN(Contributo_cer[[#This Row],[Totale Immissione in rete]:[Totale Consumi rimanenti]])","v":0},"HP",null,null,null,0]
["012215",1,{"$f":"+MIN(Contributo_cer[[#This Row],[Totale Immissione in rete]:[Totale Consumi rimanenti]])","v":0},"HP",null,null,null,0]
["012216",1,{"$f":"+MIN(Contributo_cer[[#This Row],[Totale Immissione in rete]:[Totale Consumi rimanenti]])","v":0},"HP",null,null,null,0]
["012217",1,{"$f":"+MIN(Contributo_cer[[#This Row],[Totale Immissione in rete]:[Totale Consumi rimanenti]])","v":0},"HP",null,null,null,0]
["012218",1,{"$f":"+MIN(Contributo_cer[[#This Row],[Totale Immissione in rete]:[Totale Consumi rimanenti]])","v":0},"HP",null,null,null,0]
["012219",1,{"$f":"+MIN(Contributo_cer[[#This Row],[Totale Immissione in rete]:[Totale Consumi rimanenti]])","v":0},"HP",null,null,null,0]
["012220",1,{"$f":"+MIN(Contributo_cer[[#This Row],[Totale Immissione in rete]:[Totale Consumi rimanenti]])","v":0},"HP",null,null,null,0]
["012221",1,{"$f":"+MIN(Contributo_cer[[#This Row],[Totale Immissione in rete]:[Totale Consumi rimanenti]])","v":0},"HP",null,null,null,0]
["012222",1,{"$f":"+MIN(Contributo_cer[[#This Row],[Totale Immissione in rete]:[Totale Consumi rimanenti]])","v":0},"HC",null,null,null,0]
["012223",1,{"$f":"+MIN(Contributo_cer[[#This Row],[Totale Immissione in rete]:[Totale Consumi rimanenti]])","v":0},"HC",null,null,null,0]
["012300",1,{"$f":"+MIN(Contributo_cer[[#This Row],[Totale Immissione in rete]:[Totale Consumi rimanenti]])","v":0},"HC",null,null,null,0]
["012301",1,{"$f":"+MIN(Contributo_cer[[#This Row],[Totale Immissione in rete]:[Totale Consumi rimanenti]])","v":0},"HC",null,null,null,0]
["012302",1,{"$f":"+MIN(Contributo_cer[[#This Row],[Totale Immissione in rete]:[Totale Consumi rimanenti]])","v":0},"HC",null,null,null,0]
["012303",1,{"$f":"+MIN(Contributo_cer[[#This Row],[Totale Immissione in rete]:[Totale Consumi rimanenti]])","v":0},"HC",null,null,null,0]
["012304",1,{"$f":"+MIN(Contributo_cer[[#This Row],[Totale Immissione in rete]:[Totale Consumi rimanenti]])","v":0},"HC",null,null,null,0]
["012305",1,{"$f":"+MIN(Contributo_cer[[#This Row],[Totale Immissione in rete]:[Totale Consumi rimanenti]])","v":0},"HC",null,null,null,0]
["012306",1,{"$f":"+MIN(Contributo_cer[[#This Row],[Totale Immissione in rete]:[Totale Consumi rimanenti]])","v":0},"HP",null,null,null,0]
["012307",1,{"$f":"+MIN(Contributo_cer[[#This Row],[Totale Immissione in rete]:[Totale Consumi rimanenti]])","v":0},"HP",null,null,null,0]
["012308",1,{"$f":"+MIN(Contributo_cer[[#This Row],[Totale Immissione in rete]:[Totale Consumi rimanenti]])","v":0},"HP",null,null,null,0]
["012309",1,{"$f":"+MIN(Contributo_cer[[#This Row],[Totale Immissione in rete]:[Totale Consumi rimanenti]])","v":0},"HP",null,null,null,0]
["012310",1,{"$f":"+MIN(Contributo_cer[[#This Row],[Totale Immissione in rete]:[Totale Consumi rimanenti]])","v":0},"HP",null,null,null,0]
["012311",1,{"$f":"+MIN(Contributo_cer[[#This Row],[Totale Immissione in rete]:[Totale Consumi rimanenti]])","v":0},"HP",null,null,null,0]
["012312",1,{"$f":"+MIN(Contributo_cer[[#This Row],[Totale Immissione in rete]:[Totale Consumi rimanenti]])","v":0},"HP",null,null,null,0]
["012313",1,{"$f":"+MIN(Contributo_cer[[#This Row],[Totale Immissione in rete]:[Totale Consumi rimanenti]])","v":0},"HP",null,null,null,0]
["012314",1,{"$f":"+MIN(Contributo_cer[[#This Row],[Totale Immissione in rete]:[Totale Consumi rimanenti]])","v":0},"HP",null,null,null,0]
["012315",1,{"$f":"+MIN(Contributo_cer[[#This Row],[Totale Immissione in rete]:[Totale Consumi rimanenti]])","v":0},"HP",null,null,null,0]
["012316",1,{"$f":"+MIN(Contributo_cer[[#This Row],[Totale Immissione in rete]:[Totale Consumi rimanenti]])","v":0},"HP",null,null,null,0]
["012317",1,{"$f":"+MIN(Contributo_cer[[#This Row],[Totale Immissione in rete]:[Totale Consumi rimanenti]])","v":0},"HP",null,null,null,0]
["012318",1,{"$f":"+MIN(Contributo_cer[[#This Row],[Totale Immissione in rete]:[Totale Consumi rimanenti]])","v":0},"HP",null,null,null,0]
["012319",1,{"$f":"+MIN(Contributo_cer[[#This Row],[Totale Immissione in rete]:[Totale Consumi rimanenti]])","v":0},"HP",null,null,null,0]
["012320",1,{"$f":"+MIN(Contributo_cer[[#This Row],[Totale Immissione in rete]:[Totale Consumi rimanenti]])","v":0},"HP",null,null,null,0]
["012321",1,{"$f":"+MIN(Contributo_cer[[#This Row],[Totale Immissione in rete]:[Totale Consumi rimanenti]])","v":0},"HP",null,null,null,0]
["012322",1,{"$f":"+MIN(Contributo_cer[[#This Row],[Totale Immissione in rete]:[Totale Consumi rimanenti]])","v":0},"HC",null,null,null,0]
["012323",1,{"$f":"+MIN(Contributo_cer[[#This Row],[Totale Immissione in rete]:[Totale Consumi rimanenti]])","v":0},"HC",null,null,null,0]
["012400",1,{"$f":"+MIN(Contributo_cer[[#This Row],[Totale Immissione in rete]:[Totale Consumi rimanenti]])","v":0},"HC",null,null,null,0]
["012401",1,{"$f":"+MIN(Contributo_cer[[#This Row],[Totale Immissione in rete]:[Totale Consumi rimanenti]])","v":0},"HC",null,null,null,0]
["012402",1,{"$f":"+MIN(Contributo_cer[[#This Row],[Totale Immissione in rete]:[Totale Consumi rimanenti]])","v":0},"HC",null,null,null,0]
["012403",1,{"$f":"+MIN(Contributo_cer[[#This Row],[Totale Immissione in rete]:[Totale Consumi rimanenti]])","v":0},"HC",null,null,null,0]
["012404",1,{"$f":"+MIN(Contributo_cer[[#This Row],[Totale Immissione in rete]:[Totale Consumi rimanenti]])","v":0},"HC",null,null,null,0]
["012405",1,{"$f":"+MIN(Contributo_cer[[#This Row],[Totale Immissione in rete]:[Totale Consumi rimanenti]])","v":0},"HC",null,null,null,0]
["012406",1,{"$f":"+MIN(Contributo_cer[[#This Row],[Totale Immissione in rete]:[Totale Consumi rimanenti]])","v":0},"HP",null,null,null,0]
["012407",1,{"$f":"+MIN(Contributo_cer[[#This Row],[Totale Immissione in rete]:[Totale Consumi rimanenti]])","v":0},"HP",null,null,null,0]
["012408",1,{"$f":"+MIN(Contributo_cer[[#This Row],[Totale Immissione in rete]:[Totale Consumi rimanenti]])","v":0},"HP",null,null,null,0]
["012409",1,{"$f":"+MIN(Contributo_cer[[#This Row],[Totale Immissione in rete]:[Totale Consumi rimanenti]])","v":0},"HP",null,null,null,0]
["012410",1,{"$f":"+MIN(Contributo_cer[[#This Row],[Totale Immissione in rete]:[Totale Consumi rimanenti]])","v":0},"HP",null,null,null,0]
["012411",1,{"$f":"+MIN(Contributo_cer[[#This Row],[Totale Immissione in rete]:[Totale Consumi rimanenti]])","v":0},"HP",null,null,null,0]
["012412",1,{"$f":"+MIN(Contributo_cer[[#This Row],[Totale Immissione in rete]:[Totale Consumi rimanenti]])","v":0},"HP",null,null,null,0]
["012413",1,{"$f":"+MIN(Contributo_cer[[#This Row],[Totale Immissione in rete]:[Totale Consumi rimanenti]])","v":0},"HP",null,null,null,0]
["012414",1,{"$f":"+MIN(Contributo_cer[[#This Row],[Totale Immissione in rete]:[Totale Consumi rimanenti]])","v":0},"HP",null,null,null,0]
["012415",1,{"$f":"+MIN(Contributo_cer[[#This Row],[Totale Immissione in rete]:[Totale Consumi rimanenti]])","v":0},"HP",null,null,null,0]
["012416",1,{"$f":"+MIN(Contributo_cer[[#This Row],[Totale Immissione in rete]:[Totale Consumi rimanenti]])","v":0},"HP",null,null,null,0]
["012417",1,{"$f":"+MIN(Contributo_cer[[#This Row],[Totale Immissione in rete]:[Totale Consumi rimanenti]])","v":0},"HP",null,null,null,0]
["012418",1,{"$f":"+MIN(Contributo_cer[[#This Row],[Totale Immissione in rete]:[Totale Consumi rimanenti]])","v":0},"HP",null,null,null,0]
["012419",1,{"$f":"+MIN(Contributo_cer[[#This Row],[Totale Immissione in rete]:[Totale Consumi rimanenti]])","v":0},"HP",null,null,null,0]
["012420",1,{"$f":"+MIN(Contributo_cer[[#This Row],[Totale Immissione in rete]:[Totale Consumi rimanenti]])","v":0},"HP",null,null,null,0]
["012421",1,{"$f":"+MIN(Contributo_cer[[#This Row],[Totale Immissione in rete]:[Totale Consumi rimanenti]])","v":0},"HP",null,null,null,0]
["012422",1,{"$f":"+MIN(Contributo_cer[[#This Row],[Totale Immissione in rete]:[Totale Consumi rimanenti]])","v":0},"HC",null,null,null,0]
["012423",1,{"$f":"+MIN(Contributo_cer[[#This Row],[Totale Immissione in rete]:[Totale Consumi rimanenti]])","v":0},"HC",null,null,null,0]
["012500",1,{"$f":"+MIN(Contributo_cer[[#This Row],[Totale Immissione in rete]:[Totale Consumi rimanenti]])","v":0},"HC",null,null,null,0]
["012501",1,{"$f":"+MIN(Contributo_cer[[#This Row],[Totale Immissione in rete]:[Totale Consumi rimanenti]])","v":0},"HC",null,null,null,0]
["012502",1,{"$f":"+MIN(Contributo_cer[[#This Row],[Totale Immissione in rete]:[Totale Consumi rimanenti]])","v":0},"HC",null,null,null,0]
["012503",1,{"$f":"+MIN(Contributo_cer[[#This Row],[Totale Immissione in rete]:[Totale Consumi rimanenti]])","v":0},"HC",null,null,null,0]
["012504",1,{"$f":"+MIN(Contributo_cer[[#This Row],[Totale Immissione in rete]:[Totale Consumi rimanenti]])","v":0},"HC",null,null,null,0]
["012505",1,{"$f":"+MIN(Contributo_cer[[#This Row],[Totale Immissione in rete]:[Totale Consumi rimanenti]])","v":0},"HC",null,null,null,0]
["012506",1,{"$f":"+MIN(Contributo_cer[[#This Row],[Totale Immissione in rete]:[Totale Consumi rimanenti]])","v":0},"HP",null,null,null,0]
["012507",1,{"$f":"+MIN(Contributo_cer[[#This Row],[Totale Immissione in rete]:[Totale Consumi rimanenti]])","v":0},"HP",null,null,null,0]
["012508",1,{"$f":"+MIN(Contributo_cer[[#This Row],[Totale Immissione in rete]:[Totale Consumi rimanenti]])","v":0},"HP",null,null,null,0]
["012509",1,{"$f":"+MIN(Contributo_cer[[#This Row],[Totale Immissione in rete]:[Totale Consumi rimanenti]])","v":0},"HP",null,null,null,0]
["012510",1,{"$f":"+MIN(Contributo_cer[[#This Row],[Totale Immissione in rete]:[Totale Consumi rimanenti]])","v":0},"HP",null,null,null,0]
["012511",1,{"$f":"+MIN(Contributo_cer[[#This Row],[Totale Immissione in rete]:[Totale Consumi rimanenti]])","v":0},"HP",null,null,null,0]
["012512",1,{"$f":"+MIN(Contributo_cer[[#This Row],[Totale Immissione in rete]:[Totale Consumi rimanenti]])","v":0},"HP",null,null,null,0]
["012513",1,{"$f":"+MIN(Contributo_cer[[#This Row],[Totale Immissione in rete]:[Totale Consumi rimanenti]])","v":0},"HP",null,null,null,0]
["012514",1,{"$f":"+MIN(Contributo_cer[[#This Row],[Totale Immissione in rete]:[Totale Consumi rimanenti]])","v":0},"HP",null,null,null,0]
["012515",1,{"$f":"+MIN(Contributo_cer[[#This Row],[Totale Immissione in rete]:[Totale Consumi rimanenti]])","v":0},"HP",null,null,null,0]
["012516",1,{"$f":"+MIN(Contributo_cer[[#This Row],[Totale Immissione in rete]:[Totale Consumi rimanenti]])","v":0},"HP",null,null,null,0]
["012517",1,{"$f":"+MIN(Contributo_cer[[#This Row],[Totale Immissione in rete]:[Totale Consumi rimanenti]])","v":0},"HP",null,null,null,0]
["012518",1,{"$f":"+MIN(Contributo_cer[[#This Row],[Totale Immissione in rete]:[Totale Consumi rimanenti]])","v":0},"HP",null,null,null,0]
["012519",1,{"$f":"+MIN(Contributo_cer[[#This Row],[Totale Immissione in rete]:[Totale Consumi rimanenti]])","v":0},"HP",null,null,null,0]
["012520",1,{"$f":"+MIN(Contributo_cer[[#This Row],[Totale Immissione in rete]:[Totale Consumi rimanenti]])","v":0},"HP",null,null,null,0]
["012521",1,{"$f":"+MIN(Contributo_cer[[#This Row],[Totale Immissione in rete]:[Totale Consumi rimanenti]])","v":0},"HP",null,null,null,0]
["012522",1,{"$f":"+MIN(Contributo_cer[[#This Row],[Totale Immissione in rete]:[Totale Consumi rimanenti]])","v":0},"HC",null,null,null,0]
["012523",1,{"$f":"+MIN(Contributo_cer[[#This Row],[Totale Immissione in rete]:[Totale Consumi rimanenti]])","v":0},"HC",null,null,null,0]
["012600",1,{"$f":"+MIN(Contributo_cer[[#This Row],[Totale Immissione in rete]:[Totale Consumi rimanenti]])","v":0},"HC",null,null,null,0]
["012601",1,{"$f":"+MIN(Contributo_cer[[#This Row],[Totale Immissione in rete]:[Totale Consumi rimanenti]])","v":0},"HC",null,null,null,0]
["012602",1,{"$f":"+MIN(Contributo_cer[[#This Row],[Totale Immissione in rete]:[Totale Consumi rimanenti]])","v":0},"HC",null,null,null,0]
["012603",1,{"$f":"+MIN(Contributo_cer[[#This Row],[Totale Immissione in rete]:[Totale Consumi rimanenti]])","v":0},"HC",null,null,null,0]
["012604",1,{"$f":"+MIN(Contributo_cer[[#This Row],[Totale Immissione in rete]:[Totale Consumi rimanenti]])","v":0},"HC",null,null,null,0]
["012605",1,{"$f":"+MIN(Contributo_cer[[#This Row],[Totale Immissione in rete]:[Totale Consumi rimanenti]])","v":0},"HC",null,null,null,0]
["012606",1,{"$f":"+MIN(Contributo_cer[[#This Row],[Totale Immissione in rete]:[Totale Consumi rimanenti]])","v":0},"HP",null,null,null,0]
["012607",1,{"$f":"+MIN(Contributo_cer[[#This Row],[Totale Immissione in rete]:[Totale Consumi rimanenti]])","v":0},"HP",null,null,null,0]
["012608",1,{"$f":"+MIN(Contributo_cer[[#This Row],[Totale Immissione in rete]:[Totale Consumi rimanenti]])","v":0},"HP",null,null,null,0]
["012609",1,{"$f":"+MIN(Contributo_cer[[#This Row],[Totale Immissione in rete]:[Totale Consumi rimanenti]])","v":0},"HP",null,null,null,0]
["012610",1,{"$f":"+MIN(Contributo_cer[[#This Row],[Totale Immissione in rete]:[Totale Consumi rimanenti]])","v":0},"HP",null,null,null,0]
["012611",1,{"$f":"+MIN(Contributo_cer[[#This Row],[Totale Immissione in rete]:[Totale Consumi rimanenti]])","v":0},"HP",null,null,null,0]
["012612",1,{"$f":"+MIN(Contributo_cer[[#This Row],[Totale Immissione in rete]:[Totale Consumi rimanenti]])","v":0},"HP",null,null,null,0]
["012613",1,{"$f":"+MIN(Contributo_cer[[#This Row],[Totale Immissione in rete]:[Totale Consumi rimanenti]])","v":0},"HP",null,null,null,0]
["012614",1,{"$f":"+MIN(Contributo_cer[[#This Row],[Totale Immissione in rete]:[Totale Consumi rimanenti]])","v":0},"HP",null,null,null,0]
["012615",1,{"$f":"+MIN(Contributo_cer[[#This Row],[Totale Immissione in rete]:[Totale Consumi rimanenti]])","v":0},"HP",null,null,null,0]
["012616",1,{"$f":"+MIN(Contributo_cer[[#This Row],[Totale Immissione in rete]:[Totale Consumi rimanenti]])","v":0},"HP",null,null,null,0]
["012617",1,{"$f":"+MIN(Contributo_cer[[#This Row],[Totale Immissione in rete]:[Totale Consumi rimanenti]])","v":0},"HP",null,null,null,0]
["012618",1,{"$f":"+MIN(Contributo_cer[[#This Row],[Totale Immissione in rete]:[Totale Consumi rimanenti]])","v":0},"HP",null,null,null,0]
["012619",1,{"$f":"+MIN(Contributo_cer[[#This Row],[Totale Immissione in rete]:[Totale Consumi rimanenti]])","v":0},"HP",null,null,null,0]
["012620",1,{"$f":"+MIN(Contributo_cer[[#This Row],[Totale Immissione in rete]:[Totale Consumi rimanenti]])","v":0},"HP",null,null,null,0]
["012621",1,{"$f":"+MIN(Contributo_cer[[#This Row],[Totale Immissione in rete]:[Totale Consumi rimanenti]])","v":0},"HP",null,null,null,0]
["012622",1,{"$f":"+MIN(Contributo_cer[[#This Row],[Totale Immissione in rete]:[Totale Consumi rimanenti]])","v":0},"HC",null,null,null,0]
["012623",1,{"$f":"+MIN(Contributo_cer[[#This Row],[Totale Immissione in rete]:[Totale Consumi rimanenti]])","v":0},"HC",null,null,null,0]
["012700",1,{"$f":"+MIN(Contributo_cer[[#This Row],[Totale Immissione in rete]:[Totale Consumi rimanenti]])","v":0},"HC",null,null,null,0]
["012701",1,{"$f":"+MIN(Contributo_cer[[#This Row],[Totale Immissione in rete]:[Totale Consumi rimanenti]])","v":0},"HC",null,null,null,0]
["012702",1,{"$f":"+MIN(Contributo_cer[[#This Row],[Totale Immissione in rete]:[Totale Consumi rimanenti]])","v":0},"HC",null,null,null,0]
["012703",1,{"$f":"+MIN(Contributo_cer[[#This Row],[Totale Immissione in rete]:[Totale Consumi rimanenti]])","v":0},"HC",null,null,null,0]
["012704",1,{"$f":"+MIN(Contributo_cer[[#This Row],[Totale Immissione in rete]:[Totale Consumi rimanenti]])","v":0},"HC",null,null,null,0]
["012705",1,{"$f":"+MIN(Contributo_cer[[#This Row],[Totale Immissione in rete]:[Totale Consumi rimanenti]])","v":0},"HC",null,null,null,0]
["012706",1,{"$f":"+MIN(Contributo_cer[[#This Row],[Totale Immissione in rete]:[Totale Consumi rimanenti]])","v":0},"HP",null,null,null,0]
["012707",1,{"$f":"+MIN(Contributo_cer[[#This Row],[Totale Immissione in rete]:[Totale Consumi rimanenti]])","v":0},"HP",null,null,null,0]
["012708",1,{"$f":"+MIN(Contributo_cer[[#This Row],[Totale Immissione in rete]:[Totale Consumi rimanenti]])","v":0},"HP",null,null,null,0]
["012709",1,{"$f":"+MIN(Contributo_cer[[#This Row],[Totale Immissione in rete]:[Totale Consumi rimanenti]])","v":0},"HP",null,null,null,0]
["012710",1,{"$f":"+MIN(Contributo_cer[[#This Row],[Totale Immissione in rete]:[Totale Consumi rimanenti]])","v":0},"HP",null,null,null,0]
["012711",1,{"$f":"+MIN(Contributo_cer[[#This Row],[Totale Immissione in rete]:[Totale Consumi rimanenti]])","v":0},"HP",null,null,null,0]
["012712",1,{"$f":"+MIN(Contributo_cer[[#This Row],[Totale Immissione in rete]:[Totale Consumi rimanenti]])","v":0},"HP",null,null,null,0]
["012713",1,{"$f":"+MIN(Contributo_cer[[#This Row],[Totale Immissione in rete]:[Totale Consumi rimanenti]])","v":0},"HP",null,null,null,0]
["012714",1,{"$f":"+MIN(Contributo_cer[[#This Row],[Totale Immissione in rete]:[Totale Consumi rimanenti]])","v":0},"HP",null,null,null,0]
["012715",1,{"$f":"+MIN(Contributo_cer[[#This Row],[Totale Immissione in rete]:[Totale Consumi rimanenti]])","v":0},"HP",null,null,null,0]
["012716",1,{"$f":"+MIN(Contributo_cer[[#This Row],[Totale Immissione in rete]:[Totale Consumi rimanenti]])","v":0},"HP",null,null,null,0]
["012717",1,{"$f":"+MIN(Contributo_cer[[#This Row],[Totale Immissione in rete]:[Totale Consumi rimanenti]])","v":0},"HP",null,null,null,0]
["012718",1,{"$f":"+MIN(Contributo_cer[[#This Row],[Totale Immissione in rete]:[Totale Consumi rimanenti]])","v":0},"HP",null,null,null,0]
["012719",1,{"$f":"+MIN(Contributo_cer[[#This Row],[Totale Immissione in rete]:[Totale Consumi rimanenti]])","v":0},"HP",null,null,null,0]
["012720",1,{"$f":"+MIN(Contributo_cer[[#This Row],[Totale Immissione in rete]:[Totale Consumi rimanenti]])","v":0},"HP",null,null,null,0]
["012721",1,{"$f":"+MIN(Contributo_cer[[#This Row],[Totale Immissione in rete]:[Totale Consumi rimanenti]])","v":0},"HP",null,null,null,0]
["012722",1,{"$f":"+MIN(Contributo_cer[[#This Row],[Totale Immissione in rete]:[Totale Consumi rimanenti]])","v":0},"HC",null,null,null,0]
["012723",1,{"$f":"+MIN(Contributo_cer[[#This Row],[Totale Immissione in rete]:[Totale Consumi rimanenti]])","v":0},"HC",null,null,null,0]
["012800",1,{"$f":"+MIN(Contributo_cer[[#This Row],[Totale Immissione in rete]:[Totale Consumi rimanenti]])","v":0},"HC",null,null,null,0]
["012801",1,{"$f":"+MIN(Contributo_cer[[#This Row],[Totale Immissione in rete]:[Totale Consumi rimanenti]])","v":0},"HC",null,null,null,0]
["012802",1,{"$f":"+MIN(Contributo_cer[[#This Row],[Totale Immissione in rete]:[Totale Consumi rimanenti]])","v":0},"HC",null,null,null,0]
["012803",1,{"$f":"+MIN(Contributo_cer[[#This Row],[Totale Immissione in rete]:[Totale Consumi rimanenti]])","v":0},"HC",null,null,null,0]
["012804",1,{"$f":"+MIN(Contributo_cer[[#This Row],[Totale Immissione in rete]:[Totale Consumi rimanenti]])","v":0},"HC",null,null,null,0]
["012805",1,{"$f":"+MIN(Contributo_cer[[#This Row],[Totale Immissione in rete]:[Totale Consumi rimanenti]])","v":0},"HC",null,null,null,0]
["012806",1,{"$f":"+MIN(Contributo_cer[[#This Row],[Totale Immissione in rete]:[Totale Consumi rimanenti]])","v":0},"HP",null,null,null,0]
["012807",1,{"$f":"+MIN(Contributo_cer[[#This Row],[Totale Immissione in rete]:[Totale Consumi rimanenti]])","v":0},"HP",null,null,null,0]
["012808",1,{"$f":"+MIN(Contributo_cer[[#This Row],[Totale Immissione in rete]:[Totale Consumi rimanenti]])","v":0},"HP",null,null,null,0]
["012809",1,{"$f":"+MIN(Contributo_cer[[#This Row],[Totale Immissione in rete]:[Totale Consumi rimanenti]])","v":0},"HP",null,null,null,0]
["012810",1,{"$f":"+MIN(Contributo_cer[[#This Row],[Totale Immissione in rete]:[Totale Consumi rimanenti]])","v":0},"HP",null,null,null,0]
["012811",1,{"$f":"+MIN(Contributo_cer[[#This Row],[Totale Immissione in rete]:[Totale Consumi rimanenti]])","v":0},"HP",null,null,null,0]
["012812",1,{"$f":"+MIN(Contributo_cer[[#This Row],[Totale Immissione in rete]:[Totale Consumi rimanenti]])","v":0},"HP",null,null,null,0]
["012813",1,{"$f":"+MIN(Contributo_cer[[#This Row],[Totale Immissione in rete]:[Totale Consumi rimanenti]])","v":0},"HP",null,null,null,0]
["012814",1,{"$f":"+MIN(Contributo_cer[[#This Row],[Totale Immissione in rete]:[Totale Consumi rimanenti]])","v":0},"HP",null,null,null,0]
["012815",1,{"$f":"+MIN(Contributo_cer[[#This Row],[Totale Immissione in rete]:[Totale Consumi rimanenti]])","v":0},"HP",null,null,null,0]
["012816",1,{"$f":"+MIN(Contributo_cer[[#This Row],[Totale Immissione in rete]:[Totale Consumi rimanenti]])","v":0},"HP",null,null,null,0]
["012817",1,{"$f":"+MIN(Contributo_cer[[#This Row],[Totale Immissione in rete]:[Totale Consumi rimanenti]])","v":0},"HP",null,null,null,0]
["012818",1,{"$f":"+MIN(Contributo_cer[[#This Row],[Totale Immissione in rete]:[Totale Consumi rimanenti]])","v":0},"HP",null,null,null,0]
["012819",1,{"$f":"+MIN(Contributo_cer[[#This Row],[Totale Immissione in rete]:[Totale Consumi rimanenti]])","v":0},"HP",null,null,null,0]
["012820",1,{"$f":"+MIN(Contributo_cer[[#This Row],[Totale Immissione in rete]:[Totale Consumi rimanenti]])","v":0},"HP",null,null,null,0]
["012821",1,{"$f":"+MIN(Contributo_cer[[#This Row],[Totale Immissione in rete]:[Totale Consumi rimanenti]])","v":0},"HP",null,null,null,0]
["012822",1,{"$f":"+MIN(Contributo_cer[[#This Row],[Totale Immissione in rete]:[Totale Consumi rimanenti]])","v":0},"HC",null,null,null,0]
["012823",1,{"$f":"+MIN(Contributo_cer[[#This Row],[Totale Immissione in rete]:[Totale Consumi rimanenti]])","v":0},"HC",null,null,null,0]
["012900",1,{"$f":"+MIN(Contributo_cer[[#This Row],[Totale Immissione in rete]:[Totale Consumi rimanenti]])","v":0},"HC",null,null,null,0]
["012901",1,{"$f":"+MIN(Contributo_cer[[#This Row],[Totale Immissione in rete]:[Totale Consumi rimanenti]])","v":0},"HC",null,null,null,0]
["012902",1,{"$f":"+MIN(Contributo_cer[[#This Row],[Totale Immissione in rete]:[Totale Consumi rimanenti]])","v":0},"HC",null,null,null,0]
["012903",1,{"$f":"+MIN(Contributo_cer[[#This Row],[Totale Immissione in rete]:[Totale Consumi rimanenti]])","v":0},"HC",null,null,null,0]
["012904",1,{"$f":"+MIN(Contributo_cer[[#This Row],[Totale Immissione in rete]:[Totale Consumi rimanenti]])","v":0},"HC",null,null,null,0]
["012905",1,{"$f":"+MIN(Contributo_cer[[#This Row],[Totale Immissione in rete]:[Totale Consumi rimanenti]])","v":0},"HC",null,null,null,0]
["012906",1,{"$f":"+MIN(Contributo_cer[[#This Row],[Totale Immissione in rete]:[Totale Consumi rimanenti]])","v":0},"HP",null,null,null,0]
["012907",1,{"$f":"+MIN(Contributo_cer[[#This Row],[Totale Immissione in rete]:[Totale Consumi rimanenti]])","v":0},"HP",null,null,null,0]
["012908",1,{"$f":"+MIN(Contributo_cer[[#This Row],[Totale Immissione in rete]:[Totale Consumi rimanenti]])","v":0},"HP",null,null,null,0]
["012909",1,{"$f":"+MIN(Contributo_cer[[#This Row],[Totale Immissione in rete]:[Totale Consumi rimanenti]])","v":0},"HP",null,null,null,0]
["012910",1,{"$f":"+MIN(Contributo_cer[[#This Row],[Totale Immissione in rete]:[Totale Consumi rimanenti]])","v":0},"HP",null,null,null,0]
["012911",1,{"$f":"+MIN(Contributo_cer[[#This Row],[Totale Immissione in rete]:[Totale Consumi rimanenti]])","v":0},"HP",null,null,null,0]
["012912",1,{"$f":"+MIN(Contributo_cer[[#This Row],[Totale Immissione in rete]:[Totale Consumi rimanenti]])","v":0},"HP",null,null,null,0]
["012913",1,{"$f":"+MIN(Contributo_cer[[#This Row],[Totale Immissione in rete]:[Totale Consumi rimanenti]])","v":0},"HP",null,null,null,0]
["012914",1,{"$f":"+MIN(Contributo_cer[[#This Row],[Totale Immissione in rete]:[Totale Consumi rimanenti]])","v":0},"HP",null,null,null,0]
["012915",1,{"$f":"+MIN(Contributo_cer[[#This Row],[Totale Immissione in rete]:[Totale Consumi rimanenti]])","v":0},"HP",null,null,null,0]
["012916",1,{"$f":"+MIN(Contributo_cer[[#This Row],[Totale Immissione in rete]:[Totale Consumi rimanenti]])","v":0},"HP",null,null,null,0]
["012917",1,{"$f":"+MIN(Contributo_cer[[#This Row],[Totale Immissione in rete]:[Totale Consumi rimanenti]])","v":0},"HP",null,null,null,0]
["012918",1,{"$f":"+MIN(Contributo_cer[[#This Row],[Totale Immissione in rete]:[Totale Consumi rimanenti]])","v":0},"HP",null,null,null,0]
["012919",1,{"$f":"+MIN(Contributo_cer[[#This Row],[Totale Immissione in rete]:[Totale Consumi rimanenti]])","v":0},"HP",null,null,null,0]
["012920",1,{"$f":"+MIN(Contributo_cer[[#This Row],[Totale Immissione in rete]:[Totale Consumi rimanenti]])","v":0},"HP",null,null,null,0]
["012921",1,{"$f":"+MIN(Contributo_cer[[#This Row],[Totale Immissione in rete]:[Totale Consumi rimanenti]])","v":0},"HP",null,null,null,0]
["012922",1,{"$f":"+MIN(Contributo_cer[[#This Row],[Totale Immissione in rete]:[Totale Consumi rimanenti]])","v":0},"HC",null,null,null,0]
["012923",1,{"$f":"+MIN(Contributo_cer[[#This Row],[Totale Immissione in rete]:[Totale Consumi rimanenti]])","v":0},"HC",null,null,null,0]
["013000",1,{"$f":"+MIN(Contributo_cer[[#This Row],[Totale Immissione in rete]:[Totale Consumi rimanenti]])","v":0},"HC",null,null,null,0]
["013001",1,{"$f":"+MIN(Contributo_cer[[#This Row],[Totale Immissione in rete]:[Totale Consumi rimanenti]])","v":0},"HC",null,null,null,0]
["013002",1,{"$f":"+MIN(Contributo_cer[[#This Row],[Totale Immissione in rete]:[Totale Consumi rimanenti]])","v":0},"HC",null,null,null,0]
["013003",1,{"$f":"+MIN(Contributo_cer[[#This Row],[Totale Immissione in rete]:[Totale Consumi rimanenti]])","v":0},"HC",null,null,null,0]
["013004",1,{"$f":"+MIN(Contributo_cer[[#This Row],[Totale Immissione in rete]:[Totale Consumi rimanenti]])","v":0},"HC",null,null,null,0]
["013005",1,{"$f":"+MIN(Contributo_cer[[#This Row],[Totale Immissione in rete]:[Totale Consumi rimanenti]])","v":0},"HC",null,null,null,0]
["013006",1,{"$f":"+MIN(Contributo_cer[[#This Row],[Totale Immissione in rete]:[Totale Consumi rimanenti]])","v":0},"HP",null,null,null,0]
["013007",1,{"$f":"+MIN(Contributo_cer[[#This Row],[Totale Immissione in rete]:[Totale Consumi rimanenti]])","v":0},"HP",null,null,null,0]
["013008",1,{"$f":"+MIN(Contributo_cer[[#This Row],[Totale Immissione in rete]:[Totale Consumi rimanenti]])","v":0},"HP",null,null,null,0]
["013009",1,{"$f":"+MIN(Contributo_cer[[#This Row],[Totale Immissione in rete]:[Totale Consumi rimanenti]])","v":0},"HP",null,null,null,0]
["013010",1,{"$f":"+MIN(Contributo_cer[[#This Row],[Totale Immissione in rete]:[Totale Consumi rimanenti]])","v":0},"HP",null,null,null,0]
["013011",1,{"$f":"+MIN(Contributo_cer[[#This Row],[Totale Immissione in rete]:[Totale Consumi rimanenti]])","v":0},"HP",null,null,null,0]
["013012",1,{"$f":"+MIN(Contributo_cer[[#This Row],[Totale Immissione in rete]:[Totale Consumi rimanenti]])","v":0},"HP",null,null,null,0]
["013013",1,{"$f":"+MIN(Contributo_cer[[#This Row],[Totale Immissione in rete]:[Totale Consumi rimanenti]])","v":0},"HP",null,null,null,0]
["013014",1,{"$f":"+MIN(Contributo_cer[[#This Row],[Totale Immissione in rete]:[Totale Consumi rimanenti]])","v":0},"HP",null,null,null,0]
["013015",1,{"$f":"+MIN(Contributo_cer[[#This Row],[Totale Immissione in rete]:[Totale Consumi rimanenti]])","v":0},"HP",null,null,null,0]
["013016",1,{"$f":"+MIN(Contributo_cer[[#This Row],[Totale Immissione in rete]:[Totale Consumi rimanenti]])","v":0},"HP",null,null,null,0]
["013017",1,{"$f":"+MIN(Contributo_cer[[#This Row],[Totale Immissione in rete]:[Totale Consumi rimanenti]])","v":0},"HP",null,null,null,0]
["013018",1,{"$f":"+MIN(Contributo_cer[[#This Row],[Totale Immissione in rete]:[Totale Consumi rimanenti]])","v":0},"HP",null,null,null,0]
["013019",1,{"$f":"+MIN(Contributo_cer[[#This Row],[Totale Immissione in rete]:[Totale Consumi rimanenti]])","v":0},"HP",null,null,null,0]
["013020",1,{"$f":"+MIN(Contributo_cer[[#This Row],[Totale Immissione in rete]:[Totale Consumi rimanenti]])","v":0},"HP",null,null,null,0]
["013021",1,{"$f":"+MIN(Contributo_cer[[#This Row],[Totale Immissione in rete]:[Totale Consumi rimanenti]])","v":0},"HP",null,null,null,0]
["013022",1,{"$f":"+MIN(Contributo_cer[[#This Row],[Totale Immissione in rete]:[Totale Consumi rimanenti]])","v":0},"HC",null,null,null,0]
["013023",1,{"$f":"+MIN(Contributo_cer[[#This Row],[Totale Immissione in rete]:[Totale Consumi rimanenti]])","v":0},"HC",null,null,null,0]
["013100",1,{"$f":"+MIN(Contributo_cer[[#This Row],[Totale Immissione in rete]:[Totale Consumi rimanenti]])","v":0},"HC",null,null,null,0]
["013101",1,{"$f":"+MIN(Contributo_cer[[#This Row],[Totale Immissione in rete]:[Totale Consumi rimanenti]])","v":0},"HC",null,null,null,0]
["013102",1,{"$f":"+MIN(Contributo_cer[[#This Row],[Totale Immissione in rete]:[Totale Consumi rimanenti]])","v":0},"HC",null,null,null,0]
["013103",1,{"$f":"+MIN(Contributo_cer[[#This Row],[Totale Immissione in rete]:[Totale Consumi rimanenti]])","v":0},"HC",null,null,null,0]
["013104",1,{"$f":"+MIN(Contributo_cer[[#This Row],[Totale Immissione in rete]:[Totale Consumi rimanenti]])","v":0},"HC",null,null,null,0]
["013105",1,{"$f":"+MIN(Contributo_cer[[#This Row],[Totale Immissione in rete]:[Totale Consumi rimanenti]])","v":0},"HC",null,null,null,0]
["013106",1,{"$f":"+MIN(Contributo_cer[[#This Row],[Totale Immissione in rete]:[Totale Consumi rimanenti]])","v":0},"HP",null,null,null,0]
["013107",1,{"$f":"+MIN(Contributo_cer[[#This Row],[Totale Immissione in rete]:[Totale Consumi rimanenti]])","v":0},"HP",null,null,null,0]
["013108",1,{"$f":"+MIN(Contributo_cer[[#This Row],[Totale Immissione in rete]:[Totale Consumi rimanenti]])","v":0},"HP",null,null,null,0]
["013109",1,{"$f":"+MIN(Contributo_cer[[#This Row],[Totale Immissione in rete]:[Totale Consumi rimanenti]])","v":0},"HP",null,null,null,0]
["013110",1,{"$f":"+MIN(Contributo_cer[[#This Row],[Totale Immissione in rete]:[Totale Consumi rimanenti]])","v":0},"HP",null,null,null,0]
["013111",1,{"$f":"+MIN(Contributo_cer[[#This Row],[Totale Immissione in rete]:[Totale Consumi rimanenti]])","v":0},"HP",null,null,null,0]
["013112",1,{"$f":"+MIN(Contributo_cer[[#This Row],[Totale Immissione in rete]:[Totale Consumi rimanenti]])","v":0},"HP",null,null,null,0]
["013113",1,{"$f":"+MIN(Contributo_cer[[#This Row],[Totale Immissione in rete]:[Totale Consumi rimanenti]])","v":0},"HP",null,null,null,0]
["013114",1,{"$f":"+MIN(Contributo_cer[[#This Row],[Totale Immissione in rete]:[Totale Consumi rimanenti]])","v":0},"HP",null,null,null,0]
["013115",1,{"$f":"+MIN(Contributo_cer[[#This Row],[Totale Immissione in rete]:[Totale Consumi rimanenti]])","v":0},"HP",null,null,null,0]
["013116",1,{"$f":"+MIN(Contributo_cer[[#This Row],[Totale Immissione in rete]:[Totale Consumi rimanenti]])","v":0},"HP",null,null,null,0]
["013117",1,{"$f":"+MIN(Contributo_cer[[#This Row],[Totale Immissione in rete]:[Totale Consumi rimanenti]])","v":0},"HP",null,null,null,0]
["013118",1,{"$f":"+MIN(Contributo_cer[[#This Row],[Totale Immissione in rete]:[Totale Consumi rimanenti]])","v":0},"HP",null,null,null,0]
["013119",1,{"$f":"+MIN(Contributo_cer[[#This Row],[Totale Immissione in rete]:[Totale Consumi rimanenti]])","v":0},"HP",null,null,null,0]
["013120",1,{"$f":"+MIN(Contributo_cer[[#This Row],[Totale Immissione in rete]:[Totale Consumi rimanenti]])","v":0},"HP",null,null,null,0]
["013121",1,{"$f":"+MIN(Contributo_cer[[#This Row],[Totale Immissione in rete]:[Totale Consumi rimanenti]])","v":0},"HP",null,null,null,0]
["013122",1,{"$f":"+MIN(Contributo_cer[[#This Row],[Totale Immissione in rete]:[Totale Consumi rimanenti]])","v":0},"HC",null,null,null,0]
["013123",1,{"$f":"+MIN(Contributo_cer[[#This Row],[Totale Immissione in rete]:[Totale Consumi rimanenti]])","v":0},"HC",null,null,null,0]
["020100",2,{"$f":"+MIN(Contributo_cer[[#This Row],[Totale Immissione in rete]:[Totale Consumi rimanenti]])","v":0},"HC",null,null,null,0]
["020101",2,{"$f":"+MIN(Contributo_cer[[#This Row],[Totale Immissione in rete]:[Totale Consumi rimanenti]])","v":0},"HC",null,null,null,0]
["020102",2,{"$f":"+MIN(Contributo_cer[[#This Row],[Totale Immissione in rete]:[Totale Consumi rimanenti]])","v":0},"HC",null,null,null,0]
["020103",2,{"$f":"+MIN(Contributo_cer[[#This Row],[Totale Immissione in rete]:[Totale Consumi rimanenti]])","v":0},"HC",null,null,null,0]
["020104",2,{"$f":"+MIN(Contributo_cer[[#This Row],[Totale Immissione in rete]:[Totale Consumi rimanenti]])","v":0},"HC",null,null,null,0]
["020105",2,{"$f":"+MIN(Contributo_cer[[#This Row],[Totale Immissione in rete]:[Totale Consumi rimanenti]])","v":0},"HC",null,null,null,0]
["020106",2,{"$f":"+MIN(Contributo_cer[[#This Row],[Totale Immissione in rete]:[Totale Consumi rimanenti]])","v":0},"HP",null,null,null,0]
["020107",2,{"$f":"+MIN(Contributo_cer[[#This Row],[Totale Immissione in rete]:[Totale Consumi rimanenti]])","v":0},"HP",null,null,null,0]
["020108",2,{"$f":"+MIN(Contributo_cer[[#This Row],[Totale Immissione in rete]:[Totale Consumi rimanenti]])","v":0},"HP",null,null,null,0]
["020109",2,{"$f":"+MIN(Contributo_cer[[#This Row],[Totale Immissione in rete]:[Totale Consumi rimanenti]])","v":0},"HP",null,null,null,0]
["020110",2,{"$f":"+MIN(Contributo_cer[[#This Row],[Totale Immissione in rete]:[Totale Consumi rimanenti]])","v":0},"HP",null,null,null,0]
["020111",2,{"$f":"+MIN(Contributo_cer[[#This Row],[Totale Immissione in rete]:[Totale Consumi rimanenti]])","v":0},"HP",null,null,null,0]
["020112",2,{"$f":"+MIN(Contributo_cer[[#This Row],[Totale Immissione in rete]:[Totale Consumi rimanenti]])","v":0},"HP",null,null,null,0]
["020113",2,{"$f":"+MIN(Contributo_cer[[#This Row],[Totale Immissione in rete]:[Totale Consumi rimanenti]])","v":0},"HP",null,null,null,0]
["020114",2,{"$f":"+MIN(Contributo_cer[[#This Row],[Totale Immissione in rete]:[Totale Consumi rimanenti]])","v":0},"HP",null,null,null,0]
["020115",2,{"$f":"+MIN(Contributo_cer[[#This Row],[Totale Immissione in rete]:[Totale Consumi rimanenti]])","v":0},"HP",null,null,null,0]
["020116",2,{"$f":"+MIN(Contributo_cer[[#This Row],[Totale Immissione in rete]:[Totale Consumi rimanenti]])","v":0},"HP",null,null,null,0]
["020117",2,{"$f":"+MIN(Contributo_cer[[#This Row],[Totale Immissione in rete]:[Totale Consumi rimanenti]])","v":0},"HP",null,null,null,0]
["020118",2,{"$f":"+MIN(Contributo_cer[[#This Row],[Totale Immissione in rete]:[Totale Consumi rimanenti]])","v":0},"HP",null,null,null,0]
["020119",2,{"$f":"+MIN(Contributo_cer[[#This Row],[Totale Immissione in rete]:[Totale Consumi rimanenti]])","v":0},"HP",null,null,null,0]
["020120",2,{"$f":"+MIN(Contributo_cer[[#This Row],[Totale Immissione in rete]:[Totale Consumi rimanenti]])","v":0},"HP",null,null,null,0]
["020121",2,{"$f":"+MIN(Contributo_cer[[#This Row],[Totale Immissione in rete]:[Totale Consumi rimanenti]])","v":0},"HP",null,null,null,0]
["020122",2,{"$f":"+MIN(Contributo_cer[[#This Row],[Totale Immissione in rete]:[Totale Consumi rimanenti]])","v":0},"HC",null,null,null,0]
["020123",2,{"$f":"+MIN(Contributo_cer[[#This Row],[Totale Immissione in rete]:[Totale Consumi rimanenti]])","v":0},"HC",null,null,null,0]
["020200",2,{"$f":"+MIN(Contributo_cer[[#This Row],[Totale Immissione in rete]:[Totale Consumi rimanenti]])","v":0},"HC",null,null,null,0]
["020201",2,{"$f":"+MIN(Contributo_cer[[#This Row],[Totale Immissione in rete]:[Totale Consumi rimanenti]])","v":0},"HC",null,null,null,0]
["020202",2,{"$f":"+MIN(Contributo_cer[[#This Row],[Totale Immissione in rete]:[Totale Consumi rimanenti]])","v":0},"HC",null,null,null,0]
["020203",2,{"$f":"+MIN(Contributo_cer[[#This Row],[Totale Immissione in rete]:[Totale Consumi rimanenti]])","v":0},"HC",null,null,null,0]
["020204",2,{"$f":"+MIN(Contributo_cer[[#This Row],[Totale Immissione in rete]:[Totale Consumi rimanenti]])","v":0},"HC",null,null,null,0]
["020205",2,{"$f":"+MIN(Contributo_cer[[#This Row],[Totale Immissione in rete]:[Totale Consumi rimanenti]])","v":0},"HC",null,null,null,0]
["020206",2,{"$f":"+MIN(Contributo_cer[[#This Row],[Totale Immissione in rete]:[Totale Consumi rimanenti]])","v":0},"HP",null,null,null,0]
["020207",2,{"$f":"+MIN(Contributo_cer[[#This Row],[Totale Immissione in rete]:[Totale Consumi rimanenti]])","v":0},"HP",null,null,null,0]
["020208",2,{"$f":"+MIN(Contributo_cer[[#This Row],[Totale Immissione in rete]:[Totale Consumi rimanenti]])","v":0},"HP",null,null,null,0]
["020209",2,{"$f":"+MIN(Contributo_cer[[#This Row],[Totale Immissione in rete]:[Totale Consumi rimanenti]])","v":0},"HP",null,null,null,0]
["020210",2,{"$f":"+MIN(Contributo_cer[[#This Row],[Totale Immissione in rete]:[Totale Consumi rimanenti]])","v":0},"HP",null,null,null,0]
["020211",2,{"$f":"+MIN(Contributo_cer[[#This Row],[Totale Immissione in rete]:[Totale Consumi rimanenti]])","v":0},"HP",null,null,null,0]
["020212",2,{"$f":"+MIN(Contributo_cer[[#This Row],[Totale Immissione in rete]:[Totale Consumi rimanenti]])","v":0},"HP",null,null,null,0]
["020213",2,{"$f":"+MIN(Contributo_cer[[#This Row],[Totale Immissione in rete]:[Totale Consumi rimanenti]])","v":0},"HP",null,null,null,0]
["020214",2,{"$f":"+MIN(Contributo_cer[[#This Row],[Totale Immissione in rete]:[Totale Consumi rimanenti]])","v":0},"HP",null,null,null,0]
["020215",2,{"$f":"+MIN(Contributo_cer[[#This Row],[Totale Immissione in rete]:[Totale Consumi rimanenti]])","v":0},"HP",null,null,null,0]
["020216",2,{"$f":"+MIN(Contributo_cer[[#This Row],[Totale Immissione in rete]:[Totale Consumi rimanenti]])","v":0},"HP",null,null,null,0]
["020217",2,{"$f":"+MIN(Contributo_cer[[#This Row],[Totale Immissione in rete]:[Totale Consumi rimanenti]])","v":0},"HP",null,null,null,0]
["020218",2,{"$f":"+MIN(Contributo_cer[[#This Row],[Totale Immissione in rete]:[Totale Consumi rimanenti]])","v":0},"HP",null,null,null,0]
["020219",2,{"$f":"+MIN(Contributo_cer[[#This Row],[Totale Immissione in rete]:[Totale Consumi rimanenti]])","v":0},"HP",null,null,null,0]
["020220",2,{"$f":"+MIN(Contributo_cer[[#This Row],[Totale Immissione in rete]:[Totale Consumi rimanenti]])","v":0},"HP",null,null,null,0]
["020221",2,{"$f":"+MIN(Contributo_cer[[#This Row],[Totale Immissione in rete]:[Totale Consumi rimanenti]])","v":0},"HP",null,null,null,0]
["020222",2,{"$f":"+MIN(Contributo_cer[[#This Row],[Totale Immissione in rete]:[Totale Consumi rimanenti]])","v":0},"HC",null,null,null,0]
["020223",2,{"$f":"+MIN(Contributo_cer[[#This Row],[Totale Immissione in rete]:[Totale Consumi rimanenti]])","v":0},"HC",null,null,null,0]
["020300",2,{"$f":"+MIN(Contributo_cer[[#This Row],[Totale Immissione in rete]:[Totale Consumi rimanenti]])","v":0},"HC",null,null,null,0]
["020301",2,{"$f":"+MIN(Contributo_cer[[#This Row],[Totale Immissione in rete]:[Totale Consumi rimanenti]])","v":0},"HC",null,null,null,0]
["020302",2,{"$f":"+MIN(Contributo_cer[[#This Row],[Totale Immissione in rete]:[Totale Consumi rimanenti]])","v":0},"HC",null,null,null,0]
["020303",2,{"$f":"+MIN(Contributo_cer[[#This Row],[Totale Immissione in rete]:[Totale Consumi rimanenti]])","v":0},"HC",null,null,null,0]
["020304",2,{"$f":"+MIN(Contributo_cer[[#This Row],[Totale Immissione in rete]:[Totale Consumi rimanenti]])","v":0},"HC",null,null,null,0]
["020305",2,{"$f":"+MIN(Contributo_cer[[#This Row],[Totale Immissione in rete]:[Totale Consumi rimanenti]])","v":0},"HC",null,null,null,0]
["020306",2,{"$f":"+MIN(Contributo_cer[[#This Row],[Totale Immissione in rete]:[Totale Consumi rimanenti]])","v":0},"HP",null,null,null,0]
["020307",2,{"$f":"+MIN(Contributo_cer[[#This Row],[Totale Immissione in rete]:[Totale Consumi rimanenti]])","v":0},"HP",null,null,null,0]
["020308",2,{"$f":"+MIN(Contributo_cer[[#This Row],[Totale Immissione in rete]:[Totale Consumi rimanenti]])","v":0},"HP",null,null,null,0]
["020309",2,{"$f":"+MIN(Contributo_cer[[#This Row],[Totale Immissione in rete]:[Totale Consumi rimanenti]])","v":0},"HP",null,null,null,0]
["020310",2,{"$f":"+MIN(Contributo_cer[[#This Row],[Totale Immissione in rete]:[Totale Consumi rimanenti]])","v":0},"HP",null,null,null,0]
["020311",2,{"$f":"+MIN(Contributo_cer[[#This Row],[Totale Immissione in rete]:[Totale Consumi rimanenti]])","v":0},"HP",null,null,null,0]
["020312",2,{"$f":"+MIN(Contributo_cer[[#This Row],[Totale Immissione in rete]:[Totale Consumi rimanenti]])","v":0},"HP",null,null,null,0]
["020313",2,{"$f":"+MIN(Contributo_cer[[#This Row],[Totale Immissione in rete]:[Totale Consumi rimanenti]])","v":0},"HP",null,null,null,0]
["020314",2,{"$f":"+MIN(Contributo_cer[[#This Row],[Totale Immissione in rete]:[Totale Consumi rimanenti]])","v":0},"HP",null,null,null,0]
["020315",2,{"$f":"+MIN(Contributo_cer[[#This Row],[Totale Immissione in rete]:[Totale Consumi rimanenti]])","v":0},"HP",null,null,null,0]
["020316",2,{"$f":"+MIN(Contributo_cer[[#This Row],[Totale Immissione in rete]:[Totale Consumi rimanenti]])","v":0},"HP",null,null,null,0]
["020317",2,{"$f":"+MIN(Contributo_cer[[#This Row],[Totale Immissione in rete]:[Totale Consumi rimanenti]])","v":0},"HP",null,null,null,0]
["020318",2,{"$f":"+MIN(Contributo_cer[[#This Row],[Totale Immissione in rete]:[Totale Consumi rimanenti]])","v":0},"HP",null,null,null,0]
["020319",2,{"$f":"+MIN(Contributo_cer[[#This Row],[Totale Immissione in rete]:[Totale Consumi rimanenti]])","v":0},"HP",null,null,null,0]
["020320",2,{"$f":"+MIN(Contributo_cer[[#This Row],[Totale Immissione in rete]:[Totale Consumi rimanenti]])","v":0},"HP",null,null,null,0]
["020321",2,{"$f":"+MIN(Contributo_cer[[#This Row],[Totale Immissione in rete]:[Totale Consumi rimanenti]])","v":0},"HP",null,null,null,0]
["020322",2,{"$f":"+MIN(Contributo_cer[[#This Row],[Totale Immissione in rete]:[Totale Consumi rimanenti]])","v":0},"HC",null,null,null,0]
["020323",2,{"$f":"+MIN(Contributo_cer[[#This Row],[Totale Immissione in rete]:[Totale Consumi rimanenti]])","v":0},"HC",null,null,null,0]
["020400",2,{"$f":"+MIN(Contributo_cer[[#This Row],[Totale Immissione in rete]:[Totale Consumi rimanenti]])","v":0},"HC",null,null,null,0]
["020401",2,{"$f":"+MIN(Contributo_cer[[#This Row],[Totale Immissione in rete]:[Totale Consumi rimanenti]])","v":0},"HC",null,null,null,0]
["020402",2,{"$f":"+MIN(Contributo_cer[[#This Row],[Totale Immissione in rete]:[Totale Consumi rimanenti]])","v":0},"HC",null,null,null,0]
["020403",2,{"$f":"+MIN(Contributo_cer[[#This Row],[Totale Immissione in rete]:[Totale Consumi rimanenti]])","v":0},"HC",null,null,null,0]
["020404",2,{"$f":"+MIN(Contributo_cer[[#This Row],[Totale Immissione in rete]:[Totale Consumi rimanenti]])","v":0},"HC",null,null,null,0]
["020405",2,{"$f":"+MIN(Contributo_cer[[#This Row],[Totale Immissione in rete]:[Totale Consumi rimanenti]])","v":0},"HC",null,null,null,0]
["020406",2,{"$f":"+MIN(Contributo_cer[[#This Row],[Totale Immissione in rete]:[Totale Consumi rimanenti]])","v":0},"HP",null,null,null,0]
["020407",2,{"$f":"+MIN(Contributo_cer[[#This Row],[Totale Immissione in rete]:[Totale Consumi rimanenti]])","v":0},"HP",null,null,null,0]
["020408",2,{"$f":"+MIN(Contributo_cer[[#This Row],[Totale Immissione in rete]:[Totale Consumi rimanenti]])","v":0},"HP",null,null,null,0]
["020409",2,{"$f":"+MIN(Contributo_cer[[#This Row],[Totale Immissione in rete]:[Totale Consumi rimanenti]])","v":0},"HP",null,null,null,0]
["020410",2,{"$f":"+MIN(Contributo_cer[[#This Row],[Totale Immissione in rete]:[Totale Consumi rimanenti]])","v":0},"HP",null,null,null,0]
["020411",2,{"$f":"+MIN(Contributo_cer[[#This Row],[Totale Immissione in rete]:[Totale Consumi rimanenti]])","v":0},"HP",null,null,null,0]
["020412",2,{"$f":"+MIN(Contributo_cer[[#This Row],[Totale Immissione in rete]:[Totale Consumi rimanenti]])","v":0},"HP",null,null,null,0]
["020413",2,{"$f":"+MIN(Contributo_cer[[#This Row],[Totale Immissione in rete]:[Totale Consumi rimanenti]])","v":0},"HP",null,null,null,0]
["020414",2,{"$f":"+MIN(Contributo_cer[[#This Row],[Totale Immissione in rete]:[Totale Consumi rimanenti]])","v":0},"HP",null,null,null,0]
["020415",2,{"$f":"+MIN(Contributo_cer[[#This Row],[Totale Immissione in rete]:[Totale Consumi rimanenti]])","v":0},"HP",null,null,null,0]
["020416",2,{"$f":"+MIN(Contributo_cer[[#This Row],[Totale Immissione in rete]:[Totale Consumi rimanenti]])","v":0},"HP",null,null,null,0]
["020417",2,{"$f":"+MIN(Contributo_cer[[#This Row],[Totale Immissione in rete]:[Totale Consumi rimanenti]])","v":0},"HP",null,null,null,0]
["020418",2,{"$f":"+MIN(Contributo_cer[[#This Row],[Totale Immissione in rete]:[Totale Consumi rimanenti]])","v":0},"HP",null,null,null,0]
["020419",2,{"$f":"+MIN(Contributo_cer[[#This Row],[Totale Immissione in rete]:[Totale Consumi rimanenti]])","v":0},"HP",null,null,null,0]
["020420",2,{"$f":"+MIN(Contributo_cer[[#This Row],[Totale Immissione in rete]:[Totale Consumi rimanenti]])","v":0},"HP",null,null,null,0]
["020421",2,{"$f":"+MIN(Contributo_cer[[#This Row],[Totale Immissione in rete]:[Totale Consumi rimanenti]])","v":0},"HP",null,null,null,0]
["020422",2,{"$f":"+MIN(Contributo_cer[[#This Row],[Totale Immissione in rete]:[Totale Consumi rimanenti]])","v":0},"HC",null,null,null,0]
["020423",2,{"$f":"+MIN(Contributo_cer[[#This Row],[Totale Immissione in rete]:[Totale Consumi rimanenti]])","v":0},"HC",null,null,null,0]
["020500",2,{"$f":"+MIN(Contributo_cer[[#This Row],[Totale Immissione in rete]:[Totale Consumi rimanenti]])","v":0},"HC",null,null,null,0]
["020501",2,{"$f":"+MIN(Contributo_cer[[#This Row],[Totale Immissione in rete]:[Totale Consumi rimanenti]])","v":0},"HC",null,null,null,0]
["020502",2,{"$f":"+MIN(Contributo_cer[[#This Row],[Totale Immissione in rete]:[Totale Consumi rimanenti]])","v":0},"HC",null,null,null,0]
["020503",2,{"$f":"+MIN(Contributo_cer[[#This Row],[Totale Immissione in rete]:[Totale Consumi rimanenti]])","v":0},"HC",null,null,null,0]
["020504",2,{"$f":"+MIN(Contributo_cer[[#This Row],[Totale Immissione in rete]:[Totale Consumi rimanenti]])","v":0},"HC",null,null,null,0]
["020505",2,{"$f":"+MIN(Contributo_cer[[#This Row],[Totale Immissione in rete]:[Totale Consumi rimanenti]])","v":0},"HC",null,null,null,0]
["020506",2,{"$f":"+MIN(Contributo_cer[[#This Row],[Totale Immissione in rete]:[Totale Consumi rimanenti]])","v":0},"HP",null,null,null,0]
["020507",2,{"$f":"+MIN(Contributo_cer[[#This Row],[Totale Immissione in rete]:[Totale Consumi rimanenti]])","v":0},"HP",null,null,null,0]
["020508",2,{"$f":"+MIN(Contributo_cer[[#This Row],[Totale Immissione in rete]:[Totale Consumi rimanenti]])","v":0},"HP",null,null,null,0]
["020509",2,{"$f":"+MIN(Contributo_cer[[#This Row],[Totale Immissione in rete]:[Totale Consumi rimanenti]])","v":0},"HP",null,null,null,0]
["020510",2,{"$f":"+MIN(Contributo_cer[[#This Row],[Totale Immissione in rete]:[Totale Consumi rimanenti]])","v":0},"HP",null,null,null,0]
["020511",2,{"$f":"+MIN(Contributo_cer[[#This Row],[Totale Immissione in rete]:[Totale Consumi rimanenti]])","v":0},"HP",null,null,null,0]
["020512",2,{"$f":"+MIN(Contributo_cer[[#This Row],[Totale Immissione in rete]:[Totale Consumi rimanenti]])","v":0},"HP",null,null,null,0]
["020513",2,{"$f":"+MIN(Contributo_cer[[#This Row],[Totale Immissione in rete]:[Totale Consumi rimanenti]])","v":0},"HP",null,null,null,0]
["020514",2,{"$f":"+MIN(Contributo_cer[[#This Row],[Totale Immissione in rete]:[Totale Consumi rimanenti]])","v":0},"HP",null,null,null,0]
["020515",2,{"$f":"+MIN(Contributo_cer[[#This Row],[Totale Immissione in rete]:[Totale Consumi rimanenti]])","v":0},"HP",null,null,null,0]
["020516",2,{"$f":"+MIN(Contributo_cer[[#This Row],[Totale Immissione in rete]:[Totale Consumi rimanenti]])","v":0},"HP",null,null,null,0]
["020517",2,{"$f":"+MIN(Contributo_cer[[#This Row],[Totale Immissione in rete]:[Totale Consumi rimanenti]])","v":0},"HP",null,null,null,0]
["020518",2,{"$f":"+MIN(Contributo_cer[[#This Row],[Totale Immissione in rete]:[Totale Consumi rimanenti]])","v":0},"HP",null,null,null,0]
["020519",2,{"$f":"+MIN(Contributo_cer[[#This Row],[Totale Immissione in rete]:[Totale Consumi rimanenti]])","v":0},"HP",null,null,null,0]
["020520",2,{"$f":"+MIN(Contributo_cer[[#This Row],[Totale Immissione in rete]:[Totale Consumi rimanenti]])","v":0},"HP",null,null,null,0]
["020521",2,{"$f":"+MIN(Contributo_cer[[#This Row],[Totale Immissione in rete]:[Totale Consumi rimanenti]])","v":0},"HP",null,null,null,0]
["020522",2,{"$f":"+MIN(Contributo_cer[[#This Row],[Totale Immissione in rete]:[Totale Consumi rimanenti]])","v":0},"HC",null,null,null,0]
["020523",2,{"$f":"+MIN(Contributo_cer[[#This Row],[Totale Immissione in rete]:[Totale Consumi rimanenti]])","v":0},"HC",null,null,null,0]
["020600",2,{"$f":"+MIN(Contributo_cer[[#This Row],[Totale Immissione in rete]:[Totale Consumi rimanenti]])","v":0},"HC",null,null,null,0]
["020601",2,{"$f":"+MIN(Contributo_cer[[#This Row],[Totale Immissione in rete]:[Totale Consumi rimanenti]])","v":0},"HC",null,null,null,0]
["020602",2,{"$f":"+MIN(Contributo_cer[[#This Row],[Totale Immissione in rete]:[Totale Consumi rimanenti]])","v":0},"HC",null,null,null,0]
["020603",2,{"$f":"+MIN(Contributo_cer[[#This Row],[Totale Immissione in rete]:[Totale Consumi rimanenti]])","v":0},"HC",null,null,null,0]
["020604",2,{"$f":"+MIN(Contributo_cer[[#This Row],[Totale Immissione in rete]:[Totale Consumi rimanenti]])","v":0},"HC",null,null,null,0]
["020605",2,{"$f":"+MIN(Contributo_cer[[#This Row],[Totale Immissione in rete]:[Totale Consumi rimanenti]])","v":0},"HC",null,null,null,0]
["020606",2,{"$f":"+MIN(Contributo_cer[[#This Row],[Totale Immissione in rete]:[Totale Consumi rimanenti]])","v":0},"HP",null,null,null,0]
["020607",2,{"$f":"+MIN(Contributo_cer[[#This Row],[Totale Immissione in rete]:[Totale Consumi rimanenti]])","v":0},"HP",null,null,null,0]
["020608",2,{"$f":"+MIN(Contributo_cer[[#This Row],[Totale Immissione in rete]:[Totale Consumi rimanenti]])","v":0},"HP",null,null,null,0]
["020609",2,{"$f":"+MIN(Contributo_cer[[#This Row],[Totale Immissione in rete]:[Totale Consumi rimanenti]])","v":0},"HP",null,null,null,0]
["020610",2,{"$f":"+MIN(Contributo_cer[[#This Row],[Totale Immissione in rete]:[Totale Consumi rimanenti]])","v":0},"HP",null,null,null,0]
["020611",2,{"$f":"+MIN(Contributo_cer[[#This Row],[Totale Immissione in rete]:[Totale Consumi rimanenti]])","v":0},"HP",null,null,null,0]
["020612",2,{"$f":"+MIN(Contributo_cer[[#This Row],[Totale Immissione in rete]:[Totale Consumi rimanenti]])","v":0},"HP",null,null,null,0]
["020613",2,{"$f":"+MIN(Contributo_cer[[#This Row],[Totale Immissione in rete]:[Totale Consumi rimanenti]])","v":0},"HP",null,null,null,0]
["020614",2,{"$f":"+MIN(Contributo_cer[[#This Row],[Totale Immissione in rete]:[Totale Consumi rimanenti]])","v":0},"HP",null,null,null,0]
["020615",2,{"$f":"+MIN(Contributo_cer[[#This Row],[Totale Immissione in rete]:[Totale Consumi rimanenti]])","v":0},"HP",null,null,null,0]
["020616",2,{"$f":"+MIN(Contributo_cer[[#This Row],[Totale Immissione in rete]:[Totale Consumi rimanenti]])","v":0},"HP",null,null,null,0]
["020617",2,{"$f":"+MIN(Contributo_cer[[#This Row],[Totale Immissione in rete]:[Totale Consumi rimanenti]])","v":0},"HP",null,null,null,0]
["020618",2,{"$f":"+MIN(Contributo_cer[[#This Row],[Totale Immissione in rete]:[Totale Consumi rimanenti]])","v":0},"HP",null,null,null,0]
["020619",2,{"$f":"+MIN(Contributo_cer[[#This Row],[Totale Immissione in rete]:[Totale Consumi rimanenti]])","v":0},"HP",null,null,null,0]
["020620",2,{"$f":"+MIN(Contributo_cer[[#This Row],[Totale Immissione in rete]:[Totale Consumi rimanenti]])","v":0},"HP",null,null,null,0]
["020621",2,{"$f":"+MIN(Contributo_cer[[#This Row],[Totale Immissione in rete]:[Totale Consumi rimanenti]])","v":0},"HP",null,null,null,0]
["020622",2,{"$f":"+MIN(Contributo_cer[[#This Row],[Totale Immissione in rete]:[Totale Consumi rimanenti]])","v":0},"HC",null,null,null,0]
["020623",2,{"$f":"+MIN(Contributo_cer[[#This Row],[Totale Immissione in rete]:[Totale Consumi rimanenti]])","v":0},"HC",null,null,null,0]
["020700",2,{"$f":"+MIN(Contributo_cer[[#This Row],[Totale Immissione in rete]:[Totale Consumi rimanenti]])","v":0},"HC",null,null,null,0]
["020701",2,{"$f":"+MIN(Contributo_cer[[#This Row],[Totale Immissione in rete]:[Totale Consumi rimanenti]])","v":0},"HC",null,null,null,0]
["020702",2,{"$f":"+MIN(Contributo_cer[[#This Row],[Totale Immissione in rete]:[Totale Consumi rimanenti]])","v":0},"HC",null,null,null,0]
["020703",2,{"$f":"+MIN(Contributo_cer[[#This Row],[Totale Immissione in rete]:[Totale Consumi rimanenti]])","v":0},"HC",null,null,null,0]
["020704",2,{"$f":"+MIN(Contributo_cer[[#This Row],[Totale Immissione in rete]:[Totale Consumi rimanenti]])","v":0},"HC",null,null,null,0]
["020705",2,{"$f":"+MIN(Contributo_cer[[#This Row],[Totale Immissione in rete]:[Totale Consumi rimanenti]])","v":0},"HC",null,null,null,0]
["020706",2,{"$f":"+MIN(Contributo_cer[[#This Row],[Totale Immissione in rete]:[Totale Consumi rimanenti]])","v":0},"HP",null,null,null,0]
["020707",2,{"$f":"+MIN(Contributo_cer[[#This Row],[Totale Immissione in rete]:[Totale Consumi rimanenti]])","v":0},"HP",null,null,null,0]
["020708",2,{"$f":"+MIN(Contributo_cer[[#This Row],[Totale Immissione in rete]:[Totale Consumi rimanenti]])","v":0},"HP",null,null,null,0]
["020709",2,{"$f":"+MIN(Contributo_cer[[#This Row],[Totale Immissione in rete]:[Totale Consumi rimanenti]])","v":0},"HP",null,null,null,0]
["020710",2,{"$f":"+MIN(Contributo_cer[[#This Row],[Totale Immissione in rete]:[Totale Consumi rimanenti]])","v":0},"HP",null,null,null,0]
["020711",2,{"$f":"+MIN(Contributo_cer[[#This Row],[Totale Immissione in rete]:[Totale Consumi rimanenti]])","v":0},"HP",null,null,null,0]
["020712",2,{"$f":"+MIN(Contributo_cer[[#This Row],[Totale Immissione in rete]:[Totale Consumi rimanenti]])","v":0},"HP",null,null,null,0]
["020713",2,{"$f":"+MIN(Contributo_cer[[#This Row],[Totale Immissione in rete]:[Totale Consumi rimanenti]])","v":0},"HP",null,null,null,0]
["020714",2,{"$f":"+MIN(Contributo_cer[[#This Row],[Totale Immissione in rete]:[Totale Consumi rimanenti]])","v":0},"HP",null,null,null,0]
["020715",2,{"$f":"+MIN(Contributo_cer[[#This Row],[Totale Immissione in rete]:[Totale Consumi rimanenti]])","v":0},"HP",null,null,null,0]
["020716",2,{"$f":"+MIN(Contributo_cer[[#This Row],[Totale Immissione in rete]:[Totale Consumi rimanenti]])","v":0},"HP",null,null,null,0]
["020717",2,{"$f":"+MIN(Contributo_cer[[#This Row],[Totale Immissione in rete]:[Totale Consumi rimanenti]])","v":0},"HP",null,null,null,0]
["020718",2,{"$f":"+MIN(Contributo_cer[[#This Row],[Totale Immissione in rete]:[Totale Consumi rimanenti]])","v":0},"HP",null,null,null,0]
["020719",2,{"$f":"+MIN(Contributo_cer[[#This Row],[Totale Immissione in rete]:[Totale Consumi rimanenti]])","v":0},"HP",null,null,null,0]
["020720",2,{"$f":"+MIN(Contributo_cer[[#This Row],[Totale Immissione in rete]:[Totale Consumi rimanenti]])","v":0},"HP",null,null,null,0]
["020721",2,{"$f":"+MIN(Contributo_cer[[#This Row],[Totale Immissione in rete]:[Totale Consumi rimanenti]])","v":0},"HP",null,null,null,0]
["020722",2,{"$f":"+MIN(Contributo_cer[[#This Row],[Totale Immissione in rete]:[Totale Consumi rimanenti]])","v":0},"HC",null,null,null,0]
["020723",2,{"$f":"+MIN(Contributo_cer[[#This Row],[Totale Immissione in rete]:[Totale Consumi rimanenti]])","v":0},"HC",null,null,null,0]
["020800",2,{"$f":"+MIN(Contributo_cer[[#This Row],[Totale Immissione in rete]:[Totale Consumi rimanenti]])","v":0},"HC",null,null,null,0]
["020801",2,{"$f":"+MIN(Contributo_cer[[#This Row],[Totale Immissione in rete]:[Totale Consumi rimanenti]])","v":0},"HC",null,null,null,0]
["020802",2,{"$f":"+MIN(Contributo_cer[[#This Row],[Totale Immissione in rete]:[Totale Consumi rimanenti]])","v":0},"HC",null,null,null,0]
["020803",2,{"$f":"+MIN(Contributo_cer[[#This Row],[Totale Immissione in rete]:[Totale Consumi rimanenti]])","v":0},"HC",null,null,null,0]
["020804",2,{"$f":"+MIN(Contributo_cer[[#This Row],[Totale Immissione in rete]:[Totale Consumi rimanenti]])","v":0},"HC",null,null,null,0]
["020805",2,{"$f":"+MIN(Contributo_cer[[#This Row],[Totale Immissione in rete]:[Totale Consumi rimanenti]])","v":0},"HC",null,null,null,0]
["020806",2,{"$f":"+MIN(Contributo_cer[[#This Row],[Totale Immissione in rete]:[Totale Consumi rimanenti]])","v":0},"HP",null,null,null,0]
["020807",2,{"$f":"+MIN(Contributo_cer[[#This Row],[Totale Immissione in rete]:[Totale Consumi rimanenti]])","v":0},"HP",null,null,null,0]
["020808",2,{"$f":"+MIN(Contributo_cer[[#This Row],[Totale Immissione in rete]:[Totale Consumi rimanenti]])","v":0},"HP",null,null,null,0]
["020809",2,{"$f":"+MIN(Contributo_cer[[#This Row],[Totale Immissione in rete]:[Totale Consumi rimanenti]])","v":0},"HP",null,null,null,0]
["020810",2,{"$f":"+MIN(Contributo_cer[[#This Row],[Totale Immissione in rete]:[Totale Consumi rimanenti]])","v":0},"HP",null,null,null,0]
["020811",2,{"$f":"+MIN(Contributo_cer[[#This Row],[Totale Immissione in rete]:[Totale Consumi rimanenti]])","v":0},"HP",null,null,null,0]
["020812",2,{"$f":"+MIN(Contributo_cer[[#This Row],[Totale Immissione in rete]:[Totale Consumi rimanenti]])","v":0},"HP",null,null,null,0]
["020813",2,{"$f":"+MIN(Contributo_cer[[#This Row],[Totale Immissione in rete]:[Totale Consumi rimanenti]])","v":0},"HP",null,null,null,0]
["020814",2,{"$f":"+MIN(Contributo_cer[[#This Row],[Totale Immissione in rete]:[Totale Consumi rimanenti]])","v":0},"HP",null,null,null,0]
["020815",2,{"$f":"+MIN(Contributo_cer[[#This Row],[Totale Immissione in rete]:[Totale Consumi rimanenti]])","v":0},"HP",null,null,null,0]
["020816",2,{"$f":"+MIN(Contributo_cer[[#This Row],[Totale Immissione in rete]:[Totale Consumi rimanenti]])","v":0},"HP",null,null,null,0]
["020817",2,{"$f":"+MIN(Contributo_cer[[#This Row],[Totale Immissione in rete]:[Totale Consumi rimanenti]])","v":0},"HP",null,null,null,0]
["020818",2,{"$f":"+MIN(Contributo_cer[[#This Row],[Totale Immissione in rete]:[Totale Consumi rimanenti]])","v":0},"HP",null,null,null,0]
["020819",2,{"$f":"+MIN(Contributo_cer[[#This Row],[Totale Immissione in rete]:[Totale Consumi rimanenti]])","v":0},"HP",null,null,null,0]
["020820",2,{"$f":"+MIN(Contributo_cer[[#This Row],[Totale Immissione in rete]:[Totale Consumi rimanenti]])","v":0},"HP",null,null,null,0]
["020821",2,{"$f":"+MIN(Contributo_cer[[#This Row],[Totale Immissione in rete]:[Totale Consumi rimanenti]])","v":0},"HP",null,null,null,0]
["020822",2,{"$f":"+MIN(Contributo_cer[[#This Row],[Totale Immissione in rete]:[Totale Consumi rimanenti]])","v":0},"HC",null,null,null,0]
["020823",2,{"$f":"+MIN(Contributo_cer[[#This Row],[Totale Immissione in rete]:[Totale Consumi rimanenti]])","v":0},"HC",null,null,null,0]
["020900",2,{"$f":"+MIN(Contributo_cer[[#This Row],[Totale Immissione in rete]:[Totale Consumi rimanenti]])","v":0},"HC",null,null,null,0]
["020901",2,{"$f":"+MIN(Contributo_cer[[#This Row],[Totale Immissione in rete]:[Totale Consumi rimanenti]])","v":0},"HC",null,null,null,0]
["020902",2,{"$f":"+MIN(Contributo_cer[[#This Row],[Totale Immissione in rete]:[Totale Consumi rimanenti]])","v":0},"HC",null,null,null,0]
["020903",2,{"$f":"+MIN(Contributo_cer[[#This Row],[Totale Immissione in rete]:[Totale Consumi rimanenti]])","v":0},"HC",null,null,null,0]
["020904",2,{"$f":"+MIN(Contributo_cer[[#This Row],[Totale Immissione in rete]:[Totale Consumi rimanenti]])","v":0},"HC",null,null,null,0]
["020905",2,{"$f":"+MIN(Contributo_cer[[#This Row],[Totale Immissione in rete]:[Totale Consumi rimanenti]])","v":0},"HC",null,null,null,0]
["020906",2,{"$f":"+MIN(Contributo_cer[[#This Row],[Totale Immissione in rete]:[Totale Consumi rimanenti]])","v":0},"HP",null,null,null,0]
["020907",2,{"$f":"+MIN(Contributo_cer[[#This Row],[Totale Immissione in rete]:[Totale Consumi rimanenti]])","v":0},"HP",null,null,null,0]
["020908",2,{"$f":"+MIN(Contributo_cer[[#This Row],[Totale Immissione in rete]:[Totale Consumi rimanenti]])","v":0},"HP",null,null,null,0]
["020909",2,{"$f":"+MIN(Contributo_cer[[#This Row],[Totale Immissione in rete]:[Totale Consumi rimanenti]])","v":0},"HP",null,null,null,0]
["020910",2,{"$f":"+MIN(Contributo_cer[[#This Row],[Totale Immissione in rete]:[Totale Consumi rimanenti]])","v":0},"HP",null,null,null,0]
["020911",2,{"$f":"+MIN(Contributo_cer[[#This Row],[Totale Immissione in rete]:[Totale Consumi rimanenti]])","v":0},"HP",null,null,null,0]
["020912",2,{"$f":"+MIN(Contributo_cer[[#This Row],[Totale Immissione in rete]:[Totale Consumi rimanenti]])","v":0},"HP",null,null,null,0]
["020913",2,{"$f":"+MIN(Contributo_cer[[#This Row],[Totale Immissione in rete]:[Totale Consumi rimanenti]])","v":0},"HP",null,null,null,0]
["020914",2,{"$f":"+MIN(Contributo_cer[[#This Row],[Totale Immissione in rete]:[Totale Consumi rimanenti]])","v":0},"HP",null,null,null,0]
["020915",2,{"$f":"+MIN(Contributo_cer[[#This Row],[Totale Immissione in rete]:[Totale Consumi rimanenti]])","v":0},"HP",null,null,null,0]
["020916",2,{"$f":"+MIN(Contributo_cer[[#This Row],[Totale Immissione in rete]:[Totale Consumi rimanenti]])","v":0},"HP",null,null,null,0]
["020917",2,{"$f":"+MIN(Contributo_cer[[#This Row],[Totale Immissione in rete]:[Totale Consumi rimanenti]])","v":0},"HP",null,null,null,0]
["020918",2,{"$f":"+MIN(Contributo_cer[[#This Row],[Totale Immissione in rete]:[Totale Consumi rimanenti]])","v":0},"HP",null,null,null,0]
["020919",2,{"$f":"+MIN(Contributo_cer[[#This Row],[Totale Immissione in rete]:[Totale Consumi rimanenti]])","v":0},"HP",null,null,null,0]
["020920",2,{"$f":"+MIN(Contributo_cer[[#This Row],[Totale Immissione in rete]:[Totale Consumi rimanenti]])","v":0},"HP",null,null,null,0]
["020921",2,{"$f":"+MIN(Contributo_cer[[#This Row],[Totale Immissione in rete]:[Totale Consumi rimanenti]])","v":0},"HP",null,null,null,0]
["020922",2,{"$f":"+MIN(Contributo_cer[[#This Row],[Totale Immissione in rete]:[Totale Consumi rimanenti]])","v":0},"HC",null,null,null,0]
["020923",2,{"$f":"+MIN(Contributo_cer[[#This Row],[Totale Immissione in rete]:[Totale Consumi rimanenti]])","v":0},"HC",null,null,null,0]
["021000",2,{"$f":"+MIN(Contributo_cer[[#This Row],[Totale Immissione in rete]:[Totale Consumi rimanenti]])","v":0},"HC",null,null,null,0]
["021001",2,{"$f":"+MIN(Contributo_cer[[#This Row],[Totale Immissione in rete]:[Totale Consumi rimanenti]])","v":0},"HC",null,null,null,0]
["021002",2,{"$f":"+MIN(Contributo_cer[[#This Row],[Totale Immissione in rete]:[Totale Consumi rimanenti]])","v":0},"HC",null,null,null,0]
["021003",2,{"$f":"+MIN(Contributo_cer[[#This Row],[Totale Immissione in rete]:[Totale Consumi rimanenti]])","v":0},"HC",null,null,null,0]
["021004",2,{"$f":"+MIN(Contributo_cer[[#This Row],[Totale Immissione in rete]:[Totale Consumi rimanenti]])","v":0},"HC",null,null,null,0]
["021005",2,{"$f":"+MIN(Contributo_cer[[#This Row],[Totale Immissione in rete]:[Totale Consumi rimanenti]])","v":0},"HC",null,null,null,0]
["021006",2,{"$f":"+MIN(Contributo_cer[[#This Row],[Totale Immissione in rete]:[Totale Consumi rimanenti]])","v":0},"HP",null,null,null,0]
["021007",2,{"$f":"+MIN(Contributo_cer[[#This Row],[Totale Immissione in rete]:[Totale Consumi rimanenti]])","v":0},"HP",null,null,null,0]
["021008",2,{"$f":"+MIN(Contributo_cer[[#This Row],[Totale Immissione in rete]:[Totale Consumi rimanenti]])","v":0},"HP",null,null,null,0]
["021009",2,{"$f":"+MIN(Contributo_cer[[#This Row],[Totale Immissione in rete]:[Totale Consumi rimanenti]])","v":0},"HP",null,null,null,0]
["021010",2,{"$f":"+MIN(Contributo_cer[[#This Row],[Totale Immissione in rete]:[Totale Consumi rimanenti]])","v":0},"HP",null,null,null,0]
["021011",2,{"$f":"+MIN(Contributo_cer[[#This Row],[Totale Immissione in rete]:[Totale Consumi rimanenti]])","v":0},"HP",null,null,null,0]
["021012",2,{"$f":"+MIN(Contributo_cer[[#This Row],[Totale Immissione in rete]:[Totale Consumi rimanenti]])","v":0},"HP",null,null,null,0]
["021013",2,{"$f":"+MIN(Contributo_cer[[#This Row],[Totale Immissione in rete]:[Totale Consumi rimanenti]])","v":0},"HP",null,null,null,0]
["021014",2,{"$f":"+MIN(Contributo_cer[[#This Row],[Totale Immissione in rete]:[Totale Consumi rimanenti]])","v":0},"HP",null,null,null,0]
["021015",2,{"$f":"+MIN(Contributo_cer[[#This Row],[Totale Immissione in rete]:[Totale Consumi rimanenti]])","v":0},"HP",null,null,null,0]
["021016",2,{"$f":"+MIN(Contributo_cer[[#This Row],[Totale Immissione in rete]:[Totale Consumi rimanenti]])","v":0},"HP",null,null,null,0]
["021017",2,{"$f":"+MIN(Contributo_cer[[#This Row],[Totale Immissione in rete]:[Totale Consumi rimanenti]])","v":0},"HP",null,null,null,0]
["021018",2,{"$f":"+MIN(Contributo_cer[[#This Row],[Totale Immissione in rete]:[Totale Consumi rimanenti]])","v":0},"HP",null,null,null,0]
["021019",2,{"$f":"+MIN(Contributo_cer[[#This Row],[Totale Immissione in rete]:[Totale Consumi rimanenti]])","v":0},"HP",null,null,null,0]
["021020",2,{"$f":"+MIN(Contributo_cer[[#This Row],[Totale Immissione in rete]:[Totale Consumi rimanenti]])","v":0},"HP",null,null,null,0]
["021021",2,{"$f":"+MIN(Contributo_cer[[#This Row],[Totale Immissione in rete]:[Totale Consumi rimanenti]])","v":0},"HP",null,null,null,0]
["021022",2,{"$f":"+MIN(Contributo_cer[[#This Row],[Totale Immissione in rete]:[Totale Consumi rimanenti]])","v":0},"HC",null,null,null,0]
["021023",2,{"$f":"+MIN(Contributo_cer[[#This Row],[Totale Immissione in rete]:[Totale Consumi rimanenti]])","v":0},"HC",null,null,null,0]
["021100",2,{"$f":"+MIN(Contributo_cer[[#This Row],[Totale Immissione in rete]:[Totale Consumi rimanenti]])","v":0},"HC",null,null,null,0]
["021101",2,{"$f":"+MIN(Contributo_cer[[#This Row],[Totale Immissione in rete]:[Totale Consumi rimanenti]])","v":0},"HC",null,null,null,0]
["021102",2,{"$f":"+MIN(Contributo_cer[[#This Row],[Totale Immissione in rete]:[Totale Consumi rimanenti]])","v":0},"HC",null,null,null,0]
["021103",2,{"$f":"+MIN(Contributo_cer[[#This Row],[Totale Immissione in rete]:[Totale Consumi rimanenti]])","v":0},"HC",null,null,null,0]
["021104",2,{"$f":"+MIN(Contributo_cer[[#This Row],[Totale Immissione in rete]:[Totale Consumi rimanenti]])","v":0},"HC",null,null,null,0]
["021105",2,{"$f":"+MIN(Contributo_cer[[#This Row],[Totale Immissione in rete]:[Totale Consumi rimanenti]])","v":0},"HC",null,null,null,0]
["021106",2,{"$f":"+MIN(Contributo_cer[[#This Row],[Totale Immissione in rete]:[Totale Consumi rimanenti]])","v":0},"HP",null,null,null,0]
["021107",2,{"$f":"+MIN(Contributo_cer[[#This Row],[Totale Immissione in rete]:[Totale Consumi rimanenti]])","v":0},"HP",null,null,null,0]
["021108",2,{"$f":"+MIN(Contributo_cer[[#This Row],[Totale Immissione in rete]:[Totale Consumi rimanenti]])","v":0},"HP",null,null,null,0]
["021109",2,{"$f":"+MIN(Contributo_cer[[#This Row],[Totale Immissione in rete]:[Totale Consumi rimanenti]])","v":0},"HP",null,null,null,0]
["021110",2,{"$f":"+MIN(Contributo_cer[[#This Row],[Totale Immissione in rete]:[Totale Consumi rimanenti]])","v":0},"HP",null,null,null,0]
["021111",2,{"$f":"+MIN(Contributo_cer[[#This Row],[Totale Immissione in rete]:[Totale Consumi rimanenti]])","v":0},"HP",null,null,null,0]
["021112",2,{"$f":"+MIN(Contributo_cer[[#This Row],[Totale Immissione in rete]:[Totale Consumi rimanenti]])","v":0},"HP",null,null,null,0]
["021113",2,{"$f":"+MIN(Contributo_cer[[#This Row],[Totale Immissione in rete]:[Totale Consumi rimanenti]])","v":0},"HP",null,null,null,0]
["021114",2,{"$f":"+MIN(Contributo_cer[[#This Row],[Totale Immissione in rete]:[Totale Consumi rimanenti]])","v":0},"HP",null,null,null,0]
["021115",2,{"$f":"+MIN(Contributo_cer[[#This Row],[Totale Immissione in rete]:[Totale Consumi rimanenti]])","v":0},"HP",null,null,null,0]
["021116",2,{"$f":"+MIN(Contributo_cer[[#This Row],[Totale Immissione in rete]:[Totale Consumi rimanenti]])","v":0},"HP",null,null,null,0]
["021117",2,{"$f":"+MIN(Contributo_cer[[#This Row],[Totale Immissione in rete]:[Totale Consumi rimanenti]])","v":0},"HP",null,null,null,0]
["021118",2,{"$f":"+MIN(Contributo_cer[[#This Row],[Totale Immissione in rete]:[Totale Consumi rimanenti]])","v":0},"HP",null,null,null,0]
["021119",2,{"$f":"+MIN(Contributo_cer[[#This Row],[Totale Immissione in rete]:[Totale Consumi rimanenti]])","v":0},"HP",null,null,null,0]
["021120",2,{"$f":"+MIN(Contributo_cer[[#This Row],[Totale Immissione in rete]:[Totale Consumi rimanenti]])","v":0},"HP",null,null,null,0]
["021121",2,{"$f":"+MIN(Contributo_cer[[#This Row],[Totale Immissione in rete]:[Totale Consumi rimanenti]])","v":0},"HP",null,null,null,0]
["021122",2,{"$f":"+MIN(Contributo_cer[[#This Row],[Totale Immissione in rete]:[Totale Consumi rimanenti]])","v":0},"HC",null,null,null,0]
["021123",2,{"$f":"+MIN(Contributo_cer[[#This Row],[Totale Immissione in rete]:[Totale Consumi rimanenti]])","v":0},"HC",null,null,null,0]
["021200",2,{"$f":"+MIN(Contributo_cer[[#This Row],[Totale Immissione in rete]:[Totale Consumi rimanenti]])","v":0},"HC",null,null,null,0]
["021201",2,{"$f":"+MIN(Contributo_cer[[#This Row],[Totale Immissione in rete]:[Totale Consumi rimanenti]])","v":0},"HC",null,null,null,0]
["021202",2,{"$f":"+MIN(Contributo_cer[[#This Row],[Totale Immissione in rete]:[Totale Consumi rimanenti]])","v":0},"HC",null,null,null,0]
["021203",2,{"$f":"+MIN(Contributo_cer[[#This Row],[Totale Immissione in rete]:[Totale Consumi rimanenti]])","v":0},"HC",null,null,null,0]
["021204",2,{"$f":"+MIN(Contributo_cer[[#This Row],[Totale Immissione in rete]:[Totale Consumi rimanenti]])","v":0},"HC",null,null,null,0]
["021205",2,{"$f":"+MIN(Contributo_cer[[#This Row],[Totale Immissione in rete]:[Totale Consumi rimanenti]])","v":0},"HC",null,null,null,0]
["021206",2,{"$f":"+MIN(Contributo_cer[[#This Row],[Totale Immissione in rete]:[Totale Consumi rimanenti]])","v":0},"HP",null,null,null,0]
["021207",2,{"$f":"+MIN(Contributo_cer[[#This Row],[Totale Immissione in rete]:[Totale Consumi rimanenti]])","v":0},"HP",null,null,null,0]
["021208",2,{"$f":"+MIN(Contributo_cer[[#This Row],[Totale Immissione in rete]:[Totale Consumi rimanenti]])","v":0},"HP",null,null,null,0]
["021209",2,{"$f":"+MIN(Contributo_cer[[#This Row],[Totale Immissione in rete]:[Totale Consumi rimanenti]])","v":0},"HP",null,null,null,0]
["021210",2,{"$f":"+MIN(Contributo_cer[[#This Row],[Totale Immissione in rete]:[Totale Consumi rimanenti]])","v":0},"HP",null,null,null,0]
["021211",2,{"$f":"+MIN(Contributo_cer[[#This Row],[Totale Immissione in rete]:[Totale Consumi rimanenti]])","v":0},"HP",null,null,null,0]
["021212",2,{"$f":"+MIN(Contributo_cer[[#This Row],[Totale Immissione in rete]:[Totale Consumi rimanenti]])","v":0},"HP",null,null,null,0]
["021213",2,{"$f":"+MIN(Contributo_cer[[#This Row],[Totale Immissione in rete]:[Totale Consumi rimanenti]])","v":0},"HP",null,null,null,0]
["021214",2,{"$f":"+MIN(Contributo_cer[[#This Row],[Totale Immissione in rete]:[Totale Consumi rimanenti]])","v":0},"HP",null,null,null,0]
["021215",2,{"$f":"+MIN(Contributo_cer[[#This Row],[Totale Immissione in rete]:[Totale Consumi rimanenti]])","v":0},"HP",null,null,null,0]
["021216",2,{"$f":"+MIN(Contributo_cer[[#This Row],[Totale Immissione in rete]:[Totale Consumi rimanenti]])","v":0},"HP",null,null,null,0]
["021217",2,{"$f":"+MIN(Contributo_cer[[#This Row],[Totale Immissione in rete]:[Totale Consumi rimanenti]])","v":0},"HP",null,null,null,0]
["021218",2,{"$f":"+MIN(Contributo_cer[[#This Row],[Totale Immissione in rete]:[Totale Consumi rimanenti]])","v":0},"HP",null,null,null,0]
["021219",2,{"$f":"+MIN(Contributo_cer[[#This Row],[Totale Immissione in rete]:[Totale Consumi rimanenti]])","v":0},"HP",null,null,null,0]
["021220",2,{"$f":"+MIN(Contributo_cer[[#This Row],[Totale Immissione in rete]:[Totale Consumi rimanenti]])","v":0},"HP",null,null,null,0]
["021221",2,{"$f":"+MIN(Contributo_cer[[#This Row],[Totale Immissione in rete]:[Totale Consumi rimanenti]])","v":0},"HP",null,null,null,0]
["021222",2,{"$f":"+MIN(Contributo_cer[[#This Row],[Totale Immissione in rete]:[Totale Consumi rimanenti]])","v":0},"HC",null,null,null,0]
["021223",2,{"$f":"+MIN(Contributo_cer[[#This Row],[Totale Immissione in rete]:[Totale Consumi rimanenti]])","v":0},"HC",null,null,null,0]
["021300",2,{"$f":"+MIN(Contributo_cer[[#This Row],[Totale Immissione in rete]:[Totale Consumi rimanenti]])","v":0},"HC",null,null,null,0]
["021301",2,{"$f":"+MIN(Contributo_cer[[#This Row],[Totale Immissione in rete]:[Totale Consumi rimanenti]])","v":0},"HC",null,null,null,0]
["021302",2,{"$f":"+MIN(Contributo_cer[[#This Row],[Totale Immissione in rete]:[Totale Consumi rimanenti]])","v":0},"HC",null,null,null,0]
["021303",2,{"$f":"+MIN(Contributo_cer[[#This Row],[Totale Immissione in rete]:[Totale Consumi rimanenti]])","v":0},"HC",null,null,null,0]
["021304",2,{"$f":"+MIN(Contributo_cer[[#This Row],[Totale Immissione in rete]:[Totale Consumi rimanenti]])","v":0},"HC",null,null,null,0]
["021305",2,{"$f":"+MIN(Contributo_cer[[#This Row],[Totale Immissione in rete]:[Totale Consumi rimanenti]])","v":0},"HC",null,null,null,0]
["021306",2,{"$f":"+MIN(Contributo_cer[[#This Row],[Totale Immissione in rete]:[Totale Consumi rimanenti]])","v":0},"HP",null,null,null,0]
["021307",2,{"$f":"+MIN(Contributo_cer[[#This Row],[Totale Immissione in rete]:[Totale Consumi rimanenti]])","v":0},"HP",null,null,null,0]
["021308",2,{"$f":"+MIN(Contributo_cer[[#This Row],[Totale Immissione in rete]:[Totale Consumi rimanenti]])","v":0},"HP",null,null,null,0]
["021309",2,{"$f":"+MIN(Contributo_cer[[#This Row],[Totale Immissione in rete]:[Totale Consumi rimanenti]])","v":0},"HP",null,null,null,0]
["021310",2,{"$f":"+MIN(Contributo_cer[[#This Row],[Totale Immissione in rete]:[Totale Consumi rimanenti]])","v":0},"HP",null,null,null,0]
["021311",2,{"$f":"+MIN(Contributo_cer[[#This Row],[Totale Immissione in rete]:[Totale Consumi rimanenti]])","v":0},"HP",null,null,null,0]
["021312",2,{"$f":"+MIN(Contributo_cer[[#This Row],[Totale Immissione in rete]:[Totale Consumi rimanenti]])","v":0},"HP",null,null,null,0]
["021313",2,{"$f":"+MIN(Contributo_cer[[#This Row],[Totale Immissione in rete]:[Totale Consumi rimanenti]])","v":0},"HP",null,null,null,0]
["021314",2,{"$f":"+MIN(Contributo_cer[[#This Row],[Totale Immissione in rete]:[Totale Consumi rimanenti]])","v":0},"HP",null,null,null,0]
["021315",2,{"$f":"+MIN(Contributo_cer[[#This Row],[Totale Immissione in rete]:[Totale Consumi rimanenti]])","v":0},"HP",null,null,null,0]
["021316",2,{"$f":"+MIN(Contributo_cer[[#This Row],[Totale Immissione in rete]:[Totale Consumi rimanenti]])","v":0},"HP",null,null,null,0]
["021317",2,{"$f":"+MIN(Contributo_cer[[#This Row],[Totale Immissione in rete]:[Totale Consumi rimanenti]])","v":0},"HP",null,null,null,0]
["021318",2,{"$f":"+MIN(Contributo_cer[[#This Row],[Totale Immissione in rete]:[Totale Consumi rimanenti]])","v":0},"HP",null,null,null,0]
["021319",2,{"$f":"+MIN(Contributo_cer[[#This Row],[Totale Immissione in rete]:[Totale Consumi rimanenti]])","v":0},"HP",null,null,null,0]
["021320",2,{"$f":"+MIN(Contributo_cer[[#This Row],[Totale Immissione in rete]:[Totale Consumi rimanenti]])","v":0},"HP",null,null,null,0]
["021321",2,{"$f":"+MIN(Contributo_cer[[#This Row],[Totale Immissione in rete]:[Totale Consumi rimanenti]])","v":0},"HP",null,null,null,0]
["021322",2,{"$f":"+MIN(Contributo_cer[[#This Row],[Totale Immissione in rete]:[Totale Consumi rimanenti]])","v":0},"HC",null,null,null,0]
["021323",2,{"$f":"+MIN(Contributo_cer[[#This Row],[Totale Immissione in rete]:[Totale Consumi rimanenti]])","v":0},"HC",null,null,null,0]
["021400",2,{"$f":"+MIN(Contributo_cer[[#This Row],[Totale Immissione in rete]:[Totale Consumi rimanenti]])","v":0},"HC",null,null,null,0]
["021401",2,{"$f":"+MIN(Contributo_cer[[#This Row],[Totale Immissione in rete]:[Totale Consumi rimanenti]])","v":0},"HC",null,null,null,0]
["021402",2,{"$f":"+MIN(Contributo_cer[[#This Row],[Totale Immissione in rete]:[Totale Consumi rimanenti]])","v":0},"HC",null,null,null,0]
["021403",2,{"$f":"+MIN(Contributo_cer[[#This Row],[Totale Immissione in rete]:[Totale Consumi rimanenti]])","v":0},"HC",null,null,null,0]
["021404",2,{"$f":"+MIN(Contributo_cer[[#This Row],[Totale Immissione in rete]:[Totale Consumi rimanenti]])","v":0},"HC",null,null,null,0]
["021405",2,{"$f":"+MIN(Contributo_cer[[#This Row],[Totale Immissione in rete]:[Totale Consumi rimanenti]])","v":0},"HC",null,null,null,0]
["021406",2,{"$f":"+MIN(Contributo_cer[[#This Row],[Totale Immissione in rete]:[Totale Consumi rimanenti]])","v":0},"HP",null,null,null,0]
["021407",2,{"$f":"+MIN(Contributo_cer[[#This Row],[Totale Immissione in rete]:[Totale Consumi rimanenti]])","v":0},"HP",null,null,null,0]
["021408",2,{"$f":"+MIN(Contributo_cer[[#This Row],[Totale Immissione in rete]:[Totale Consumi rimanenti]])","v":0},"HP",null,null,null,0]
["021409",2,{"$f":"+MIN(Contributo_cer[[#This Row],[Totale Immissione in rete]:[Totale Consumi rimanenti]])","v":0},"HP",null,null,null,0]
["021410",2,{"$f":"+MIN(Contributo_cer[[#This Row],[Totale Immissione in rete]:[Totale Consumi rimanenti]])","v":0},"HP",null,null,null,0]
["021411",2,{"$f":"+MIN(Contributo_cer[[#This Row],[Totale Immissione in rete]:[Totale Consumi rimanenti]])","v":0},"HP",null,null,null,0]
["021412",2,{"$f":"+MIN(Contributo_cer[[#This Row],[Totale Immissione in rete]:[Totale Consumi rimanenti]])","v":0},"HP",null,null,null,0]
["021413",2,{"$f":"+MIN(Contributo_cer[[#This Row],[Totale Immissione in rete]:[Totale Consumi rimanenti]])","v":0},"HP",null,null,null,0]
["021414",2,{"$f":"+MIN(Contributo_cer[[#This Row],[Totale Immissione in rete]:[Totale Consumi rimanenti]])","v":0},"HP",null,null,null,0]
["021415",2,{"$f":"+MIN(Contributo_cer[[#This Row],[Totale Immissione in rete]:[Totale Consumi rimanenti]])","v":0},"HP",null,null,null,0]
["021416",2,{"$f":"+MIN(Contributo_cer[[#This Row],[Totale Immissione in rete]:[Totale Consumi rimanenti]])","v":0},"HP",null,null,null,0]
["021417",2,{"$f":"+MIN(Contributo_cer[[#This Row],[Totale Immissione in rete]:[Totale Consumi rimanenti]])","v":0},"HP",null,null,null,0]
["021418",2,{"$f":"+MIN(Contributo_cer[[#This Row],[Totale Immissione in rete]:[Totale Consumi rimanenti]])","v":0},"HP",null,null,null,0]
["021419",2,{"$f":"+MIN(Contributo_cer[[#This Row],[Totale Immissione in rete]:[Totale Consumi rimanenti]])","v":0},"HP",null,null,null,0]
["021420",2,{"$f":"+MIN(Contributo_cer[[#This Row],[Totale Immissione in rete]:[Totale Consumi rimanenti]])","v":0},"HP",null,null,null,0]
["021421",2,{"$f":"+MIN(Contributo_cer[[#This Row],[Totale Immissione in rete]:[Totale Consumi rimanenti]])","v":0},"HP",null,null,null,0]
["021422",2,{"$f":"+MIN(Contributo_cer[[#This Row],[Totale Immissione in rete]:[Totale Consumi rimanenti]])","v":0},"HC",null,null,null,0]
["021423",2,{"$f":"+MIN(Contributo_cer[[#This Row],[Totale Immissione in rete]:[Totale Consumi rimanenti]])","v":0},"HC",null,null,null,0]
["021500",2,{"$f":"+MIN(Contributo_cer[[#This Row],[Totale Immissione in rete]:[Totale Consumi rimanenti]])","v":0},"HC",null,null,null,0]
["021501",2,{"$f":"+MIN(Contributo_cer[[#This Row],[Totale Immissione in rete]:[Totale Consumi rimanenti]])","v":0},"HC",null,null,null,0]
["021502",2,{"$f":"+MIN(Contributo_cer[[#This Row],[Totale Immissione in rete]:[Totale Consumi rimanenti]])","v":0},"HC",null,null,null,0]
["021503",2,{"$f":"+MIN(Contributo_cer[[#This Row],[Totale Immissione in rete]:[Totale Consumi rimanenti]])","v":0},"HC",null,null,null,0]
["021504",2,{"$f":"+MIN(Contributo_cer[[#This Row],[Totale Immissione in rete]:[Totale Consumi rimanenti]])","v":0},"HC",null,null,null,0]
["021505",2,{"$f":"+MIN(Contributo_cer[[#This Row],[Totale Immissione in rete]:[Totale Consumi rimanenti]])","v":0},"HC",null,null,null,0]
["021506",2,{"$f":"+MIN(Contributo_cer[[#This Row],[Totale Immissione in rete]:[Totale Consumi rimanenti]])","v":0},"HP",null,null,null,0]
["021507",2,{"$f":"+MIN(Contributo_cer[[#This Row],[Totale Immissione in rete]:[Totale Consumi rimanenti]])","v":0},"HP",null,null,null,0]
["021508",2,{"$f":"+MIN(Contributo_cer[[#This Row],[Totale Immissione in rete]:[Totale Consumi rimanenti]])","v":0},"HP",null,null,null,0]
["021509",2,{"$f":"+MIN(Contributo_cer[[#This Row],[Totale Immissione in rete]:[Totale Consumi rimanenti]])","v":0},"HP",null,null,null,0]
["021510",2,{"$f":"+MIN(Contributo_cer[[#This Row],[Totale Immissione in rete]:[Totale Consumi rimanenti]])","v":0},"HP",null,null,null,0]
["021511",2,{"$f":"+MIN(Contributo_cer[[#This Row],[Totale Immissione in rete]:[Totale Consumi rimanenti]])","v":0},"HP",null,null,null,0]
["021512",2,{"$f":"+MIN(Contributo_cer[[#This Row],[Totale Immissione in rete]:[Totale Consumi rimanenti]])","v":0},"HP",null,null,null,0]
["021513",2,{"$f":"+MIN(Contributo_cer[[#This Row],[Totale Immissione in rete]:[Totale Consumi rimanenti]])","v":0},"HP",null,null,null,0]
["021514",2,{"$f":"+MIN(Contributo_cer[[#This Row],[Totale Immissione in rete]:[Totale Consumi rimanenti]])","v":0},"HP",null,null,null,0]
["021515",2,{"$f":"+MIN(Contributo_cer[[#This Row],[Totale Immissione in rete]:[Totale Consumi rimanenti]])","v":0},"HP",null,null,null,0]
["021516",2,{"$f":"+MIN(Contributo_cer[[#This Row],[Totale Immissione in rete]:[Totale Consumi rimanenti]])","v":0},"HP",null,null,null,0]
["021517",2,{"$f":"+MIN(Contributo_cer[[#This Row],[Totale Immissione in rete]:[Totale Consumi rimanenti]])","v":0},"HP",null,null,null,0]
["021518",2,{"$f":"+MIN(Contributo_cer[[#This Row],[Totale Immissione in rete]:[Totale Consumi rimanenti]])","v":0},"HP",null,null,null,0]
["021519",2,{"$f":"+MIN(Contributo_cer[[#This Row],[Totale Immissione in rete]:[Totale Consumi rimanenti]])","v":0},"HP",null,null,null,0]
["021520",2,{"$f":"+MIN(Contributo_cer[[#This Row],[Totale Immissione in rete]:[Totale Consumi rimanenti]])","v":0},"HP",null,null,null,0]
["021521",2,{"$f":"+MIN(Contributo_cer[[#This Row],[Totale Immissione in rete]:[Totale Consumi rimanenti]])","v":0},"HP",null,null,null,0]
["021522",2,{"$f":"+MIN(Contributo_cer[[#This Row],[Totale Immissione in rete]:[Totale Consumi rimanenti]])","v":0},"HC",null,null,null,0]
["021523",2,{"$f":"+MIN(Contributo_cer[[#This Row],[Totale Immissione in rete]:[Totale Consumi rimanenti]])","v":0},"HC",null,null,null,0]
["021600",2,{"$f":"+MIN(Contributo_cer[[#This Row],[Totale Immissione in rete]:[Totale Consumi rimanenti]])","v":0},"HC",null,null,null,0]
["021601",2,{"$f":"+MIN(Contributo_cer[[#This Row],[Totale Immissione in rete]:[Totale Consumi rimanenti]])","v":0},"HC",null,null,null,0]
["021602",2,{"$f":"+MIN(Contributo_cer[[#This Row],[Totale Immissione in rete]:[Totale Consumi rimanenti]])","v":0},"HC",null,null,null,0]
["021603",2,{"$f":"+MIN(Contributo_cer[[#This Row],[Totale Immissione in rete]:[Totale Consumi rimanenti]])","v":0},"HC",null,null,null,0]
["021604",2,{"$f":"+MIN(Contributo_cer[[#This Row],[Totale Immissione in rete]:[Totale Consumi rimanenti]])","v":0},"HC",null,null,null,0]
["021605",2,{"$f":"+MIN(Contributo_cer[[#This Row],[Totale Immissione in rete]:[Totale Consumi rimanenti]])","v":0},"HC",null,null,null,0]
["021606",2,{"$f":"+MIN(Contributo_cer[[#This Row],[Totale Immissione in rete]:[Totale Consumi rimanenti]])","v":0},"HP",null,null,null,0]
["021607",2,{"$f":"+MIN(Contributo_cer[[#This Row],[Totale Immissione in rete]:[Totale Consumi rimanenti]])","v":0},"HP",null,null,null,0]
["021608",2,{"$f":"+MIN(Contributo_cer[[#This Row],[Totale Immissione in rete]:[Totale Consumi rimanenti]])","v":0},"HP",null,null,null,0]
["021609",2,{"$f":"+MIN(Contributo_cer[[#This Row],[Totale Immissione in rete]:[Totale Consumi rimanenti]])","v":0},"HP",null,null,null,0]
["021610",2,{"$f":"+MIN(Contributo_cer[[#This Row],[Totale Immissione in rete]:[Totale Consumi rimanenti]])","v":0},"HP",null,null,null,0]
["021611",2,{"$f":"+MIN(Contributo_cer[[#This Row],[Totale Immissione in rete]:[Totale Consumi rimanenti]])","v":0},"HP",null,null,null,0]
["021612",2,{"$f":"+MIN(Contributo_cer[[#This Row],[Totale Immissione in rete]:[Totale Consumi rimanenti]])","v":0},"HP",null,null,null,0]
["021613",2,{"$f":"+MIN(Contributo_cer[[#This Row],[Totale Immissione in rete]:[Totale Consumi rimanenti]])","v":0},"HP",null,null,null,0]
["021614",2,{"$f":"+MIN(Contributo_cer[[#This Row],[Totale Immissione in rete]:[Totale Consumi rimanenti]])","v":0},"HP",null,null,null,0]
["021615",2,{"$f":"+MIN(Contributo_cer[[#This Row],[Totale Immissione in rete]:[Totale Consumi rimanenti]])","v":0},"HP",null,null,null,0]
["021616",2,{"$f":"+MIN(Contributo_cer[[#This Row],[Totale Immissione in rete]:[Totale Consumi rimanenti]])","v":0},"HP",null,null,null,0]
["021617",2,{"$f":"+MIN(Contributo_cer[[#This Row],[Totale Immissione in rete]:[Totale Consumi rimanenti]])","v":0},"HP",null,null,null,0]
["021618",2,{"$f":"+MIN(Contributo_cer[[#This Row],[Totale Immissione in rete]:[Totale Consumi rimanenti]])","v":0},"HP",null,null,null,0]
["021619",2,{"$f":"+MIN(Contributo_cer[[#This Row],[Totale Immissione in rete]:[Totale Consumi rimanenti]])","v":0},"HP",null,null,null,0]
["021620",2,{"$f":"+MIN(Contributo_cer[[#This Row],[Totale Immissione in rete]:[Totale Consumi rimanenti]])","v":0},"HP",null,null,null,0]
["021621",2,{"$f":"+MIN(Contributo_cer[[#This Row],[Totale Immissione in rete]:[Totale Consumi rimanenti]])","v":0},"HP",null,null,null,0]
["021622",2,{"$f":"+MIN(Contributo_cer[[#This Row],[Totale Immissione in rete]:[Totale Consumi rimanenti]])","v":0},"HC",null,null,null,0]
["021623",2,{"$f":"+MIN(Contributo_cer[[#This Row],[Totale Immissione in rete]:[Totale Consumi rimanenti]])","v":0},"HC",null,null,null,0]
["021700",2,{"$f":"+MIN(Contributo_cer[[#This Row],[Totale Immissione in rete]:[Totale Consumi rimanenti]])","v":0},"HC",null,null,null,0]
["021701",2,{"$f":"+MIN(Contributo_cer[[#This Row],[Totale Immissione in rete]:[Totale Consumi rimanenti]])","v":0},"HC",null,null,null,0]
["021702",2,{"$f":"+MIN(Contributo_cer[[#This Row],[Totale Immissione in rete]:[Totale Consumi rimanenti]])","v":0},"HC",null,null,null,0]
["021703",2,{"$f":"+MIN(Contributo_cer[[#This Row],[Totale Immissione in rete]:[Totale Consumi rimanenti]])","v":0},"HC",null,null,null,0]
["021704",2,{"$f":"+MIN(Contributo_cer[[#This Row],[Totale Immissione in rete]:[Totale Consumi rimanenti]])","v":0},"HC",null,null,null,0]
["021705",2,{"$f":"+MIN(Contributo_cer[[#This Row],[Totale Immissione in rete]:[Totale Consumi rimanenti]])","v":0},"HC",null,null,null,0]
["021706",2,{"$f":"+MIN(Contributo_cer[[#This Row],[Totale Immissione in rete]:[Totale Consumi rimanenti]])","v":0},"HP",null,null,null,0]
["021707",2,{"$f":"+MIN(Contributo_cer[[#This Row],[Totale Immissione in rete]:[Totale Consumi rimanenti]])","v":0},"HP",null,null,null,0]
["021708",2,{"$f":"+MIN(Contributo_cer[[#This Row],[Totale Immissione in rete]:[Totale Consumi rimanenti]])","v":0},"HP",null,null,null,0]
["021709",2,{"$f":"+MIN(Contributo_cer[[#This Row],[Totale Immissione in rete]:[Totale Consumi rimanenti]])","v":0},"HP",null,null,null,0]
["021710",2,{"$f":"+MIN(Contributo_cer[[#This Row],[Totale Immissione in rete]:[Totale Consumi rimanenti]])","v":0},"HP",null,null,null,0]
["021711",2,{"$f":"+MIN(Contributo_cer[[#This Row],[Totale Immissione in rete]:[Totale Consumi rimanenti]])","v":0},"HP",null,null,null,0]
["021712",2,{"$f":"+MIN(Contributo_cer[[#This Row],[Totale Immissione in rete]:[Totale Consumi rimanenti]])","v":0},"HP",null,null,null,0]
["021713",2,{"$f":"+MIN(Contributo_cer[[#This Row],[Totale Immissione in rete]:[Totale Consumi rimanenti]])","v":0},"HP",null,null,null,0]
["021714",2,{"$f":"+MIN(Contributo_cer[[#This Row],[Totale Immissione in rete]:[Totale Consumi rimanenti]])","v":0},"HP",null,null,null,0]
["021715",2,{"$f":"+MIN(Contributo_cer[[#This Row],[Totale Immissione in rete]:[Totale Consumi rimanenti]])","v":0},"HP",null,null,null,0]
["021716",2,{"$f":"+MIN(Contributo_cer[[#This Row],[Totale Immissione in rete]:[Totale Consumi rimanenti]])","v":0},"HP",null,null,null,0]
["021717",2,{"$f":"+MIN(Contributo_cer[[#This Row],[Totale Immissione in rete]:[Totale Consumi rimanenti]])","v":0},"HP",null,null,null,0]
["021718",2,{"$f":"+MIN(Contributo_cer[[#This Row],[Totale Immissione in rete]:[Totale Consumi rimanenti]])","v":0},"HP",null,null,null,0]
["021719",2,{"$f":"+MIN(Contributo_cer[[#This Row],[Totale Immissione in rete]:[Totale Consumi rimanenti]])","v":0},"HP",null,null,null,0]
["021720",2,{"$f":"+MIN(Contributo_cer[[#This Row],[Totale Immissione in rete]:[Totale Consumi rimanenti]])","v":0},"HP",null,null,null,0]
["021721",2,{"$f":"+MIN(Contributo_cer[[#This Row],[Totale Immissione in rete]:[Totale Consumi rimanenti]])","v":0},"HP",null,null,null,0]
["021722",2,{"$f":"+MIN(Contributo_cer[[#This Row],[Totale Immissione in rete]:[Totale Consumi rimanenti]])","v":0},"HC",null,null,null,0]
["021723",2,{"$f":"+MIN(Contributo_cer[[#This Row],[Totale Immissione in rete]:[Totale Consumi rimanenti]])","v":0},"HC",null,null,null,0]
["021800",2,{"$f":"+MIN(Contributo_cer[[#This Row],[Totale Immissione in rete]:[Totale Consumi rimanenti]])","v":0},"HC",null,null,null,0]
["021801",2,{"$f":"+MIN(Contributo_cer[[#This Row],[Totale Immissione in rete]:[Totale Consumi rimanenti]])","v":0},"HC",null,null,null,0]
["021802",2,{"$f":"+MIN(Contributo_cer[[#This Row],[Totale Immissione in rete]:[Totale Consumi rimanenti]])","v":0},"HC",null,null,null,0]
["021803",2,{"$f":"+MIN(Contributo_cer[[#This Row],[Totale Immissione in rete]:[Totale Consumi rimanenti]])","v":0},"HC",null,null,null,0]
["021804",2,{"$f":"+MIN(Contributo_cer[[#This Row],[Totale Immissione in rete]:[Totale Consumi rimanenti]])","v":0},"HC",null,null,null,0]
["021805",2,{"$f":"+MIN(Contributo_cer[[#This Row],[Totale Immissione in rete]:[Totale Consumi rimanenti]])","v":0},"HC",null,null,null,0]
["021806",2,{"$f":"+MIN(Contributo_cer[[#This Row],[Totale Immissione in rete]:[Totale Consumi rimanenti]])","v":0},"HP",null,null,null,0]
["021807",2,{"$f":"+MIN(Contributo_cer[[#This Row],[Totale Immissione in rete]:[Totale Consumi rimanenti]])","v":0},"HP",null,null,null,0]
["021808",2,{"$f":"+MIN(Contributo_cer[[#This Row],[Totale Immissione in rete]:[Totale Consumi rimanenti]])","v":0},"HP",null,null,null,0]
["021809",2,{"$f":"+MIN(Contributo_cer[[#This Row],[Totale Immissione in rete]:[Totale Consumi rimanenti]])","v":0},"HP",null,null,null,0]
["021810",2,{"$f":"+MIN(Contributo_cer[[#This Row],[Totale Immissione in rete]:[Totale Consumi rimanenti]])","v":0},"HP",null,null,null,0]
["021811",2,{"$f":"+MIN(Contributo_cer[[#This Row],[Totale Immissione in rete]:[Totale Consumi rimanenti]])","v":0},"HP",null,null,null,0]
["021812",2,{"$f":"+MIN(Contributo_cer[[#This Row],[Totale Immissione in rete]:[Totale Consumi rimanenti]])","v":0},"HP",null,null,null,0]
["021813",2,{"$f":"+MIN(Contributo_cer[[#This Row],[Totale Immissione in rete]:[Totale Consumi rimanenti]])","v":0},"HP",null,null,null,0]
["021814",2,{"$f":"+MIN(Contributo_cer[[#This Row],[Totale Immissione in rete]:[Totale Consumi rimanenti]])","v":0},"HP",null,null,null,0]
["021815",2,{"$f":"+MIN(Contributo_cer[[#This Row],[Totale Immissione in rete]:[Totale Consumi rimanenti]])","v":0},"HP",null,null,null,0]
["021816",2,{"$f":"+MIN(Contributo_cer[[#This Row],[Totale Immissione in rete]:[Totale Consumi rimanenti]])","v":0},"HP",null,null,null,0]
["021817",2,{"$f":"+MIN(Contributo_cer[[#This Row],[Totale Immissione in rete]:[Totale Consumi rimanenti]])","v":0},"HP",null,null,null,0]
["021818",2,{"$f":"+MIN(Contributo_cer[[#This Row],[Totale Immissione in rete]:[Totale Consumi rimanenti]])","v":0},"HP",null,null,null,0]
["021819",2,{"$f":"+MIN(Contributo_cer[[#This Row],[Totale Immissione in rete]:[Totale Consumi rimanenti]])","v":0},"HP",null,null,null,0]
["021820",2,{"$f":"+MIN(Contributo_cer[[#This Row],[Totale Immissione in rete]:[Totale Consumi rimanenti]])","v":0},"HP",null,null,null,0]
["021821",2,{"$f":"+MIN(Contributo_cer[[#This Row],[Totale Immissione in rete]:[Totale Consumi rimanenti]])","v":0},"HP",null,null,null,0]
["021822",2,{"$f":"+MIN(Contributo_cer[[#This Row],[Totale Immissione in rete]:[Totale Consumi rimanenti]])","v":0},"HC",null,null,null,0]
["021823",2,{"$f":"+MIN(Contributo_cer[[#This Row],[Totale Immissione in rete]:[Totale Consumi rimanenti]])","v":0},"HC",null,null,null,0]
["021900",2,{"$f":"+MIN(Contributo_cer[[#This Row],[Totale Immissione in rete]:[Totale Consumi rimanenti]])","v":0},"HC",null,null,null,0]
["021901",2,{"$f":"+MIN(Contributo_cer[[#This Row],[Totale Immissione in rete]:[Totale Consumi rimanenti]])","v":0},"HC",null,null,null,0]
["021902",2,{"$f":"+MIN(Contributo_cer[[#This Row],[Totale Immissione in rete]:[Totale Consumi rimanenti]])","v":0},"HC",null,null,null,0]
["021903",2,{"$f":"+MIN(Contributo_cer[[#This Row],[Totale Immissione in rete]:[Totale Consumi rimanenti]])","v":0},"HC",null,null,null,0]
["021904",2,{"$f":"+MIN(Contributo_cer[[#This Row],[Totale Immissione in rete]:[Totale Consumi rimanenti]])","v":0},"HC",null,null,null,0]
["021905",2,{"$f":"+MIN(Contributo_cer[[#This Row],[Totale Immissione in rete]:[Totale Consumi rimanenti]])","v":0},"HC",null,null,null,0]
["021906",2,{"$f":"+MIN(Contributo_cer[[#This Row],[Totale Immissione in rete]:[Totale Consumi rimanenti]])","v":0},"HP",null,null,null,0]
["021907",2,{"$f":"+MIN(Contributo_cer[[#This Row],[Totale Immissione in rete]:[Totale Consumi rimanenti]])","v":0},"HP",null,null,null,0]
["021908",2,{"$f":"+MIN(Contributo_cer[[#This Row],[Totale Immissione in rete]:[Totale Consumi rimanenti]])","v":0},"HP",null,null,null,0]
["021909",2,{"$f":"+MIN(Contributo_cer[[#This Row],[Totale Immissione in rete]:[Totale Consumi rimanenti]])","v":0},"HP",null,null,null,0]
["021910",2,{"$f":"+MIN(Contributo_cer[[#This Row],[Totale Immissione in rete]:[Totale Consumi rimanenti]])","v":0},"HP",null,null,null,0]
["021911",2,{"$f":"+MIN(Contributo_cer[[#This Row],[Totale Immissione in rete]:[Totale Consumi rimanenti]])","v":0},"HP",null,null,null,0]
["021912",2,{"$f":"+MIN(Contributo_cer[[#This Row],[Totale Immissione in rete]:[Totale Consumi rimanenti]])","v":0},"HP",null,null,null,0]
["021913",2,{"$f":"+MIN(Contributo_cer[[#This Row],[Totale Immissione in rete]:[Totale Consumi rimanenti]])","v":0},"HP",null,null,null,0]
["021914",2,{"$f":"+MIN(Contributo_cer[[#This Row],[Totale Immissione in rete]:[Totale Consumi rimanenti]])","v":0},"HP",null,null,null,0]
["021915",2,{"$f":"+MIN(Contributo_cer[[#This Row],[Totale Immissione in rete]:[Totale Consumi rimanenti]])","v":0},"HP",null,null,null,0]
["021916",2,{"$f":"+MIN(Contributo_cer[[#This Row],[Totale Immissione in rete]:[Totale Consumi rimanenti]])","v":0},"HP",null,null,null,0]
["021917",2,{"$f":"+MIN(Contributo_cer[[#This Row],[Totale Immissione in rete]:[Totale Consumi rimanenti]])","v":0},"HP",null,null,null,0]
["021918",2,{"$f":"+MIN(Contributo_cer[[#This Row],[Totale Immissione in rete]:[Totale Consumi rimanenti]])","v":0},"HP",null,null,null,0]
["021919",2,{"$f":"+MIN(Contributo_cer[[#This Row],[Totale Immissione in rete]:[Totale Consumi rimanenti]])","v":0},"HP",null,null,null,0]
["021920",2,{"$f":"+MIN(Contributo_cer[[#This Row],[Totale Immissione in rete]:[Totale Consumi rimanenti]])","v":0},"HP",null,null,null,0]
["021921",2,{"$f":"+MIN(Contributo_cer[[#This Row],[Totale Immissione in rete]:[Totale Consumi rimanenti]])","v":0},"HP",null,null,null,0]
["021922",2,{"$f":"+MIN(Contributo_cer[[#This Row],[Totale Immissione in rete]:[Totale Consumi rimanenti]])","v":0},"HC",null,null,null,0]
["021923",2,{"$f":"+MIN(Contributo_cer[[#This Row],[Totale Immissione in rete]:[Totale Consumi rimanenti]])","v":0},"HC",null,null,null,0]
["022000",2,{"$f":"+MIN(Contributo_cer[[#This Row],[Totale Immissione in rete]:[Totale Consumi rimanenti]])","v":0},"HC",null,null,null,0]
["022001",2,{"$f":"+MIN(Contributo_cer[[#This Row],[Totale Immissione in rete]:[Totale Consumi rimanenti]])","v":0},"HC",null,null,null,0]
["022002",2,{"$f":"+MIN(Contributo_cer[[#This Row],[Totale Immissione in rete]:[Totale Consumi rimanenti]])","v":0},"HC",null,null,null,0]
["022003",2,{"$f":"+MIN(Contributo_cer[[#This Row],[Totale Immissione in rete]:[Totale Consumi rimanenti]])","v":0},"HC",null,null,null,0]
["022004",2,{"$f":"+MIN(Contributo_cer[[#This Row],[Totale Immissione in rete]:[Totale Consumi rimanenti]])","v":0},"HC",null,null,null,0]
["022005",2,{"$f":"+MIN(Contributo_cer[[#This Row],[Totale Immissione in rete]:[Totale Consumi rimanenti]])","v":0},"HC",null,null,null,0]
["022006",2,{"$f":"+MIN(Contributo_cer[[#This Row],[Totale Immissione in rete]:[Totale Consumi rimanenti]])","v":0},"HP",null,null,null,0]
["022007",2,{"$f":"+MIN(Contributo_cer[[#This Row],[Totale Immissione in rete]:[Totale Consumi rimanenti]])","v":0},"HP",null,null,null,0]
["022008",2,{"$f":"+MIN(Contributo_cer[[#This Row],[Totale Immissione in rete]:[Totale Consumi rimanenti]])","v":0},"HP",null,null,null,0]
["022009",2,{"$f":"+MIN(Contributo_cer[[#This Row],[Totale Immissione in rete]:[Totale Consumi rimanenti]])","v":0},"HP",null,null,null,0]
["022010",2,{"$f":"+MIN(Contributo_cer[[#This Row],[Totale Immissione in rete]:[Totale Consumi rimanenti]])","v":0},"HP",null,null,null,0]
["022011",2,{"$f":"+MIN(Contributo_cer[[#This Row],[Totale Immissione in rete]:[Totale Consumi rimanenti]])","v":0},"HP",null,null,null,0]
["022012",2,{"$f":"+MIN(Contributo_cer[[#This Row],[Totale Immissione in rete]:[Totale Consumi rimanenti]])","v":0},"HP",null,null,null,0]
["022013",2,{"$f":"+MIN(Contributo_cer[[#This Row],[Totale Immissione in rete]:[Totale Consumi rimanenti]])","v":0},"HP",null,null,null,0]
["022014",2,{"$f":"+MIN(Contributo_cer[[#This Row],[Totale Immissione in rete]:[Totale Consumi rimanenti]])","v":0},"HP",null,null,null,0]
["022015",2,{"$f":"+MIN(Contributo_cer[[#This Row],[Totale Immissione in rete]:[Totale Consumi rimanenti]])","v":0},"HP",null,null,null,0]
["022016",2,{"$f":"+MIN(Contributo_cer[[#This Row],[Totale Immissione in rete]:[Totale Consumi rimanenti]])","v":0},"HP",null,null,null,0]
["022017",2,{"$f":"+MIN(Contributo_cer[[#This Row],[Totale Immissione in rete]:[Totale Consumi rimanenti]])","v":0},"HP",null,null,null,0]
["022018",2,{"$f":"+MIN(Contributo_cer[[#This Row],[Totale Immissione in rete]:[Totale Consumi rimanenti]])","v":0},"HP",null,null,null,0]
["022019",2,{"$f":"+MIN(Contributo_cer[[#This Row],[Totale Immissione in rete]:[Totale Consumi rimanenti]])","v":0},"HP",null,null,null,0]
["022020",2,{"$f":"+MIN(Contributo_cer[[#This Row],[Totale Immissione in rete]:[Totale Consumi rimanenti]])","v":0},"HP",null,null,null,0]
["022021",2,{"$f":"+MIN(Contributo_cer[[#This Row],[Totale Immissione in rete]:[Totale Consumi rimanenti]])","v":0},"HP",null,null,null,0]
["022022",2,{"$f":"+MIN(Contributo_cer[[#This Row],[Totale Immissione in rete]:[Totale Consumi rimanenti]])","v":0},"HC",null,null,null,0]
["022023",2,{"$f":"+MIN(Contributo_cer[[#This Row],[Totale Immissione in rete]:[Totale Consumi rimanenti]])","v":0},"HC",null,null,null,0]
["022100",2,{"$f":"+MIN(Contributo_cer[[#This Row],[Totale Immissione in rete]:[Totale Consumi rimanenti]])","v":0},"HC",null,null,null,0]
["022101",2,{"$f":"+MIN(Contributo_cer[[#This Row],[Totale Immissione in rete]:[Totale Consumi rimanenti]])","v":0},"HC",null,null,null,0]
["022102",2,{"$f":"+MIN(Contributo_cer[[#This Row],[Totale Immissione in rete]:[Totale Consumi rimanenti]])","v":0},"HC",null,null,null,0]
["022103",2,{"$f":"+MIN(Contributo_cer[[#This Row],[Totale Immissione in rete]:[Totale Consumi rimanenti]])","v":0},"HC",null,null,null,0]
["022104",2,{"$f":"+MIN(Contributo_cer[[#This Row],[Totale Immissione in rete]:[Totale Consumi rimanenti]])","v":0},"HC",null,null,null,0]
["022105",2,{"$f":"+MIN(Contributo_cer[[#This Row],[Totale Immissione in rete]:[Totale Consumi rimanenti]])","v":0},"HC",null,null,null,0]
["022106",2,{"$f":"+MIN(Contributo_cer[[#This Row],[Totale Immissione in rete]:[Totale Consumi rimanenti]])","v":0},"HP",null,null,null,0]
["022107",2,{"$f":"+MIN(Contributo_cer[[#This Row],[Totale Immissione in rete]:[Totale Consumi rimanenti]])","v":0},"HP",null,null,null,0]
["022108",2,{"$f":"+MIN(Contributo_cer[[#This Row],[Totale Immissione in rete]:[Totale Consumi rimanenti]])","v":0},"HP",null,null,null,0]
["022109",2,{"$f":"+MIN(Contributo_cer[[#This Row],[Totale Immissione in rete]:[Totale Consumi rimanenti]])","v":0},"HP",null,null,null,0]
["022110",2,{"$f":"+MIN(Contributo_cer[[#This Row],[Totale Immissione in rete]:[Totale Consumi rimanenti]])","v":0},"HP",null,null,null,0]
["022111",2,{"$f":"+MIN(Contributo_cer[[#This Row],[Totale Immissione in rete]:[Totale Consumi rimanenti]])","v":0},"HP",null,null,null,0]
["022112",2,{"$f":"+MIN(Contributo_cer[[#This Row],[Totale Immissione in rete]:[Totale Consumi rimanenti]])","v":0},"HP",null,null,null,0]
["022113",2,{"$f":"+MIN(Contributo_cer[[#This Row],[Totale Immissione in rete]:[Totale Consumi rimanenti]])","v":0},"HP",null,null,null,0]
["022114",2,{"$f":"+MIN(Contributo_cer[[#This Row],[Totale Immissione in rete]:[Totale Consumi rimanenti]])","v":0},"HP",null,null,null,0]
["022115",2,{"$f":"+MIN(Contributo_cer[[#This Row],[Totale Immissione in rete]:[Totale Consumi rimanenti]])","v":0},"HP",null,null,null,0]
["022116",2,{"$f":"+MIN(Contributo_cer[[#This Row],[Totale Immissione in rete]:[Totale Consumi rimanenti]])","v":0},"HP",null,null,null,0]
["022117",2,{"$f":"+MIN(Contributo_cer[[#This Row],[Totale Immissione in rete]:[Totale Consumi rimanenti]])","v":0},"HP",null,null,null,0]
["022118",2,{"$f":"+MIN(Contributo_cer[[#This Row],[Totale Immissione in rete]:[Totale Consumi rimanenti]])","v":0},"HP",null,null,null,0]
["022119",2,{"$f":"+MIN(Contributo_cer[[#This Row],[Totale Immissione in rete]:[Totale Consumi rimanenti]])","v":0},"HP",null,null,null,0]
["022120",2,{"$f":"+MIN(Contributo_cer[[#This Row],[Totale Immissione in rete]:[Totale Consumi rimanenti]])","v":0},"HP",null,null,null,0]
["022121",2,{"$f":"+MIN(Contributo_cer[[#This Row],[Totale Immissione in rete]:[Totale Consumi rimanenti]])","v":0},"HP",null,null,null,0]
["022122",2,{"$f":"+MIN(Contributo_cer[[#This Row],[Totale Immissione in rete]:[Totale Consumi rimanenti]])","v":0},"HC",null,null,null,0]
["022123",2,{"$f":"+MIN(Contributo_cer[[#This Row],[Totale Immissione in rete]:[Totale Consumi rimanenti]])","v":0},"HC",null,null,null,0]
["022200",2,{"$f":"+MIN(Contributo_cer[[#This Row],[Totale Immissione in rete]:[Totale Consumi rimanenti]])","v":0},"HC",null,null,null,0]
["022201",2,{"$f":"+MIN(Contributo_cer[[#This Row],[Totale Immissione in rete]:[Totale Consumi rimanenti]])","v":0},"HC",null,null,null,0]
["022202",2,{"$f":"+MIN(Contributo_cer[[#This Row],[Totale Immissione in rete]:[Totale Consumi rimanenti]])","v":0},"HC",null,null,null,0]
["022203",2,{"$f":"+MIN(Contributo_cer[[#This Row],[Totale Immissione in rete]:[Totale Consumi rimanenti]])","v":0},"HC",null,null,null,0]
["022204",2,{"$f":"+MIN(Contributo_cer[[#This Row],[Totale Immissione in rete]:[Totale Consumi rimanenti]])","v":0},"HC",null,null,null,0]
["022205",2,{"$f":"+MIN(Contributo_cer[[#This Row],[Totale Immissione in rete]:[Totale Consumi rimanenti]])","v":0},"HC",null,null,null,0]
["022206",2,{"$f":"+MIN(Contributo_cer[[#This Row],[Totale Immissione in rete]:[Totale Consumi rimanenti]])","v":0},"HP",null,null,null,0]
["022207",2,{"$f":"+MIN(Contributo_cer[[#This Row],[Totale Immissione in rete]:[Totale Consumi rimanenti]])","v":0},"HP",null,null,null,0]
["022208",2,{"$f":"+MIN(Contributo_cer[[#This Row],[Totale Immissione in rete]:[Totale Consumi rimanenti]])","v":0},"HP",null,null,null,0]
["022209",2,{"$f":"+MIN(Contributo_cer[[#This Row],[Totale Immissione in rete]:[Totale Consumi rimanenti]])","v":0},"HP",null,null,null,0]
["022210",2,{"$f":"+MIN(Contributo_cer[[#This Row],[Totale Immissione in rete]:[Totale Consumi rimanenti]])","v":0},"HP",null,null,null,0]
["022211",2,{"$f":"+MIN(Contributo_cer[[#This Row],[Totale Immissione in rete]:[Totale Consumi rimanenti]])","v":0},"HP",null,null,null,0]
["022212",2,{"$f":"+MIN(Contributo_cer[[#This Row],[Totale Immissione in rete]:[Totale Consumi rimanenti]])","v":0},"HP",null,null,null,0]
["022213",2,{"$f":"+MIN(Contributo_cer[[#This Row],[Totale Immissione in rete]:[Totale Consumi rimanenti]])","v":0},"HP",null,null,null,0]
["022214",2,{"$f":"+MIN(Contributo_cer[[#This Row],[Totale Immissione in rete]:[Totale Consumi rimanenti]])","v":0},"HP",null,null,null,0]
["022215",2,{"$f":"+MIN(Contributo_cer[[#This Row],[Totale Immissione in rete]:[Totale Consumi rimanenti]])","v":0},"HP",null,null,null,0]
["022216",2,{"$f":"+MIN(Contributo_cer[[#This Row],[Totale Immissione in rete]:[Totale Consumi rimanenti]])","v":0},"HP",null,null,null,0]
["022217",2,{"$f":"+MIN(Contributo_cer[[#This Row],[Totale Immissione in rete]:[Totale Consumi rimanenti]])","v":0},"HP",null,null,null,0]
["022218",2,{"$f":"+MIN(Contributo_cer[[#This Row],[Totale Immissione in rete]:[Totale Consumi rimanenti]])","v":0},"HP",null,null,null,0]
["022219",2,{"$f":"+MIN(Contributo_cer[[#This Row],[Totale Immissione in rete]:[Totale Consumi rimanenti]])","v":0},"HP",null,null,null,0]
["022220",2,{"$f":"+MIN(Contributo_cer[[#This Row],[Totale Immissione in rete]:[Totale Consumi rimanenti]])","v":0},"HP",null,null,null,0]
["022221",2,{"$f":"+MIN(Contributo_cer[[#This Row],[Totale Immissione in rete]:[Totale Consumi rimanenti]])","v":0},"HP",null,null,null,0]
["022222",2,{"$f":"+MIN(Contributo_cer[[#This Row],[Totale Immissione in rete]:[Totale Consumi rimanenti]])","v":0},"HC",null,null,null,0]
["022223",2,{"$f":"+MIN(Contributo_cer[[#This Row],[Totale Immissione in rete]:[Totale Consumi rimanenti]])","v":0},"HC",null,null,null,0]
["022300",2,{"$f":"+MIN(Contributo_cer[[#This Row],[Totale Immissione in rete]:[Totale Consumi rimanenti]])","v":0},"HC",null,null,null,0]
["022301",2,{"$f":"+MIN(Contributo_cer[[#This Row],[Totale Immissione in rete]:[Totale Consumi rimanenti]])","v":0},"HC",null,null,null,0]
["022302",2,{"$f":"+MIN(Contributo_cer[[#This Row],[Totale Immissione in rete]:[Totale Consumi rimanenti]])","v":0},"HC",null,null,null,0]
["022303",2,{"$f":"+MIN(Contributo_cer[[#This Row],[Totale Immissione in rete]:[Totale Consumi rimanenti]])","v":0},"HC",null,null,null,0]
["022304",2,{"$f":"+MIN(Contributo_cer[[#This Row],[Totale Immissione in rete]:[Totale Consumi rimanenti]])","v":0},"HC",null,null,null,0]
["022305",2,{"$f":"+MIN(Contributo_cer[[#This Row],[Totale Immissione in rete]:[Totale Consumi rimanenti]])","v":0},"HC",null,null,null,0]
["022306",2,{"$f":"+MIN(Contributo_cer[[#This Row],[Totale Immissione in rete]:[Totale Consumi rimanenti]])","v":0},"HP",null,null,null,0]
["022307",2,{"$f":"+MIN(Contributo_cer[[#This Row],[Totale Immissione in rete]:[Totale Consumi rimanenti]])","v":0},"HP",null,null,null,0]
["022308",2,{"$f":"+MIN(Contributo_cer[[#This Row],[Totale Immissione in rete]:[Totale Consumi rimanenti]])","v":0},"HP",null,null,null,0]
["022309",2,{"$f":"+MIN(Contributo_cer[[#This Row],[Totale Immissione in rete]:[Totale Consumi rimanenti]])","v":0},"HP",null,null,null,0]
["022310",2,{"$f":"+MIN(Contributo_cer[[#This Row],[Totale Immissione in rete]:[Totale Consumi rimanenti]])","v":0},"HP",null,null,null,0]
["022311",2,{"$f":"+MIN(Contributo_cer[[#This Row],[Totale Immissione in rete]:[Totale Consumi rimanenti]])","v":0},"HP",null,null,null,0]
["022312",2,{"$f":"+MIN(Contributo_cer[[#This Row],[Totale Immissione in rete]:[Totale Consumi rimanenti]])","v":0},"HP",null,null,null,0]
["022313",2,{"$f":"+MIN(Contributo_cer[[#This Row],[Totale Immissione in rete]:[Totale Consumi rimanenti]])","v":0},"HP",null,null,null,0]
["022314",2,{"$f":"+MIN(Contributo_cer[[#This Row],[Totale Immissione in rete]:[Totale Consumi rimanenti]])","v":0},"HP",null,null,null,0]
["022315",2,{"$f":"+MIN(Contributo_cer[[#This Row],[Totale Immissione in rete]:[Totale Consumi rimanenti]])","v":0},"HP",null,null,null,0]
["022316",2,{"$f":"+MIN(Contributo_cer[[#This Row],[Totale Immissione in rete]:[Totale Consumi rimanenti]])","v":0},"HP",null,null,null,0]
["022317",2,{"$f":"+MIN(Contributo_cer[[#This Row],[Totale Immissione in rete]:[Totale Consumi rimanenti]])","v":0},"HP",null,null,null,0]
["022318",2,{"$f":"+MIN(Contributo_cer[[#This Row],[Totale Immissione in rete]:[Totale Consumi rimanenti]])","v":0},"HP",null,null,null,0]
["022319",2,{"$f":"+MIN(Contributo_cer[[#This Row],[Totale Immissione in rete]:[Totale Consumi rimanenti]])","v":0},"HP",null,null,null,0]
["022320",2,{"$f":"+MIN(Contributo_cer[[#This Row],[Totale Immissione in rete]:[Totale Consumi rimanenti]])","v":0},"HP",null,null,null,0]
["022321",2,{"$f":"+MIN(Contributo_cer[[#This Row],[Totale Immissione in rete]:[Totale Consumi rimanenti]])","v":0},"HP",null,null,null,0]
["022322",2,{"$f":"+MIN(Contributo_cer[[#This Row],[Totale Immissione in rete]:[Totale Consumi rimanenti]])","v":0},"HC",null,null,null,0]
["022323",2,{"$f":"+MIN(Contributo_cer[[#This Row],[Totale Immissione in rete]:[Totale Consumi rimanenti]])","v":0},"HC",null,null,null,0]
["022400",2,{"$f":"+MIN(Contributo_cer[[#This Row],[Totale Immissione in rete]:[Totale Consumi rimanenti]])","v":0},"HC",null,null,null,0]
["022401",2,{"$f":"+MIN(Contributo_cer[[#This Row],[Totale Immissione in rete]:[Totale Consumi rimanenti]])","v":0},"HC",null,null,null,0]
["022402",2,{"$f":"+MIN(Contributo_cer[[#This Row],[Totale Immissione in rete]:[Totale Consumi rimanenti]])","v":0},"HC",null,null,null,0]
["022403",2,{"$f":"+MIN(Contributo_cer[[#This Row],[Totale Immissione in rete]:[Totale Consumi rimanenti]])","v":0},"HC",null,null,null,0]
["022404",2,{"$f":"+MIN(Contributo_cer[[#This Row],[Totale Immissione in rete]:[Totale Consumi rimanenti]])","v":0},"HC",null,null,null,0]
["022405",2,{"$f":"+MIN(Contributo_cer[[#This Row],[Totale Immissione in rete]:[Totale Consumi rimanenti]])","v":0},"HC",null,null,null,0]
["022406",2,{"$f":"+MIN(Contributo_cer[[#This Row],[Totale Immissione in rete]:[Totale Consumi rimanenti]])","v":0},"HP",null,null,null,0]
["022407",2,{"$f":"+MIN(Contributo_cer[[#This Row],[Totale Immissione in rete]:[Totale Consumi rimanenti]])","v":0},"HP",null,null,null,0]
["022408",2,{"$f":"+MIN(Contributo_cer[[#This Row],[Totale Immissione in rete]:[Totale Consumi rimanenti]])","v":0},"HP",null,null,null,0]
["022409",2,{"$f":"+MIN(Contributo_cer[[#This Row],[Totale Immissione in rete]:[Totale Consumi rimanenti]])","v":0},"HP",null,null,null,0]
["022410",2,{"$f":"+MIN(Contributo_cer[[#This Row],[Totale Immissione in rete]:[Totale Consumi rimanenti]])","v":0},"HP",null,null,null,0]
["022411",2,{"$f":"+MIN(Contributo_cer[[#This Row],[Totale Immissione in rete]:[Totale Consumi rimanenti]])","v":0},"HP",null,null,null,0]
["022412",2,{"$f":"+MIN(Contributo_cer[[#This Row],[Totale Immissione in rete]:[Totale Consumi rimanenti]])","v":0},"HP",null,null,null,0]
["022413",2,{"$f":"+MIN(Contributo_cer[[#This Row],[Totale Immissione in rete]:[Totale Consumi rimanenti]])","v":0},"HP",null,null,null,0]
["022414",2,{"$f":"+MIN(Contributo_cer[[#This Row],[Totale Immissione in rete]:[Totale Consumi rimanenti]])","v":0},"HP",null,null,null,0]
["022415",2,{"$f":"+MIN(Contributo_cer[[#This Row],[Totale Immissione in rete]:[Totale Consumi rimanenti]])","v":0},"HP",null,null,null,0]
["022416",2,{"$f":"+MIN(Contributo_cer[[#This Row],[Totale Immissione in rete]:[Totale Consumi rimanenti]])","v":0},"HP",null,null,null,0]
["022417",2,{"$f":"+MIN(Contributo_cer[[#This Row],[Totale Immissione in rete]:[Totale Consumi rimanenti]])","v":0},"HP",null,null,null,0]
["022418",2,{"$f":"+MIN(Contributo_cer[[#This Row],[Totale Immissione in rete]:[Totale Consumi rimanenti]])","v":0},"HP",null,null,null,0]
["022419",2,{"$f":"+MIN(Contributo_cer[[#This Row],[Totale Immissione in rete]:[Totale Consumi rimanenti]])","v":0},"HP",null,null,null,0]
["022420",2,{"$f":"+MIN(Contributo_cer[[#This Row],[Totale Immissione in rete]:[Totale Consumi rimanenti]])","v":0},"HP",null,null,null,0]
["022421",2,{"$f":"+MIN(Contributo_cer[[#This Row],[Totale Immissione in rete]:[Totale Consumi rimanenti]])","v":0},"HP",null,null,null,0]
["022422",2,{"$f":"+MIN(Contributo_cer[[#This Row],[Totale Immissione in rete]:[Totale Consumi rimanenti]])","v":0},"HC",null,null,null,0]
["022423",2,{"$f":"+MIN(Contributo_cer[[#This Row],[Totale Immissione in rete]:[Totale Consumi rimanenti]])","v":0},"HC",null,null,null,0]
["022500",2,{"$f":"+MIN(Contributo_cer[[#This Row],[Totale Immissione in rete]:[Totale Consumi rimanenti]])","v":0},"HC",null,null,null,0]
["022501",2,{"$f":"+MIN(Contributo_cer[[#This Row],[Totale Immissione in rete]:[Totale Consumi rimanenti]])","v":0},"HC",null,null,null,0]
["022502",2,{"$f":"+MIN(Contributo_cer[[#This Row],[Totale Immissione in rete]:[Totale Consumi rimanenti]])","v":0},"HC",null,null,null,0]
["022503",2,{"$f":"+MIN(Contributo_cer[[#This Row],[Totale Immissione in rete]:[Totale Consumi rimanenti]])","v":0},"HC",null,null,null,0]
["022504",2,{"$f":"+MIN(Contributo_cer[[#This Row],[Totale Immissione in rete]:[Totale Consumi rimanenti]])","v":0},"HC",null,null,null,0]
["022505",2,{"$f":"+MIN(Contributo_cer[[#This Row],[Totale Immissione in rete]:[Totale Consumi rimanenti]])","v":0},"HC",null,null,null,0]
["022506",2,{"$f":"+MIN(Contributo_cer[[#This Row],[Totale Immissione in rete]:[Totale Consumi rimanenti]])","v":0},"HP",null,null,null,0]
["022507",2,{"$f":"+MIN(Contributo_cer[[#This Row],[Totale Immissione in rete]:[Totale Consumi rimanenti]])","v":0},"HP",null,null,null,0]
["022508",2,{"$f":"+MIN(Contributo_cer[[#This Row],[Totale Immissione in rete]:[Totale Consumi rimanenti]])","v":0},"HP",null,null,null,0]
["022509",2,{"$f":"+MIN(Contributo_cer[[#This Row],[Totale Immissione in rete]:[Totale Consumi rimanenti]])","v":0},"HP",null,null,null,0]
["022510",2,{"$f":"+MIN(Contributo_cer[[#This Row],[Totale Immissione in rete]:[Totale Consumi rimanenti]])","v":0},"HP",null,null,null,0]
["022511",2,{"$f":"+MIN(Contributo_cer[[#This Row],[Totale Immissione in rete]:[Totale Consumi rimanenti]])","v":0},"HP",null,null,null,0]
["022512",2,{"$f":"+MIN(Contributo_cer[[#This Row],[Totale Immissione in rete]:[Totale Consumi rimanenti]])","v":0},"HP",null,null,null,0]
["022513",2,{"$f":"+MIN(Contributo_cer[[#This Row],[Totale Immissione in rete]:[Totale Consumi rimanenti]])","v":0},"HP",null,null,null,0]
["022514",2,{"$f":"+MIN(Contributo_cer[[#This Row],[Totale Immissione in rete]:[Totale Consumi rimanenti]])","v":0},"HP",null,null,null,0]
["022515",2,{"$f":"+MIN(Contributo_cer[[#This Row],[Totale Immissione in rete]:[Totale Consumi rimanenti]])","v":0},"HP",null,null,null,0]
["022516",2,{"$f":"+MIN(Contributo_cer[[#This Row],[Totale Immissione in rete]:[Totale Consumi rimanenti]])","v":0},"HP",null,null,null,0]
["022517",2,{"$f":"+MIN(Contributo_cer[[#This Row],[Totale Immissione in rete]:[Totale Consumi rimanenti]])","v":0},"HP",null,null,null,0]
["022518",2,{"$f":"+MIN(Contributo_cer[[#This Row],[Totale Immissione in rete]:[Totale Consumi rimanenti]])","v":0},"HP",null,null,null,0]
["022519",2,{"$f":"+MIN(Contributo_cer[[#This Row],[Totale Immissione in rete]:[Totale Consumi rimanenti]])","v":0},"HP",null,null,null,0]
["022520",2,{"$f":"+MIN(Contributo_cer[[#This Row],[Totale Immissione in rete]:[Totale Consumi rimanenti]])","v":0},"HP",null,null,null,0]
["022521",2,{"$f":"+MIN(Contributo_cer[[#This Row],[Totale Immissione in rete]:[Totale Consumi rimanenti]])","v":0},"HP",null,null,null,0]
["022522",2,{"$f":"+MIN(Contributo_cer[[#This Row],[Totale Immissione in rete]:[Totale Consumi rimanenti]])","v":0},"HC",null,null,null,0]
["022523",2,{"$f":"+MIN(Contributo_cer[[#This Row],[Totale Immissione in rete]:[Totale Consumi rimanenti]])","v":0},"HC",null,null,null,0]
["022600",2,{"$f":"+MIN(Contributo_cer[[#This Row],[Totale Immissione in rete]:[Totale Consumi rimanenti]])","v":0},"HC",null,null,null,0]
["022601",2,{"$f":"+MIN(Contributo_cer[[#This Row],[Totale Immissione in rete]:[Totale Consumi rimanenti]])","v":0},"HC",null,null,null,0]
["022602",2,{"$f":"+MIN(Contributo_cer[[#This Row],[Totale Immissione in rete]:[Totale Consumi rimanenti]])","v":0},"HC",null,null,null,0]
["022603",2,{"$f":"+MIN(Contributo_cer[[#This Row],[Totale Immissione in rete]:[Totale Consumi rimanenti]])","v":0},"HC",null,null,null,0]
["022604",2,{"$f":"+MIN(Contributo_cer[[#This Row],[Totale Immissione in rete]:[Totale Consumi rimanenti]])","v":0},"HC",null,null,null,0]
["022605",2,{"$f":"+MIN(Contributo_cer[[#This Row],[Totale Immissione in rete]:[Totale Consumi rimanenti]])","v":0},"HC",null,null,null,0]
["022606",2,{"$f":"+MIN(Contributo_cer[[#This Row],[Totale Immissione in rete]:[Totale Consumi rimanenti]])","v":0},"HP",null,null,null,0]
["022607",2,{"$f":"+MIN(Contributo_cer[[#This Row],[Totale Immissione in rete]:[Totale Consumi rimanenti]])","v":0},"HP",null,null,null,0]
["022608",2,{"$f":"+MIN(Contributo_cer[[#This Row],[Totale Immissione in rete]:[Totale Consumi rimanenti]])","v":0},"HP",null,null,null,0]
["022609",2,{"$f":"+MIN(Contributo_cer[[#This Row],[Totale Immissione in rete]:[Totale Consumi rimanenti]])","v":0},"HP",null,null,null,0]
["022610",2,{"$f":"+MIN(Contributo_cer[[#This Row],[Totale Immissione in rete]:[Totale Consumi rimanenti]])","v":0},"HP",null,null,null,0]
["022611",2,{"$f":"+MIN(Contributo_cer[[#This Row],[Totale Immissione in rete]:[Totale Consumi rimanenti]])","v":0},"HP",null,null,null,0]
["022612",2,{"$f":"+MIN(Contributo_cer[[#This Row],[Totale Immissione in rete]:[Totale Consumi rimanenti]])","v":0},"HP",null,null,null,0]
["022613",2,{"$f":"+MIN(Contributo_cer[[#This Row],[Totale Immissione in rete]:[Totale Consumi rimanenti]])","v":0},"HP",null,null,null,0]
["022614",2,{"$f":"+MIN(Contributo_cer[[#This Row],[Totale Immissione in rete]:[Totale Consumi rimanenti]])","v":0},"HP",null,null,null,0]
["022615",2,{"$f":"+MIN(Contributo_cer[[#This Row],[Totale Immissione in rete]:[Totale Consumi rimanenti]])","v":0},"HP",null,null,null,0]
["022616",2,{"$f":"+MIN(Contributo_cer[[#This Row],[Totale Immissione in rete]:[Totale Consumi rimanenti]])","v":0},"HP",null,null,null,0]
["022617",2,{"$f":"+MIN(Contributo_cer[[#This Row],[Totale Immissione in rete]:[Totale Consumi rimanenti]])","v":0},"HP",null,null,null,0]
["022618",2,{"$f":"+MIN(Contributo_cer[[#This Row],[Totale Immissione in rete]:[Totale Consumi rimanenti]])","v":0},"HP",null,null,null,0]
["022619",2,{"$f":"+MIN(Contributo_cer[[#This Row],[Totale Immissione in rete]:[Totale Consumi rimanenti]])","v":0},"HP",null,null,null,0]
["022620",2,{"$f":"+MIN(Contributo_cer[[#This Row],[Totale Immissione in rete]:[Totale Consumi rimanenti]])","v":0},"HP",null,null,null,0]
["022621",2,{"$f":"+MIN(Contributo_cer[[#This Row],[Totale Immissione in rete]:[Totale Consumi rimanenti]])","v":0},"HP",null,null,null,0]
["022622",2,{"$f":"+MIN(Contributo_cer[[#This Row],[Totale Immissione in rete]:[Totale Consumi rimanenti]])","v":0},"HC",null,null,null,0]
["022623",2,{"$f":"+MIN(Contributo_cer[[#This Row],[Totale Immissione in rete]:[Totale Consumi rimanenti]])","v":0},"HC",null,null,null,0]
["022700",2,{"$f":"+MIN(Contributo_cer[[#This Row],[Totale Immissione in rete]:[Totale Consumi rimanenti]])","v":0},"HC",null,null,null,0]
["022701",2,{"$f":"+MIN(Contributo_cer[[#This Row],[Totale Immissione in rete]:[Totale Consumi rimanenti]])","v":0},"HC",null,null,null,0]
["022702",2,{"$f":"+MIN(Contributo_cer[[#This Row],[Totale Immissione in rete]:[Totale Consumi rimanenti]])","v":0},"HC",null,null,null,0]
["022703",2,{"$f":"+MIN(Contributo_cer[[#This Row],[Totale Immissione in rete]:[Totale Consumi rimanenti]])","v":0},"HC",null,null,null,0]
["022704",2,{"$f":"+MIN(Contributo_cer[[#This Row],[Totale Immissione in rete]:[Totale Consumi rimanenti]])","v":0},"HC",null,null,null,0]
["022705",2,{"$f":"+MIN(Contributo_cer[[#This Row],[Totale Immissione in rete]:[Totale Consumi rimanenti]])","v":0},"HC",null,null,null,0]
["022706",2,{"$f":"+MIN(Contributo_cer[[#This Row],[Totale Immissione in rete]:[Totale Consumi rimanenti]])","v":0},"HP",null,null,null,0]
["022707",2,{"$f":"+MIN(Contributo_cer[[#This Row],[Totale Immissione in rete]:[Totale Consumi rimanenti]])","v":0},"HP",null,null,null,0]
["022708",2,{"$f":"+MIN(Contributo_cer[[#This Row],[Totale Immissione in rete]:[Totale Consumi rimanenti]])","v":0},"HP",null,null,null,0]
["022709",2,{"$f":"+MIN(Contributo_cer[[#This Row],[Totale Immissione in rete]:[Totale Consumi rimanenti]])","v":0},"HP",null,null,null,0]
["022710",2,{"$f":"+MIN(Contributo_cer[[#This Row],[Totale Immissione in rete]:[Totale Consumi rimanenti]])","v":0},"HP",null,null,null,0]
["022711",2,{"$f":"+MIN(Contributo_cer[[#This Row],[Totale Immissione in rete]:[Totale Consumi rimanenti]])","v":0},"HP",null,null,null,0]
["022712",2,{"$f":"+MIN(Contributo_cer[[#This Row],[Totale Immissione in rete]:[Totale Consumi rimanenti]])","v":0},"HP",null,null,null,0]
["022713",2,{"$f":"+MIN(Contributo_cer[[#This Row],[Totale Immissione in rete]:[Totale Consumi rimanenti]])","v":0},"HP",null,null,null,0]
["022714",2,{"$f":"+MIN(Contributo_cer[[#This Row],[Totale Immissione in rete]:[Totale Consumi rimanenti]])","v":0},"HP",null,null,null,0]
["022715",2,{"$f":"+MIN(Contributo_cer[[#This Row],[Totale Immissione in rete]:[Totale Consumi rimanenti]])","v":0},"HP",null,null,null,0]
["022716",2,{"$f":"+MIN(Contributo_cer[[#This Row],[Totale Immissione in rete]:[Totale Consumi rimanenti]])","v":0},"HP",null,null,null,0]
["022717",2,{"$f":"+MIN(Contributo_cer[[#This Row],[Totale Immissione in rete]:[Totale Consumi rimanenti]])","v":0},"HP",null,null,null,0]
["022718",2,{"$f":"+MIN(Contributo_cer[[#This Row],[Totale Immissione in rete]:[Totale Consumi rimanenti]])","v":0},"HP",null,null,null,0]
["022719",2,{"$f":"+MIN(Contributo_cer[[#This Row],[Totale Immissione in rete]:[Totale Consumi rimanenti]])","v":0},"HP",null,null,null,0]
["022720",2,{"$f":"+MIN(Contributo_cer[[#This Row],[Totale Immissione in rete]:[Totale Consumi rimanenti]])","v":0},"HP",null,null,null,0]
["022721",2,{"$f":"+MIN(Contributo_cer[[#This Row],[Totale Immissione in rete]:[Totale Consumi rimanenti]])","v":0},"HP",null,null,null,0]
["022722",2,{"$f":"+MIN(Contributo_cer[[#This Row],[Totale Immissione in rete]:[Totale Consumi rimanenti]])","v":0},"HC",null,null,null,0]
["022723",2,{"$f":"+MIN(Contributo_cer[[#This Row],[Totale Immissione in rete]:[Totale Consumi rimanenti]])","v":0},"HC",null,null,null,0]
["022800",2,{"$f":"+MIN(Contributo_cer[[#This Row],[Totale Immissione in rete]:[Totale Consumi rimanenti]])","v":0},"HC",null,null,null,0]
["022801",2,{"$f":"+MIN(Contributo_cer[[#This Row],[Totale Immissione in rete]:[Totale Consumi rimanenti]])","v":0},"HC",null,null,null,0]
["022802",2,{"$f":"+MIN(Contributo_cer[[#This Row],[Totale Immissione in rete]:[Totale Consumi rimanenti]])","v":0},"HC",null,null,null,0]
["022803",2,{"$f":"+MIN(Contributo_cer[[#This Row],[Totale Immissione in rete]:[Totale Consumi rimanenti]])","v":0},"HC",null,null,null,0]
["022804",2,{"$f":"+MIN(Contributo_cer[[#This Row],[Totale Immissione in rete]:[Totale Consumi rimanenti]])","v":0},"HC",null,null,null,0]
["022805",2,{"$f":"+MIN(Contributo_cer[[#This Row],[Totale Immissione in rete]:[Totale Consumi rimanenti]])","v":0},"HC",null,null,null,0]
["022806",2,{"$f":"+MIN(Contributo_cer[[#This Row],[Totale Immissione in rete]:[Totale Consumi rimanenti]])","v":0},"HP",null,null,null,0]
["022807",2,{"$f":"+MIN(Contributo_cer[[#This Row],[Totale Immissione in rete]:[Totale Consumi rimanenti]])","v":0},"HP",null,null,null,0]
["022808",2,{"$f":"+MIN(Contributo_cer[[#This Row],[Totale Immissione in rete]:[Totale Consumi rimanenti]])","v":0},"HP",null,null,null,0]
["022809",2,{"$f":"+MIN(Contributo_cer[[#This Row],[Totale Immissione in rete]:[Totale Consumi rimanenti]])","v":0},"HP",null,null,null,0]
["022810",2,{"$f":"+MIN(Contributo_cer[[#This Row],[Totale Immissione in rete]:[Totale Consumi rimanenti]])","v":0},"HP",null,null,null,0]
["022811",2,{"$f":"+MIN(Contributo_cer[[#This Row],[Totale Immissione in rete]:[Totale Consumi rimanenti]])","v":0},"HP",null,null,null,0]
["022812",2,{"$f":"+MIN(Contributo_cer[[#This Row],[Totale Immissione in rete]:[Totale Consumi rimanenti]])","v":0},"HP",null,null,null,0]
["022813",2,{"$f":"+MIN(Contributo_cer[[#This Row],[Totale Immissione in rete]:[Totale Consumi rimanenti]])","v":0},"HP",null,null,null,0]
["022814",2,{"$f":"+MIN(Contributo_cer[[#This Row],[Totale Immissione in rete]:[Totale Consumi rimanenti]])","v":0},"HP",null,null,null,0]
["022815",2,{"$f":"+MIN(Contributo_cer[[#This Row],[Totale Immissione in rete]:[Totale Consumi rimanenti]])","v":0},"HP",null,null,null,0]
["022816",2,{"$f":"+MIN(Contributo_cer[[#This Row],[Totale Immissione in rete]:[Totale Consumi rimanenti]])","v":0},"HP",null,null,null,0]
["022817",2,{"$f":"+MIN(Contributo_cer[[#This Row],[Totale Immissione in rete]:[Totale Consumi rimanenti]])","v":0},"HP",null,null,null,0]
["022818",2,{"$f":"+MIN(Contributo_cer[[#This Row],[Totale Immissione in rete]:[Totale Consumi rimanenti]])","v":0},"HP",null,null,null,0]
["022819",2,{"$f":"+MIN(Contributo_cer[[#This Row],[Totale Immissione in rete]:[Totale Consumi rimanenti]])","v":0},"HP",null,null,null,0]
["022820",2,{"$f":"+MIN(Contributo_cer[[#This Row],[Totale Immissione in rete]:[Totale Consumi rimanenti]])","v":0},"HP",null,null,null,0]
["022821",2,{"$f":"+MIN(Contributo_cer[[#This Row],[Totale Immissione in rete]:[Totale Consumi rimanenti]])","v":0},"HP",null,null,null,0]
["022822",2,{"$f":"+MIN(Contributo_cer[[#This Row],[Totale Immissione in rete]:[Totale Consumi rimanenti]])","v":0},"HC",null,null,null,0]
["022823",2,{"$f":"+MIN(Contributo_cer[[#This Row],[Totale Immissione in rete]:[Totale Consumi rimanenti]])","v":0},"HC",null,null,null,0]
["030100",3,{"$f":"+MIN(Contributo_cer[[#This Row],[Totale Immissione in rete]:[Totale Consumi rimanenti]])","v":0},"HC",null,null,null,0]
["030101",3,{"$f":"+MIN(Contributo_cer[[#This Row],[Totale Immissione in rete]:[Totale Consumi rimanenti]])","v":0},"HC",null,null,null,0]
["030102",3,{"$f":"+MIN(Contributo_cer[[#This Row],[Totale Immissione in rete]:[Totale Consumi rimanenti]])","v":0},"HC",null,null,null,0]
["030103",3,{"$f":"+MIN(Contributo_cer[[#This Row],[Totale Immissione in rete]:[Totale Consumi rimanenti]])","v":0},"HC",null,null,null,0]
["030104",3,{"$f":"+MIN(Contributo_cer[[#This Row],[Totale Immissione in rete]:[Totale Consumi rimanenti]])","v":0},"HC",null,null,null,0]
["030105",3,{"$f":"+MIN(Contributo_cer[[#This Row],[Totale Immissione in rete]:[Totale Consumi rimanenti]])","v":0},"HC",null,null,null,0]
["030106",3,{"$f":"+MIN(Contributo_cer[[#This Row],[Totale Immissione in rete]:[Totale Consumi rimanenti]])","v":0},"HP",null,null,null,0]
["030107",3,{"$f":"+MIN(Contributo_cer[[#This Row],[Totale Immissione in rete]:[Totale Consumi rimanenti]])","v":0},"HP",null,null,null,0]
["030108",3,{"$f":"+MIN(Contributo_cer[[#This Row],[Totale Immissione in rete]:[Totale Consumi rimanenti]])","v":0},"HP",null,null,null,0]
["030109",3,{"$f":"+MIN(Contributo_cer[[#This Row],[Totale Immissione in rete]:[Totale Consumi rimanenti]])","v":0},"HP",null,null,null,0]
["030110",3,{"$f":"+MIN(Contributo_cer[[#This Row],[Totale Immissione in rete]:[Totale Consumi rimanenti]])","v":0},"HP",null,null,null,0]
["030111",3,{"$f":"+MIN(Contributo_cer[[#This Row],[Totale Immissione in rete]:[Totale Consumi rimanenti]])","v":0},"HP",null,null,null,0]
["030112",3,{"$f":"+MIN(Contributo_cer[[#This Row],[Totale Immissione in rete]:[Totale Consumi rimanenti]])","v":0},"HP",null,null,null,0]
["030113",3,{"$f":"+MIN(Contributo_cer[[#This Row],[Totale Immissione in rete]:[Totale Consumi rimanenti]])","v":0},"HP",null,null,null,0]
["030114",3,{"$f":"+MIN(Contributo_cer[[#This Row],[Totale Immissione in rete]:[Totale Consumi rimanenti]])","v":0},"HP",null,null,null,0]
["030115",3,{"$f":"+MIN(Contributo_cer[[#This Row],[Totale Immissione in rete]:[Totale Consumi rimanenti]])","v":0},"HP",null,null,null,0]
["030116",3,{"$f":"+MIN(Contributo_cer[[#This Row],[Totale Immissione in rete]:[Totale Consumi rimanenti]])","v":0},"HP",null,null,null,0]
["030117",3,{"$f":"+MIN(Contributo_cer[[#This Row],[Totale Immissione in rete]:[Totale Consumi rimanenti]])","v":0},"HP",null,null,null,0]
["030118",3,{"$f":"+MIN(Contributo_cer[[#This Row],[Totale Immissione in rete]:[Totale Consumi rimanenti]])","v":0},"HP",null,null,null,0]
["030119",3,{"$f":"+MIN(Contributo_cer[[#This Row],[Totale Immissione in rete]:[Totale Consumi rimanenti]])","v":0},"HP",null,null,null,0]
["030120",3,{"$f":"+MIN(Contributo_cer[[#This Row],[Totale Immissione in rete]:[Totale Consumi rimanenti]])","v":0},"HP",null,null,null,0]
["030121",3,{"$f":"+MIN(Contributo_cer[[#This Row],[Totale Immissione in rete]:[Totale Consumi rimanenti]])","v":0},"HP",null,null,null,0]
["030122",3,{"$f":"+MIN(Contributo_cer[[#This Row],[Totale Immissione in rete]:[Totale Consumi rimanenti]])","v":0},"HC",null,null,null,0]
["030123",3,{"$f":"+MIN(Contributo_cer[[#This Row],[Totale Immissione in rete]:[Totale Consumi rimanenti]])","v":0},"HC",null,null,null,0]
["030200",3,{"$f":"+MIN(Contributo_cer[[#This Row],[Totale Immissione in rete]:[Totale Consumi rimanenti]])","v":0},"HC",null,null,null,0]
["030201",3,{"$f":"+MIN(Contributo_cer[[#This Row],[Totale Immissione in rete]:[Totale Consumi rimanenti]])","v":0},"HC",null,null,null,0]
["030202",3,{"$f":"+MIN(Contributo_cer[[#This Row],[Totale Immissione in rete]:[Totale Consumi rimanenti]])","v":0},"HC",null,null,null,0]
["030203",3,{"$f":"+MIN(Contributo_cer[[#This Row],[Totale Immissione in rete]:[Totale Consumi rimanenti]])","v":0},"HC",null,null,null,0]
["030204",3,{"$f":"+MIN(Contributo_cer[[#This Row],[Totale Immissione in rete]:[Totale Consumi rimanenti]])","v":0},"HC",null,null,null,0]
["030205",3,{"$f":"+MIN(Contributo_cer[[#This Row],[Totale Immissione in rete]:[Totale Consumi rimanenti]])","v":0},"HC",null,null,null,0]
["030206",3,{"$f":"+MIN(Contributo_cer[[#This Row],[Totale Immissione in rete]:[Totale Consumi rimanenti]])","v":0},"HP",null,null,null,0]
["030207",3,{"$f":"+MIN(Contributo_cer[[#This Row],[Totale Immissione in rete]:[Totale Consumi rimanenti]])","v":0},"HP",null,null,null,0]
["030208",3,{"$f":"+MIN(Contributo_cer[[#This Row],[Totale Immissione in rete]:[Totale Consumi rimanenti]])","v":0},"HP",null,null,null,0]
["030209",3,{"$f":"+MIN(Contributo_cer[[#This Row],[Totale Immissione in rete]:[Totale Consumi rimanenti]])","v":0},"HP",null,null,null,0]
["030210",3,{"$f":"+MIN(Contributo_cer[[#This Row],[Totale Immissione in rete]:[Totale Consumi rimanenti]])","v":0},"HP",null,null,null,0]
["030211",3,{"$f":"+MIN(Contributo_cer[[#This Row],[Totale Immissione in rete]:[Totale Consumi rimanenti]])","v":0},"HP",null,null,null,0]
["030212",3,{"$f":"+MIN(Contributo_cer[[#This Row],[Totale Immissione in rete]:[Totale Consumi rimanenti]])","v":0},"HP",null,null,null,0]
["030213",3,{"$f":"+MIN(Contributo_cer[[#This Row],[Totale Immissione in rete]:[Totale Consumi rimanenti]])","v":0},"HP",null,null,null,0]
["030214",3,{"$f":"+MIN(Contributo_cer[[#This Row],[Totale Immissione in rete]:[Totale Consumi rimanenti]])","v":0},"HP",null,null,null,0]
["030215",3,{"$f":"+MIN(Contributo_cer[[#This Row],[Totale Immissione in rete]:[Totale Consumi rimanenti]])","v":0},"HP",null,null,null,0]
["030216",3,{"$f":"+MIN(Contributo_cer[[#This Row],[Totale Immissione in rete]:[Totale Consumi rimanenti]])","v":0},"HP",null,null,null,0]
["030217",3,{"$f":"+MIN(Contributo_cer[[#This Row],[Totale Immissione in rete]:[Totale Consumi rimanenti]])","v":0},"HP",null,null,null,0]
["030218",3,{"$f":"+MIN(Contributo_cer[[#This Row],[Totale Immissione in rete]:[Totale Consumi rimanenti]])","v":0},"HP",null,null,null,0]
["030219",3,{"$f":"+MIN(Contributo_cer[[#This Row],[Totale Immissione in rete]:[Totale Consumi rimanenti]])","v":0},"HP",null,null,null,0]
["030220",3,{"$f":"+MIN(Contributo_cer[[#This Row],[Totale Immissione in rete]:[Totale Consumi rimanenti]])","v":0},"HP",null,null,null,0]
["030221",3,{"$f":"+MIN(Contributo_cer[[#This Row],[Totale Immissione in rete]:[Totale Consumi rimanenti]])","v":0},"HP",null,null,null,0]
["030222",3,{"$f":"+MIN(Contributo_cer[[#This Row],[Totale Immissione in rete]:[Totale Consumi rimanenti]])","v":0},"HC",null,null,null,0]
["030223",3,{"$f":"+MIN(Contributo_cer[[#This Row],[Totale Immissione in rete]:[Totale Consumi rimanenti]])","v":0},"HC",null,null,null,0]
["030300",3,{"$f":"+MIN(Contributo_cer[[#This Row],[Totale Immissione in rete]:[Totale Consumi rimanenti]])","v":0},"HC",null,null,null,0]
["030301",3,{"$f":"+MIN(Contributo_cer[[#This Row],[Totale Immissione in rete]:[Totale Consumi rimanenti]])","v":0},"HC",null,null,null,0]
["030302",3,{"$f":"+MIN(Contributo_cer[[#This Row],[Totale Immissione in rete]:[Totale Consumi rimanenti]])","v":0},"HC",null,null,null,0]
["030303",3,{"$f":"+MIN(Contributo_cer[[#This Row],[Totale Immissione in rete]:[Totale Consumi rimanenti]])","v":0},"HC",null,null,null,0]
["030304",3,{"$f":"+MIN(Contributo_cer[[#This Row],[Totale Immissione in rete]:[Totale Consumi rimanenti]])","v":0},"HC",null,null,null,0]
["030305",3,{"$f":"+MIN(Contributo_cer[[#This Row],[Totale Immissione in rete]:[Totale Consumi rimanenti]])","v":0},"HC",null,null,null,0]
["030306",3,{"$f":"+MIN(Contributo_cer[[#This Row],[Totale Immissione in rete]:[Totale Consumi rimanenti]])","v":0},"HP",null,null,null,0]
["030307",3,{"$f":"+MIN(Contributo_cer[[#This Row],[Totale Immissione in rete]:[Totale Consumi rimanenti]])","v":0},"HP",null,null,null,0]
["030308",3,{"$f":"+MIN(Contributo_cer[[#This Row],[Totale Immissione in rete]:[Totale Consumi rimanenti]])","v":0},"HP",null,null,null,0]
["030309",3,{"$f":"+MIN(Contributo_cer[[#This Row],[Totale Immissione in rete]:[Totale Consumi rimanenti]])","v":0},"HP",null,null,null,0]
["030310",3,{"$f":"+MIN(Contributo_cer[[#This Row],[Totale Immissione in rete]:[Totale Consumi rimanenti]])","v":0},"HP",null,null,null,0]
["030311",3,{"$f":"+MIN(Contributo_cer[[#This Row],[Totale Immissione in rete]:[Totale Consumi rimanenti]])","v":0},"HP",null,null,null,0]
["030312",3,{"$f":"+MIN(Contributo_cer[[#This Row],[Totale Immissione in rete]:[Totale Consumi rimanenti]])","v":0},"HP",null,null,null,0]
["030313",3,{"$f":"+MIN(Contributo_cer[[#This Row],[Totale Immissione in rete]:[Totale Consumi rimanenti]])","v":0},"HP",null,null,null,0]
["030314",3,{"$f":"+MIN(Contributo_cer[[#This Row],[Totale Immissione in rete]:[Totale Consumi rimanenti]])","v":0},"HP",null,null,null,0]
["030315",3,{"$f":"+MIN(Contributo_cer[[#This Row],[Totale Immissione in rete]:[Totale Consumi rimanenti]])","v":0},"HP",null,null,null,0]
["030316",3,{"$f":"+MIN(Contributo_cer[[#This Row],[Totale Immissione in rete]:[Totale Consumi rimanenti]])","v":0},"HP",null,null,null,0]
["030317",3,{"$f":"+MIN(Contributo_cer[[#This Row],[Totale Immissione in rete]:[Totale Consumi rimanenti]])","v":0},"HP",null,null,null,0]
["030318",3,{"$f":"+MIN(Contributo_cer[[#This Row],[Totale Immissione in rete]:[Totale Consumi rimanenti]])","v":0},"HP",null,null,null,0]
["030319",3,{"$f":"+MIN(Contributo_cer[[#This Row],[Totale Immissione in rete]:[Totale Consumi rimanenti]])","v":0},"HP",null,null,null,0]
["030320",3,{"$f":"+MIN(Contributo_cer[[#This Row],[Totale Immissione in rete]:[Totale Consumi rimanenti]])","v":0},"HP",null,null,null,0]
["030321",3,{"$f":"+MIN(Contributo_cer[[#This Row],[Totale Immissione in rete]:[Totale Consumi rimanenti]])","v":0},"HP",null,null,null,0]
["030322",3,{"$f":"+MIN(Contributo_cer[[#This Row],[Totale Immissione in rete]:[Totale Consumi rimanenti]])","v":0},"HC",null,null,null,0]
["030323",3,{"$f":"+MIN(Contributo_cer[[#This Row],[Totale Immissione in rete]:[Totale Consumi rimanenti]])","v":0},"HC",null,null,null,0]
["030400",3,{"$f":"+MIN(Contributo_cer[[#This Row],[Totale Immissione in rete]:[Totale Consumi rimanenti]])","v":0},"HC",null,null,null,0]
["030401",3,{"$f":"+MIN(Contributo_cer[[#This Row],[Totale Immissione in rete]:[Totale Consumi rimanenti]])","v":0},"HC",null,null,null,0]
["030402",3,{"$f":"+MIN(Contributo_cer[[#This Row],[Totale Immissione in rete]:[Totale Consumi rimanenti]])","v":0},"HC",null,null,null,0]
["030403",3,{"$f":"+MIN(Contributo_cer[[#This Row],[Totale Immissione in rete]:[Totale Consumi rimanenti]])","v":0},"HC",null,null,null,0]
["030404",3,{"$f":"+MIN(Contributo_cer[[#This Row],[Totale Immissione in rete]:[Totale Consumi rimanenti]])","v":0},"HC",null,null,null,0]
["030405",3,{"$f":"+MIN(Contributo_cer[[#This Row],[Totale Immissione in rete]:[Totale Consumi rimanenti]])","v":0},"HC",null,null,null,0]
["030406",3,{"$f":"+MIN(Contributo_cer[[#This Row],[Totale Immissione in rete]:[Totale Consumi rimanenti]])","v":0},"HP",null,null,null,0]
["030407",3,{"$f":"+MIN(Contributo_cer[[#This Row],[Totale Immissione in rete]:[Totale Consumi rimanenti]])","v":0},"HP",null,null,null,0]
["030408",3,{"$f":"+MIN(Contributo_cer[[#This Row],[Totale Immissione in rete]:[Totale Consumi rimanenti]])","v":0},"HP",null,null,null,0]
["030409",3,{"$f":"+MIN(Contributo_cer[[#This Row],[Totale Immissione in rete]:[Totale Consumi rimanenti]])","v":0},"HP",null,null,null,0]
["030410",3,{"$f":"+MIN(Contributo_cer[[#This Row],[Totale Immissione in rete]:[Totale Consumi rimanenti]])","v":0},"HP",null,null,null,0]
["030411",3,{"$f":"+MIN(Contributo_cer[[#This Row],[Totale Immissione in rete]:[Totale Consumi rimanenti]])","v":0},"HP",null,null,null,0]
["030412",3,{"$f":"+MIN(Contributo_cer[[#This Row],[Totale Immissione in rete]:[Totale Consumi rimanenti]])","v":0},"HP",null,null,null,0]
["030413",3,{"$f":"+MIN(Contributo_cer[[#This Row],[Totale Immissione in rete]:[Totale Consumi rimanenti]])","v":0},"HP",null,null,null,0]
["030414",3,{"$f":"+MIN(Contributo_cer[[#This Row],[Totale Immissione in rete]:[Totale Consumi rimanenti]])","v":0},"HP",null,null,null,0]
["030415",3,{"$f":"+MIN(Contributo_cer[[#This Row],[Totale Immissione in rete]:[Totale Consumi rimanenti]])","v":0},"HP",null,null,null,0]
["030416",3,{"$f":"+MIN(Contributo_cer[[#This Row],[Totale Immissione in rete]:[Totale Consumi rimanenti]])","v":0},"HP",null,null,null,0]
["030417",3,{"$f":"+MIN(Contributo_cer[[#This Row],[Totale Immissione in rete]:[Totale Consumi rimanenti]])","v":0},"HP",null,null,null,0]
["030418",3,{"$f":"+MIN(Contributo_cer[[#This Row],[Totale Immissione in rete]:[Totale Consumi rimanenti]])","v":0},"HP",null,null,null,0]
["030419",3,{"$f":"+MIN(Contributo_cer[[#This Row],[Totale Immissione in rete]:[Totale Consumi rimanenti]])","v":0},"HP",null,null,null,0]
["030420",3,{"$f":"+MIN(Contributo_cer[[#This Row],[Totale Immissione in rete]:[Totale Consumi rimanenti]])","v":0},"HP",null,null,null,0]
["030421",3,{"$f":"+MIN(Contributo_cer[[#This Row],[Totale Immissione in rete]:[Totale Consumi rimanenti]])","v":0},"HP",null,null,null,0]
["030422",3,{"$f":"+MIN(Contributo_cer[[#This Row],[Totale Immissione in rete]:[Totale Consumi rimanenti]])","v":0},"HC",null,null,null,0]
["030423",3,{"$f":"+MIN(Contributo_cer[[#This Row],[Totale Immissione in rete]:[Totale Consumi rimanenti]])","v":0},"HC",null,null,null,0]
["030500",3,{"$f":"+MIN(Contributo_cer[[#This Row],[Totale Immissione in rete]:[Totale Consumi rimanenti]])","v":0},"HC",null,null,null,0]
["030501",3,{"$f":"+MIN(Contributo_cer[[#This Row],[Totale Immissione in rete]:[Totale Consumi rimanenti]])","v":0},"HC",null,null,null,0]
["030502",3,{"$f":"+MIN(Contributo_cer[[#This Row],[Totale Immissione in rete]:[Totale Consumi rimanenti]])","v":0},"HC",null,null,null,0]
["030503",3,{"$f":"+MIN(Contributo_cer[[#This Row],[Totale Immissione in rete]:[Totale Consumi rimanenti]])","v":0},"HC",null,null,null,0]
["030504",3,{"$f":"+MIN(Contributo_cer[[#This Row],[Totale Immissione in rete]:[Totale Consumi rimanenti]])","v":0},"HC",null,null,null,0]
["030505",3,{"$f":"+MIN(Contributo_cer[[#This Row],[Totale Immissione in rete]:[Totale Consumi rimanenti]])","v":0},"HC",null,null,null,0]
["030506",3,{"$f":"+MIN(Contributo_cer[[#This Row],[Totale Immissione in rete]:[Totale Consumi rimanenti]])","v":0},"HP",null,null,null,0]
["030507",3,{"$f":"+MIN(Contributo_cer[[#This Row],[Totale Immissione in rete]:[Totale Consumi rimanenti]])","v":0},"HP",null,null,null,0]
["030508",3,{"$f":"+MIN(Contributo_cer[[#This Row],[Totale Immissione in rete]:[Totale Consumi rimanenti]])","v":0},"HP",null,null,null,0]
["030509",3,{"$f":"+MIN(Contributo_cer[[#This Row],[Totale Immissione in rete]:[Totale Consumi rimanenti]])","v":0},"HP",null,null,null,0]
["030510",3,{"$f":"+MIN(Contributo_cer[[#This Row],[Totale Immissione in rete]:[Totale Consumi rimanenti]])","v":0},"HP",null,null,null,0]
["030511",3,{"$f":"+MIN(Contributo_cer[[#This Row],[Totale Immissione in rete]:[Totale Consumi rimanenti]])","v":0},"HP",null,null,null,0]
["030512",3,{"$f":"+MIN(Contributo_cer[[#This Row],[Totale Immissione in rete]:[Totale Consumi rimanenti]])","v":0},"HP",null,null,null,0]
["030513",3,{"$f":"+MIN(Contributo_cer[[#This Row],[Totale Immissione in rete]:[Totale Consumi rimanenti]])","v":0},"HP",null,null,null,0]
["030514",3,{"$f":"+MIN(Contributo_cer[[#This Row],[Totale Immissione in rete]:[Totale Consumi rimanenti]])","v":0},"HP",null,null,null,0]
["030515",3,{"$f":"+MIN(Contributo_cer[[#This Row],[Totale Immissione in rete]:[Totale Consumi rimanenti]])","v":0},"HP",null,null,null,0]
["030516",3,{"$f":"+MIN(Contributo_cer[[#This Row],[Totale Immissione in rete]:[Totale Consumi rimanenti]])","v":0},"HP",null,null,null,0]
["030517",3,{"$f":"+MIN(Contributo_cer[[#This Row],[Totale Immissione in rete]:[Totale Consumi rimanenti]])","v":0},"HP",null,null,null,0]
["030518",3,{"$f":"+MIN(Contributo_cer[[#This Row],[Totale Immissione in rete]:[Totale Consumi rimanenti]])","v":0},"HP",null,null,null,0]
["030519",3,{"$f":"+MIN(Contributo_cer[[#This Row],[Totale Immissione in rete]:[Totale Consumi rimanenti]])","v":0},"HP",null,null,null,0]
["030520",3,{"$f":"+MIN(Contributo_cer[[#This Row],[Totale Immissione in rete]:[Totale Consumi rimanenti]])","v":0},"HP",null,null,null,0]
["030521",3,{"$f":"+MIN(Contributo_cer[[#This Row],[Totale Immissione in rete]:[Totale Consumi rimanenti]])","v":0},"HP",null,null,null,0]
["030522",3,{"$f":"+MIN(Contributo_cer[[#This Row],[Totale Immissione in rete]:[Totale Consumi rimanenti]])","v":0},"HC",null,null,null,0]
["030523",3,{"$f":"+MIN(Contributo_cer[[#This Row],[Totale Immissione in rete]:[Totale Consumi rimanenti]])","v":0},"HC",null,null,null,0]
["030600",3,{"$f":"+MIN(Contributo_cer[[#This Row],[Totale Immissione in rete]:[Totale Consumi rimanenti]])","v":0},"HC",null,null,null,0]
["030601",3,{"$f":"+MIN(Contributo_cer[[#This Row],[Totale Immissione in rete]:[Totale Consumi rimanenti]])","v":0},"HC",null,null,null,0]
["030602",3,{"$f":"+MIN(Contributo_cer[[#This Row],[Totale Immissione in rete]:[Totale Consumi rimanenti]])","v":0},"HC",null,null,null,0]
["030603",3,{"$f":"+MIN(Contributo_cer[[#This Row],[Totale Immissione in rete]:[Totale Consumi rimanenti]])","v":0},"HC",null,null,null,0]
["030604",3,{"$f":"+MIN(Contributo_cer[[#This Row],[Totale Immissione in rete]:[Totale Consumi rimanenti]])","v":0},"HC",null,null,null,0]
["030605",3,{"$f":"+MIN(Contributo_cer[[#This Row],[Totale Immissione in rete]:[Totale Consumi rimanenti]])","v":0},"HC",null,null,null,0]
["030606",3,{"$f":"+MIN(Contributo_cer[[#This Row],[Totale Immissione in rete]:[Totale Consumi rimanenti]])","v":0},"HP",null,null,null,0]
["030607",3,{"$f":"+MIN(Contributo_cer[[#This Row],[Totale Immissione in rete]:[Totale Consumi rimanenti]])","v":0},"HP",null,null,null,0]
["030608",3,{"$f":"+MIN(Contributo_cer[[#This Row],[Totale Immissione in rete]:[Totale Consumi rimanenti]])","v":0},"HP",null,null,null,0]
["030609",3,{"$f":"+MIN(Contributo_cer[[#This Row],[Totale Immissione in rete]:[Totale Consumi rimanenti]])","v":0},"HP",null,null,null,0]
["030610",3,{"$f":"+MIN(Contributo_cer[[#This Row],[Totale Immissione in rete]:[Totale Consumi rimanenti]])","v":0},"HP",null,null,null,0]
["030611",3,{"$f":"+MIN(Contributo_cer[[#This Row],[Totale Immissione in rete]:[Totale Consumi rimanenti]])","v":0},"HP",null,null,null,0]
["030612",3,{"$f":"+MIN(Contributo_cer[[#This Row],[Totale Immissione in rete]:[Totale Consumi rimanenti]])","v":0},"HP",null,null,null,0]
["030613",3,{"$f":"+MIN(Contributo_cer[[#This Row],[Totale Immissione in rete]:[Totale Consumi rimanenti]])","v":0},"HP",null,null,null,0]
["030614",3,{"$f":"+MIN(Contributo_cer[[#This Row],[Totale Immissione in rete]:[Totale Consumi rimanenti]])","v":0},"HP",null,null,null,0]
["030615",3,{"$f":"+MIN(Contributo_cer[[#This Row],[Totale Immissione in rete]:[Totale Consumi rimanenti]])","v":0},"HP",null,null,null,0]
["030616",3,{"$f":"+MIN(Contributo_cer[[#This Row],[Totale Immissione in rete]:[Totale Consumi rimanenti]])","v":0},"HP",null,null,null,0]
["030617",3,{"$f":"+MIN(Contributo_cer[[#This Row],[Totale Immissione in rete]:[Totale Consumi rimanenti]])","v":0},"HP",null,null,null,0]
["030618",3,{"$f":"+MIN(Contributo_cer[[#This Row],[Totale Immissione in rete]:[Totale Consumi rimanenti]])","v":0},"HP",null,null,null,0]
["030619",3,{"$f":"+MIN(Contributo_cer[[#This Row],[Totale Immissione in rete]:[Totale Consumi rimanenti]])","v":0},"HP",null,null,null,0]
["030620",3,{"$f":"+MIN(Contributo_cer[[#This Row],[Totale Immissione in rete]:[Totale Consumi rimanenti]])","v":0},"HP",null,null,null,0]
["030621",3,{"$f":"+MIN(Contributo_cer[[#This Row],[Totale Immissione in rete]:[Totale Consumi rimanenti]])","v":0},"HP",null,null,null,0]
["030622",3,{"$f":"+MIN(Contributo_cer[[#This Row],[Totale Immissione in rete]:[Totale Consumi rimanenti]])","v":0},"HC",null,null,null,0]
["030623",3,{"$f":"+MIN(Contributo_cer[[#This Row],[Totale Immissione in rete]:[Totale Consumi rimanenti]])","v":0},"HC",null,null,null,0]
["030700",3,{"$f":"+MIN(Contributo_cer[[#This Row],[Totale Immissione in rete]:[Totale Consumi rimanenti]])","v":0},"HC",null,null,null,0]
["030701",3,{"$f":"+MIN(Contributo_cer[[#This Row],[Totale Immissione in rete]:[Totale Consumi rimanenti]])","v":0},"HC",null,null,null,0]
["030702",3,{"$f":"+MIN(Contributo_cer[[#This Row],[Totale Immissione in rete]:[Totale Consumi rimanenti]])","v":0},"HC",null,null,null,0]
["030703",3,{"$f":"+MIN(Contributo_cer[[#This Row],[Totale Immissione in rete]:[Totale Consumi rimanenti]])","v":0},"HC",null,null,null,0]
["030704",3,{"$f":"+MIN(Contributo_cer[[#This Row],[Totale Immissione in rete]:[Totale Consumi rimanenti]])","v":0},"HC",null,null,null,0]
["030705",3,{"$f":"+MIN(Contributo_cer[[#This Row],[Totale Immissione in rete]:[Totale Consumi rimanenti]])","v":0},"HC",null,null,null,0]
["030706",3,{"$f":"+MIN(Contributo_cer[[#This Row],[Totale Immissione in rete]:[Totale Consumi rimanenti]])","v":0},"HP",null,null,null,0]
["030707",3,{"$f":"+MIN(Contributo_cer[[#This Row],[Totale Immissione in rete]:[Totale Consumi rimanenti]])","v":0},"HP",null,null,null,0]
["030708",3,{"$f":"+MIN(Contributo_cer[[#This Row],[Totale Immissione in rete]:[Totale Consumi rimanenti]])","v":0},"HP",null,null,null,0]
["030709",3,{"$f":"+MIN(Contributo_cer[[#This Row],[Totale Immissione in rete]:[Totale Consumi rimanenti]])","v":0},"HP",null,null,null,0]
["030710",3,{"$f":"+MIN(Contributo_cer[[#This Row],[Totale Immissione in rete]:[Totale Consumi rimanenti]])","v":0},"HP",null,null,null,0]
["030711",3,{"$f":"+MIN(Contributo_cer[[#This Row],[Totale Immissione in rete]:[Totale Consumi rimanenti]])","v":0},"HP",null,null,null,0]
["030712",3,{"$f":"+MIN(Contributo_cer[[#This Row],[Totale Immissione in rete]:[Totale Consumi rimanenti]])","v":0},"HP",null,null,null,0]
["030713",3,{"$f":"+MIN(Contributo_cer[[#This Row],[Totale Immissione in rete]:[Totale Consumi rimanenti]])","v":0},"HP",null,null,null,0]
["030714",3,{"$f":"+MIN(Contributo_cer[[#This Row],[Totale Immissione in rete]:[Totale Consumi rimanenti]])","v":0},"HP",null,null,null,0]
["030715",3,{"$f":"+MIN(Contributo_cer[[#This Row],[Totale Immissione in rete]:[Totale Consumi rimanenti]])","v":0},"HP",null,null,null,0]
["030716",3,{"$f":"+MIN(Contributo_cer[[#This Row],[Totale Immissione in rete]:[Totale Consumi rimanenti]])","v":0},"HP",null,null,null,0]
["030717",3,{"$f":"+MIN(Contributo_cer[[#This Row],[Totale Immissione in rete]:[Totale Consumi rimanenti]])","v":0},"HP",null,null,null,0]
["030718",3,{"$f":"+MIN(Contributo_cer[[#This Row],[Totale Immissione in rete]:[Totale Consumi rimanenti]])","v":0},"HP",null,null,null,0]
["030719",3,{"$f":"+MIN(Contributo_cer[[#This Row],[Totale Immissione in rete]:[Totale Consumi rimanenti]])","v":0},"HP",null,null,null,0]
["030720",3,{"$f":"+MIN(Contributo_cer[[#This Row],[Totale Immissione in rete]:[Totale Consumi rimanenti]])","v":0},"HP",null,null,null,0]
["030721",3,{"$f":"+MIN(Contributo_cer[[#This Row],[Totale Immissione in rete]:[Totale Consumi rimanenti]])","v":0},"HP",null,null,null,0]
["030722",3,{"$f":"+MIN(Contributo_cer[[#This Row],[Totale Immissione in rete]:[Totale Consumi rimanenti]])","v":0},"HC",null,null,null,0]
["030723",3,{"$f":"+MIN(Contributo_cer[[#This Row],[Totale Immissione in rete]:[Totale Consumi rimanenti]])","v":0},"HC",null,null,null,0]
["030800",3,{"$f":"+MIN(Contributo_cer[[#This Row],[Totale Immissione in rete]:[Totale Consumi rimanenti]])","v":0},"HC",null,null,null,0]
["030801",3,{"$f":"+MIN(Contributo_cer[[#This Row],[Totale Immissione in rete]:[Totale Consumi rimanenti]])","v":0},"HC",null,null,null,0]
["030802",3,{"$f":"+MIN(Contributo_cer[[#This Row],[Totale Immissione in rete]:[Totale Consumi rimanenti]])","v":0},"HC",null,null,null,0]
["030803",3,{"$f":"+MIN(Contributo_cer[[#This Row],[Totale Immissione in rete]:[Totale Consumi rimanenti]])","v":0},"HC",null,null,null,0]
["030804",3,{"$f":"+MIN(Contributo_cer[[#This Row],[Totale Immissione in rete]:[Totale Consumi rimanenti]])","v":0},"HC",null,null,null,0]
["030805",3,{"$f":"+MIN(Contributo_cer[[#This Row],[Totale Immissione in rete]:[Totale Consumi rimanenti]])","v":0},"HC",null,null,null,0]
["030806",3,{"$f":"+MIN(Contributo_cer[[#This Row],[Totale Immissione in rete]:[Totale Consumi rimanenti]])","v":0},"HP",null,null,null,0]
["030807",3,{"$f":"+MIN(Contributo_cer[[#This Row],[Totale Immissione in rete]:[Totale Consumi rimanenti]])","v":0},"HP",null,null,null,0]
["030808",3,{"$f":"+MIN(Contributo_cer[[#This Row],[Totale Immissione in rete]:[Totale Consumi rimanenti]])","v":0},"HP",null,null,null,0]
["030809",3,{"$f":"+MIN(Contributo_cer[[#This Row],[Totale Immissione in rete]:[Totale Consumi rimanenti]])","v":0},"HP",null,null,null,0]
["030810",3,{"$f":"+MIN(Contributo_cer[[#This Row],[Totale Immissione in rete]:[Totale Consumi rimanenti]])","v":0},"HP",null,null,null,0]
["030811",3,{"$f":"+MIN(Contributo_cer[[#This Row],[Totale Immissione in rete]:[Totale Consumi rimanenti]])","v":0},"HP",null,null,null,0]
["030812",3,{"$f":"+MIN(Contributo_cer[[#This Row],[Totale Immissione in rete]:[Totale Consumi rimanenti]])","v":0},"HP",null,null,null,0]
["030813",3,{"$f":"+MIN(Contributo_cer[[#This Row],[Totale Immissione in rete]:[Totale Consumi rimanenti]])","v":0},"HP",null,null,null,0]
["030814",3,{"$f":"+MIN(Contributo_cer[[#This Row],[Totale Immissione in rete]:[Totale Consumi rimanenti]])","v":0},"HP",null,null,null,0]
["030815",3,{"$f":"+MIN(Contributo_cer[[#This Row],[Totale Immissione in rete]:[Totale Consumi rimanenti]])","v":0},"HP",null,null,null,0]
["030816",3,{"$f":"+MIN(Contributo_cer[[#This Row],[Totale Immissione in rete]:[Totale Consumi rimanenti]])","v":0},"HP",null,null,null,0]
["030817",3,{"$f":"+MIN(Contributo_cer[[#This Row],[Totale Immissione in rete]:[Totale Consumi rimanenti]])","v":0},"HP",null,null,null,0]
["030818",3,{"$f":"+MIN(Contributo_cer[[#This Row],[Totale Immissione in rete]:[Totale Consumi rimanenti]])","v":0},"HP",null,null,null,0]
["030819",3,{"$f":"+MIN(Contributo_cer[[#This Row],[Totale Immissione in rete]:[Totale Consumi rimanenti]])","v":0},"HP",null,null,null,0]
["030820",3,{"$f":"+MIN(Contributo_cer[[#This Row],[Totale Immissione in rete]:[Totale Consumi rimanenti]])","v":0},"HP",null,null,null,0]
["030821",3,{"$f":"+MIN(Contributo_cer[[#This Row],[Totale Immissione in rete]:[Totale Consumi rimanenti]])","v":0},"HP",null,null,null,0]
["030822",3,{"$f":"+MIN(Contributo_cer[[#This Row],[Totale Immissione in rete]:[Totale Consumi rimanenti]])","v":0},"HC",null,null,null,0]
["030823",3,{"$f":"+MIN(Contributo_cer[[#This Row],[Totale Immissione in rete]:[Totale Consumi rimanenti]])","v":0},"HC",null,null,null,0]
["030900",3,{"$f":"+MIN(Contributo_cer[[#This Row],[Totale Immissione in rete]:[Totale Consumi rimanenti]])","v":0},"HC",null,null,null,0]
["030901",3,{"$f":"+MIN(Contributo_cer[[#This Row],[Totale Immissione in rete]:[Totale Consumi rimanenti]])","v":0},"HC",null,null,null,0]
["030902",3,{"$f":"+MIN(Contributo_cer[[#This Row],[Totale Immissione in rete]:[Totale Consumi rimanenti]])","v":0},"HC",null,null,null,0]
["030903",3,{"$f":"+MIN(Contributo_cer[[#This Row],[Totale Immissione in rete]:[Totale Consumi rimanenti]])","v":0},"HC",null,null,null,0]
["030904",3,{"$f":"+MIN(Contributo_cer[[#This Row],[Totale Immissione in rete]:[Totale Consumi rimanenti]])","v":0},"HC",null,null,null,0]
["030905",3,{"$f":"+MIN(Contributo_cer[[#This Row],[Totale Immissione in rete]:[Totale Consumi rimanenti]])","v":0},"HC",null,null,null,0]
["030906",3,{"$f":"+MIN(Contributo_cer[[#This Row],[Totale Immissione in rete]:[Totale Consumi rimanenti]])","v":0},"HP",null,null,null,0]
["030907",3,{"$f":"+MIN(Contributo_cer[[#This Row],[Totale Immissione in rete]:[Totale Consumi rimanenti]])","v":0},"HP",null,null,null,0]
["030908",3,{"$f":"+MIN(Contributo_cer[[#This Row],[Totale Immissione in rete]:[Totale Consumi rimanenti]])","v":0},"HP",null,null,null,0]
["030909",3,{"$f":"+MIN(Contributo_cer[[#This Row],[Totale Immissione in rete]:[Totale Consumi rimanenti]])","v":0},"HP",null,null,null,0]
["030910",3,{"$f":"+MIN(Contributo_cer[[#This Row],[Totale Immissione in rete]:[Totale Consumi rimanenti]])","v":0},"HP",null,null,null,0]
["030911",3,{"$f":"+MIN(Contributo_cer[[#This Row],[Totale Immissione in rete]:[Totale Consumi rimanenti]])","v":0},"HP",null,null,null,0]
["030912",3,{"$f":"+MIN(Contributo_cer[[#This Row],[Totale Immissione in rete]:[Totale Consumi rimanenti]])","v":0},"HP",null,null,null,0]
["030913",3,{"$f":"+MIN(Contributo_cer[[#This Row],[Totale Immissione in rete]:[Totale Consumi rimanenti]])","v":0},"HP",null,null,null,0]
["030914",3,{"$f":"+MIN(Contributo_cer[[#This Row],[Totale Immissione in rete]:[Totale Consumi rimanenti]])","v":0},"HP",null,null,null,0]
["030915",3,{"$f":"+MIN(Contributo_cer[[#This Row],[Totale Immissione in rete]:[Totale Consumi rimanenti]])","v":0},"HP",null,null,null,0]
["030916",3,{"$f":"+MIN(Contributo_cer[[#This Row],[Totale Immissione in rete]:[Totale Consumi rimanenti]])","v":0},"HP",null,null,null,0]
["030917",3,{"$f":"+MIN(Contributo_cer[[#This Row],[Totale Immissione in rete]:[Totale Consumi rimanenti]])","v":0},"HP",null,null,null,0]
["030918",3,{"$f":"+MIN(Contributo_cer[[#This Row],[Totale Immissione in rete]:[Totale Consumi rimanenti]])","v":0},"HP",null,null,null,0]
["030919",3,{"$f":"+MIN(Contributo_cer[[#This Row],[Totale Immissione in rete]:[Totale Consumi rimanenti]])","v":0},"HP",null,null,null,0]
["030920",3,{"$f":"+MIN(Contributo_cer[[#This Row],[Totale Immissione in rete]:[Totale Consumi rimanenti]])","v":0},"HP",null,null,null,0]
["030921",3,{"$f":"+MIN(Contributo_cer[[#This Row],[Totale Immissione in rete]:[Totale Consumi rimanenti]])","v":0},"HP",null,null,null,0]
["030922",3,{"$f":"+MIN(Contributo_cer[[#This Row],[Totale Immissione in rete]:[Totale Consumi rimanenti]])","v":0},"HC",null,null,null,0]
["030923",3,{"$f":"+MIN(Contributo_cer[[#This Row],[Totale Immissione in rete]:[Totale Consumi rimanenti]])","v":0},"HC",null,null,null,0]
["031000",3,{"$f":"+MIN(Contributo_cer[[#This Row],[Totale Immissione in rete]:[Totale Consumi rimanenti]])","v":0},"HC",null,null,null,0]
["031001",3,{"$f":"+MIN(Contributo_cer[[#This Row],[Totale Immissione in rete]:[Totale Consumi rimanenti]])","v":0},"HC",null,null,null,0]
["031002",3,{"$f":"+MIN(Contributo_cer[[#This Row],[Totale Immissione in rete]:[Totale Consumi rimanenti]])","v":0},"HC",null,null,null,0]
["031003",3,{"$f":"+MIN(Contributo_cer[[#This Row],[Totale Immissione in rete]:[Totale Consumi rimanenti]])","v":0},"HC",null,null,null,0]
["031004",3,{"$f":"+MIN(Contributo_cer[[#This Row],[Totale Immissione in rete]:[Totale Consumi rimanenti]])","v":0},"HC",null,null,null,0]
["031005",3,{"$f":"+MIN(Contributo_cer[[#This Row],[Totale Immissione in rete]:[Totale Consumi rimanenti]])","v":0},"HC",null,null,null,0]
["031006",3,{"$f":"+MIN(Contributo_cer[[#This Row],[Totale Immissione in rete]:[Totale Consumi rimanenti]])","v":0},"HP",null,null,null,0]
["031007",3,{"$f":"+MIN(Contributo_cer[[#This Row],[Totale Immissione in rete]:[Totale Consumi rimanenti]])","v":0},"HP",null,null,null,0]
["031008",3,{"$f":"+MIN(Contributo_cer[[#This Row],[Totale Immissione in rete]:[Totale Consumi rimanenti]])","v":0},"HP",null,null,null,0]
["031009",3,{"$f":"+MIN(Contributo_cer[[#This Row],[Totale Immissione in rete]:[Totale Consumi rimanenti]])","v":0},"HP",null,null,null,0]
["031010",3,{"$f":"+MIN(Contributo_cer[[#This Row],[Totale Immissione in rete]:[Totale Consumi rimanenti]])","v":0},"HP",null,null,null,0]
["031011",3,{"$f":"+MIN(Contributo_cer[[#This Row],[Totale Immissione in rete]:[Totale Consumi rimanenti]])","v":0},"HP",null,null,null,0]
["031012",3,{"$f":"+MIN(Contributo_cer[[#This Row],[Totale Immissione in rete]:[Totale Consumi rimanenti]])","v":0},"HP",null,null,null,0]
["031013",3,{"$f":"+MIN(Contributo_cer[[#This Row],[Totale Immissione in rete]:[Totale Consumi rimanenti]])","v":0},"HP",null,null,null,0]
["031014",3,{"$f":"+MIN(Contributo_cer[[#This Row],[Totale Immissione in rete]:[Totale Consumi rimanenti]])","v":0},"HP",null,null,null,0]
["031015",3,{"$f":"+MIN(Contributo_cer[[#This Row],[Totale Immissione in rete]:[Totale Consumi rimanenti]])","v":0},"HP",null,null,null,0]
["031016",3,{"$f":"+MIN(Contributo_cer[[#This Row],[Totale Immissione in rete]:[Totale Consumi rimanenti]])","v":0},"HP",null,null,null,0]
["031017",3,{"$f":"+MIN(Contributo_cer[[#This Row],[Totale Immissione in rete]:[Totale Consumi rimanenti]])","v":0},"HP",null,null,null,0]
["031018",3,{"$f":"+MIN(Contributo_cer[[#This Row],[Totale Immissione in rete]:[Totale Consumi rimanenti]])","v":0},"HP",null,null,null,0]
["031019",3,{"$f":"+MIN(Contributo_cer[[#This Row],[Totale Immissione in rete]:[Totale Consumi rimanenti]])","v":0},"HP",null,null,null,0]
["031020",3,{"$f":"+MIN(Contributo_cer[[#This Row],[Totale Immissione in rete]:[Totale Consumi rimanenti]])","v":0},"HP",null,null,null,0]
["031021",3,{"$f":"+MIN(Contributo_cer[[#This Row],[Totale Immissione in rete]:[Totale Consumi rimanenti]])","v":0},"HP",null,null,null,0]
["031022",3,{"$f":"+MIN(Contributo_cer[[#This Row],[Totale Immissione in rete]:[Totale Consumi rimanenti]])","v":0},"HC",null,null,null,0]
["031023",3,{"$f":"+MIN(Contributo_cer[[#This Row],[Totale Immissione in rete]:[Totale Consumi rimanenti]])","v":0},"HC",null,null,null,0]
["031100",3,{"$f":"+MIN(Contributo_cer[[#This Row],[Totale Immissione in rete]:[Totale Consumi rimanenti]])","v":0},"HC",null,null,null,0]
["031101",3,{"$f":"+MIN(Contributo_cer[[#This Row],[Totale Immissione in rete]:[Totale Consumi rimanenti]])","v":0},"HC",null,null,null,0]
["031102",3,{"$f":"+MIN(Contributo_cer[[#This Row],[Totale Immissione in rete]:[Totale Consumi rimanenti]])","v":0},"HC",null,null,null,0]
["031103",3,{"$f":"+MIN(Contributo_cer[[#This Row],[Totale Immissione in rete]:[Totale Consumi rimanenti]])","v":0},"HC",null,null,null,0]
["031104",3,{"$f":"+MIN(Contributo_cer[[#This Row],[Totale Immissione in rete]:[Totale Consumi rimanenti]])","v":0},"HC",null,null,null,0]
["031105",3,{"$f":"+MIN(Contributo_cer[[#This Row],[Totale Immissione in rete]:[Totale Consumi rimanenti]])","v":0},"HC",null,null,null,0]
["031106",3,{"$f":"+MIN(Contributo_cer[[#This Row],[Totale Immissione in rete]:[Totale Consumi rimanenti]])","v":0},"HP",null,null,null,0]
["031107",3,{"$f":"+MIN(Contributo_cer[[#This Row],[Totale Immissione in rete]:[Totale Consumi rimanenti]])","v":0},"HP",null,null,null,0]
["031108",3,{"$f":"+MIN(Contributo_cer[[#This Row],[Totale Immissione in rete]:[Totale Consumi rimanenti]])","v":0},"HP",null,null,null,0]
["031109",3,{"$f":"+MIN(Contributo_cer[[#This Row],[Totale Immissione in rete]:[Totale Consumi rimanenti]])","v":0},"HP",null,null,null,0]
["031110",3,{"$f":"+MIN(Contributo_cer[[#This Row],[Totale Immissione in rete]:[Totale Consumi rimanenti]])","v":0},"HP",null,null,null,0]
["031111",3,{"$f":"+MIN(Contributo_cer[[#This Row],[Totale Immissione in rete]:[Totale Consumi rimanenti]])","v":0},"HP",null,null,null,0]
["031112",3,{"$f":"+MIN(Contributo_cer[[#This Row],[Totale Immissione in rete]:[Totale Consumi rimanenti]])","v":0},"HP",null,null,null,0]
["031113",3,{"$f":"+MIN(Contributo_cer[[#This Row],[Totale Immissione in rete]:[Totale Consumi rimanenti]])","v":0},"HP",null,null,null,0]
["031114",3,{"$f":"+MIN(Contributo_cer[[#This Row],[Totale Immissione in rete]:[Totale Consumi rimanenti]])","v":0},"HP",null,null,null,0]
["031115",3,{"$f":"+MIN(Contributo_cer[[#This Row],[Totale Immissione in rete]:[Totale Consumi rimanenti]])","v":0},"HP",null,null,null,0]
["031116",3,{"$f":"+MIN(Contributo_cer[[#This Row],[Totale Immissione in rete]:[Totale Consumi rimanenti]])","v":0},"HP",null,null,null,0]
["031117",3,{"$f":"+MIN(Contributo_cer[[#This Row],[Totale Immissione in rete]:[Totale Consumi rimanenti]])","v":0},"HP",null,null,null,0]
["031118",3,{"$f":"+MIN(Contributo_cer[[#This Row],[Totale Immissione in rete]:[Totale Consumi rimanenti]])","v":0},"HP",null,null,null,0]
["031119",3,{"$f":"+MIN(Contributo_cer[[#This Row],[Totale Immissione in rete]:[Totale Consumi rimanenti]])","v":0},"HP",null,null,null,0]
["031120",3,{"$f":"+MIN(Contributo_cer[[#This Row],[Totale Immissione in rete]:[Totale Consumi rimanenti]])","v":0},"HP",null,null,null,0]
["031121",3,{"$f":"+MIN(Contributo_cer[[#This Row],[Totale Immissione in rete]:[Totale Consumi rimanenti]])","v":0},"HP",null,null,null,0]
["031122",3,{"$f":"+MIN(Contributo_cer[[#This Row],[Totale Immissione in rete]:[Totale Consumi rimanenti]])","v":0},"HC",null,null,null,0]
["031123",3,{"$f":"+MIN(Contributo_cer[[#This Row],[Totale Immissione in rete]:[Totale Consumi rimanenti]])","v":0},"HC",null,null,null,0]
["031200",3,{"$f":"+MIN(Contributo_cer[[#This Row],[Totale Immissione in rete]:[Totale Consumi rimanenti]])","v":0},"HC",null,null,null,0]
["031201",3,{"$f":"+MIN(Contributo_cer[[#This Row],[Totale Immissione in rete]:[Totale Consumi rimanenti]])","v":0},"HC",null,null,null,0]
["031202",3,{"$f":"+MIN(Contributo_cer[[#This Row],[Totale Immissione in rete]:[Totale Consumi rimanenti]])","v":0},"HC",null,null,null,0]
["031203",3,{"$f":"+MIN(Contributo_cer[[#This Row],[Totale Immissione in rete]:[Totale Consumi rimanenti]])","v":0},"HC",null,null,null,0]
["031204",3,{"$f":"+MIN(Contributo_cer[[#This Row],[Totale Immissione in rete]:[Totale Consumi rimanenti]])","v":0},"HC",null,null,null,0]
["031205",3,{"$f":"+MIN(Contributo_cer[[#This Row],[Totale Immissione in rete]:[Totale Consumi rimanenti]])","v":0},"HC",null,null,null,0]
["031206",3,{"$f":"+MIN(Contributo_cer[[#This Row],[Totale Immissione in rete]:[Totale Consumi rimanenti]])","v":0},"HP",null,null,null,0]
["031207",3,{"$f":"+MIN(Contributo_cer[[#This Row],[Totale Immissione in rete]:[Totale Consumi rimanenti]])","v":0},"HP",null,null,null,0]
["031208",3,{"$f":"+MIN(Contributo_cer[[#This Row],[Totale Immissione in rete]:[Totale Consumi rimanenti]])","v":0},"HP",null,null,null,0]
["031209",3,{"$f":"+MIN(Contributo_cer[[#This Row],[Totale Immissione in rete]:[Totale Consumi rimanenti]])","v":0},"HP",null,null,null,0]
["031210",3,{"$f":"+MIN(Contributo_cer[[#This Row],[Totale Immissione in rete]:[Totale Consumi rimanenti]])","v":0},"HP",null,null,null,0]
["031211",3,{"$f":"+MIN(Contributo_cer[[#This Row],[Totale Immissione in rete]:[Totale Consumi rimanenti]])","v":0},"HP",null,null,null,0]
["031212",3,{"$f":"+MIN(Contributo_cer[[#This Row],[Totale Immissione in rete]:[Totale Consumi rimanenti]])","v":0},"HP",null,null,null,0]
["031213",3,{"$f":"+MIN(Contributo_cer[[#This Row],[Totale Immissione in rete]:[Totale Consumi rimanenti]])","v":0},"HP",null,null,null,0]
["031214",3,{"$f":"+MIN(Contributo_cer[[#This Row],[Totale Immissione in rete]:[Totale Consumi rimanenti]])","v":0},"HP",null,null,null,0]
["031215",3,{"$f":"+MIN(Contributo_cer[[#This Row],[Totale Immissione in rete]:[Totale Consumi rimanenti]])","v":0},"HP",null,null,null,0]
["031216",3,{"$f":"+MIN(Contributo_cer[[#This Row],[Totale Immissione in rete]:[Totale Consumi rimanenti]])","v":0},"HP",null,null,null,0]
["031217",3,{"$f":"+MIN(Contributo_cer[[#This Row],[Totale Immissione in rete]:[Totale Consumi rimanenti]])","v":0},"HP",null,null,null,0]
["031218",3,{"$f":"+MIN(Contributo_cer[[#This Row],[Totale Immissione in rete]:[Totale Consumi rimanenti]])","v":0},"HP",null,null,null,0]
["031219",3,{"$f":"+MIN(Contributo_cer[[#This Row],[Totale Immissione in rete]:[Totale Consumi rimanenti]])","v":0},"HP",null,null,null,0]
["031220",3,{"$f":"+MIN(Contributo_cer[[#This Row],[Totale Immissione in rete]:[Totale Consumi rimanenti]])","v":0},"HP",null,null,null,0]
["031221",3,{"$f":"+MIN(Contributo_cer[[#This Row],[Totale Immissione in rete]:[Totale Consumi rimanenti]])","v":0},"HP",null,null,null,0]
["031222",3,{"$f":"+MIN(Contributo_cer[[#This Row],[Totale Immissione in rete]:[Totale Consumi rimanenti]])","v":0},"HC",null,null,null,0]
["031223",3,{"$f":"+MIN(Contributo_cer[[#This Row],[Totale Immissione in rete]:[Totale Consumi rimanenti]])","v":0},"HC",null,null,null,0]
["031300",3,{"$f":"+MIN(Contributo_cer[[#This Row],[Totale Immissione in rete]:[Totale Consumi rimanenti]])","v":0},"HC",null,null,null,0]
["031301",3,{"$f":"+MIN(Contributo_cer[[#This Row],[Totale Immissione in rete]:[Totale Consumi rimanenti]])","v":0},"HC",null,null,null,0]
["031302",3,{"$f":"+MIN(Contributo_cer[[#This Row],[Totale Immissione in rete]:[Totale Consumi rimanenti]])","v":0},"HC",null,null,null,0]
["031303",3,{"$f":"+MIN(Contributo_cer[[#This Row],[Totale Immissione in rete]:[Totale Consumi rimanenti]])","v":0},"HC",null,null,null,0]
["031304",3,{"$f":"+MIN(Contributo_cer[[#This Row],[Totale Immissione in rete]:[Totale Consumi rimanenti]])","v":0},"HC",null,null,null,0]
["031305",3,{"$f":"+MIN(Contributo_cer[[#This Row],[Totale Immissione in rete]:[Totale Consumi rimanenti]])","v":0},"HC",null,null,null,0]
["031306",3,{"$f":"+MIN(Contributo_cer[[#This Row],[Totale Immissione in rete]:[Totale Consumi rimanenti]])","v":0},"HP",null,null,null,0]
["031307",3,{"$f":"+MIN(Contributo_cer[[#This Row],[Totale Immissione in rete]:[Totale Consumi rimanenti]])","v":0},"HP",null,null,null,0]
["031308",3,{"$f":"+MIN(Contributo_cer[[#This Row],[Totale Immissione in rete]:[Totale Consumi rimanenti]])","v":0},"HP",null,null,null,0]
["031309",3,{"$f":"+MIN(Contributo_cer[[#This Row],[Totale Immissione in rete]:[Totale Consumi rimanenti]])","v":0},"HP",null,null,null,0]
["031310",3,{"$f":"+MIN(Contributo_cer[[#This Row],[Totale Immissione in rete]:[Totale Consumi rimanenti]])","v":0},"HP",null,null,null,0]
["031311",3,{"$f":"+MIN(Contributo_cer[[#This Row],[Totale Immissione in rete]:[Totale Consumi rimanenti]])","v":0},"HP",null,null,null,0]
["031312",3,{"$f":"+MIN(Contributo_cer[[#This Row],[Totale Immissione in rete]:[Totale Consumi rimanenti]])","v":0},"HP",null,null,null,0]
["031313",3,{"$f":"+MIN(Contributo_cer[[#This Row],[Totale Immissione in rete]:[Totale Consumi rimanenti]])","v":0},"HP",null,null,null,0]
["031314",3,{"$f":"+MIN(Contributo_cer[[#This Row],[Totale Immissione in rete]:[Totale Consumi rimanenti]])","v":0},"HP",null,null,null,0]
["031315",3,{"$f":"+MIN(Contributo_cer[[#This Row],[Totale Immissione in rete]:[Totale Consumi rimanenti]])","v":0},"HP",null,null,null,0]
["031316",3,{"$f":"+MIN(Contributo_cer[[#This Row],[Totale Immissione in rete]:[Totale Consumi rimanenti]])","v":0},"HP",null,null,null,0]
["031317",3,{"$f":"+MIN(Contributo_cer[[#This Row],[Totale Immissione in rete]:[Totale Consumi rimanenti]])","v":0},"HP",null,null,null,0]
["031318",3,{"$f":"+MIN(Contributo_cer[[#This Row],[Totale Immissione in rete]:[Totale Consumi rimanenti]])","v":0},"HP",null,null,null,0]
["031319",3,{"$f":"+MIN(Contributo_cer[[#This Row],[Totale Immissione in rete]:[Totale Consumi rimanenti]])","v":0},"HP",null,null,null,0]
["031320",3,{"$f":"+MIN(Contributo_cer[[#This Row],[Totale Immissione in rete]:[Totale Consumi rimanenti]])","v":0},"HP",null,null,null,0]
["031321",3,{"$f":"+MIN(Contributo_cer[[#This Row],[Totale Immissione in rete]:[Totale Consumi rimanenti]])","v":0},"HP",null,null,null,0]
["031322",3,{"$f":"+MIN(Contributo_cer[[#This Row],[Totale Immissione in rete]:[Totale Consumi rimanenti]])","v":0},"HC",null,null,null,0]
["031323",3,{"$f":"+MIN(Contributo_cer[[#This Row],[Totale Immissione in rete]:[Totale Consumi rimanenti]])","v":0},"HC",null,null,null,0]
["031400",3,{"$f":"+MIN(Contributo_cer[[#This Row],[Totale Immissione in rete]:[Totale Consumi rimanenti]])","v":0},"HC",null,null,null,0]
["031401",3,{"$f":"+MIN(Contributo_cer[[#This Row],[Totale Immissione in rete]:[Totale Consumi rimanenti]])","v":0},"HC",null,null,null,0]
["031402",3,{"$f":"+MIN(Contributo_cer[[#This Row],[Totale Immissione in rete]:[Totale Consumi rimanenti]])","v":0},"HC",null,null,null,0]
["031403",3,{"$f":"+MIN(Contributo_cer[[#This Row],[Totale Immissione in rete]:[Totale Consumi rimanenti]])","v":0},"HC",null,null,null,0]
["031404",3,{"$f":"+MIN(Contributo_cer[[#This Row],[Totale Immissione in rete]:[Totale Consumi rimanenti]])","v":0},"HC",null,null,null,0]
["031405",3,{"$f":"+MIN(Contributo_cer[[#This Row],[Totale Immissione in rete]:[Totale Consumi rimanenti]])","v":0},"HC",null,null,null,0]
["031406",3,{"$f":"+MIN(Contributo_cer[[#This Row],[Totale Immissione in rete]:[Totale Consumi rimanenti]])","v":0},"HP",null,null,null,0]
["031407",3,{"$f":"+MIN(Contributo_cer[[#This Row],[Totale Immissione in rete]:[Totale Consumi rimanenti]])","v":0},"HP",null,null,null,0]
["031408",3,{"$f":"+MIN(Contributo_cer[[#This Row],[Totale Immissione in rete]:[Totale Consumi rimanenti]])","v":0},"HP",null,null,null,0]
["031409",3,{"$f":"+MIN(Contributo_cer[[#This Row],[Totale Immissione in rete]:[Totale Consumi rimanenti]])","v":0},"HP",null,null,null,0]
["031410",3,{"$f":"+MIN(Contributo_cer[[#This Row],[Totale Immissione in rete]:[Totale Consumi rimanenti]])","v":0},"HP",null,null,null,0]
["031411",3,{"$f":"+MIN(Contributo_cer[[#This Row],[Totale Immissione in rete]:[Totale Consumi rimanenti]])","v":0},"HP",null,null,null,0]
["031412",3,{"$f":"+MIN(Contributo_cer[[#This Row],[Totale Immissione in rete]:[Totale Consumi rimanenti]])","v":0},"HP",null,null,null,0]
["031413",3,{"$f":"+MIN(Contributo_cer[[#This Row],[Totale Immissione in rete]:[Totale Consumi rimanenti]])","v":0},"HP",null,null,null,0]
["031414",3,{"$f":"+MIN(Contributo_cer[[#This Row],[Totale Immissione in rete]:[Totale Consumi rimanenti]])","v":0},"HP",null,null,null,0]
["031415",3,{"$f":"+MIN(Contributo_cer[[#This Row],[Totale Immissione in rete]:[Totale Consumi rimanenti]])","v":0},"HP",null,null,null,0]
["031416",3,{"$f":"+MIN(Contributo_cer[[#This Row],[Totale Immissione in rete]:[Totale Consumi rimanenti]])","v":0},"HP",null,null,null,0]
["031417",3,{"$f":"+MIN(Contributo_cer[[#This Row],[Totale Immissione in rete]:[Totale Consumi rimanenti]])","v":0},"HP",null,null,null,0]
["031418",3,{"$f":"+MIN(Contributo_cer[[#This Row],[Totale Immissione in rete]:[Totale Consumi rimanenti]])","v":0},"HP",null,null,null,0]
["031419",3,{"$f":"+MIN(Contributo_cer[[#This Row],[Totale Immissione in rete]:[Totale Consumi rimanenti]])","v":0},"HP",null,null,null,0]
["031420",3,{"$f":"+MIN(Contributo_cer[[#This Row],[Totale Immissione in rete]:[Totale Consumi rimanenti]])","v":0},"HP",null,null,null,0]
["031421",3,{"$f":"+MIN(Contributo_cer[[#This Row],[Totale Immissione in rete]:[Totale Consumi rimanenti]])","v":0},"HP",null,null,null,0]
["031422",3,{"$f":"+MIN(Contributo_cer[[#This Row],[Totale Immissione in rete]:[Totale Consumi rimanenti]])","v":0},"HC",null,null,null,0]
["031423",3,{"$f":"+MIN(Contributo_cer[[#This Row],[Totale Immissione in rete]:[Totale Consumi rimanenti]])","v":0},"HC",null,null,null,0]
["031500",3,{"$f":"+MIN(Contributo_cer[[#This Row],[Totale Immissione in rete]:[Totale Consumi rimanenti]])","v":0},"HC",null,null,null,0]
["031501",3,{"$f":"+MIN(Contributo_cer[[#This Row],[Totale Immissione in rete]:[Totale Consumi rimanenti]])","v":0},"HC",null,null,null,0]
["031502",3,{"$f":"+MIN(Contributo_cer[[#This Row],[Totale Immissione in rete]:[Totale Consumi rimanenti]])","v":0},"HC",null,null,null,0]
["031503",3,{"$f":"+MIN(Contributo_cer[[#This Row],[Totale Immissione in rete]:[Totale Consumi rimanenti]])","v":0},"HC",null,null,null,0]
["031504",3,{"$f":"+MIN(Contributo_cer[[#This Row],[Totale Immissione in rete]:[Totale Consumi rimanenti]])","v":0},"HC",null,null,null,0]
["031505",3,{"$f":"+MIN(Contributo_cer[[#This Row],[Totale Immissione in rete]:[Totale Consumi rimanenti]])","v":0},"HC",null,null,null,0]
["031506",3,{"$f":"+MIN(Contributo_cer[[#This Row],[Totale Immissione in rete]:[Totale Consumi rimanenti]])","v":0},"HP",null,null,null,0]
["031507",3,{"$f":"+MIN(Contributo_cer[[#This Row],[Totale Immissione in rete]:[Totale Consumi rimanenti]])","v":0},"HP",null,null,null,0]
["031508",3,{"$f":"+MIN(Contributo_cer[[#This Row],[Totale Immissione in rete]:[Totale Consumi rimanenti]])","v":0},"HP",null,null,null,0]
["031509",3,{"$f":"+MIN(Contributo_cer[[#This Row],[Totale Immissione in rete]:[Totale Consumi rimanenti]])","v":0},"HP",null,null,null,0]
["031510",3,{"$f":"+MIN(Contributo_cer[[#This Row],[Totale Immissione in rete]:[Totale Consumi rimanenti]])","v":0},"HP",null,null,null,0]
["031511",3,{"$f":"+MIN(Contributo_cer[[#This Row],[Totale Immissione in rete]:[Totale Consumi rimanenti]])","v":0},"HP",null,null,null,0]
["031512",3,{"$f":"+MIN(Contributo_cer[[#This Row],[Totale Immissione in rete]:[Totale Consumi rimanenti]])","v":0},"HP",null,null,null,0]
["031513",3,{"$f":"+MIN(Contributo_cer[[#This Row],[Totale Immissione in rete]:[Totale Consumi rimanenti]])","v":0},"HP",null,null,null,0]
["031514",3,{"$f":"+MIN(Contributo_cer[[#This Row],[Totale Immissione in rete]:[Totale Consumi rimanenti]])","v":0},"HP",null,null,null,0]
["031515",3,{"$f":"+MIN(Contributo_cer[[#This Row],[Totale Immissione in rete]:[Totale Consumi rimanenti]])","v":0},"HP",null,null,null,0]
["031516",3,{"$f":"+MIN(Contributo_cer[[#This Row],[Totale Immissione in rete]:[Totale Consumi rimanenti]])","v":0},"HP",null,null,null,0]
["031517",3,{"$f":"+MIN(Contributo_cer[[#This Row],[Totale Immissione in rete]:[Totale Consumi rimanenti]])","v":0},"HP",null,null,null,0]
["031518",3,{"$f":"+MIN(Contributo_cer[[#This Row],[Totale Immissione in rete]:[Totale Consumi rimanenti]])","v":0},"HP",null,null,null,0]
["031519",3,{"$f":"+MIN(Contributo_cer[[#This Row],[Totale Immissione in rete]:[Totale Consumi rimanenti]])","v":0},"HP",null,null,null,0]
["031520",3,{"$f":"+MIN(Contributo_cer[[#This Row],[Totale Immissione in rete]:[Totale Consumi rimanenti]])","v":0},"HP",null,null,null,0]
["031521",3,{"$f":"+MIN(Contributo_cer[[#This Row],[Totale Immissione in rete]:[Totale Consumi rimanenti]])","v":0},"HP",null,null,null,0]
["031522",3,{"$f":"+MIN(Contributo_cer[[#This Row],[Totale Immissione in rete]:[Totale Consumi rimanenti]])","v":0},"HC",null,null,null,0]
["031523",3,{"$f":"+MIN(Contributo_cer[[#This Row],[Totale Immissione in rete]:[Totale Consumi rimanenti]])","v":0},"HC",null,null,null,0]
["031600",3,{"$f":"+MIN(Contributo_cer[[#This Row],[Totale Immissione in rete]:[Totale Consumi rimanenti]])","v":0},"HC",null,null,null,0]
["031601",3,{"$f":"+MIN(Contributo_cer[[#This Row],[Totale Immissione in rete]:[Totale Consumi rimanenti]])","v":0},"HC",null,null,null,0]
["031602",3,{"$f":"+MIN(Contributo_cer[[#This Row],[Totale Immissione in rete]:[Totale Consumi rimanenti]])","v":0},"HC",null,null,null,0]
["031603",3,{"$f":"+MIN(Contributo_cer[[#This Row],[Totale Immissione in rete]:[Totale Consumi rimanenti]])","v":0},"HC",null,null,null,0]
["031604",3,{"$f":"+MIN(Contributo_cer[[#This Row],[Totale Immissione in rete]:[Totale Consumi rimanenti]])","v":0},"HC",null,null,null,0]
["031605",3,{"$f":"+MIN(Contributo_cer[[#This Row],[Totale Immissione in rete]:[Totale Consumi rimanenti]])","v":0},"HC",null,null,null,0]
["031606",3,{"$f":"+MIN(Contributo_cer[[#This Row],[Totale Immissione in rete]:[Totale Consumi rimanenti]])","v":0},"HP",null,null,null,0]
["031607",3,{"$f":"+MIN(Contributo_cer[[#This Row],[Totale Immissione in rete]:[Totale Consumi rimanenti]])","v":0},"HP",null,null,null,0]
["031608",3,{"$f":"+MIN(Contributo_cer[[#This Row],[Totale Immissione in rete]:[Totale Consumi rimanenti]])","v":0},"HP",null,null,null,0]
["031609",3,{"$f":"+MIN(Contributo_cer[[#This Row],[Totale Immissione in rete]:[Totale Consumi rimanenti]])","v":0},"HP",null,null,null,0]
["031610",3,{"$f":"+MIN(Contributo_cer[[#This Row],[Totale Immissione in rete]:[Totale Consumi rimanenti]])","v":0},"HP",null,null,null,0]
["031611",3,{"$f":"+MIN(Contributo_cer[[#This Row],[Totale Immissione in rete]:[Totale Consumi rimanenti]])","v":0},"HP",null,null,null,0]
["031612",3,{"$f":"+MIN(Contributo_cer[[#This Row],[Totale Immissione in rete]:[Totale Consumi rimanenti]])","v":0},"HP",null,null,null,0]
["031613",3,{"$f":"+MIN(Contributo_cer[[#This Row],[Totale Immissione in rete]:[Totale Consumi rimanenti]])","v":0},"HP",null,null,null,0]
["031614",3,{"$f":"+MIN(Contributo_cer[[#This Row],[Totale Immissione in rete]:[Totale Consumi rimanenti]])","v":0},"HP",null,null,null,0]
["031615",3,{"$f":"+MIN(Contributo_cer[[#This Row],[Totale Immissione in rete]:[Totale Consumi rimanenti]])","v":0},"HP",null,null,null,0]
["031616",3,{"$f":"+MIN(Contributo_cer[[#This Row],[Totale Immissione in rete]:[Totale Consumi rimanenti]])","v":0},"HP",null,null,null,0]
["031617",3,{"$f":"+MIN(Contributo_cer[[#This Row],[Totale Immissione in rete]:[Totale Consumi rimanenti]])","v":0},"HP",null,null,null,0]
["031618",3,{"$f":"+MIN(Contributo_cer[[#This Row],[Totale Immissione in rete]:[Totale Consumi rimanenti]])","v":0},"HP",null,null,null,0]
["031619",3,{"$f":"+MIN(Contributo_cer[[#This Row],[Totale Immissione in rete]:[Totale Consumi rimanenti]])","v":0},"HP",null,null,null,0]
["031620",3,{"$f":"+MIN(Contributo_cer[[#This Row],[Totale Immissione in rete]:[Totale Consumi rimanenti]])","v":0},"HP",null,null,null,0]
["031621",3,{"$f":"+MIN(Contributo_cer[[#This Row],[Totale Immissione in rete]:[Totale Consumi rimanenti]])","v":0},"HP",null,null,null,0]
["031622",3,{"$f":"+MIN(Contributo_cer[[#This Row],[Totale Immissione in rete]:[Totale Consumi rimanenti]])","v":0},"HC",null,null,null,0]
["031623",3,{"$f":"+MIN(Contributo_cer[[#This Row],[Totale Immissione in rete]:[Totale Consumi rimanenti]])","v":0},"HC",null,null,null,0]
["031700",3,{"$f":"+MIN(Contributo_cer[[#This Row],[Totale Immissione in rete]:[Totale Consumi rimanenti]])","v":0},"HC",null,null,null,0]
["031701",3,{"$f":"+MIN(Contributo_cer[[#This Row],[Totale Immissione in rete]:[Totale Consumi rimanenti]])","v":0},"HC",null,null,null,0]
["031702",3,{"$f":"+MIN(Contributo_cer[[#This Row],[Totale Immissione in rete]:[Totale Consumi rimanenti]])","v":0},"HC",null,null,null,0]
["031703",3,{"$f":"+MIN(Contributo_cer[[#This Row],[Totale Immissione in rete]:[Totale Consumi rimanenti]])","v":0},"HC",null,null,null,0]
["031704",3,{"$f":"+MIN(Contributo_cer[[#This Row],[Totale Immissione in rete]:[Totale Consumi rimanenti]])","v":0},"HC",null,null,null,0]
["031705",3,{"$f":"+MIN(Contributo_cer[[#This Row],[Totale Immissione in rete]:[Totale Consumi rimanenti]])","v":0},"HC",null,null,null,0]
["031706",3,{"$f":"+MIN(Contributo_cer[[#This Row],[Totale Immissione in rete]:[Totale Consumi rimanenti]])","v":0},"HP",null,null,null,0]
["031707",3,{"$f":"+MIN(Contributo_cer[[#This Row],[Totale Immissione in rete]:[Totale Consumi rimanenti]])","v":0},"HP",null,null,null,0]
["031708",3,{"$f":"+MIN(Contributo_cer[[#This Row],[Totale Immissione in rete]:[Totale Consumi rimanenti]])","v":0},"HP",null,null,null,0]
["031709",3,{"$f":"+MIN(Contributo_cer[[#This Row],[Totale Immissione in rete]:[Totale Consumi rimanenti]])","v":0},"HP",null,null,null,0]
["031710",3,{"$f":"+MIN(Contributo_cer[[#This Row],[Totale Immissione in rete]:[Totale Consumi rimanenti]])","v":0},"HP",null,null,null,0]
["031711",3,{"$f":"+MIN(Contributo_cer[[#This Row],[Totale Immissione in rete]:[Totale Consumi rimanenti]])","v":0},"HP",null,null,null,0]
["031712",3,{"$f":"+MIN(Contributo_cer[[#This Row],[Totale Immissione in rete]:[Totale Consumi rimanenti]])","v":0},"HP",null,null,null,0]
["031713",3,{"$f":"+MIN(Contributo_cer[[#This Row],[Totale Immissione in rete]:[Totale Consumi rimanenti]])","v":0},"HP",null,null,null,0]
["031714",3,{"$f":"+MIN(Contributo_cer[[#This Row],[Totale Immissione in rete]:[Totale Consumi rimanenti]])","v":0},"HP",null,null,null,0]
["031715",3,{"$f":"+MIN(Contributo_cer[[#This Row],[Totale Immissione in rete]:[Totale Consumi rimanenti]])","v":0},"HP",null,null,null,0]
["031716",3,{"$f":"+MIN(Contributo_cer[[#This Row],[Totale Immissione in rete]:[Totale Consumi rimanenti]])","v":0},"HP",null,null,null,0]
["031717",3,{"$f":"+MIN(Contributo_cer[[#This Row],[Totale Immissione in rete]:[Totale Consumi rimanenti]])","v":0},"HP",null,null,null,0]
["031718",3,{"$f":"+MIN(Contributo_cer[[#This Row],[Totale Immissione in rete]:[Totale Consumi rimanenti]])","v":0},"HP",null,null,null,0]
["031719",3,{"$f":"+MIN(Contributo_cer[[#This Row],[Totale Immissione in rete]:[Totale Consumi rimanenti]])","v":0},"HP",null,null,null,0]
["031720",3,{"$f":"+MIN(Contributo_cer[[#This Row],[Totale Immissione in rete]:[Totale Consumi rimanenti]])","v":0},"HP",null,null,null,0]
["031721",3,{"$f":"+MIN(Contributo_cer[[#This Row],[Totale Immissione in rete]:[Totale Consumi rimanenti]])","v":0},"HP",null,null,null,0]
["031722",3,{"$f":"+MIN(Contributo_cer[[#This Row],[Totale Immissione in rete]:[Totale Consumi rimanenti]])","v":0},"HC",null,null,null,0]
["031723",3,{"$f":"+MIN(Contributo_cer[[#This Row],[Totale Immissione in rete]:[Totale Consumi rimanenti]])","v":0},"HC",null,null,null,0]
["031800",3,{"$f":"+MIN(Contributo_cer[[#This Row],[Totale Immissione in rete]:[Totale Consumi rimanenti]])","v":0},"HC",null,null,null,0]
["031801",3,{"$f":"+MIN(Contributo_cer[[#This Row],[Totale Immissione in rete]:[Totale Consumi rimanenti]])","v":0},"HC",null,null,null,0]
["031802",3,{"$f":"+MIN(Contributo_cer[[#This Row],[Totale Immissione in rete]:[Totale Consumi rimanenti]])","v":0},"HC",null,null,null,0]
["031803",3,{"$f":"+MIN(Contributo_cer[[#This Row],[Totale Immissione in rete]:[Totale Consumi rimanenti]])","v":0},"HC",null,null,null,0]
["031804",3,{"$f":"+MIN(Contributo_cer[[#This Row],[Totale Immissione in rete]:[Totale Consumi rimanenti]])","v":0},"HC",null,null,null,0]
["031805",3,{"$f":"+MIN(Contributo_cer[[#This Row],[Totale Immissione in rete]:[Totale Consumi rimanenti]])","v":0},"HC",null,null,null,0]
["031806",3,{"$f":"+MIN(Contributo_cer[[#This Row],[Totale Immissione in rete]:[Totale Consumi rimanenti]])","v":0},"HP",null,null,null,0]
["031807",3,{"$f":"+MIN(Contributo_cer[[#This Row],[Totale Immissione in rete]:[Totale Consumi rimanenti]])","v":0},"HP",null,null,null,0]
["031808",3,{"$f":"+MIN(Contributo_cer[[#This Row],[Totale Immissione in rete]:[Totale Consumi rimanenti]])","v":0},"HP",null,null,null,0]
["031809",3,{"$f":"+MIN(Contributo_cer[[#This Row],[Totale Immissione in rete]:[Totale Consumi rimanenti]])","v":0},"HP",null,null,null,0]
["031810",3,{"$f":"+MIN(Contributo_cer[[#This Row],[Totale Immissione in rete]:[Totale Consumi rimanenti]])","v":0},"HP",null,null,null,0]
["031811",3,{"$f":"+MIN(Contributo_cer[[#This Row],[Totale Immissione in rete]:[Totale Consumi rimanenti]])","v":0},"HP",null,null,null,0]
["031812",3,{"$f":"+MIN(Contributo_cer[[#This Row],[Totale Immissione in rete]:[Totale Consumi rimanenti]])","v":0},"HP",null,null,null,0]
["031813",3,{"$f":"+MIN(Contributo_cer[[#This Row],[Totale Immissione in rete]:[Totale Consumi rimanenti]])","v":0},"HP",null,null,null,0]
["031814",3,{"$f":"+MIN(Contributo_cer[[#This Row],[Totale Immissione in rete]:[Totale Consumi rimanenti]])","v":0},"HP",null,null,null,0]
["031815",3,{"$f":"+MIN(Contributo_cer[[#This Row],[Totale Immissione in rete]:[Totale Consumi rimanenti]])","v":0},"HP",null,null,null,0]
["031816",3,{"$f":"+MIN(Contributo_cer[[#This Row],[Totale Immissione in rete]:[Totale Consumi rimanenti]])","v":0},"HP",null,null,null,0]
["031817",3,{"$f":"+MIN(Contributo_cer[[#This Row],[Totale Immissione in rete]:[Totale Consumi rimanenti]])","v":0},"HP",null,null,null,0]
["031818",3,{"$f":"+MIN(Contributo_cer[[#This Row],[Totale Immissione in rete]:[Totale Consumi rimanenti]])","v":0},"HP",null,null,null,0]
["031819",3,{"$f":"+MIN(Contributo_cer[[#This Row],[Totale Immissione in rete]:[Totale Consumi rimanenti]])","v":0},"HP",null,null,null,0]
["031820",3,{"$f":"+MIN(Contributo_cer[[#This Row],[Totale Immissione in rete]:[Totale Consumi rimanenti]])","v":0},"HP",null,null,null,0]
["031821",3,{"$f":"+MIN(Contributo_cer[[#This Row],[Totale Immissione in rete]:[Totale Consumi rimanenti]])","v":0},"HP",null,null,null,0]
["031822",3,{"$f":"+MIN(Contributo_cer[[#This Row],[Totale Immissione in rete]:[Totale Consumi rimanenti]])","v":0},"HC",null,null,null,0]
["031823",3,{"$f":"+MIN(Contributo_cer[[#This Row],[Totale Immissione in rete]:[Totale Consumi rimanenti]])","v":0},"HC",null,null,null,0]
["031900",3,{"$f":"+MIN(Contributo_cer[[#This Row],[Totale Immissione in rete]:[Totale Consumi rimanenti]])","v":0},"HC",null,null,null,0]
["031901",3,{"$f":"+MIN(Contributo_cer[[#This Row],[Totale Immissione in rete]:[Totale Consumi rimanenti]])","v":0},"HC",null,null,null,0]
["031902",3,{"$f":"+MIN(Contributo_cer[[#This Row],[Totale Immissione in rete]:[Totale Consumi rimanenti]])","v":0},"HC",null,null,null,0]
["031903",3,{"$f":"+MIN(Contributo_cer[[#This Row],[Totale Immissione in rete]:[Totale Consumi rimanenti]])","v":0},"HC",null,null,null,0]
["031904",3,{"$f":"+MIN(Contributo_cer[[#This Row],[Totale Immissione in rete]:[Totale Consumi rimanenti]])","v":0},"HC",null,null,null,0]
["031905",3,{"$f":"+MIN(Contributo_cer[[#This Row],[Totale Immissione in rete]:[Totale Consumi rimanenti]])","v":0},"HC",null,null,null,0]
["031906",3,{"$f":"+MIN(Contributo_cer[[#This Row],[Totale Immissione in rete]:[Totale Consumi rimanenti]])","v":0},"HP",null,null,null,0]
["031907",3,{"$f":"+MIN(Contributo_cer[[#This Row],[Totale Immissione in rete]:[Totale Consumi rimanenti]])","v":0},"HP",null,null,null,0]
["031908",3,{"$f":"+MIN(Contributo_cer[[#This Row],[Totale Immissione in rete]:[Totale Consumi rimanenti]])","v":0},"HP",null,null,null,0]
["031909",3,{"$f":"+MIN(Contributo_cer[[#This Row],[Totale Immissione in rete]:[Totale Consumi rimanenti]])","v":0},"HP",null,null,null,0]
["031910",3,{"$f":"+MIN(Contributo_cer[[#This Row],[Totale Immissione in rete]:[Totale Consumi rimanenti]])","v":0},"HP",null,null,null,0]
["031911",3,{"$f":"+MIN(Contributo_cer[[#This Row],[Totale Immissione in rete]:[Totale Consumi rimanenti]])","v":0},"HP",null,null,null,0]
["031912",3,{"$f":"+MIN(Contributo_cer[[#This Row],[Totale Immissione in rete]:[Totale Consumi rimanenti]])","v":0},"HP",null,null,null,0]
["031913",3,{"$f":"+MIN(Contributo_cer[[#This Row],[Totale Immissione in rete]:[Totale Consumi rimanenti]])","v":0},"HP",null,null,null,0]
["031914",3,{"$f":"+MIN(Contributo_cer[[#This Row],[Totale Immissione in rete]:[Totale Consumi rimanenti]])","v":0},"HP",null,null,null,0]
["031915",3,{"$f":"+MIN(Contributo_cer[[#This Row],[Totale Immissione in rete]:[Totale Consumi rimanenti]])","v":0},"HP",null,null,null,0]
["031916",3,{"$f":"+MIN(Contributo_cer[[#This Row],[Totale Immissione in rete]:[Totale Consumi rimanenti]])","v":0},"HP",null,null,null,0]
["031917",3,{"$f":"+MIN(Contributo_cer[[#This Row],[Totale Immissione in rete]:[Totale Consumi rimanenti]])","v":0},"HP",null,null,null,0]
["031918",3,{"$f":"+MIN(Contributo_cer[[#This Row],[Totale Immissione in rete]:[Totale Consumi rimanenti]])","v":0},"HP",null,null,null,0]
["031919",3,{"$f":"+MIN(Contributo_cer[[#This Row],[Totale Immissione in rete]:[Totale Consumi rimanenti]])","v":0},"HP",null,null,null,0]
["031920",3,{"$f":"+MIN(Contributo_cer[[#This Row],[Totale Immissione in rete]:[Totale Consumi rimanenti]])","v":0},"HP",null,null,null,0]
["031921",3,{"$f":"+MIN(Contributo_cer[[#This Row],[Totale Immissione in rete]:[Totale Consumi rimanenti]])","v":0},"HP",null,null,null,0]
["031922",3,{"$f":"+MIN(Contributo_cer[[#This Row],[Totale Immissione in rete]:[Totale Consumi rimanenti]])","v":0},"HC",null,null,null,0]
["031923",3,{"$f":"+MIN(Contributo_cer[[#This Row],[Totale Immissione in rete]:[Totale Consumi rimanenti]])","v":0},"HC",null,null,null,0]
["032000",3,{"$f":"+MIN(Contributo_cer[[#This Row],[Totale Immissione in rete]:[Totale Consumi rimanenti]])","v":0},"HC",null,null,null,0]
["032001",3,{"$f":"+MIN(Contributo_cer[[#This Row],[Totale Immissione in rete]:[Totale Consumi rimanenti]])","v":0},"HC",null,null,null,0]
["032002",3,{"$f":"+MIN(Contributo_cer[[#This Row],[Totale Immissione in rete]:[Totale Consumi rimanenti]])","v":0},"HC",null,null,null,0]
["032003",3,{"$f":"+MIN(Contributo_cer[[#This Row],[Totale Immissione in rete]:[Totale Consumi rimanenti]])","v":0},"HC",null,null,null,0]
["032004",3,{"$f":"+MIN(Contributo_cer[[#This Row],[Totale Immissione in rete]:[Totale Consumi rimanenti]])","v":0},"HC",null,null,null,0]
["032005",3,{"$f":"+MIN(Contributo_cer[[#This Row],[Totale Immissione in rete]:[Totale Consumi rimanenti]])","v":0},"HC",null,null,null,0]
["032006",3,{"$f":"+MIN(Contributo_cer[[#This Row],[Totale Immissione in rete]:[Totale Consumi rimanenti]])","v":0},"HP",null,null,null,0]
["032007",3,{"$f":"+MIN(Contributo_cer[[#This Row],[Totale Immissione in rete]:[Totale Consumi rimanenti]])","v":0},"HP",null,null,null,0]
["032008",3,{"$f":"+MIN(Contributo_cer[[#This Row],[Totale Immissione in rete]:[Totale Consumi rimanenti]])","v":0},"HP",null,null,null,0]
["032009",3,{"$f":"+MIN(Contributo_cer[[#This Row],[Totale Immissione in rete]:[Totale Consumi rimanenti]])","v":0},"HP",null,null,null,0]
["032010",3,{"$f":"+MIN(Contributo_cer[[#This Row],[Totale Immissione in rete]:[Totale Consumi rimanenti]])","v":0},"HP",null,null,null,0]
["032011",3,{"$f":"+MIN(Contributo_cer[[#This Row],[Totale Immissione in rete]:[Totale Consumi rimanenti]])","v":0},"HP",null,null,null,0]
["032012",3,{"$f":"+MIN(Contributo_cer[[#This Row],[Totale Immissione in rete]:[Totale Consumi rimanenti]])","v":0},"HP",null,null,null,0]
["032013",3,{"$f":"+MIN(Contributo_cer[[#This Row],[Totale Immissione in rete]:[Totale Consumi rimanenti]])","v":0},"HP",null,null,null,0]
["032014",3,{"$f":"+MIN(Contributo_cer[[#This Row],[Totale Immissione in rete]:[Totale Consumi rimanenti]])","v":0},"HP",null,null,null,0]
["032015",3,{"$f":"+MIN(Contributo_cer[[#This Row],[Totale Immissione in rete]:[Totale Consumi rimanenti]])","v":0},"HP",null,null,null,0]
["032016",3,{"$f":"+MIN(Contributo_cer[[#This Row],[Totale Immissione in rete]:[Totale Consumi rimanenti]])","v":0},"HP",null,null,null,0]
["032017",3,{"$f":"+MIN(Contributo_cer[[#This Row],[Totale Immissione in rete]:[Totale Consumi rimanenti]])","v":0},"HP",null,null,null,0]
["032018",3,{"$f":"+MIN(Contributo_cer[[#This Row],[Totale Immissione in rete]:[Totale Consumi rimanenti]])","v":0},"HP",null,null,null,0]
["032019",3,{"$f":"+MIN(Contributo_cer[[#This Row],[Totale Immissione in rete]:[Totale Consumi rimanenti]])","v":0},"HP",null,null,null,0]
["032020",3,{"$f":"+MIN(Contributo_cer[[#This Row],[Totale Immissione in rete]:[Totale Consumi rimanenti]])","v":0},"HP",null,null,null,0]
["032021",3,{"$f":"+MIN(Contributo_cer[[#This Row],[Totale Immissione in rete]:[Totale Consumi rimanenti]])","v":0},"HP",null,null,null,0]
["032022",3,{"$f":"+MIN(Contributo_cer[[#This Row],[Totale Immissione in rete]:[Totale Consumi rimanenti]])","v":0},"HC",null,null,null,0]
["032023",3,{"$f":"+MIN(Contributo_cer[[#This Row],[Totale Immissione in rete]:[Totale Consumi rimanenti]])","v":0},"HC",null,null,null,0]
["032100",3,{"$f":"+MIN(Contributo_cer[[#This Row],[Totale Immissione in rete]:[Totale Consumi rimanenti]])","v":0},"HC",null,null,null,0]
["032101",3,{"$f":"+MIN(Contributo_cer[[#This Row],[Totale Immissione in rete]:[Totale Consumi rimanenti]])","v":0},"HC",null,null,null,0]
["032102",3,{"$f":"+MIN(Contributo_cer[[#This Row],[Totale Immissione in rete]:[Totale Consumi rimanenti]])","v":0},"HC",null,null,null,0]
["032103",3,{"$f":"+MIN(Contributo_cer[[#This Row],[Totale Immissione in rete]:[Totale Consumi rimanenti]])","v":0},"HC",null,null,null,0]
["032104",3,{"$f":"+MIN(Contributo_cer[[#This Row],[Totale Immissione in rete]:[Totale Consumi rimanenti]])","v":0},"HC",null,null,null,0]
["032105",3,{"$f":"+MIN(Contributo_cer[[#This Row],[Totale Immissione in rete]:[Totale Consumi rimanenti]])","v":0},"HC",null,null,null,0]
["032106",3,{"$f":"+MIN(Contributo_cer[[#This Row],[Totale Immissione in rete]:[Totale Consumi rimanenti]])","v":0},"HP",null,null,null,0]
["032107",3,{"$f":"+MIN(Contributo_cer[[#This Row],[Totale Immissione in rete]:[Totale Consumi rimanenti]])","v":0},"HP",null,null,null,0]
["032108",3,{"$f":"+MIN(Contributo_cer[[#This Row],[Totale Immissione in rete]:[Totale Consumi rimanenti]])","v":0},"HP",null,null,null,0]
["032109",3,{"$f":"+MIN(Contributo_cer[[#This Row],[Totale Immissione in rete]:[Totale Consumi rimanenti]])","v":0},"HP",null,null,null,0]
["032110",3,{"$f":"+MIN(Contributo_cer[[#This Row],[Totale Immissione in rete]:[Totale Consumi rimanenti]])","v":0},"HP",null,null,null,0]
["032111",3,{"$f":"+MIN(Contributo_cer[[#This Row],[Totale Immissione in rete]:[Totale Consumi rimanenti]])","v":0},"HP",null,null,null,0]
["032112",3,{"$f":"+MIN(Contributo_cer[[#This Row],[Totale Immissione in rete]:[Totale Consumi rimanenti]])","v":0},"HP",null,null,null,0]
["032113",3,{"$f":"+MIN(Contributo_cer[[#This Row],[Totale Immissione in rete]:[Totale Consumi rimanenti]])","v":0},"HP",null,null,null,0]
["032114",3,{"$f":"+MIN(Contributo_cer[[#This Row],[Totale Immissione in rete]:[Totale Consumi rimanenti]])","v":0},"HP",null,null,null,0]
["032115",3,{"$f":"+MIN(Contributo_cer[[#This Row],[Totale Immissione in rete]:[Totale Consumi rimanenti]])","v":0},"HP",null,null,null,0]
["032116",3,{"$f":"+MIN(Contributo_cer[[#This Row],[Totale Immissione in rete]:[Totale Consumi rimanenti]])","v":0},"HP",null,null,null,0]
["032117",3,{"$f":"+MIN(Contributo_cer[[#This Row],[Totale Immissione in rete]:[Totale Consumi rimanenti]])","v":0},"HP",null,null,null,0]
["032118",3,{"$f":"+MIN(Contributo_cer[[#This Row],[Totale Immissione in rete]:[Totale Consumi rimanenti]])","v":0},"HP",null,null,null,0]
["032119",3,{"$f":"+MIN(Contributo_cer[[#This Row],[Totale Immissione in rete]:[Totale Consumi rimanenti]])","v":0},"HP",null,null,null,0]
["032120",3,{"$f":"+MIN(Contributo_cer[[#This Row],[Totale Immissione in rete]:[Totale Consumi rimanenti]])","v":0},"HP",null,null,null,0]
["032121",3,{"$f":"+MIN(Contributo_cer[[#This Row],[Totale Immissione in rete]:[Totale Consumi rimanenti]])","v":0},"HP",null,null,null,0]
["032122",3,{"$f":"+MIN(Contributo_cer[[#This Row],[Totale Immissione in rete]:[Totale Consumi rimanenti]])","v":0},"HC",null,null,null,0]
["032123",3,{"$f":"+MIN(Contributo_cer[[#This Row],[Totale Immissione in rete]:[Totale Consumi rimanenti]])","v":0},"HC",null,null,null,0]
["032200",3,{"$f":"+MIN(Contributo_cer[[#This Row],[Totale Immissione in rete]:[Totale Consumi rimanenti]])","v":0},"HC",null,null,null,0]
["032201",3,{"$f":"+MIN(Contributo_cer[[#This Row],[Totale Immissione in rete]:[Totale Consumi rimanenti]])","v":0},"HC",null,null,null,0]
["032202",3,{"$f":"+MIN(Contributo_cer[[#This Row],[Totale Immissione in rete]:[Totale Consumi rimanenti]])","v":0},"HC",null,null,null,0]
["032203",3,{"$f":"+MIN(Contributo_cer[[#This Row],[Totale Immissione in rete]:[Totale Consumi rimanenti]])","v":0},"HC",null,null,null,0]
["032204",3,{"$f":"+MIN(Contributo_cer[[#This Row],[Totale Immissione in rete]:[Totale Consumi rimanenti]])","v":0},"HC",null,null,null,0]
["032205",3,{"$f":"+MIN(Contributo_cer[[#This Row],[Totale Immissione in rete]:[Totale Consumi rimanenti]])","v":0},"HC",null,null,null,0]
["032206",3,{"$f":"+MIN(Contributo_cer[[#This Row],[Totale Immissione in rete]:[Totale Consumi rimanenti]])","v":0},"HP",null,null,null,0]
["032207",3,{"$f":"+MIN(Contributo_cer[[#This Row],[Totale Immissione in rete]:[Totale Consumi rimanenti]])","v":0},"HP",null,null,null,0]
["032208",3,{"$f":"+MIN(Contributo_cer[[#This Row],[Totale Immissione in rete]:[Totale Consumi rimanenti]])","v":0},"HP",null,null,null,0]
["032209",3,{"$f":"+MIN(Contributo_cer[[#This Row],[Totale Immissione in rete]:[Totale Consumi rimanenti]])","v":0},"HP",null,null,null,0]
["032210",3,{"$f":"+MIN(Contributo_cer[[#This Row],[Totale Immissione in rete]:[Totale Consumi rimanenti]])","v":0},"HP",null,null,null,0]
["032211",3,{"$f":"+MIN(Contributo_cer[[#This Row],[Totale Immissione in rete]:[Totale Consumi rimanenti]])","v":0},"HP",null,null,null,0]
["032212",3,{"$f":"+MIN(Contributo_cer[[#This Row],[Totale Immissione in rete]:[Totale Consumi rimanenti]])","v":0},"HP",null,null,null,0]
["032213",3,{"$f":"+MIN(Contributo_cer[[#This Row],[Totale Immissione in rete]:[Totale Consumi rimanenti]])","v":0},"HP",null,null,null,0]
["032214",3,{"$f":"+MIN(Contributo_cer[[#This Row],[Totale Immissione in rete]:[Totale Consumi rimanenti]])","v":0},"HP",null,null,null,0]
["032215",3,{"$f":"+MIN(Contributo_cer[[#This Row],[Totale Immissione in rete]:[Totale Consumi rimanenti]])","v":0},"HP",null,null,null,0]
["032216",3,{"$f":"+MIN(Contributo_cer[[#This Row],[Totale Immissione in rete]:[Totale Consumi rimanenti]])","v":0},"HP",null,null,null,0]
["032217",3,{"$f":"+MIN(Contributo_cer[[#This Row],[Totale Immissione in rete]:[Totale Consumi rimanenti]])","v":0},"HP",null,null,null,0]
["032218",3,{"$f":"+MIN(Contributo_cer[[#This Row],[Totale Immissione in rete]:[Totale Consumi rimanenti]])","v":0},"HP",null,null,null,0]
["032219",3,{"$f":"+MIN(Contributo_cer[[#This Row],[Totale Immissione in rete]:[Totale Consumi rimanenti]])","v":0},"HP",null,null,null,0]
["032220",3,{"$f":"+MIN(Contributo_cer[[#This Row],[Totale Immissione in rete]:[Totale Consumi rimanenti]])","v":0},"HP",null,null,null,0]
["032221",3,{"$f":"+MIN(Contributo_cer[[#This Row],[Totale Immissione in rete]:[Totale Consumi rimanenti]])","v":0},"HP",null,null,null,0]
["032222",3,{"$f":"+MIN(Contributo_cer[[#This Row],[Totale Immissione in rete]:[Totale Consumi rimanenti]])","v":0},"HC",null,null,null,0]
["032223",3,{"$f":"+MIN(Contributo_cer[[#This Row],[Totale Immissione in rete]:[Totale Consumi rimanenti]])","v":0},"HC",null,null,null,0]
["032300",3,{"$f":"+MIN(Contributo_cer[[#This Row],[Totale Immissione in rete]:[Totale Consumi rimanenti]])","v":0},"HC",null,null,null,0]
["032301",3,{"$f":"+MIN(Contributo_cer[[#This Row],[Totale Immissione in rete]:[Totale Consumi rimanenti]])","v":0},"HC",null,null,null,0]
["032302",3,{"$f":"+MIN(Contributo_cer[[#This Row],[Totale Immissione in rete]:[Totale Consumi rimanenti]])","v":0},"HC",null,null,null,0]
["032303",3,{"$f":"+MIN(Contributo_cer[[#This Row],[Totale Immissione in rete]:[Totale Consumi rimanenti]])","v":0},"HC",null,null,null,0]
["032304",3,{"$f":"+MIN(Contributo_cer[[#This Row],[Totale Immissione in rete]:[Totale Consumi rimanenti]])","v":0},"HC",null,null,null,0]
["032305",3,{"$f":"+MIN(Contributo_cer[[#This Row],[Totale Immissione in rete]:[Totale Consumi rimanenti]])","v":0},"HC",null,null,null,0]
["032306",3,{"$f":"+MIN(Contributo_cer[[#This Row],[Totale Immissione in rete]:[Totale Consumi rimanenti]])","v":0},"HP",null,null,null,0]
["032307",3,{"$f":"+MIN(Contributo_cer[[#This Row],[Totale Immissione in rete]:[Totale Consumi rimanenti]])","v":0},"HP",null,null,null,0]
["032308",3,{"$f":"+MIN(Contributo_cer[[#This Row],[Totale Immissione in rete]:[Totale Consumi rimanenti]])","v":0},"HP",null,null,null,0]
["032309",3,{"$f":"+MIN(Contributo_cer[[#This Row],[Totale Immissione in rete]:[Totale Consumi rimanenti]])","v":0},"HP",null,null,null,0]
["032310",3,{"$f":"+MIN(Contributo_cer[[#This Row],[Totale Immissione in rete]:[Totale Consumi rimanenti]])","v":0},"HP",null,null,null,0]
["032311",3,{"$f":"+MIN(Contributo_cer[[#This Row],[Totale Immissione in rete]:[Totale Consumi rimanenti]])","v":0},"HP",null,null,null,0]
["032312",3,{"$f":"+MIN(Contributo_cer[[#This Row],[Totale Immissione in rete]:[Totale Consumi rimanenti]])","v":0},"HP",null,null,null,0]
["032313",3,{"$f":"+MIN(Contributo_cer[[#This Row],[Totale Immissione in rete]:[Totale Consumi rimanenti]])","v":0},"HP",null,null,null,0]
["032314",3,{"$f":"+MIN(Contributo_cer[[#This Row],[Totale Immissione in rete]:[Totale Consumi rimanenti]])","v":0},"HP",null,null,null,0]
["032315",3,{"$f":"+MIN(Contributo_cer[[#This Row],[Totale Immissione in rete]:[Totale Consumi rimanenti]])","v":0},"HP",null,null,null,0]
["032316",3,{"$f":"+MIN(Contributo_cer[[#This Row],[Totale Immissione in rete]:[Totale Consumi rimanenti]])","v":0},"HP",null,null,null,0]
["032317",3,{"$f":"+MIN(Contributo_cer[[#This Row],[Totale Immissione in rete]:[Totale Consumi rimanenti]])","v":0},"HP",null,null,null,0]
["032318",3,{"$f":"+MIN(Contributo_cer[[#This Row],[Totale Immissione in rete]:[Totale Consumi rimanenti]])","v":0},"HP",null,null,null,0]
["032319",3,{"$f":"+MIN(Contributo_cer[[#This Row],[Totale Immissione in rete]:[Totale Consumi rimanenti]])","v":0},"HP",null,null,null,0]
["032320",3,{"$f":"+MIN(Contributo_cer[[#This Row],[Totale Immissione in rete]:[Totale Consumi rimanenti]])","v":0},"HP",null,null,null,0]
["032321",3,{"$f":"+MIN(Contributo_cer[[#This Row],[Totale Immissione in rete]:[Totale Consumi rimanenti]])","v":0},"HP",null,null,null,0]
["032322",3,{"$f":"+MIN(Contributo_cer[[#This Row],[Totale Immissione in rete]:[Totale Consumi rimanenti]])","v":0},"HC",null,null,null,0]
["032323",3,{"$f":"+MIN(Contributo_cer[[#This Row],[Totale Immissione in rete]:[Totale Consumi rimanenti]])","v":0},"HC",null,null,null,0]
["032400",3,{"$f":"+MIN(Contributo_cer[[#This Row],[Totale Immissione in rete]:[Totale Consumi rimanenti]])","v":0},"HC",null,null,null,0]
["032401",3,{"$f":"+MIN(Contributo_cer[[#This Row],[Totale Immissione in rete]:[Totale Consumi rimanenti]])","v":0},"HC",null,null,null,0]
["032402",3,{"$f":"+MIN(Contributo_cer[[#This Row],[Totale Immissione in rete]:[Totale Consumi rimanenti]])","v":0},"HC",null,null,null,0]
["032403",3,{"$f":"+MIN(Contributo_cer[[#This Row],[Totale Immissione in rete]:[Totale Consumi rimanenti]])","v":0},"HC",null,null,null,0]
["032404",3,{"$f":"+MIN(Contributo_cer[[#This Row],[Totale Immissione in rete]:[Totale Consumi rimanenti]])","v":0},"HC",null,null,null,0]
["032405",3,{"$f":"+MIN(Contributo_cer[[#This Row],[Totale Immissione in rete]:[Totale Consumi rimanenti]])","v":0},"HC",null,null,null,0]
["032406",3,{"$f":"+MIN(Contributo_cer[[#This Row],[Totale Immissione in rete]:[Totale Consumi rimanenti]])","v":0},"HP",null,null,null,0]
["032407",3,{"$f":"+MIN(Contributo_cer[[#This Row],[Totale Immissione in rete]:[Totale Consumi rimanenti]])","v":0},"HP",null,null,null,0]
["032408",3,{"$f":"+MIN(Contributo_cer[[#This Row],[Totale Immissione in rete]:[Totale Consumi rimanenti]])","v":0},"HP",null,null,null,0]
["032409",3,{"$f":"+MIN(Contributo_cer[[#This Row],[Totale Immissione in rete]:[Totale Consumi rimanenti]])","v":0},"HP",null,null,null,0]
["032410",3,{"$f":"+MIN(Contributo_cer[[#This Row],[Totale Immissione in rete]:[Totale Consumi rimanenti]])","v":0},"HP",null,null,null,0]
["032411",3,{"$f":"+MIN(Contributo_cer[[#This Row],[Totale Immissione in rete]:[Totale Consumi rimanenti]])","v":0},"HP",null,null,null,0]
["032412",3,{"$f":"+MIN(Contributo_cer[[#This Row],[Totale Immissione in rete]:[Totale Consumi rimanenti]])","v":0},"HP",null,null,null,0]
["032413",3,{"$f":"+MIN(Contributo_cer[[#This Row],[Totale Immissione in rete]:[Totale Consumi rimanenti]])","v":0},"HP",null,null,null,0]
["032414",3,{"$f":"+MIN(Contributo_cer[[#This Row],[Totale Immissione in rete]:[Totale Consumi rimanenti]])","v":0},"HP",null,null,null,0]
["032415",3,{"$f":"+MIN(Contributo_cer[[#This Row],[Totale Immissione in rete]:[Totale Consumi rimanenti]])","v":0},"HP",null,null,null,0]
["032416",3,{"$f":"+MIN(Contributo_cer[[#This Row],[Totale Immissione in rete]:[Totale Consumi rimanenti]])","v":0},"HP",null,null,null,0]
["032417",3,{"$f":"+MIN(Contributo_cer[[#This Row],[Totale Immissione in rete]:[Totale Consumi rimanenti]])","v":0},"HP",null,null,null,0]
["032418",3,{"$f":"+MIN(Contributo_cer[[#This Row],[Totale Immissione in rete]:[Totale Consumi rimanenti]])","v":0},"HP",null,null,null,0]
["032419",3,{"$f":"+MIN(Contributo_cer[[#This Row],[Totale Immissione in rete]:[Totale Consumi rimanenti]])","v":0},"HP",null,null,null,0]
["032420",3,{"$f":"+MIN(Contributo_cer[[#This Row],[Totale Immissione in rete]:[Totale Consumi rimanenti]])","v":0},"HP",null,null,null,0]
["032421",3,{"$f":"+MIN(Contributo_cer[[#This Row],[Totale Immissione in rete]:[Totale Consumi rimanenti]])","v":0},"HP",null,null,null,0]
["032422",3,{"$f":"+MIN(Contributo_cer[[#This Row],[Totale Immissione in rete]:[Totale Consumi rimanenti]])","v":0},"HC",null,null,null,0]
["032423",3,{"$f":"+MIN(Contributo_cer[[#This Row],[Totale Immissione in rete]:[Totale Consumi rimanenti]])","v":0},"HC",null,null,null,0]
["032500",3,{"$f":"+MIN(Contributo_cer[[#This Row],[Totale Immissione in rete]:[Totale Consumi rimanenti]])","v":0},"HC",null,null,null,0]
["032501",3,{"$f":"+MIN(Contributo_cer[[#This Row],[Totale Immissione in rete]:[Totale Consumi rimanenti]])","v":0},"HC",null,null,null,0]
["032502",3,{"$f":"+MIN(Contributo_cer[[#This Row],[Totale Immissione in rete]:[Totale Consumi rimanenti]])","v":0},"HC",null,null,null,0]
["032503",3,{"$f":"+MIN(Contributo_cer[[#This Row],[Totale Immissione in rete]:[Totale Consumi rimanenti]])","v":0},"HC",null,null,null,0]
["032504",3,{"$f":"+MIN(Contributo_cer[[#This Row],[Totale Immissione in rete]:[Totale Consumi rimanenti]])","v":0},"HC",null,null,null,0]
["032505",3,{"$f":"+MIN(Contributo_cer[[#This Row],[Totale Immissione in rete]:[Totale Consumi rimanenti]])","v":0},"HC",null,null,null,0]
["032506",3,{"$f":"+MIN(Contributo_cer[[#This Row],[Totale Immissione in rete]:[Totale Consumi rimanenti]])","v":0},"HP",null,null,null,0]
["032507",3,{"$f":"+MIN(Contributo_cer[[#This Row],[Totale Immissione in rete]:[Totale Consumi rimanenti]])","v":0},"HP",null,null,null,0]
["032508",3,{"$f":"+MIN(Contributo_cer[[#This Row],[Totale Immissione in rete]:[Totale Consumi rimanenti]])","v":0},"HP",null,null,null,0]
["032509",3,{"$f":"+MIN(Contributo_cer[[#This Row],[Totale Immissione in rete]:[Totale Consumi rimanenti]])","v":0},"HP",null,null,null,0]
["032510",3,{"$f":"+MIN(Contributo_cer[[#This Row],[Totale Immissione in rete]:[Totale Consumi rimanenti]])","v":0},"HP",null,null,null,0]
["032511",3,{"$f":"+MIN(Contributo_cer[[#This Row],[Totale Immissione in rete]:[Totale Consumi rimanenti]])","v":0},"HP",null,null,null,0]
["032512",3,{"$f":"+MIN(Contributo_cer[[#This Row],[Totale Immissione in rete]:[Totale Consumi rimanenti]])","v":0},"HP",null,null,null,0]
["032513",3,{"$f":"+MIN(Contributo_cer[[#This Row],[Totale Immissione in rete]:[Totale Consumi rimanenti]])","v":0},"HP",null,null,null,0]
["032514",3,{"$f":"+MIN(Contributo_cer[[#This Row],[Totale Immissione in rete]:[Totale Consumi rimanenti]])","v":0},"HP",null,null,null,0]
["032515",3,{"$f":"+MIN(Contributo_cer[[#This Row],[Totale Immissione in rete]:[Totale Consumi rimanenti]])","v":0},"HP",null,null,null,0]
["032516",3,{"$f":"+MIN(Contributo_cer[[#This Row],[Totale Immissione in rete]:[Totale Consumi rimanenti]])","v":0},"HP",null,null,null,0]
["032517",3,{"$f":"+MIN(Contributo_cer[[#This Row],[Totale Immissione in rete]:[Totale Consumi rimanenti]])","v":0},"HP",null,null,null,0]
["032518",3,{"$f":"+MIN(Contributo_cer[[#This Row],[Totale Immissione in rete]:[Totale Consumi rimanenti]])","v":0},"HP",null,null,null,0]
["032519",3,{"$f":"+MIN(Contributo_cer[[#This Row],[Totale Immissione in rete]:[Totale Consumi rimanenti]])","v":0},"HP",null,null,null,0]
["032520",3,{"$f":"+MIN(Contributo_cer[[#This Row],[Totale Immissione in rete]:[Totale Consumi rimanenti]])","v":0},"HP",null,null,null,0]
["032521",3,{"$f":"+MIN(Contributo_cer[[#This Row],[Totale Immissione in rete]:[Totale Consumi rimanenti]])","v":0},"HP",null,null,null,0]
["032522",3,{"$f":"+MIN(Contributo_cer[[#This Row],[Totale Immissione in rete]:[Totale Consumi rimanenti]])","v":0},"HC",null,null,null,0]
["032523",3,{"$f":"+MIN(Contributo_cer[[#This Row],[Totale Immissione in rete]:[Totale Consumi rimanenti]])","v":0},"HC",null,null,null,0]
["032600",3,{"$f":"+MIN(Contributo_cer[[#This Row],[Totale Immissione in rete]:[Totale Consumi rimanenti]])","v":0},"HC",null,null,null,0]
["032601",3,{"$f":"+MIN(Contributo_cer[[#This Row],[Totale Immissione in rete]:[Totale Consumi rimanenti]])","v":0},"HC",null,null,null,0]
["032602",3,{"$f":"+MIN(Contributo_cer[[#This Row],[Totale Immissione in rete]:[Totale Consumi rimanenti]])","v":0},"HC",null,null,null,0]
["032603",3,{"$f":"+MIN(Contributo_cer[[#This Row],[Totale Immissione in rete]:[Totale Consumi rimanenti]])","v":0},"HC",null,null,null,0]
["032604",3,{"$f":"+MIN(Contributo_cer[[#This Row],[Totale Immissione in rete]:[Totale Consumi rimanenti]])","v":0},"HC",null,null,null,0]
["032605",3,{"$f":"+MIN(Contributo_cer[[#This Row],[Totale Immissione in rete]:[Totale Consumi rimanenti]])","v":0},"HC",null,null,null,0]
["032606",3,{"$f":"+MIN(Contributo_cer[[#This Row],[Totale Immissione in rete]:[Totale Consumi rimanenti]])","v":0},"HP",null,null,null,0]
["032607",3,{"$f":"+MIN(Contributo_cer[[#This Row],[Totale Immissione in rete]:[Totale Consumi rimanenti]])","v":0},"HP",null,null,null,0]
["032608",3,{"$f":"+MIN(Contributo_cer[[#This Row],[Totale Immissione in rete]:[Totale Consumi rimanenti]])","v":0},"HP",null,null,null,0]
["032609",3,{"$f":"+MIN(Contributo_cer[[#This Row],[Totale Immissione in rete]:[Totale Consumi rimanenti]])","v":0},"HP",null,null,null,0]
["032610",3,{"$f":"+MIN(Contributo_cer[[#This Row],[Totale Immissione in rete]:[Totale Consumi rimanenti]])","v":0},"HP",null,null,null,0]
["032611",3,{"$f":"+MIN(Contributo_cer[[#This Row],[Totale Immissione in rete]:[Totale Consumi rimanenti]])","v":0},"HP",null,null,null,0]
["032612",3,{"$f":"+MIN(Contributo_cer[[#This Row],[Totale Immissione in rete]:[Totale Consumi rimanenti]])","v":0},"HP",null,null,null,0]
["032613",3,{"$f":"+MIN(Contributo_cer[[#This Row],[Totale Immissione in rete]:[Totale Consumi rimanenti]])","v":0},"HP",null,null,null,0]
["032614",3,{"$f":"+MIN(Contributo_cer[[#This Row],[Totale Immissione in rete]:[Totale Consumi rimanenti]])","v":0},"HP",null,null,null,0]
["032615",3,{"$f":"+MIN(Contributo_cer[[#This Row],[Totale Immissione in rete]:[Totale Consumi rimanenti]])","v":0},"HP",null,null,null,0]
["032616",3,{"$f":"+MIN(Contributo_cer[[#This Row],[Totale Immissione in rete]:[Totale Consumi rimanenti]])","v":0},"HP",null,null,null,0]
["032617",3,{"$f":"+MIN(Contributo_cer[[#This Row],[Totale Immissione in rete]:[Totale Consumi rimanenti]])","v":0},"HP",null,null,null,0]
["032618",3,{"$f":"+MIN(Contributo_cer[[#This Row],[Totale Immissione in rete]:[Totale Consumi rimanenti]])","v":0},"HP",null,null,null,0]
["032619",3,{"$f":"+MIN(Contributo_cer[[#This Row],[Totale Immissione in rete]:[Totale Consumi rimanenti]])","v":0},"HP",null,null,null,0]
["032620",3,{"$f":"+MIN(Contributo_cer[[#This Row],[Totale Immissione in rete]:[Totale Consumi rimanenti]])","v":0},"HP",null,null,null,0]
["032621",3,{"$f":"+MIN(Contributo_cer[[#This Row],[Totale Immissione in rete]:[Totale Consumi rimanenti]])","v":0},"HP",null,null,null,0]
["032622",3,{"$f":"+MIN(Contributo_cer[[#This Row],[Totale Immissione in rete]:[Totale Consumi rimanenti]])","v":0},"HC",null,null,null,0]
["032623",3,{"$f":"+MIN(Contributo_cer[[#This Row],[Totale Immissione in rete]:[Totale Consumi rimanenti]])","v":0},"HC",null,null,null,0]
["032700",3,{"$f":"+MIN(Contributo_cer[[#This Row],[Totale Immissione in rete]:[Totale Consumi rimanenti]])","v":0},"HC",null,null,null,0]
["032701",3,{"$f":"+MIN(Contributo_cer[[#This Row],[Totale Immissione in rete]:[Totale Consumi rimanenti]])","v":0},"HC",null,null,null,0]
["032702",3,{"$f":"+MIN(Contributo_cer[[#This Row],[Totale Immissione in rete]:[Totale Consumi rimanenti]])","v":0},"HC",null,null,null,0]
["032703",3,{"$f":"+MIN(Contributo_cer[[#This Row],[Totale Immissione in rete]:[Totale Consumi rimanenti]])","v":0},"HC",null,null,null,0]
["032704",3,{"$f":"+MIN(Contributo_cer[[#This Row],[Totale Immissione in rete]:[Totale Consumi rimanenti]])","v":0},"HC",null,null,null,0]
["032705",3,{"$f":"+MIN(Contributo_cer[[#This Row],[Totale Immissione in rete]:[Totale Consumi rimanenti]])","v":0},"HC",null,null,null,0]
["032706",3,{"$f":"+MIN(Contributo_cer[[#This Row],[Totale Immissione in rete]:[Totale Consumi rimanenti]])","v":0},"HP",null,null,null,0]
["032707",3,{"$f":"+MIN(Contributo_cer[[#This Row],[Totale Immissione in rete]:[Totale Consumi rimanenti]])","v":0},"HP",null,null,null,0]
["032708",3,{"$f":"+MIN(Contributo_cer[[#This Row],[Totale Immissione in rete]:[Totale Consumi rimanenti]])","v":0},"HP",null,null,null,0]
["032709",3,{"$f":"+MIN(Contributo_cer[[#This Row],[Totale Immissione in rete]:[Totale Consumi rimanenti]])","v":0},"HP",null,null,null,0]
["032710",3,{"$f":"+MIN(Contributo_cer[[#This Row],[Totale Immissione in rete]:[Totale Consumi rimanenti]])","v":0},"HP",null,null,null,0]
["032711",3,{"$f":"+MIN(Contributo_cer[[#This Row],[Totale Immissione in rete]:[Totale Consumi rimanenti]])","v":0},"HP",null,null,null,0]
["032712",3,{"$f":"+MIN(Contributo_cer[[#This Row],[Totale Immissione in rete]:[Totale Consumi rimanenti]])","v":0},"HP",null,null,null,0]
["032713",3,{"$f":"+MIN(Contributo_cer[[#This Row],[Totale Immissione in rete]:[Totale Consumi rimanenti]])","v":0},"HP",null,null,null,0]
["032714",3,{"$f":"+MIN(Contributo_cer[[#This Row],[Totale Immissione in rete]:[Totale Consumi rimanenti]])","v":0},"HP",null,null,null,0]
["032715",3,{"$f":"+MIN(Contributo_cer[[#This Row],[Totale Immissione in rete]:[Totale Consumi rimanenti]])","v":0},"HP",null,null,null,0]
["032716",3,{"$f":"+MIN(Contributo_cer[[#This Row],[Totale Immissione in rete]:[Totale Consumi rimanenti]])","v":0},"HP",null,null,null,0]
["032717",3,{"$f":"+MIN(Contributo_cer[[#This Row],[Totale Immissione in rete]:[Totale Consumi rimanenti]])","v":0},"HP",null,null,null,0]
["032718",3,{"$f":"+MIN(Contributo_cer[[#This Row],[Totale Immissione in rete]:[Totale Consumi rimanenti]])","v":0},"HP",null,null,null,0]
["032719",3,{"$f":"+MIN(Contributo_cer[[#This Row],[Totale Immissione in rete]:[Totale Consumi rimanenti]])","v":0},"HP",null,null,null,0]
["032720",3,{"$f":"+MIN(Contributo_cer[[#This Row],[Totale Immissione in rete]:[Totale Consumi rimanenti]])","v":0},"HP",null,null,null,0]
["032721",3,{"$f":"+MIN(Contributo_cer[[#This Row],[Totale Immissione in rete]:[Totale Consumi rimanenti]])","v":0},"HP",null,null,null,0]
["032722",3,{"$f":"+MIN(Contributo_cer[[#This Row],[Totale Immissione in rete]:[Totale Consumi rimanenti]])","v":0},"HC",null,null,null,0]
["032723",3,{"$f":"+MIN(Contributo_cer[[#This Row],[Totale Immissione in rete]:[Totale Consumi rimanenti]])","v":0},"HC",null,null,null,0]
["032800",3,{"$f":"+MIN(Contributo_cer[[#This Row],[Totale Immissione in rete]:[Totale Consumi rimanenti]])","v":0},"HC",null,null,null,0]
["032801",3,{"$f":"+MIN(Contributo_cer[[#This Row],[Totale Immissione in rete]:[Totale Consumi rimanenti]])","v":0},"HC",null,null,null,0]
["032802",3,{"$f":"+MIN(Contributo_cer[[#This Row],[Totale Immissione in rete]:[Totale Consumi rimanenti]])","v":0},"HC",null,null,null,0]
["032803",3,{"$f":"+MIN(Contributo_cer[[#This Row],[Totale Immissione in rete]:[Totale Consumi rimanenti]])","v":0},"HC",null,null,null,0]
["032804",3,{"$f":"+MIN(Contributo_cer[[#This Row],[Totale Immissione in rete]:[Totale Consumi rimanenti]])","v":0},"HC",null,null,null,0]
["032805",3,{"$f":"+MIN(Contributo_cer[[#This Row],[Totale Immissione in rete]:[Totale Consumi rimanenti]])","v":0},"HC",null,null,null,0]
["032806",3,{"$f":"+MIN(Contributo_cer[[#This Row],[Totale Immissione in rete]:[Totale Consumi rimanenti]])","v":0},"HP",null,null,null,0]
["032807",3,{"$f":"+MIN(Contributo_cer[[#This Row],[Totale Immissione in rete]:[Totale Consumi rimanenti]])","v":0},"HP",null,null,null,0]
["032808",3,{"$f":"+MIN(Contributo_cer[[#This Row],[Totale Immissione in rete]:[Totale Consumi rimanenti]])","v":0},"HP",null,null,null,0]
["032809",3,{"$f":"+MIN(Contributo_cer[[#This Row],[Totale Immissione in rete]:[Totale Consumi rimanenti]])","v":0},"HP",null,null,null,0]
["032810",3,{"$f":"+MIN(Contributo_cer[[#This Row],[Totale Immissione in rete]:[Totale Consumi rimanenti]])","v":0},"HP",null,null,null,0]
["032811",3,{"$f":"+MIN(Contributo_cer[[#This Row],[Totale Immissione in rete]:[Totale Consumi rimanenti]])","v":0},"HP",null,null,null,0]
["032812",3,{"$f":"+MIN(Contributo_cer[[#This Row],[Totale Immissione in rete]:[Totale Consumi rimanenti]])","v":0},"HP",null,null,null,0]
["032813",3,{"$f":"+MIN(Contributo_cer[[#This Row],[Totale Immissione in rete]:[Totale Consumi rimanenti]])","v":0},"HP",null,null,null,0]
["032814",3,{"$f":"+MIN(Contributo_cer[[#This Row],[Totale Immissione in rete]:[Totale Consumi rimanenti]])","v":0},"HP",null,null,null,0]
["032815",3,{"$f":"+MIN(Contributo_cer[[#This Row],[Totale Immissione in rete]:[Totale Consumi rimanenti]])","v":0},"HP",null,null,null,0]
["032816",3,{"$f":"+MIN(Contributo_cer[[#This Row],[Totale Immissione in rete]:[Totale Consumi rimanenti]])","v":0},"HP",null,null,null,0]
["032817",3,{"$f":"+MIN(Contributo_cer[[#This Row],[Totale Immissione in rete]:[Totale Consumi rimanenti]])","v":0},"HP",null,null,null,0]
["032818",3,{"$f":"+MIN(Contributo_cer[[#This Row],[Totale Immissione in rete]:[Totale Consumi rimanenti]])","v":0},"HP",null,null,null,0]
["032819",3,{"$f":"+MIN(Contributo_cer[[#This Row],[Totale Immissione in rete]:[Totale Consumi rimanenti]])","v":0},"HP",null,null,null,0]
["032820",3,{"$f":"+MIN(Contributo_cer[[#This Row],[Totale Immissione in rete]:[Totale Consumi rimanenti]])","v":0},"HP",null,null,null,0]
["032821",3,{"$f":"+MIN(Contributo_cer[[#This Row],[Totale Immissione in rete]:[Totale Consumi rimanenti]])","v":0},"HP",null,null,null,0]
["032822",3,{"$f":"+MIN(Contributo_cer[[#This Row],[Totale Immissione in rete]:[Totale Consumi rimanenti]])","v":0},"HC",null,null,null,0]
["032823",3,{"$f":"+MIN(Contributo_cer[[#This Row],[Totale Immissione in rete]:[Totale Consumi rimanenti]])","v":0},"HC",null,null,null,0]
["032900",3,{"$f":"+MIN(Contributo_cer[[#This Row],[Totale Immissione in rete]:[Totale Consumi rimanenti]])","v":0},"HC",null,null,null,0]
["032901",3,{"$f":"+MIN(Contributo_cer[[#This Row],[Totale Immissione in rete]:[Totale Consumi rimanenti]])","v":0},"HC",null,null,null,0]
["032902",3,{"$f":"+MIN(Contributo_cer[[#This Row],[Totale Immissione in rete]:[Totale Consumi rimanenti]])","v":0},"HC",null,null,null,0]
["032903",3,{"$f":"+MIN(Contributo_cer[[#This Row],[Totale Immissione in rete]:[Totale Consumi rimanenti]])","v":0},"HC",null,null,null,0]
["032904",3,{"$f":"+MIN(Contributo_cer[[#This Row],[Totale Immissione in rete]:[Totale Consumi rimanenti]])","v":0},"HC",null,null,null,0]
["032905",3,{"$f":"+MIN(Contributo_cer[[#This Row],[Totale Immissione in rete]:[Totale Consumi rimanenti]])","v":0},"HC",null,null,null,0]
["032906",3,{"$f":"+MIN(Contributo_cer[[#This Row],[Totale Immissione in rete]:[Totale Consumi rimanenti]])","v":0},"HP",null,null,null,0]
["032907",3,{"$f":"+MIN(Contributo_cer[[#This Row],[Totale Immissione in rete]:[Totale Consumi rimanenti]])","v":0},"HP",null,null,null,0]
["032908",3,{"$f":"+MIN(Contributo_cer[[#This Row],[Totale Immissione in rete]:[Totale Consumi rimanenti]])","v":0},"HP",null,null,null,0]
["032909",3,{"$f":"+MIN(Contributo_cer[[#This Row],[Totale Immissione in rete]:[Totale Consumi rimanenti]])","v":0},"HP",null,null,null,0]
["032910",3,{"$f":"+MIN(Contributo_cer[[#This Row],[Totale Immissione in rete]:[Totale Consumi rimanenti]])","v":0},"HP",null,null,null,0]
["032911",3,{"$f":"+MIN(Contributo_cer[[#This Row],[Totale Immissione in rete]:[Totale Consumi rimanenti]])","v":0},"HP",null,null,null,0]
["032912",3,{"$f":"+MIN(Contributo_cer[[#This Row],[Totale Immissione in rete]:[Totale Consumi rimanenti]])","v":0},"HP",null,null,null,0]
["032913",3,{"$f":"+MIN(Contributo_cer[[#This Row],[Totale Immissione in rete]:[Totale Consumi rimanenti]])","v":0},"HP",null,null,null,0]
["032914",3,{"$f":"+MIN(Contributo_cer[[#This Row],[Totale Immissione in rete]:[Totale Consumi rimanenti]])","v":0},"HP",null,null,null,0]
["032915",3,{"$f":"+MIN(Contributo_cer[[#This Row],[Totale Immissione in rete]:[Totale Consumi rimanenti]])","v":0},"HP",null,null,null,0]
["032916",3,{"$f":"+MIN(Contributo_cer[[#This Row],[Totale Immissione in rete]:[Totale Consumi rimanenti]])","v":0},"HP",null,null,null,0]
["032917",3,{"$f":"+MIN(Contributo_cer[[#This Row],[Totale Immissione in rete]:[Totale Consumi rimanenti]])","v":0},"HP",null,null,null,0]
["032918",3,{"$f":"+MIN(Contributo_cer[[#This Row],[Totale Immissione in rete]:[Totale Consumi rimanenti]])","v":0},"HP",null,null,null,0]
["032919",3,{"$f":"+MIN(Contributo_cer[[#This Row],[Totale Immissione in rete]:[Totale Consumi rimanenti]])","v":0},"HP",null,null,null,0]
["032920",3,{"$f":"+MIN(Contributo_cer[[#This Row],[Totale Immissione in rete]:[Totale Consumi rimanenti]])","v":0},"HP",null,null,null,0]
["032921",3,{"$f":"+MIN(Contributo_cer[[#This Row],[Totale Immissione in rete]:[Totale Consumi rimanenti]])","v":0},"HP",null,null,null,0]
["032922",3,{"$f":"+MIN(Contributo_cer[[#This Row],[Totale Immissione in rete]:[Totale Consumi rimanenti]])","v":0},"HC",null,null,null,0]
["032923",3,{"$f":"+MIN(Contributo_cer[[#This Row],[Totale Immissione in rete]:[Totale Consumi rimanenti]])","v":0},"HC",null,null,null,0]
["033000",3,{"$f":"+MIN(Contributo_cer[[#This Row],[Totale Immissione in rete]:[Totale Consumi rimanenti]])","v":0},"HC",null,null,null,0]
["033001",3,{"$f":"+MIN(Contributo_cer[[#This Row],[Totale Immissione in rete]:[Totale Consumi rimanenti]])","v":0},"HC",null,null,null,0]
["033002",3,{"$f":"+MIN(Contributo_cer[[#This Row],[Totale Immissione in rete]:[Totale Consumi rimanenti]])","v":0},"HC",null,null,null,0]
["033003",3,{"$f":"+MIN(Contributo_cer[[#This Row],[Totale Immissione in rete]:[Totale Consumi rimanenti]])","v":0},"HC",null,null,null,0]
["033004",3,{"$f":"+MIN(Contributo_cer[[#This Row],[Totale Immissione in rete]:[Totale Consumi rimanenti]])","v":0},"HC",null,null,null,0]
["033005",3,{"$f":"+MIN(Contributo_cer[[#This Row],[Totale Immissione in rete]:[Totale Consumi rimanenti]])","v":0},"HC",null,null,null,0]
["033006",3,{"$f":"+MIN(Contributo_cer[[#This Row],[Totale Immissione in rete]:[Totale Consumi rimanenti]])","v":0},"HP",null,null,null,0]
["033007",3,{"$f":"+MIN(Contributo_cer[[#This Row],[Totale Immissione in rete]:[Totale Consumi rimanenti]])","v":0},"HP",null,null,null,0]
["033008",3,{"$f":"+MIN(Contributo_cer[[#This Row],[Totale Immissione in rete]:[Totale Consumi rimanenti]])","v":0},"HP",null,null,null,0]
["033009",3,{"$f":"+MIN(Contributo_cer[[#This Row],[Totale Immissione in rete]:[Totale Consumi rimanenti]])","v":0},"HP",null,null,null,0]
["033010",3,{"$f":"+MIN(Contributo_cer[[#This Row],[Totale Immissione in rete]:[Totale Consumi rimanenti]])","v":0},"HP",null,null,null,0]
["033011",3,{"$f":"+MIN(Contributo_cer[[#This Row],[Totale Immissione in rete]:[Totale Consumi rimanenti]])","v":0},"HP",null,null,null,0]
["033012",3,{"$f":"+MIN(Contributo_cer[[#This Row],[Totale Immissione in rete]:[Totale Consumi rimanenti]])","v":0},"HP",null,null,null,0]
["033013",3,{"$f":"+MIN(Contributo_cer[[#This Row],[Totale Immissione in rete]:[Totale Consumi rimanenti]])","v":0},"HP",null,null,null,0]
["033014",3,{"$f":"+MIN(Contributo_cer[[#This Row],[Totale Immissione in rete]:[Totale Consumi rimanenti]])","v":0},"HP",null,null,null,0]
["033015",3,{"$f":"+MIN(Contributo_cer[[#This Row],[Totale Immissione in rete]:[Totale Consumi rimanenti]])","v":0},"HP",null,null,null,0]
["033016",3,{"$f":"+MIN(Contributo_cer[[#This Row],[Totale Immissione in rete]:[Totale Consumi rimanenti]])","v":0},"HP",null,null,null,0]
["033017",3,{"$f":"+MIN(Contributo_cer[[#This Row],[Totale Immissione in rete]:[Totale Consumi rimanenti]])","v":0},"HP",null,null,null,0]
["033018",3,{"$f":"+MIN(Contributo_cer[[#This Row],[Totale Immissione in rete]:[Totale Consumi rimanenti]])","v":0},"HP",null,null,null,0]
["033019",3,{"$f":"+MIN(Contributo_cer[[#This Row],[Totale Immissione in rete]:[Totale Consumi rimanenti]])","v":0},"HP",null,null,null,0]
["033020",3,{"$f":"+MIN(Contributo_cer[[#This Row],[Totale Immissione in rete]:[Totale Consumi rimanenti]])","v":0},"HP",null,null,null,0]
["033021",3,{"$f":"+MIN(Contributo_cer[[#This Row],[Totale Immissione in rete]:[Totale Consumi rimanenti]])","v":0},"HP",null,null,null,0]
["033022",3,{"$f":"+MIN(Contributo_cer[[#This Row],[Totale Immissione in rete]:[Totale Consumi rimanenti]])","v":0},"HC",null,null,null,0]
["033023",3,{"$f":"+MIN(Contributo_cer[[#This Row],[Totale Immissione in rete]:[Totale Consumi rimanenti]])","v":0},"HC",null,null,null,0]
["033100",3,{"$f":"+MIN(Contributo_cer[[#This Row],[Totale Immissione in rete]:[Totale Consumi rimanenti]])","v":0},"HC",null,null,null,0]
["033101",3,{"$f":"+MIN(Contributo_cer[[#This Row],[Totale Immissione in rete]:[Totale Consumi rimanenti]])","v":0},"HC",null,null,null,0]
["033102",3,{"$f":"+MIN(Contributo_cer[[#This Row],[Totale Immissione in rete]:[Totale Consumi rimanenti]])","v":0},"HC",null,null,null,0]
["033103",3,{"$f":"+MIN(Contributo_cer[[#This Row],[Totale Immissione in rete]:[Totale Consumi rimanenti]])","v":0},"HC",null,null,null,0]
["033104",3,{"$f":"+MIN(Contributo_cer[[#This Row],[Totale Immissione in rete]:[Totale Consumi rimanenti]])","v":0},"HC",null,null,null,0]
["033105",3,{"$f":"+MIN(Contributo_cer[[#This Row],[Totale Immissione in rete]:[Totale Consumi rimanenti]])","v":0},"HC",null,null,null,0]
["033106",3,{"$f":"+MIN(Contributo_cer[[#This Row],[Totale Immissione in rete]:[Totale Consumi rimanenti]])","v":0},"HP",null,null,null,0]
["033107",3,{"$f":"+MIN(Contributo_cer[[#This Row],[Totale Immissione in rete]:[Totale Consumi rimanenti]])","v":0},"HP",null,null,null,0]
["033108",3,{"$f":"+MIN(Contributo_cer[[#This Row],[Totale Immissione in rete]:[Totale Consumi rimanenti]])","v":0},"HP",null,null,null,0]
["033109",3,{"$f":"+MIN(Contributo_cer[[#This Row],[Totale Immissione in rete]:[Totale Consumi rimanenti]])","v":0},"HP",null,null,null,0]
["033110",3,{"$f":"+MIN(Contributo_cer[[#This Row],[Totale Immissione in rete]:[Totale Consumi rimanenti]])","v":0},"HP",null,null,null,0]
["033111",3,{"$f":"+MIN(Contributo_cer[[#This Row],[Totale Immissione in rete]:[Totale Consumi rimanenti]])","v":0},"HP",null,null,null,0]
["033112",3,{"$f":"+MIN(Contributo_cer[[#This Row],[Totale Immissione in rete]:[Totale Consumi rimanenti]])","v":0},"HP",null,null,null,0]
["033113",3,{"$f":"+MIN(Contributo_cer[[#This Row],[Totale Immissione in rete]:[Totale Consumi rimanenti]])","v":0},"HP",null,null,null,0]
["033114",3,{"$f":"+MIN(Contributo_cer[[#This Row],[Totale Immissione in rete]:[Totale Consumi rimanenti]])","v":0},"HP",null,null,null,0]
["033115",3,{"$f":"+MIN(Contributo_cer[[#This Row],[Totale Immissione in rete]:[Totale Consumi rimanenti]])","v":0},"HP",null,null,null,0]
["033116",3,{"$f":"+MIN(Contributo_cer[[#This Row],[Totale Immissione in rete]:[Totale Consumi rimanenti]])","v":0},"HP",null,null,null,0]
["033117",3,{"$f":"+MIN(Contributo_cer[[#This Row],[Totale Immissione in rete]:[Totale Consumi rimanenti]])","v":0},"HP",null,null,null,0]
["033118",3,{"$f":"+MIN(Contributo_cer[[#This Row],[Totale Immissione in rete]:[Totale Consumi rimanenti]])","v":0},"HP",null,null,null,0]
["033119",3,{"$f":"+MIN(Contributo_cer[[#This Row],[Totale Immissione in rete]:[Totale Consumi rimanenti]])","v":0},"HP",null,null,null,0]
["033120",3,{"$f":"+MIN(Contributo_cer[[#This Row],[Totale Immissione in rete]:[Totale Consumi rimanenti]])","v":0},"HP",null,null,null,0]
["033121",3,{"$f":"+MIN(Contributo_cer[[#This Row],[Totale Immissione in rete]:[Totale Consumi rimanenti]])","v":0},"HP",null,null,null,0]
["033122",3,{"$f":"+MIN(Contributo_cer[[#This Row],[Totale Immissione in rete]:[Totale Consumi rimanenti]])","v":0},"HC",null,null,null,0]
["033123",3,{"$f":"+MIN(Contributo_cer[[#This Row],[Totale Immissione in rete]:[Totale Consumi rimanenti]])","v":0},"HC",null,null,null,0]
["040100",4,{"$f":"+MIN(Contributo_cer[[#This Row],[Totale Immissione in rete]:[Totale Consumi rimanenti]])","v":0},"HCB",null,null,null,0]
["040101",4,{"$f":"+MIN(Contributo_cer[[#This Row],[Totale Immissione in rete]:[Totale Consumi rimanenti]])","v":0},"HCB",null,null,null,0]
["040102",4,{"$f":"+MIN(Contributo_cer[[#This Row],[Totale Immissione in rete]:[Totale Consumi rimanenti]])","v":0},"HCB",null,null,null,0]
["040103",4,{"$f":"+MIN(Contributo_cer[[#This Row],[Totale Immissione in rete]:[Totale Consumi rimanenti]])","v":0},"HCB",null,null,null,0]
["040104",4,{"$f":"+MIN(Contributo_cer[[#This Row],[Totale Immissione in rete]:[Totale Consumi rimanenti]])","v":0},"HCB",null,null,null,0]
["040105",4,{"$f":"+MIN(Contributo_cer[[#This Row],[Totale Immissione in rete]:[Totale Consumi rimanenti]])","v":0},"HCB",null,null,null,0]
["040106",4,{"$f":"+MIN(Contributo_cer[[#This Row],[Totale Immissione in rete]:[Totale Consumi rimanenti]])","v":0},"HPB",null,null,null,0]
["040107",4,{"$f":"+MIN(Contributo_cer[[#This Row],[Totale Immissione in rete]:[Totale Consumi rimanenti]])","v":0},"HPB",null,null,null,0]
["040108",4,{"$f":"+MIN(Contributo_cer[[#This Row],[Totale Immissione in rete]:[Totale Consumi rimanenti]])","v":0},"HPB",null,null,null,0]
["040109",4,{"$f":"+MIN(Contributo_cer[[#This Row],[Totale Immissione in rete]:[Totale Consumi rimanenti]])","v":0},"HPB",null,null,null,0]
["040110",4,{"$f":"+MIN(Contributo_cer[[#This Row],[Totale Immissione in rete]:[Totale Consumi rimanenti]])","v":0},"HPB",null,null,null,0]
["040111",4,{"$f":"+MIN(Contributo_cer[[#This Row],[Totale Immissione in rete]:[Totale Consumi rimanenti]])","v":0},"HPB",null,null,null,0]
["040112",4,{"$f":"+MIN(Contributo_cer[[#This Row],[Totale Immissione in rete]:[Totale Consumi rimanenti]])","v":0},"HPB",null,null,null,0]
["040113",4,{"$f":"+MIN(Contributo_cer[[#This Row],[Totale Immissione in rete]:[Totale Consumi rimanenti]])","v":0},"HPB",null,null,null,0]
["040114",4,{"$f":"+MIN(Contributo_cer[[#This Row],[Totale Immissione in rete]:[Totale Consumi rimanenti]])","v":0},"HPB",null,null,null,0]
["040115",4,{"$f":"+MIN(Contributo_cer[[#This Row],[Totale Immissione in rete]:[Totale Consumi rimanenti]])","v":0},"HPB",null,null,null,0]
["040116",4,{"$f":"+MIN(Contributo_cer[[#This Row],[Totale Immissione in rete]:[Totale Consumi rimanenti]])","v":0},"HPB",null,null,null,0]
["040117",4,{"$f":"+MIN(Contributo_cer[[#This Row],[Totale Immissione in rete]:[Totale Consumi rimanenti]])","v":0},"HPB",null,null,null,0]
["040118",4,{"$f":"+MIN(Contributo_cer[[#This Row],[Totale Immissione in rete]:[Totale Consumi rimanenti]])","v":0},"HPB",null,null,null,0]
["040119",4,{"$f":"+MIN(Contributo_cer[[#This Row],[Totale Immissione in rete]:[Totale Consumi rimanenti]])","v":0},"HPB",null,null,null,0]
["040120",4,{"$f":"+MIN(Contributo_cer[[#This Row],[Totale Immissione in rete]:[Totale Consumi rimanenti]])","v":0},"HPB",null,null,null,0]
["040121",4,{"$f":"+MIN(Contributo_cer[[#This Row],[Totale Immissione in rete]:[Totale Consumi rimanenti]])","v":0},"HPB",null,null,null,0]
["040122",4,{"$f":"+MIN(Contributo_cer[[#This Row],[Totale Immissione in rete]:[Totale Consumi rimanenti]])","v":0},"HCB",null,null,null,0]
["040123",4,{"$f":"+MIN(Contributo_cer[[#This Row],[Totale Immissione in rete]:[Totale Consumi rimanenti]])","v":0},"HCB",null,null,null,0]
["040200",4,{"$f":"+MIN(Contributo_cer[[#This Row],[Totale Immissione in rete]:[Totale Consumi rimanenti]])","v":0},"HCB",null,null,null,0]
["040201",4,{"$f":"+MIN(Contributo_cer[[#This Row],[Totale Immissione in rete]:[Totale Consumi rimanenti]])","v":0},"HCB",null,null,null,0]
["040202",4,{"$f":"+MIN(Contributo_cer[[#This Row],[Totale Immissione in rete]:[Totale Consumi rimanenti]])","v":0},"HCB",null,null,null,0]
["040203",4,{"$f":"+MIN(Contributo_cer[[#This Row],[Totale Immissione in rete]:[Totale Consumi rimanenti]])","v":0},"HCB",null,null,null,0]
["040204",4,{"$f":"+MIN(Contributo_cer[[#This Row],[Totale Immissione in rete]:[Totale Consumi rimanenti]])","v":0},"HCB",null,null,null,0]
["040205",4,{"$f":"+MIN(Contributo_cer[[#This Row],[Totale Immissione in rete]:[Totale Consumi rimanenti]])","v":0},"HCB",null,null,null,0]
["040206",4,{"$f":"+MIN(Contributo_cer[[#This Row],[Totale Immissione in rete]:[Totale Consumi rimanenti]])","v":0},"HPB",null,null,null,0]
["040207",4,{"$f":"+MIN(Contributo_cer[[#This Row],[Totale Immissione in rete]:[Totale Consumi rimanenti]])","v":0},"HPB",null,null,null,0]
["040208",4,{"$f":"+MIN(Contributo_cer[[#This Row],[Totale Immissione in rete]:[Totale Consumi rimanenti]])","v":0},"HPB",null,null,null,0]
["040209",4,{"$f":"+MIN(Contributo_cer[[#This Row],[Totale Immissione in rete]:[Totale Consumi rimanenti]])","v":0},"HPB",null,null,null,0]
["040210",4,{"$f":"+MIN(Contributo_cer[[#This Row],[Totale Immissione in rete]:[Totale Consumi rimanenti]])","v":0},"HPB",null,null,null,0]
["040211",4,{"$f":"+MIN(Contributo_cer[[#This Row],[Totale Immissione in rete]:[Totale Consumi rimanenti]])","v":0},"HPB",null,null,null,0]
["040212",4,{"$f":"+MIN(Contributo_cer[[#This Row],[Totale Immissione in rete]:[Totale Consumi rimanenti]])","v":0},"HPB",null,null,null,0]
["040213",4,{"$f":"+MIN(Contributo_cer[[#This Row],[Totale Immissione in rete]:[Totale Consumi rimanenti]])","v":0},"HPB",null,null,null,0]
["040214",4,{"$f":"+MIN(Contributo_cer[[#This Row],[Totale Immissione in rete]:[Totale Consumi rimanenti]])","v":0},"HPB",null,null,null,0]
["040215",4,{"$f":"+MIN(Contributo_cer[[#This Row],[Totale Immissione in rete]:[Totale Consumi rimanenti]])","v":0},"HPB",null,null,null,0]
["040216",4,{"$f":"+MIN(Contributo_cer[[#This Row],[Totale Immissione in rete]:[Totale Consumi rimanenti]])","v":0},"HPB",null,null,null,0]
["040217",4,{"$f":"+MIN(Contributo_cer[[#This Row],[Totale Immissione in rete]:[Totale Consumi rimanenti]])","v":0},"HPB",null,null,null,0]
["040218",4,{"$f":"+MIN(Contributo_cer[[#This Row],[Totale Immissione in rete]:[Totale Consumi rimanenti]])","v":0},"HPB",null,null,null,0]
["040219",4,{"$f":"+MIN(Contributo_cer[[#This Row],[Totale Immissione in rete]:[Totale Consumi rimanenti]])","v":0},"HPB",null,null,null,0]
["040220",4,{"$f":"+MIN(Contributo_cer[[#This Row],[Totale Immissione in rete]:[Totale Consumi rimanenti]])","v":0},"HPB",null,null,null,0]
["040221",4,{"$f":"+MIN(Contributo_cer[[#This Row],[Totale Immissione in rete]:[Totale Consumi rimanenti]])","v":0},"HPB",null,null,null,0]
["040222",4,{"$f":"+MIN(Contributo_cer[[#This Row],[Totale Immissione in rete]:[Totale Consumi rimanenti]])","v":0},"HCB",null,null,null,0]
["040223",4,{"$f":"+MIN(Contributo_cer[[#This Row],[Totale Immissione in rete]:[Totale Consumi rimanenti]])","v":0},"HCB",null,null,null,0]
["040300",4,{"$f":"+MIN(Contributo_cer[[#This Row],[Totale Immissione in rete]:[Totale Consumi rimanenti]])","v":0},"HCB",null,null,null,0]
["040301",4,{"$f":"+MIN(Contributo_cer[[#This Row],[Totale Immissione in rete]:[Totale Consumi rimanenti]])","v":0},"HCB",null,null,null,0]
["040302",4,{"$f":"+MIN(Contributo_cer[[#This Row],[Totale Immissione in rete]:[Totale Consumi rimanenti]])","v":0},"HCB",null,null,null,0]
["040303",4,{"$f":"+MIN(Contributo_cer[[#This Row],[Totale Immissione in rete]:[Totale Consumi rimanenti]])","v":0},"HCB",null,null,null,0]
["040304",4,{"$f":"+MIN(Contributo_cer[[#This Row],[Totale Immissione in rete]:[Totale Consumi rimanenti]])","v":0},"HCB",null,null,null,0]
["040305",4,{"$f":"+MIN(Contributo_cer[[#This Row],[Totale Immissione in rete]:[Totale Consumi rimanenti]])","v":0},"HCB",null,null,null,0]
["040306",4,{"$f":"+MIN(Contributo_cer[[#This Row],[Totale Immissione in rete]:[Totale Consumi rimanenti]])","v":0},"HPB",null,null,null,0]
["040307",4,{"$f":"+MIN(Contributo_cer[[#This Row],[Totale Immissione in rete]:[Totale Consumi rimanenti]])","v":0},"HPB",null,null,null,0]
["040308",4,{"$f":"+MIN(Contributo_cer[[#This Row],[Totale Immissione in rete]:[Totale Consumi rimanenti]])","v":0},"HPB",null,null,null,0]
["040309",4,{"$f":"+MIN(Contributo_cer[[#This Row],[Totale Immissione in rete]:[Totale Consumi rimanenti]])","v":0},"HPB",null,null,null,0]
["040310",4,{"$f":"+MIN(Contributo_cer[[#This Row],[Totale Immissione in rete]:[Totale Consumi rimanenti]])","v":0},"HPB",null,null,null,0]
["040311",4,{"$f":"+MIN(Contributo_cer[[#This Row],[Totale Immissione in rete]:[Totale Consumi rimanenti]])","v":0},"HPB",null,null,null,0]
["040312",4,{"$f":"+MIN(Contributo_cer[[#This Row],[Totale Immissione in rete]:[Totale Consumi rimanenti]])","v":0},"HPB",null,null,null,0]
["040313",4,{"$f":"+MIN(Contributo_cer[[#This Row],[Totale Immissione in rete]:[Totale Consumi rimanenti]])","v":0},"HPB",null,null,null,0]
["040314",4,{"$f":"+MIN(Contributo_cer[[#This Row],[Totale Immissione in rete]:[Totale Consumi rimanenti]])","v":0},"HPB",null,null,null,0]
["040315",4,{"$f":"+MIN(Contributo_cer[[#This Row],[Totale Immissione in rete]:[Totale Consumi rimanenti]])","v":0},"HPB",null,null,null,0]
["040316",4,{"$f":"+MIN(Contributo_cer[[#This Row],[Totale Immissione in rete]:[Totale Consumi rimanenti]])","v":0},"HPB",null,null,null,0]
["040317",4,{"$f":"+MIN(Contributo_cer[[#This Row],[Totale Immissione in rete]:[Totale Consumi rimanenti]])","v":0},"HPB",null,null,null,0]
["040318",4,{"$f":"+MIN(Contributo_cer[[#This Row],[Totale Immissione in rete]:[Totale Consumi rimanenti]])","v":0},"HPB",null,null,null,0]
["040319",4,{"$f":"+MIN(Contributo_cer[[#This Row],[Totale Immissione in rete]:[Totale Consumi rimanenti]])","v":0},"HPB",null,null,null,0]
["040320",4,{"$f":"+MIN(Contributo_cer[[#This Row],[Totale Immissione in rete]:[Totale Consumi rimanenti]])","v":0},"HPB",null,null,null,0]
["040321",4,{"$f":"+MIN(Contributo_cer[[#This Row],[Totale Immissione in rete]:[Totale Consumi rimanenti]])","v":0},"HPB",null,null,null,0]
["040322",4,{"$f":"+MIN(Contributo_cer[[#This Row],[Totale Immissione in rete]:[Totale Consumi rimanenti]])","v":0},"HCB",null,null,null,0]
["040323",4,{"$f":"+MIN(Contributo_cer[[#This Row],[Totale Immissione in rete]:[Totale Consumi rimanenti]])","v":0},"HCB",null,null,null,0]
["040400",4,{"$f":"+MIN(Contributo_cer[[#This Row],[Totale Immissione in rete]:[Totale Consumi rimanenti]])","v":0},"HCB",null,null,null,0]
["040401",4,{"$f":"+MIN(Contributo_cer[[#This Row],[Totale Immissione in rete]:[Totale Consumi rimanenti]])","v":0},"HCB",null,null,null,0]
["040402",4,{"$f":"+MIN(Contributo_cer[[#This Row],[Totale Immissione in rete]:[Totale Consumi rimanenti]])","v":0},"HCB",null,null,null,0]
["040403",4,{"$f":"+MIN(Contributo_cer[[#This Row],[Totale Immissione in rete]:[Totale Consumi rimanenti]])","v":0},"HCB",null,null,null,0]
["040404",4,{"$f":"+MIN(Contributo_cer[[#This Row],[Totale Immissione in rete]:[Totale Consumi rimanenti]])","v":0},"HCB",null,null,null,0]
["040405",4,{"$f":"+MIN(Contributo_cer[[#This Row],[Totale Immissione in rete]:[Totale Consumi rimanenti]])","v":0},"HCB",null,null,null,0]
["040406",4,{"$f":"+MIN(Contributo_cer[[#This Row],[Totale Immissione in rete]:[Totale Consumi rimanenti]])","v":0},"HPB",null,null,null,0]
["040407",4,{"$f":"+MIN(Contributo_cer[[#This Row],[Totale Immissione in rete]:[Totale Consumi rimanenti]])","v":0},"HPB",null,null,null,0]
["040408",4,{"$f":"+MIN(Contributo_cer[[#This Row],[Totale Immissione in rete]:[Totale Consumi rimanenti]])","v":0},"HPB",null,null,null,0]
["040409",4,{"$f":"+MIN(Contributo_cer[[#This Row],[Totale Immissione in rete]:[Totale Consumi rimanenti]])","v":0},"HPB",null,null,null,0]
["040410",4,{"$f":"+MIN(Contributo_cer[[#This Row],[Totale Immissione in rete]:[Totale Consumi rimanenti]])","v":0},"HPB",null,null,null,0]
["040411",4,{"$f":"+MIN(Contributo_cer[[#This Row],[Totale Immissione in rete]:[Totale Consumi rimanenti]])","v":0},"HPB",null,null,null,0]
["040412",4,{"$f":"+MIN(Contributo_cer[[#This Row],[Totale Immissione in rete]:[Totale Consumi rimanenti]])","v":0},"HPB",null,null,null,0]
["040413",4,{"$f":"+MIN(Contributo_cer[[#This Row],[Totale Immissione in rete]:[Totale Consumi rimanenti]])","v":0},"HPB",null,null,null,0]
["040414",4,{"$f":"+MIN(Contributo_cer[[#This Row],[Totale Immissione in rete]:[Totale Consumi rimanenti]])","v":0},"HPB",null,null,null,0]
["040415",4,{"$f":"+MIN(Contributo_cer[[#This Row],[Totale Immissione in rete]:[Totale Consumi rimanenti]])","v":0},"HPB",null,null,null,0]
["040416",4,{"$f":"+MIN(Contributo_cer[[#This Row],[Totale Immissione in rete]:[Totale Consumi rimanenti]])","v":0},"HPB",null,null,null,0]
["040417",4,{"$f":"+MIN(Contributo_cer[[#This Row],[Totale Immissione in rete]:[Totale Consumi rimanenti]])","v":0},"HPB",null,null,null,0]
["040418",4,{"$f":"+MIN(Contributo_cer[[#This Row],[Totale Immissione in rete]:[Totale Consumi rimanenti]])","v":0},"HPB",null,null,null,0]
["040419",4,{"$f":"+MIN(Contributo_cer[[#This Row],[Totale Immissione in rete]:[Totale Consumi rimanenti]])","v":0},"HPB",null,null,null,0]
["040420",4,{"$f":"+MIN(Contributo_cer[[#This Row],[Totale Immissione in rete]:[Totale Consumi rimanenti]])","v":0},"HPB",null,null,null,0]
["040421",4,{"$f":"+MIN(Contributo_cer[[#This Row],[Totale Immissione in rete]:[Totale Consumi rimanenti]])","v":0},"HPB",null,null,null,0]
["040422",4,{"$f":"+MIN(Contributo_cer[[#This Row],[Totale Immissione in rete]:[Totale Consumi rimanenti]])","v":0},"HCB",null,null,null,0]
["040423",4,{"$f":"+MIN(Contributo_cer[[#This Row],[Totale Immissione in rete]:[Totale Consumi rimanenti]])","v":0},"HCB",null,null,null,0]
["040500",4,{"$f":"+MIN(Contributo_cer[[#This Row],[Totale Immissione in rete]:[Totale Consumi rimanenti]])","v":0},"HCB",null,null,null,0]
["040501",4,{"$f":"+MIN(Contributo_cer[[#This Row],[Totale Immissione in rete]:[Totale Consumi rimanenti]])","v":0},"HCB",null,null,null,0]
["040502",4,{"$f":"+MIN(Contributo_cer[[#This Row],[Totale Immissione in rete]:[Totale Consumi rimanenti]])","v":0},"HCB",null,null,null,0]
["040503",4,{"$f":"+MIN(Contributo_cer[[#This Row],[Totale Immissione in rete]:[Totale Consumi rimanenti]])","v":0},"HCB",null,null,null,0]
["040504",4,{"$f":"+MIN(Contributo_cer[[#This Row],[Totale Immissione in rete]:[Totale Consumi rimanenti]])","v":0},"HCB",null,null,null,0]
["040505",4,{"$f":"+MIN(Contributo_cer[[#This Row],[Totale Immissione in rete]:[Totale Consumi rimanenti]])","v":0},"HCB",null,null,null,0]
["040506",4,{"$f":"+MIN(Contributo_cer[[#This Row],[Totale Immissione in rete]:[Totale Consumi rimanenti]])","v":0},"HPB",null,null,null,0]
["040507",4,{"$f":"+MIN(Contributo_cer[[#This Row],[Totale Immissione in rete]:[Totale Consumi rimanenti]])","v":0},"HPB",null,null,null,0]
["040508",4,{"$f":"+MIN(Contributo_cer[[#This Row],[Totale Immissione in rete]:[Totale Consumi rimanenti]])","v":0},"HPB",null,null,null,0]
["040509",4,{"$f":"+MIN(Contributo_cer[[#This Row],[Totale Immissione in rete]:[Totale Consumi rimanenti]])","v":0},"HPB",null,null,null,0]
["040510",4,{"$f":"+MIN(Contributo_cer[[#This Row],[Totale Immissione in rete]:[Totale Consumi rimanenti]])","v":0},"HPB",null,null,null,0]
["040511",4,{"$f":"+MIN(Contributo_cer[[#This Row],[Totale Immissione in rete]:[Totale Consumi rimanenti]])","v":0},"HPB",null,null,null,0]
["040512",4,{"$f":"+MIN(Contributo_cer[[#This Row],[Totale Immissione in rete]:[Totale Consumi rimanenti]])","v":0},"HPB",null,null,null,0]
["040513",4,{"$f":"+MIN(Contributo_cer[[#This Row],[Totale Immissione in rete]:[Totale Consumi rimanenti]])","v":0},"HPB",null,null,null,0]
["040514",4,{"$f":"+MIN(Contributo_cer[[#This Row],[Totale Immissione in rete]:[Totale Consumi rimanenti]])","v":0},"HPB",null,null,null,0]
["040515",4,{"$f":"+MIN(Contributo_cer[[#This Row],[Totale Immissione in rete]:[Totale Consumi rimanenti]])","v":0},"HPB",null,null,null,0]
["040516",4,{"$f":"+MIN(Contributo_cer[[#This Row],[Totale Immissione in rete]:[Totale Consumi rimanenti]])","v":0},"HPB",null,null,null,0]
["040517",4,{"$f":"+MIN(Contributo_cer[[#This Row],[Totale Immissione in rete]:[Totale Consumi rimanenti]])","v":0},"HPB",null,null,null,0]
["040518",4,{"$f":"+MIN(Contributo_cer[[#This Row],[Totale Immissione in rete]:[Totale Consumi rimanenti]])","v":0},"HPB",null,null,null,0]
["040519",4,{"$f":"+MIN(Contributo_cer[[#This Row],[Totale Immissione in rete]:[Totale Consumi rimanenti]])","v":0},"HPB",null,null,null,0]
["040520",4,{"$f":"+MIN(Contributo_cer[[#This Row],[Totale Immissione in rete]:[Totale Consumi rimanenti]])","v":0},"HPB",null,null,null,0]
["040521",4,{"$f":"+MIN(Contributo_cer[[#This Row],[Totale Immissione in rete]:[Totale Consumi rimanenti]])","v":0},"HPB",null,null,null,0]
["040522",4,{"$f":"+MIN(Contributo_cer[[#This Row],[Totale Immissione in rete]:[Totale Consumi rimanenti]])","v":0},"HCB",null,null,null,0]
["040523",4,{"$f":"+MIN(Contributo_cer[[#This Row],[Totale Immissione in rete]:[Totale Consumi rimanenti]])","v":0},"HCB",null,null,null,0]
["040600",4,{"$f":"+MIN(Contributo_cer[[#This Row],[Totale Immissione in rete]:[Totale Consumi rimanenti]])","v":0},"HCB",null,null,null,0]
["040601",4,{"$f":"+MIN(Contributo_cer[[#This Row],[Totale Immissione in rete]:[Totale Consumi rimanenti]])","v":0},"HCB",null,null,null,0]
["040602",4,{"$f":"+MIN(Contributo_cer[[#This Row],[Totale Immissione in rete]:[Totale Consumi rimanenti]])","v":0},"HCB",null,null,null,0]
["040603",4,{"$f":"+MIN(Contributo_cer[[#This Row],[Totale Immissione in rete]:[Totale Consumi rimanenti]])","v":0},"HCB",null,null,null,0]
["040604",4,{"$f":"+MIN(Contributo_cer[[#This Row],[Totale Immissione in rete]:[Totale Consumi rimanenti]])","v":0},"HCB",null,null,null,0]
["040605",4,{"$f":"+MIN(Contributo_cer[[#This Row],[Totale Immissione in rete]:[Totale Consumi rimanenti]])","v":0},"HCB",null,null,null,0]
["040606",4,{"$f":"+MIN(Contributo_cer[[#This Row],[Totale Immissione in rete]:[Totale Consumi rimanenti]])","v":0},"HPB",null,null,null,0]
["040607",4,{"$f":"+MIN(Contributo_cer[[#This Row],[Totale Immissione in rete]:[Totale Consumi rimanenti]])","v":0},"HPB",null,null,null,0]
["040608",4,{"$f":"+MIN(Contributo_cer[[#This Row],[Totale Immissione in rete]:[Totale Consumi rimanenti]])","v":0},"HPB",null,null,null,0]
["040609",4,{"$f":"+MIN(Contributo_cer[[#This Row],[Totale Immissione in rete]:[Totale Consumi rimanenti]])","v":0},"HPB",null,null,null,0]
["040610",4,{"$f":"+MIN(Contributo_cer[[#This Row],[Totale Immissione in rete]:[Totale Consumi rimanenti]])","v":0},"HPB",null,null,null,0]
["040611",4,{"$f":"+MIN(Contributo_cer[[#This Row],[Totale Immissione in rete]:[Totale Consumi rimanenti]])","v":0},"HPB",null,null,null,0]
["040612",4,{"$f":"+MIN(Contributo_cer[[#This Row],[Totale Immissione in rete]:[Totale Consumi rimanenti]])","v":0},"HPB",null,null,null,0]
["040613",4,{"$f":"+MIN(Contributo_cer[[#This Row],[Totale Immissione in rete]:[Totale Consumi rimanenti]])","v":0},"HPB",null,null,null,0]
["040614",4,{"$f":"+MIN(Contributo_cer[[#This Row],[Totale Immissione in rete]:[Totale Consumi rimanenti]])","v":0},"HPB",null,null,null,0]
["040615",4,{"$f":"+MIN(Contributo_cer[[#This Row],[Totale Immissione in rete]:[Totale Consumi rimanenti]])","v":0},"HPB",null,null,null,0]
["040616",4,{"$f":"+MIN(Contributo_cer[[#This Row],[Totale Immissione in rete]:[Totale Consumi rimanenti]])","v":0},"HPB",null,null,null,0]
["040617",4,{"$f":"+MIN(Contributo_cer[[#This Row],[Totale Immissione in rete]:[Totale Consumi rimanenti]])","v":0},"HPB",null,null,null,0]
["040618",4,{"$f":"+MIN(Contributo_cer[[#This Row],[Totale Immissione in rete]:[Totale Consumi rimanenti]])","v":0},"HPB",null,null,null,0]
["040619",4,{"$f":"+MIN(Contributo_cer[[#This Row],[Totale Immissione in rete]:[Totale Consumi rimanenti]])","v":0},"HPB",null,null,null,0]
["040620",4,{"$f":"+MIN(Contributo_cer[[#This Row],[Totale Immissione in rete]:[Totale Consumi rimanenti]])","v":0},"HPB",null,null,null,0]
["040621",4,{"$f":"+MIN(Contributo_cer[[#This Row],[Totale Immissione in rete]:[Totale Consumi rimanenti]])","v":0},"HPB",null,null,null,0]
["040622",4,{"$f":"+MIN(Contributo_cer[[#This Row],[Totale Immissione in rete]:[Totale Consumi rimanenti]])","v":0},"HCB",null,null,null,0]
["040623",4,{"$f":"+MIN(Contributo_cer[[#This Row],[Totale Immissione in rete]:[Totale Consumi rimanenti]])","v":0},"HCB",null,null,null,0]
["040700",4,{"$f":"+MIN(Contributo_cer[[#This Row],[Totale Immissione in rete]:[Totale Consumi rimanenti]])","v":0},"HCB",null,null,null,0]
["040701",4,{"$f":"+MIN(Contributo_cer[[#This Row],[Totale Immissione in rete]:[Totale Consumi rimanenti]])","v":0},"HCB",null,null,null,0]
["040702",4,{"$f":"+MIN(Contributo_cer[[#This Row],[Totale Immissione in rete]:[Totale Consumi rimanenti]])","v":0},"HCB",null,null,null,0]
["040703",4,{"$f":"+MIN(Contributo_cer[[#This Row],[Totale Immissione in rete]:[Totale Consumi rimanenti]])","v":0},"HCB",null,null,null,0]
["040704",4,{"$f":"+MIN(Contributo_cer[[#This Row],[Totale Immissione in rete]:[Totale Consumi rimanenti]])","v":0},"HCB",null,null,null,0]
["040705",4,{"$f":"+MIN(Contributo_cer[[#This Row],[Totale Immissione in rete]:[Totale Consumi rimanenti]])","v":0},"HCB",null,null,null,0]
["040706",4,{"$f":"+MIN(Contributo_cer[[#This Row],[Totale Immissione in rete]:[Totale Consumi rimanenti]])","v":0},"HPB",null,null,null,0]
["040707",4,{"$f":"+MIN(Contributo_cer[[#This Row],[Totale Immissione in rete]:[Totale Consumi rimanenti]])","v":0},"HPB",null,null,null,0]
["040708",4,{"$f":"+MIN(Contributo_cer[[#This Row],[Totale Immissione in rete]:[Totale Consumi rimanenti]])","v":0},"HPB",null,null,null,0]
["040709",4,{"$f":"+MIN(Contributo_cer[[#This Row],[Totale Immissione in rete]:[Totale Consumi rimanenti]])","v":0},"HPB",null,null,null,0]
["040710",4,{"$f":"+MIN(Contributo_cer[[#This Row],[Totale Immissione in rete]:[Totale Consumi rimanenti]])","v":0},"HPB",null,null,null,0]
["040711",4,{"$f":"+MIN(Contributo_cer[[#This Row],[Totale Immissione in rete]:[Totale Consumi rimanenti]])","v":0},"HPB",null,null,null,0]
["040712",4,{"$f":"+MIN(Contributo_cer[[#This Row],[Totale Immissione in rete]:[Totale Consumi rimanenti]])","v":0},"HPB",null,null,null,0]
["040713",4,{"$f":"+MIN(Contributo_cer[[#This Row],[Totale Immissione in rete]:[Totale Consumi rimanenti]])","v":0},"HPB",null,null,null,0]
["040714",4,{"$f":"+MIN(Contributo_cer[[#This Row],[Totale Immissione in rete]:[Totale Consumi rimanenti]])","v":0},"HPB",null,null,null,0]
["040715",4,{"$f":"+MIN(Contributo_cer[[#This Row],[Totale Immissione in rete]:[Totale Consumi rimanenti]])","v":0},"HPB",null,null,null,0]
["040716",4,{"$f":"+MIN(Contributo_cer[[#This Row],[Totale Immissione in rete]:[Totale Consumi rimanenti]])","v":0},"HPB",null,null,null,0]
["040717",4,{"$f":"+MIN(Contributo_cer[[#This Row],[Totale Immissione in rete]:[Totale Consumi rimanenti]])","v":0},"HPB",null,null,null,0]
["040718",4,{"$f":"+MIN(Contributo_cer[[#This Row],[Totale Immissione in rete]:[Totale Consumi rimanenti]])","v":0},"HPB",null,null,null,0]
["040719",4,{"$f":"+MIN(Contributo_cer[[#This Row],[Totale Immissione in rete]:[Totale Consumi rimanenti]])","v":0},"HPB",null,null,null,0]
["040720",4,{"$f":"+MIN(Contributo_cer[[#This Row],[Totale Immissione in rete]:[Totale Consumi rimanenti]])","v":0},"HPB",null,null,null,0]
["040721",4,{"$f":"+MIN(Contributo_cer[[#This Row],[Totale Immissione in rete]:[Totale Consumi rimanenti]])","v":0},"HPB",null,null,null,0]
["040722",4,{"$f":"+MIN(Contributo_cer[[#This Row],[Totale Immissione in rete]:[Totale Consumi rimanenti]])","v":0},"HCB",null,null,null,0]
["040723",4,{"$f":"+MIN(Contributo_cer[[#This Row],[Totale Immissione in rete]:[Totale Consumi rimanenti]])","v":0},"HCB",null,null,null,0]
["040800",4,{"$f":"+MIN(Contributo_cer[[#This Row],[Totale Immissione in rete]:[Totale Consumi rimanenti]])","v":0},"HCB",null,null,null,0]
["040801",4,{"$f":"+MIN(Contributo_cer[[#This Row],[Totale Immissione in rete]:[Totale Consumi rimanenti]])","v":0},"HCB",null,null,null,0]
["040802",4,{"$f":"+MIN(Contributo_cer[[#This Row],[Totale Immissione in rete]:[Totale Consumi rimanenti]])","v":0},"HCB",null,null,null,0]
["040803",4,{"$f":"+MIN(Contributo_cer[[#This Row],[Totale Immissione in rete]:[Totale Consumi rimanenti]])","v":0},"HCB",null,null,null,0]
["040804",4,{"$f":"+MIN(Contributo_cer[[#This Row],[Totale Immissione in rete]:[Totale Consumi rimanenti]])","v":0},"HCB",null,null,null,0]
["040805",4,{"$f":"+MIN(Contributo_cer[[#This Row],[Totale Immissione in rete]:[Totale Consumi rimanenti]])","v":0},"HCB",null,null,null,0]
["040806",4,{"$f":"+MIN(Contributo_cer[[#This Row],[Totale Immissione in rete]:[Totale Consumi rimanenti]])","v":0},"HPB",null,null,null,0]
["040807",4,{"$f":"+MIN(Contributo_cer[[#This Row],[Totale Immissione in rete]:[Totale Consumi rimanenti]])","v":0},"HPB",null,null,null,0]
["040808",4,{"$f":"+MIN(Contributo_cer[[#This Row],[Totale Immissione in rete]:[Totale Consumi rimanenti]])","v":0},"HPB",null,null,null,0]
["040809",4,{"$f":"+MIN(Contributo_cer[[#This Row],[Totale Immissione in rete]:[Totale Consumi rimanenti]])","v":0},"HPB",null,null,null,0]
["040810",4,{"$f":"+MIN(Contributo_cer[[#This Row],[Totale Immissione in rete]:[Totale Consumi rimanenti]])","v":0},"HPB",null,null,null,0]
["040811",4,{"$f":"+MIN(Contributo_cer[[#This Row],[Totale Immissione in rete]:[Totale Consumi rimanenti]])","v":0},"HPB",null,null,null,0]
["040812",4,{"$f":"+MIN(Contributo_cer[[#This Row],[Totale Immissione in rete]:[Totale Consumi rimanenti]])","v":0},"HPB",null,null,null,0]
["040813",4,{"$f":"+MIN(Contributo_cer[[#This Row],[Totale Immissione in rete]:[Totale Consumi rimanenti]])","v":0},"HPB",null,null,null,0]
["040814",4,{"$f":"+MIN(Contributo_cer[[#This Row],[Totale Immissione in rete]:[Totale Consumi rimanenti]])","v":0},"HPB",null,null,null,0]
["040815",4,{"$f":"+MIN(Contributo_cer[[#This Row],[Totale Immissione in rete]:[Totale Consumi rimanenti]])","v":0},"HPB",null,null,null,0]
["040816",4,{"$f":"+MIN(Contributo_cer[[#This Row],[Totale Immissione in rete]:[Totale Consumi rimanenti]])","v":0},"HPB",null,null,null,0]
["040817",4,{"$f":"+MIN(Contributo_cer[[#This Row],[Totale Immissione in rete]:[Totale Consumi rimanenti]])","v":0},"HPB",null,null,null,0]
["040818",4,{"$f":"+MIN(Contributo_cer[[#This Row],[Totale Immissione in rete]:[Totale Consumi rimanenti]])","v":0},"HPB",null,null,null,0]
["040819",4,{"$f":"+MIN(Contributo_cer[[#This Row],[Totale Immissione in rete]:[Totale Consumi rimanenti]])","v":0},"HPB",null,null,null,0]
["040820",4,{"$f":"+MIN(Contributo_cer[[#This Row],[Totale Immissione in rete]:[Totale Consumi rimanenti]])","v":0},"HPB",null,null,null,0]
["040821",4,{"$f":"+MIN(Contributo_cer[[#This Row],[Totale Immissione in rete]:[Totale Consumi rimanenti]])","v":0},"HPB",null,null,null,0]
["040822",4,{"$f":"+MIN(Contributo_cer[[#This Row],[Totale Immissione in rete]:[Totale Consumi rimanenti]])","v":0},"HCB",null,null,null,0]
["040823",4,{"$f":"+MIN(Contributo_cer[[#This Row],[Totale Immissione in rete]:[Totale Consumi rimanenti]])","v":0},"HCB",null,null,null,0]
["040900",4,{"$f":"+MIN(Contributo_cer[[#This Row],[Totale Immissione in rete]:[Totale Consumi rimanenti]])","v":0},"HCB",null,null,null,0]
["040901",4,{"$f":"+MIN(Contributo_cer[[#This Row],[Totale Immissione in rete]:[Totale Consumi rimanenti]])","v":0},"HCB",null,null,null,0]
["040902",4,{"$f":"+MIN(Contributo_cer[[#This Row],[Totale Immissione in rete]:[Totale Consumi rimanenti]])","v":0},"HCB",null,null,null,0]
["040903",4,{"$f":"+MIN(Contributo_cer[[#This Row],[Totale Immissione in rete]:[Totale Consumi rimanenti]])","v":0},"HCB",null,null,null,0]
["040904",4,{"$f":"+MIN(Contributo_cer[[#This Row],[Totale Immissione in rete]:[Totale Consumi rimanenti]])","v":0},"HCB",null,null,null,0]
["040905",4,{"$f":"+MIN(Contributo_cer[[#This Row],[Totale Immissione in rete]:[Totale Consumi rimanenti]])","v":0},"HCB",null,null,null,0]
["040906",4,{"$f":"+MIN(Contributo_cer[[#This Row],[Totale Immissione in rete]:[Totale Consumi rimanenti]])","v":0},"HPB",null,null,null,0]
["040907",4,{"$f":"+MIN(Contributo_cer[[#This Row],[Totale Immissione in rete]:[Totale Consumi rimanenti]])","v":0},"HPB",null,null,null,0]
["040908",4,{"$f":"+MIN(Contributo_cer[[#This Row],[Totale Immissione in rete]:[Totale Consumi rimanenti]])","v":0},"HPB",null,null,null,0]
["040909",4,{"$f":"+MIN(Contributo_cer[[#This Row],[Totale Immissione in rete]:[Totale Consumi rimanenti]])","v":0},"HPB",null,null,null,0]
["040910",4,{"$f":"+MIN(Contributo_cer[[#This Row],[Totale Immissione in rete]:[Totale Consumi rimanenti]])","v":0},"HPB",null,null,null,0]
["040911",4,{"$f":"+MIN(Contributo_cer[[#This Row],[Totale Immissione in rete]:[Totale Consumi rimanenti]])","v":0},"HPB",null,null,null,0]
["040912",4,{"$f":"+MIN(Contributo_cer[[#This Row],[Totale Immissione in rete]:[Totale Consumi rimanenti]])","v":0},"HPB",null,null,null,0]
["040913",4,{"$f":"+MIN(Contributo_cer[[#This Row],[Totale Immissione in rete]:[Totale Consumi rimanenti]])","v":0},"HPB",null,null,null,0]
["040914",4,{"$f":"+MIN(Contributo_cer[[#This Row],[Totale Immissione in rete]:[Totale Consumi rimanenti]])","v":0},"HPB",null,null,null,0]
["040915",4,{"$f":"+MIN(Contributo_cer[[#This Row],[Totale Immissione in rete]:[Totale Consumi rimanenti]])","v":0},"HPB",null,null,null,0]
["040916",4,{"$f":"+MIN(Contributo_cer[[#This Row],[Totale Immissione in rete]:[Totale Consumi rimanenti]])","v":0},"HPB",null,null,null,0]
["040917",4,{"$f":"+MIN(Contributo_cer[[#This Row],[Totale Immissione in rete]:[Totale Consumi rimanenti]])","v":0},"HPB",null,null,null,0]
["040918",4,{"$f":"+MIN(Contributo_cer[[#This Row],[Totale Immissione in rete]:[Totale Consumi rimanenti]])","v":0},"HPB",null,null,null,0]
["040919",4,{"$f":"+MIN(Contributo_cer[[#This Row],[Totale Immissione in rete]:[Totale Consumi rimanenti]])","v":0},"HPB",null,null,null,0]
["040920",4,{"$f":"+MIN(Contributo_cer[[#This Row],[Totale Immissione in rete]:[Totale Consumi rimanenti]])","v":0},"HPB",null,null,null,0]
["040921",4,{"$f":"+MIN(Contributo_cer[[#This Row],[Totale Immissione in rete]:[Totale Consumi rimanenti]])","v":0},"HPB",null,null,null,0]
["040922",4,{"$f":"+MIN(Contributo_cer[[#This Row],[Totale Immissione in rete]:[Totale Consumi rimanenti]])","v":0},"HCB",null,null,null,0]
["040923",4,{"$f":"+MIN(Contributo_cer[[#This Row],[Totale Immissione in rete]:[Totale Consumi rimanenti]])","v":0},"HCB",null,null,null,0]
["041000",4,{"$f":"+MIN(Contributo_cer[[#This Row],[Totale Immissione in rete]:[Totale Consumi rimanenti]])","v":0},"HCB",null,null,null,0]
["041001",4,{"$f":"+MIN(Contributo_cer[[#This Row],[Totale Immissione in rete]:[Totale Consumi rimanenti]])","v":0},"HCB",null,null,null,0]
["041002",4,{"$f":"+MIN(Contributo_cer[[#This Row],[Totale Immissione in rete]:[Totale Consumi rimanenti]])","v":0},"HCB",null,null,null,0]
["041003",4,{"$f":"+MIN(Contributo_cer[[#This Row],[Totale Immissione in rete]:[Totale Consumi rimanenti]])","v":0},"HCB",null,null,null,0]
["041004",4,{"$f":"+MIN(Contributo_cer[[#This Row],[Totale Immissione in rete]:[Totale Consumi rimanenti]])","v":0},"HCB",null,null,null,0]
["041005",4,{"$f":"+MIN(Contributo_cer[[#This Row],[Totale Immissione in rete]:[Totale Consumi rimanenti]])","v":0},"HCB",null,null,null,0]
["041006",4,{"$f":"+MIN(Contributo_cer[[#This Row],[Totale Immissione in rete]:[Totale Consumi rimanenti]])","v":0},"HPB",null,null,null,0]
["041007",4,{"$f":"+MIN(Contributo_cer[[#This Row],[Totale Immissione in rete]:[Totale Consumi rimanenti]])","v":0},"HPB",null,null,null,0]
["041008",4,{"$f":"+MIN(Contributo_cer[[#This Row],[Totale Immissione in rete]:[Totale Consumi rimanenti]])","v":0},"HPB",null,null,null,0]
["041009",4,{"$f":"+MIN(Contributo_cer[[#This Row],[Totale Immissione in rete]:[Totale Consumi rimanenti]])","v":0},"HPB",null,null,null,0]
["041010",4,{"$f":"+MIN(Contributo_cer[[#This Row],[Totale Immissione in rete]:[Totale Consumi rimanenti]])","v":0},"HPB",null,null,null,0]
["041011",4,{"$f":"+MIN(Contributo_cer[[#This Row],[Totale Immissione in rete]:[Totale Consumi rimanenti]])","v":0},"HPB",null,null,null,0]
["041012",4,{"$f":"+MIN(Contributo_cer[[#This Row],[Totale Immissione in rete]:[Totale Consumi rimanenti]])","v":0},"HPB",null,null,null,0]
["041013",4,{"$f":"+MIN(Contributo_cer[[#This Row],[Totale Immissione in rete]:[Totale Consumi rimanenti]])","v":0},"HPB",null,null,null,0]
["041014",4,{"$f":"+MIN(Contributo_cer[[#This Row],[Totale Immissione in rete]:[Totale Consumi rimanenti]])","v":0},"HPB",null,null,null,0]
["041015",4,{"$f":"+MIN(Contributo_cer[[#This Row],[Totale Immissione in rete]:[Totale Consumi rimanenti]])","v":0},"HPB",null,null,null,0]
["041016",4,{"$f":"+MIN(Contributo_cer[[#This Row],[Totale Immissione in rete]:[Totale Consumi rimanenti]])","v":0},"HPB",null,null,null,0]
["041017",4,{"$f":"+MIN(Contributo_cer[[#This Row],[Totale Immissione in rete]:[Totale Consumi rimanenti]])","v":0},"HPB",null,null,null,0]
["041018",4,{"$f":"+MIN(Contributo_cer[[#This Row],[Totale Immissione in rete]:[Totale Consumi rimanenti]])","v":0},"HPB",null,null,null,0]
["041019",4,{"$f":"+MIN(Contributo_cer[[#This Row],[Totale Immissione in rete]:[Totale Consumi rimanenti]])","v":0},"HPB",null,null,null,0]
["041020",4,{"$f":"+MIN(Contributo_cer[[#This Row],[Totale Immissione in rete]:[Totale Consumi rimanenti]])","v":0},"HPB",null,null,null,0]
["041021",4,{"$f":"+MIN(Contributo_cer[[#This Row],[Totale Immissione in rete]:[Totale Consumi rimanenti]])","v":0},"HPB",null,null,null,0]
["041022",4,{"$f":"+MIN(Contributo_cer[[#This Row],[Totale Immissione in rete]:[Totale Consumi rimanenti]])","v":0},"HCB",null,null,null,0]
["041023",4,{"$f":"+MIN(Contributo_cer[[#This Row],[Totale Immissione in rete]:[Totale Consumi rimanenti]])","v":0},"HCB",null,null,null,0]
["041100",4,{"$f":"+MIN(Contributo_cer[[#This Row],[Totale Immissione in rete]:[Totale Consumi rimanenti]])","v":0},"HCB",null,null,null,0]
["041101",4,{"$f":"+MIN(Contributo_cer[[#This Row],[Totale Immissione in rete]:[Totale Consumi rimanenti]])","v":0},"HCB",null,null,null,0]
["041102",4,{"$f":"+MIN(Contributo_cer[[#This Row],[Totale Immissione in rete]:[Totale Consumi rimanenti]])","v":0},"HCB",null,null,null,0]
["041103",4,{"$f":"+MIN(Contributo_cer[[#This Row],[Totale Immissione in rete]:[Totale Consumi rimanenti]])","v":0},"HCB",null,null,null,0]
["041104",4,{"$f":"+MIN(Contributo_cer[[#This Row],[Totale Immissione in rete]:[Totale Consumi rimanenti]])","v":0},"HCB",null,null,null,0]
["041105",4,{"$f":"+MIN(Contributo_cer[[#This Row],[Totale Immissione in rete]:[Totale Consumi rimanenti]])","v":0},"HCB",null,null,null,0]
["041106",4,{"$f":"+MIN(Contributo_cer[[#This Row],[Totale Immissione in rete]:[Totale Consumi rimanenti]])","v":0},"HPB",null,null,null,0]
["041107",4,{"$f":"+MIN(Contributo_cer[[#This Row],[Totale Immissione in rete]:[Totale Consumi rimanenti]])","v":0},"HPB",null,null,null,0]
["041108",4,{"$f":"+MIN(Contributo_cer[[#This Row],[Totale Immissione in rete]:[Totale Consumi rimanenti]])","v":0},"HPB",null,null,null,0]
["041109",4,{"$f":"+MIN(Contributo_cer[[#This Row],[Totale Immissione in rete]:[Totale Consumi rimanenti]])","v":0},"HPB",null,null,null,0]
["041110",4,{"$f":"+MIN(Contributo_cer[[#This Row],[Totale Immissione in rete]:[Totale Consumi rimanenti]])","v":0},"HPB",null,null,null,0]
["041111",4,{"$f":"+MIN(Contributo_cer[[#This Row],[Totale Immissione in rete]:[Totale Consumi rimanenti]])","v":0},"HPB",null,null,null,0]
["041112",4,{"$f":"+MIN(Contributo_cer[[#This Row],[Totale Immissione in rete]:[Totale Consumi rimanenti]])","v":0},"HPB",null,null,null,0]
["041113",4,{"$f":"+MIN(Contributo_cer[[#This Row],[Totale Immissione in rete]:[Totale Consumi rimanenti]])","v":0},"HPB",null,null,null,0]
["041114",4,{"$f":"+MIN(Contributo_cer[[#This Row],[Totale Immissione in rete]:[Totale Consumi rimanenti]])","v":0},"HPB",null,null,null,0]
["041115",4,{"$f":"+MIN(Contributo_cer[[#This Row],[Totale Immissione in rete]:[Totale Consumi rimanenti]])","v":0},"HPB",null,null,null,0]
["041116",4,{"$f":"+MIN(Contributo_cer[[#This Row],[Totale Immissione in rete]:[Totale Consumi rimanenti]])","v":0},"HPB",null,null,null,0]
["041117",4,{"$f":"+MIN(Contributo_cer[[#This Row],[Totale Immissione in rete]:[Totale Consumi rimanenti]])","v":0},"HPB",null,null,null,0]
["041118",4,{"$f":"+MIN(Contributo_cer[[#This Row],[Totale Immissione in rete]:[Totale Consumi rimanenti]])","v":0},"HPB",null,null,null,0]
["041119",4,{"$f":"+MIN(Contributo_cer[[#This Row],[Totale Immissione in rete]:[Totale Consumi rimanenti]])","v":0},"HPB",null,null,null,0]
["041120",4,{"$f":"+MIN(Contributo_cer[[#This Row],[Totale Immissione in rete]:[Totale Consumi rimanenti]])","v":0},"HPB",null,null,null,0]
["041121",4,{"$f":"+MIN(Contributo_cer[[#This Row],[Totale Immissione in rete]:[Totale Consumi rimanenti]])","v":0},"HPB",null,null,null,0]
["041122",4,{"$f":"+MIN(Contributo_cer[[#This Row],[Totale Immissione in rete]:[Totale Consumi rimanenti]])","v":0},"HCB",null,null,null,0]
["041123",4,{"$f":"+MIN(Contributo_cer[[#This Row],[Totale Immissione in rete]:[Totale Consumi rimanenti]])","v":0},"HCB",null,null,null,0]
["041200",4,{"$f":"+MIN(Contributo_cer[[#This Row],[Totale Immissione in rete]:[Totale Consumi rimanenti]])","v":0},"HCB",null,null,null,0]
["041201",4,{"$f":"+MIN(Contributo_cer[[#This Row],[Totale Immissione in rete]:[Totale Consumi rimanenti]])","v":0},"HCB",null,null,null,0]
["041202",4,{"$f":"+MIN(Contributo_cer[[#This Row],[Totale Immissione in rete]:[Totale Consumi rimanenti]])","v":0},"HCB",null,null,null,0]
["041203",4,{"$f":"+MIN(Contributo_cer[[#This Row],[Totale Immissione in rete]:[Totale Consumi rimanenti]])","v":0},"HCB",null,null,null,0]
["041204",4,{"$f":"+MIN(Contributo_cer[[#This Row],[Totale Immissione in rete]:[Totale Consumi rimanenti]])","v":0},"HCB",null,null,null,0]
["041205",4,{"$f":"+MIN(Contributo_cer[[#This Row],[Totale Immissione in rete]:[Totale Consumi rimanenti]])","v":0},"HCB",null,null,null,0]
["041206",4,{"$f":"+MIN(Contributo_cer[[#This Row],[Totale Immissione in rete]:[Totale Consumi rimanenti]])","v":0},"HPB",null,null,null,0]
["041207",4,{"$f":"+MIN(Contributo_cer[[#This Row],[Totale Immissione in rete]:[Totale Consumi rimanenti]])","v":0},"HPB",null,null,null,0]
["041208",4,{"$f":"+MIN(Contributo_cer[[#This Row],[Totale Immissione in rete]:[Totale Consumi rimanenti]])","v":0},"HPB",null,null,null,0]
["041209",4,{"$f":"+MIN(Contributo_cer[[#This Row],[Totale Immissione in rete]:[Totale Consumi rimanenti]])","v":0},"HPB",null,null,null,0]
["041210",4,{"$f":"+MIN(Contributo_cer[[#This Row],[Totale Immissione in rete]:[Totale Consumi rimanenti]])","v":0},"HPB",null,null,null,0]
["041211",4,{"$f":"+MIN(Contributo_cer[[#This Row],[Totale Immissione in rete]:[Totale Consumi rimanenti]])","v":0},"HPB",null,null,null,0]
["041212",4,{"$f":"+MIN(Contributo_cer[[#This Row],[Totale Immissione in rete]:[Totale Consumi rimanenti]])","v":0},"HPB",null,null,null,0]
["041213",4,{"$f":"+MIN(Contributo_cer[[#This Row],[Totale Immissione in rete]:[Totale Consumi rimanenti]])","v":0},"HPB",null,null,null,0]
["041214",4,{"$f":"+MIN(Contributo_cer[[#This Row],[Totale Immissione in rete]:[Totale Consumi rimanenti]])","v":0},"HPB",null,null,null,0]
["041215",4,{"$f":"+MIN(Contributo_cer[[#This Row],[Totale Immissione in rete]:[Totale Consumi rimanenti]])","v":0},"HPB",null,null,null,0]
["041216",4,{"$f":"+MIN(Contributo_cer[[#This Row],[Totale Immissione in rete]:[Totale Consumi rimanenti]])","v":0},"HPB",null,null,null,0]
["041217",4,{"$f":"+MIN(Contributo_cer[[#This Row],[Totale Immissione in rete]:[Totale Consumi rimanenti]])","v":0},"HPB",null,null,null,0]
["041218",4,{"$f":"+MIN(Contributo_cer[[#This Row],[Totale Immissione in rete]:[Totale Consumi rimanenti]])","v":0},"HPB",null,null,null,0]
["041219",4,{"$f":"+MIN(Contributo_cer[[#This Row],[Totale Immissione in rete]:[Totale Consumi rimanenti]])","v":0},"HPB",null,null,null,0]
["041220",4,{"$f":"+MIN(Contributo_cer[[#This Row],[Totale Immissione in rete]:[Totale Consumi rimanenti]])","v":0},"HPB",null,null,null,0]
["041221",4,{"$f":"+MIN(Contributo_cer[[#This Row],[Totale Immissione in rete]:[Totale Consumi rimanenti]])","v":0},"HPB",null,null,null,0]
["041222",4,{"$f":"+MIN(Contributo_cer[[#This Row],[Totale Immissione in rete]:[Totale Consumi rimanenti]])","v":0},"HCB",null,null,null,0]
["041223",4,{"$f":"+MIN(Contributo_cer[[#This Row],[Totale Immissione in rete]:[Totale Consumi rimanenti]])","v":0},"HCB",null,null,null,0]
["041300",4,{"$f":"+MIN(Contributo_cer[[#This Row],[Totale Immissione in rete]:[Totale Consumi rimanenti]])","v":0},"HCB",null,null,null,0]
["041301",4,{"$f":"+MIN(Contributo_cer[[#This Row],[Totale Immissione in rete]:[Totale Consumi rimanenti]])","v":0},"HCB",null,null,null,0]
["041302",4,{"$f":"+MIN(Contributo_cer[[#This Row],[Totale Immissione in rete]:[Totale Consumi rimanenti]])","v":0},"HCB",null,null,null,0]
["041303",4,{"$f":"+MIN(Contributo_cer[[#This Row],[Totale Immissione in rete]:[Totale Consumi rimanenti]])","v":0},"HCB",null,null,null,0]
["041304",4,{"$f":"+MIN(Contributo_cer[[#This Row],[Totale Immissione in rete]:[Totale Consumi rimanenti]])","v":0},"HCB",null,null,null,0]
["041305",4,{"$f":"+MIN(Contributo_cer[[#This Row],[Totale Immissione in rete]:[Totale Consumi rimanenti]])","v":0},"HCB",null,null,null,0]
["041306",4,{"$f":"+MIN(Contributo_cer[[#This Row],[Totale Immissione in rete]:[Totale Consumi rimanenti]])","v":0},"HPB",null,null,null,0]
["041307",4,{"$f":"+MIN(Contributo_cer[[#This Row],[Totale Immissione in rete]:[Totale Consumi rimanenti]])","v":0},"HPB",null,null,null,0]
["041308",4,{"$f":"+MIN(Contributo_cer[[#This Row],[Totale Immissione in rete]:[Totale Consumi rimanenti]])","v":0},"HPB",null,null,null,0]
["041309",4,{"$f":"+MIN(Contributo_cer[[#This Row],[Totale Immissione in rete]:[Totale Consumi rimanenti]])","v":0},"HPB",null,null,null,0]
["041310",4,{"$f":"+MIN(Contributo_cer[[#This Row],[Totale Immissione in rete]:[Totale Consumi rimanenti]])","v":0},"HPB",null,null,null,0]
["041311",4,{"$f":"+MIN(Contributo_cer[[#This Row],[Totale Immissione in rete]:[Totale Consumi rimanenti]])","v":0},"HPB",null,null,null,0]
["041312",4,{"$f":"+MIN(Contributo_cer[[#This Row],[Totale Immissione in rete]:[Totale Consumi rimanenti]])","v":0},"HPB",null,null,null,0]
["041313",4,{"$f":"+MIN(Contributo_cer[[#This Row],[Totale Immissione in rete]:[Totale Consumi rimanenti]])","v":0},"HPB",null,null,null,0]
["041314",4,{"$f":"+MIN(Contributo_cer[[#This Row],[Totale Immissione in rete]:[Totale Consumi rimanenti]])","v":0},"HPB",null,null,null,0]
["041315",4,{"$f":"+MIN(Contributo_cer[[#This Row],[Totale Immissione in rete]:[Totale Consumi rimanenti]])","v":0},"HPB",null,null,null,0]
["041316",4,{"$f":"+MIN(Contributo_cer[[#This Row],[Totale Immissione in rete]:[Totale Consumi rimanenti]])","v":0},"HPB",null,null,null,0]
["041317",4,{"$f":"+MIN(Contributo_cer[[#This Row],[Totale Immissione in rete]:[Totale Consumi rimanenti]])","v":0},"HPB",null,null,null,0]
["041318",4,{"$f":"+MIN(Contributo_cer[[#This Row],[Totale Immissione in rete]:[Totale Consumi rimanenti]])","v":0},"HPB",null,null,null,0]
["041319",4,{"$f":"+MIN(Contributo_cer[[#This Row],[Totale Immissione in rete]:[Totale Consumi rimanenti]])","v":0},"HPB",null,null,null,0]
["041320",4,{"$f":"+MIN(Contributo_cer[[#This Row],[Totale Immissione in rete]:[Totale Consumi rimanenti]])","v":0},"HPB",null,null,null,0]
["041321",4,{"$f":"+MIN(Contributo_cer[[#This Row],[Totale Immissione in rete]:[Totale Consumi rimanenti]])","v":0},"HPB",null,null,null,0]
["041322",4,{"$f":"+MIN(Contributo_cer[[#This Row],[Totale Immissione in rete]:[Totale Consumi rimanenti]])","v":0},"HCB",null,null,null,0]
["041323",4,{"$f":"+MIN(Contributo_cer[[#This Row],[Totale Immissione in rete]:[Totale Consumi rimanenti]])","v":0},"HCB",null,null,null,0]
["041400",4,{"$f":"+MIN(Contributo_cer[[#This Row],[Totale Immissione in rete]:[Totale Consumi rimanenti]])","v":0},"HCB",null,null,null,0]
["041401",4,{"$f":"+MIN(Contributo_cer[[#This Row],[Totale Immissione in rete]:[Totale Consumi rimanenti]])","v":0},"HCB",null,null,null,0]
["041402",4,{"$f":"+MIN(Contributo_cer[[#This Row],[Totale Immissione in rete]:[Totale Consumi rimanenti]])","v":0},"HCB",null,null,null,0]
["041403",4,{"$f":"+MIN(Contributo_cer[[#This Row],[Totale Immissione in rete]:[Totale Consumi rimanenti]])","v":0},"HCB",null,null,null,0]
["041404",4,{"$f":"+MIN(Contributo_cer[[#This Row],[Totale Immissione in rete]:[Totale Consumi rimanenti]])","v":0},"HCB",null,null,null,0]
["041405",4,{"$f":"+MIN(Contributo_cer[[#This Row],[Totale Immissione in rete]:[Totale Consumi rimanenti]])","v":0},"HCB",null,null,null,0]
["041406",4,{"$f":"+MIN(Contributo_cer[[#This Row],[Totale Immissione in rete]:[Totale Consumi rimanenti]])","v":0},"HPB",null,null,null,0]
["041407",4,{"$f":"+MIN(Contributo_cer[[#This Row],[Totale Immissione in rete]:[Totale Consumi rimanenti]])","v":0},"HPB",null,null,null,0]
["041408",4,{"$f":"+MIN(Contributo_cer[[#This Row],[Totale Immissione in rete]:[Totale Consumi rimanenti]])","v":0},"HPB",null,null,null,0]
["041409",4,{"$f":"+MIN(Contributo_cer[[#This Row],[Totale Immissione in rete]:[Totale Consumi rimanenti]])","v":0},"HPB",null,null,null,0]
["041410",4,{"$f":"+MIN(Contributo_cer[[#This Row],[Totale Immissione in rete]:[Totale Consumi rimanenti]])","v":0},"HPB",null,null,null,0]
["041411",4,{"$f":"+MIN(Contributo_cer[[#This Row],[Totale Immissione in rete]:[Totale Consumi rimanenti]])","v":0},"HPB",null,null,null,0]
["041412",4,{"$f":"+MIN(Contributo_cer[[#This Row],[Totale Immissione in rete]:[Totale Consumi rimanenti]])","v":0},"HPB",null,null,null,0]
["041413",4,{"$f":"+MIN(Contributo_cer[[#This Row],[Totale Immissione in rete]:[Totale Consumi rimanenti]])","v":0},"HPB",null,null,null,0]
["041414",4,{"$f":"+MIN(Contributo_cer[[#This Row],[Totale Immissione in rete]:[Totale Consumi rimanenti]])","v":0},"HPB",null,null,null,0]
["041415",4,{"$f":"+MIN(Contributo_cer[[#This Row],[Totale Immissione in rete]:[Totale Consumi rimanenti]])","v":0},"HPB",null,null,null,0]
["041416",4,{"$f":"+MIN(Contributo_cer[[#This Row],[Totale Immissione in rete]:[Totale Consumi rimanenti]])","v":0},"HPB",null,null,null,0]
["041417",4,{"$f":"+MIN(Contributo_cer[[#This Row],[Totale Immissione in rete]:[Totale Consumi rimanenti]])","v":0},"HPB",null,null,null,0]
["041418",4,{"$f":"+MIN(Contributo_cer[[#This Row],[Totale Immissione in rete]:[Totale Consumi rimanenti]])","v":0},"HPB",null,null,null,0]
["041419",4,{"$f":"+MIN(Contributo_cer[[#This Row],[Totale Immissione in rete]:[Totale Consumi rimanenti]])","v":0},"HPB",null,null,null,0]
["041420",4,{"$f":"+MIN(Contributo_cer[[#This Row],[Totale Immissione in rete]:[Totale Consumi rimanenti]])","v":0},"HPB",null,null,null,0]
["041421",4,{"$f":"+MIN(Contributo_cer[[#This Row],[Totale Immissione in rete]:[Totale Consumi rimanenti]])","v":0},"HPB",null,null,null,0]
["041422",4,{"$f":"+MIN(Contributo_cer[[#This Row],[Totale Immissione in rete]:[Totale Consumi rimanenti]])","v":0},"HCB",null,null,null,0]
["041423",4,{"$f":"+MIN(Contributo_cer[[#This Row],[Totale Immissione in rete]:[Totale Consumi rimanenti]])","v":0},"HCB",null,null,null,0]
["041500",4,{"$f":"+MIN(Contributo_cer[[#This Row],[Totale Immissione in rete]:[Totale Consumi rimanenti]])","v":0},"HCB",null,null,null,0]
["041501",4,{"$f":"+MIN(Contributo_cer[[#This Row],[Totale Immissione in rete]:[Totale Consumi rimanenti]])","v":0},"HCB",null,null,null,0]
["041502",4,{"$f":"+MIN(Contributo_cer[[#This Row],[Totale Immissione in rete]:[Totale Consumi rimanenti]])","v":0},"HCB",null,null,null,0]
["041503",4,{"$f":"+MIN(Contributo_cer[[#This Row],[Totale Immissione in rete]:[Totale Consumi rimanenti]])","v":0},"HCB",null,null,null,0]
["041504",4,{"$f":"+MIN(Contributo_cer[[#This Row],[Totale Immissione in rete]:[Totale Consumi rimanenti]])","v":0},"HCB",null,null,null,0]
["041505",4,{"$f":"+MIN(Contributo_cer[[#This Row],[Totale Immissione in rete]:[Totale Consumi rimanenti]])","v":0},"HCB",null,null,null,0]
["041506",4,{"$f":"+MIN(Contributo_cer[[#This Row],[Totale Immissione in rete]:[Totale Consumi rimanenti]])","v":0},"HPB",null,null,null,0]
["041507",4,{"$f":"+MIN(Contributo_cer[[#This Row],[Totale Immissione in rete]:[Totale Consumi rimanenti]])","v":0},"HPB",null,null,null,0]
["041508",4,{"$f":"+MIN(Contributo_cer[[#This Row],[Totale Immissione in rete]:[Totale Consumi rimanenti]])","v":0},"HPB",null,null,null,0]
["041509",4,{"$f":"+MIN(Contributo_cer[[#This Row],[Totale Immissione in rete]:[Totale Consumi rimanenti]])","v":0},"HPB",null,null,null,0]
["041510",4,{"$f":"+MIN(Contributo_cer[[#This Row],[Totale Immissione in rete]:[Totale Consumi rimanenti]])","v":0},"HPB",null,null,null,0]
["041511",4,{"$f":"+MIN(Contributo_cer[[#This Row],[Totale Immissione in rete]:[Totale Consumi rimanenti]])","v":0},"HPB",null,null,null,0]
["041512",4,{"$f":"+MIN(Contributo_cer[[#This Row],[Totale Immissione in rete]:[Totale Consumi rimanenti]])","v":0},"HPB",null,null,null,0]
["041513",4,{"$f":"+MIN(Contributo_cer[[#This Row],[Totale Immissione in rete]:[Totale Consumi rimanenti]])","v":0},"HPB",null,null,null,0]
["041514",4,{"$f":"+MIN(Contributo_cer[[#This Row],[Totale Immissione in rete]:[Totale Consumi rimanenti]])","v":0},"HPB",null,null,null,0]
["041515",4,{"$f":"+MIN(Contributo_cer[[#This Row],[Totale Immissione in rete]:[Totale Consumi rimanenti]])","v":0},"HPB",null,null,null,0]
["041516",4,{"$f":"+MIN(Contributo_cer[[#This Row],[Totale Immissione in rete]:[Totale Consumi rimanenti]])","v":0},"HPB",null,null,null,0]
["041517",4,{"$f":"+MIN(Contributo_cer[[#This Row],[Totale Immissione in rete]:[Totale Consumi rimanenti]])","v":0},"HPB",null,null,null,0]
["041518",4,{"$f":"+MIN(Contributo_cer[[#This Row],[Totale Immissione in rete]:[Totale Consumi rimanenti]])","v":0},"HPB",null,null,null,0]
["041519",4,{"$f":"+MIN(Contributo_cer[[#This Row],[Totale Immissione in rete]:[Totale Consumi rimanenti]])","v":0},"HPB",null,null,null,0]
["041520",4,{"$f":"+MIN(Contributo_cer[[#This Row],[Totale Immissione in rete]:[Totale Consumi rimanenti]])","v":0},"HPB",null,null,null,0]
["041521",4,{"$f":"+MIN(Contributo_cer[[#This Row],[Totale Immissione in rete]:[Totale Consumi rimanenti]])","v":0},"HPB",null,null,null,0]
["041522",4,{"$f":"+MIN(Contributo_cer[[#This Row],[Totale Immissione in rete]:[Totale Consumi rimanenti]])","v":0},"HCB",null,null,null,0]
["041523",4,{"$f":"+MIN(Contributo_cer[[#This Row],[Totale Immissione in rete]:[Totale Consumi rimanenti]])","v":0},"HCB",null,null,null,0]
["041600",4,{"$f":"+MIN(Contributo_cer[[#This Row],[Totale Immissione in rete]:[Totale Consumi rimanenti]])","v":0},"HCB",null,null,null,0]
["041601",4,{"$f":"+MIN(Contributo_cer[[#This Row],[Totale Immissione in rete]:[Totale Consumi rimanenti]])","v":0},"HCB",null,null,null,0]
["041602",4,{"$f":"+MIN(Contributo_cer[[#This Row],[Totale Immissione in rete]:[Totale Consumi rimanenti]])","v":0},"HCB",null,null,null,0]
["041603",4,{"$f":"+MIN(Contributo_cer[[#This Row],[Totale Immissione in rete]:[Totale Consumi rimanenti]])","v":0},"HCB",null,null,null,0]
["041604",4,{"$f":"+MIN(Contributo_cer[[#This Row],[Totale Immissione in rete]:[Totale Consumi rimanenti]])","v":0},"HCB",null,null,null,0]
["041605",4,{"$f":"+MIN(Contributo_cer[[#This Row],[Totale Immissione in rete]:[Totale Consumi rimanenti]])","v":0},"HCB",null,null,null,0]
["041606",4,{"$f":"+MIN(Contributo_cer[[#This Row],[Totale Immissione in rete]:[Totale Consumi rimanenti]])","v":0},"HPB",null,null,null,0]
["041607",4,{"$f":"+MIN(Contributo_cer[[#This Row],[Totale Immissione in rete]:[Totale Consumi rimanenti]])","v":0},"HPB",null,null,null,0]
["041608",4,{"$f":"+MIN(Contributo_cer[[#This Row],[Totale Immissione in rete]:[Totale Consumi rimanenti]])","v":0},"HPB",null,null,null,0]
["041609",4,{"$f":"+MIN(Contributo_cer[[#This Row],[Totale Immissione in rete]:[Totale Consumi rimanenti]])","v":0},"HPB",null,null,null,0]
["041610",4,{"$f":"+MIN(Contributo_cer[[#This Row],[Totale Immissione in rete]:[Totale Consumi rimanenti]])","v":0},"HPB",null,null,null,0]
["041611",4,{"$f":"+MIN(Contributo_cer[[#This Row],[Totale Immissione in rete]:[Totale Consumi rimanenti]])","v":0},"HPB",null,null,null,0]
["041612",4,{"$f":"+MIN(Contributo_cer[[#This Row],[Totale Immissione in rete]:[Totale Consumi rimanenti]])","v":0},"HPB",null,null,null,0]
["041613",4,{"$f":"+MIN(Contributo_cer[[#This Row],[Totale Immissione in rete]:[Totale Consumi rimanenti]])","v":0},"HPB",null,null,null,0]
["041614",4,{"$f":"+MIN(Contributo_cer[[#This Row],[Totale Immissione in rete]:[Totale Consumi rimanenti]])","v":0},"HPB",null,null,null,0]
["041615",4,{"$f":"+MIN(Contributo_cer[[#This Row],[Totale Immissione in rete]:[Totale Consumi rimanenti]])","v":0},"HPB",null,null,null,0]
["041616",4,{"$f":"+MIN(Contributo_cer[[#This Row],[Totale Immissione in rete]:[Totale Consumi rimanenti]])","v":0},"HPB",null,null,null,0]
["041617",4,{"$f":"+MIN(Contributo_cer[[#This Row],[Totale Immissione in rete]:[Totale Consumi rimanenti]])","v":0},"HPB",null,null,null,0]
["041618",4,{"$f":"+MIN(Contributo_cer[[#This Row],[Totale Immissione in rete]:[Totale Consumi rimanenti]])","v":0},"HPB",null,null,null,0]
["041619",4,{"$f":"+MIN(Contributo_cer[[#This Row],[Totale Immissione in rete]:[Totale Consumi rimanenti]])","v":0},"HPB",null,null,null,0]
["041620",4,{"$f":"+MIN(Contributo_cer[[#This Row],[Totale Immissione in rete]:[Totale Consumi rimanenti]])","v":0},"HPB",null,null,null,0]
["041621",4,{"$f":"+MIN(Contributo_cer[[#This Row],[Totale Immissione in rete]:[Totale Consumi rimanenti]])","v":0},"HPB",null,null,null,0]
["041622",4,{"$f":"+MIN(Contributo_cer[[#This Row],[Totale Immissione in rete]:[Totale Consumi rimanenti]])","v":0},"HCB",null,null,null,0]
["041623",4,{"$f":"+MIN(Contributo_cer[[#This Row],[Totale Immissione in rete]:[Totale Consumi rimanenti]])","v":0},"HCB",null,null,null,0]
["041700",4,{"$f":"+MIN(Contributo_cer[[#This Row],[Totale Immissione in rete]:[Totale Consumi rimanenti]])","v":0},"HCB",null,null,null,0]
["041701",4,{"$f":"+MIN(Contributo_cer[[#This Row],[Totale Immissione in rete]:[Totale Consumi rimanenti]])","v":0},"HCB",null,null,null,0]
["041702",4,{"$f":"+MIN(Contributo_cer[[#This Row],[Totale Immissione in rete]:[Totale Consumi rimanenti]])","v":0},"HCB",null,null,null,0]
["041703",4,{"$f":"+MIN(Contributo_cer[[#This Row],[Totale Immissione in rete]:[Totale Consumi rimanenti]])","v":0},"HCB",null,null,null,0]
["041704",4,{"$f":"+MIN(Contributo_cer[[#This Row],[Totale Immissione in rete]:[Totale Consumi rimanenti]])","v":0},"HCB",null,null,null,0]
["041705",4,{"$f":"+MIN(Contributo_cer[[#This Row],[Totale Immissione in rete]:[Totale Consumi rimanenti]])","v":0},"HCB",null,null,null,0]
["041706",4,{"$f":"+MIN(Contributo_cer[[#This Row],[Totale Immissione in rete]:[Totale Consumi rimanenti]])","v":0},"HPB",null,null,null,0]
["041707",4,{"$f":"+MIN(Contributo_cer[[#This Row],[Totale Immissione in rete]:[Totale Consumi rimanenti]])","v":0},"HPB",null,null,null,0]
["041708",4,{"$f":"+MIN(Contributo_cer[[#This Row],[Totale Immissione in rete]:[Totale Consumi rimanenti]])","v":0},"HPB",null,null,null,0]
["041709",4,{"$f":"+MIN(Contributo_cer[[#This Row],[Totale Immissione in rete]:[Totale Consumi rimanenti]])","v":0},"HPB",null,null,null,0]
["041710",4,{"$f":"+MIN(Contributo_cer[[#This Row],[Totale Immissione in rete]:[Totale Consumi rimanenti]])","v":0},"HPB",null,null,null,0]
["041711",4,{"$f":"+MIN(Contributo_cer[[#This Row],[Totale Immissione in rete]:[Totale Consumi rimanenti]])","v":0},"HPB",null,null,null,0]
["041712",4,{"$f":"+MIN(Contributo_cer[[#This Row],[Totale Immissione in rete]:[Totale Consumi rimanenti]])","v":0},"HPB",null,null,null,0]
["041713",4,{"$f":"+MIN(Contributo_cer[[#This Row],[Totale Immissione in rete]:[Totale Consumi rimanenti]])","v":0},"HPB",null,null,null,0]
["041714",4,{"$f":"+MIN(Contributo_cer[[#This Row],[Totale Immissione in rete]:[Totale Consumi rimanenti]])","v":0},"HPB",null,null,null,0]
["041715",4,{"$f":"+MIN(Contributo_cer[[#This Row],[Totale Immissione in rete]:[Totale Consumi rimanenti]])","v":0},"HPB",null,null,null,0]
["041716",4,{"$f":"+MIN(Contributo_cer[[#This Row],[Totale Immissione in rete]:[Totale Consumi rimanenti]])","v":0},"HPB",null,null,null,0]
["041717",4,{"$f":"+MIN(Contributo_cer[[#This Row],[Totale Immissione in rete]:[Totale Consumi rimanenti]])","v":0},"HPB",null,null,null,0]
["041718",4,{"$f":"+MIN(Contributo_cer[[#This Row],[Totale Immissione in rete]:[Totale Consumi rimanenti]])","v":0},"HPB",null,null,null,0]
["041719",4,{"$f":"+MIN(Contributo_cer[[#This Row],[Totale Immissione in rete]:[Totale Consumi rimanenti]])","v":0},"HPB",null,null,null,0]
["041720",4,{"$f":"+MIN(Contributo_cer[[#This Row],[Totale Immissione in rete]:[Totale Consumi rimanenti]])","v":0},"HPB",null,null,null,0]
["041721",4,{"$f":"+MIN(Contributo_cer[[#This Row],[Totale Immissione in rete]:[Totale Consumi rimanenti]])","v":0},"HPB",null,null,null,0]
["041722",4,{"$f":"+MIN(Contributo_cer[[#This Row],[Totale Immissione in rete]:[Totale Consumi rimanenti]])","v":0},"HCB",null,null,null,0]
["041723",4,{"$f":"+MIN(Contributo_cer[[#This Row],[Totale Immissione in rete]:[Totale Consumi rimanenti]])","v":0},"HCB",null,null,null,0]
["041800",4,{"$f":"+MIN(Contributo_cer[[#This Row],[Totale Immissione in rete]:[Totale Consumi rimanenti]])","v":0},"HCB",null,null,null,0]
["041801",4,{"$f":"+MIN(Contributo_cer[[#This Row],[Totale Immissione in rete]:[Totale Consumi rimanenti]])","v":0},"HCB",null,null,null,0]
["041802",4,{"$f":"+MIN(Contributo_cer[[#This Row],[Totale Immissione in rete]:[Totale Consumi rimanenti]])","v":0},"HCB",null,null,null,0]
["041803",4,{"$f":"+MIN(Contributo_cer[[#This Row],[Totale Immissione in rete]:[Totale Consumi rimanenti]])","v":0},"HCB",null,null,null,0]
["041804",4,{"$f":"+MIN(Contributo_cer[[#This Row],[Totale Immissione in rete]:[Totale Consumi rimanenti]])","v":0},"HCB",null,null,null,0]
["041805",4,{"$f":"+MIN(Contributo_cer[[#This Row],[Totale Immissione in rete]:[Totale Consumi rimanenti]])","v":0},"HCB",null,null,null,0]
["041806",4,{"$f":"+MIN(Contributo_cer[[#This Row],[Totale Immissione in rete]:[Totale Consumi rimanenti]])","v":0},"HPB",null,null,null,0]
["041807",4,{"$f":"+MIN(Contributo_cer[[#This Row],[Totale Immissione in rete]:[Totale Consumi rimanenti]])","v":0},"HPB",null,null,null,0]
["041808",4,{"$f":"+MIN(Contributo_cer[[#This Row],[Totale Immissione in rete]:[Totale Consumi rimanenti]])","v":0},"HPB",null,null,null,0]
["041809",4,{"$f":"+MIN(Contributo_cer[[#This Row],[Totale Immissione in rete]:[Totale Consumi rimanenti]])","v":0},"HPB",null,null,null,0]
["041810",4,{"$f":"+MIN(Contributo_cer[[#This Row],[Totale Immissione in rete]:[Totale Consumi rimanenti]])","v":0},"HPB",null,null,null,0]
["041811",4,{"$f":"+MIN(Contributo_cer[[#This Row],[Totale Immissione in rete]:[Totale Consumi rimanenti]])","v":0},"HPB",null,null,null,0]
["041812",4,{"$f":"+MIN(Contributo_cer[[#This Row],[Totale Immissione in rete]:[Totale Consumi rimanenti]])","v":0},"HPB",null,null,null,0]
["041813",4,{"$f":"+MIN(Contributo_cer[[#This Row],[Totale Immissione in rete]:[Totale Consumi rimanenti]])","v":0},"HPB",null,null,null,0]
["041814",4,{"$f":"+MIN(Contributo_cer[[#This Row],[Totale Immissione in rete]:[Totale Consumi rimanenti]])","v":0},"HPB",null,null,null,0]
["041815",4,{"$f":"+MIN(Contributo_cer[[#This Row],[Totale Immissione in rete]:[Totale Consumi rimanenti]])","v":0},"HPB",null,null,null,0]
["041816",4,{"$f":"+MIN(Contributo_cer[[#This Row],[Totale Immissione in rete]:[Totale Consumi rimanenti]])","v":0},"HPB",null,null,null,0]
["041817",4,{"$f":"+MIN(Contributo_cer[[#This Row],[Totale Immissione in rete]:[Totale Consumi rimanenti]])","v":0},"HPB",null,null,null,0]
["041818",4,{"$f":"+MIN(Contributo_cer[[#This Row],[Totale Immissione in rete]:[Totale Consumi rimanenti]])","v":0},"HPB",null,null,null,0]
["041819",4,{"$f":"+MIN(Contributo_cer[[#This Row],[Totale Immissione in rete]:[Totale Consumi rimanenti]])","v":0},"HPB",null,null,null,0]
["041820",4,{"$f":"+MIN(Contributo_cer[[#This Row],[Totale Immissione in rete]:[Totale Consumi rimanenti]])","v":0},"HPB",null,null,null,0]
["041821",4,{"$f":"+MIN(Contributo_cer[[#This Row],[Totale Immissione in rete]:[Totale Consumi rimanenti]])","v":0},"HPB",null,null,null,0]
["041822",4,{"$f":"+MIN(Contributo_cer[[#This Row],[Totale Immissione in rete]:[Totale Consumi rimanenti]])","v":0},"HCB",null,null,null,0]
["041823",4,{"$f":"+MIN(Contributo_cer[[#This Row],[Totale Immissione in rete]:[Totale Consumi rimanenti]])","v":0},"HCB",null,null,null,0]
["041900",4,{"$f":"+MIN(Contributo_cer[[#This Row],[Totale Immissione in rete]:[Totale Consumi rimanenti]])","v":0},"HCB",null,null,null,0]
["041901",4,{"$f":"+MIN(Contributo_cer[[#This Row],[Totale Immissione in rete]:[Totale Consumi rimanenti]])","v":0},"HCB",null,null,null,0]
["041902",4,{"$f":"+MIN(Contributo_cer[[#This Row],[Totale Immissione in rete]:[Totale Consumi rimanenti]])","v":0},"HCB",null,null,null,0]
["041903",4,{"$f":"+MIN(Contributo_cer[[#This Row],[Totale Immissione in rete]:[Totale Consumi rimanenti]])","v":0},"HCB",null,null,null,0]
["041904",4,{"$f":"+MIN(Contributo_cer[[#This Row],[Totale Immissione in rete]:[Totale Consumi rimanenti]])","v":0},"HCB",null,null,null,0]
["041905",4,{"$f":"+MIN(Contributo_cer[[#This Row],[Totale Immissione in rete]:[Totale Consumi rimanenti]])","v":0},"HCB",null,null,null,0]
["041906",4,{"$f":"+MIN(Contributo_cer[[#This Row],[Totale Immissione in rete]:[Totale Consumi rimanenti]])","v":0},"HPB",null,null,null,0]
["041907",4,{"$f":"+MIN(Contributo_cer[[#This Row],[Totale Immissione in rete]:[Totale Consumi rimanenti]])","v":0},"HPB",null,null,null,0]
["041908",4,{"$f":"+MIN(Contributo_cer[[#This Row],[Totale Immissione in rete]:[Totale Consumi rimanenti]])","v":0},"HPB",null,null,null,0]
["041909",4,{"$f":"+MIN(Contributo_cer[[#This Row],[Totale Immissione in rete]:[Totale Consumi rimanenti]])","v":0},"HPB",null,null,null,0]
["041910",4,{"$f":"+MIN(Contributo_cer[[#This Row],[Totale Immissione in rete]:[Totale Consumi rimanenti]])","v":0},"HPB",null,null,null,0]
["041911",4,{"$f":"+MIN(Contributo_cer[[#This Row],[Totale Immissione in rete]:[Totale Consumi rimanenti]])","v":0},"HPB",null,null,null,0]
["041912",4,{"$f":"+MIN(Contributo_cer[[#This Row],[Totale Immissione in rete]:[Totale Consumi rimanenti]])","v":0},"HPB",null,null,null,0]
["041913",4,{"$f":"+MIN(Contributo_cer[[#This Row],[Totale Immissione in rete]:[Totale Consumi rimanenti]])","v":0},"HPB",null,null,null,0]
["041914",4,{"$f":"+MIN(Contributo_cer[[#This Row],[Totale Immissione in rete]:[Totale Consumi rimanenti]])","v":0},"HPB",null,null,null,0]
["041915",4,{"$f":"+MIN(Contributo_cer[[#This Row],[Totale Immissione in rete]:[Totale Consumi rimanenti]])","v":0},"HPB",null,null,null,0]
["041916",4,{"$f":"+MIN(Contributo_cer[[#This Row],[Totale Immissione in rete]:[Totale Consumi rimanenti]])","v":0},"HPB",null,null,null,0]
["041917",4,{"$f":"+MIN(Contributo_cer[[#This Row],[Totale Immissione in rete]:[Totale Consumi rimanenti]])","v":0},"HPB",null,null,null,0]
["041918",4,{"$f":"+MIN(Contributo_cer[[#This Row],[Totale Immissione in rete]:[Totale Consumi rimanenti]])","v":0},"HPB",null,null,null,0]
["041919",4,{"$f":"+MIN(Contributo_cer[[#This Row],[Totale Immissione in rete]:[Totale Consumi rimanenti]])","v":0},"HPB",null,null,null,0]
["041920",4,{"$f":"+MIN(Contributo_cer[[#This Row],[Totale Immissione in rete]:[Totale Consumi rimanenti]])","v":0},"HPB",null,null,null,0]
["041921",4,{"$f":"+MIN(Contributo_cer[[#This Row],[Totale Immissione in rete]:[Totale Consumi rimanenti]])","v":0},"HPB",null,null,null,0]
["041922",4,{"$f":"+MIN(Contributo_cer[[#This Row],[Totale Immissione in rete]:[Totale Consumi rimanenti]])","v":0},"HCB",null,null,null,0]
["041923",4,{"$f":"+MIN(Contributo_cer[[#This Row],[Totale Immissione in rete]:[Totale Consumi rimanenti]])","v":0},"HCB",null,null,null,0]
["042000",4,{"$f":"+MIN(Contributo_cer[[#This Row],[Totale Immissione in rete]:[Totale Consumi rimanenti]])","v":0},"HCB",null,null,null,0]
["042001",4,{"$f":"+MIN(Contributo_cer[[#This Row],[Totale Immissione in rete]:[Totale Consumi rimanenti]])","v":0},"HCB",null,null,null,0]
["042002",4,{"$f":"+MIN(Contributo_cer[[#This Row],[Totale Immissione in rete]:[Totale Consumi rimanenti]])","v":0},"HCB",null,null,null,0]
["042003",4,{"$f":"+MIN(Contributo_cer[[#This Row],[Totale Immissione in rete]:[Totale Consumi rimanenti]])","v":0},"HCB",null,null,null,0]
["042004",4,{"$f":"+MIN(Contributo_cer[[#This Row],[Totale Immissione in rete]:[Totale Consumi rimanenti]])","v":0},"HCB",null,null,null,0]
["042005",4,{"$f":"+MIN(Contributo_cer[[#This Row],[Totale Immissione in rete]:[Totale Consumi rimanenti]])","v":0},"HCB",null,null,null,0]
["042006",4,{"$f":"+MIN(Contributo_cer[[#This Row],[Totale Immissione in rete]:[Totale Consumi rimanenti]])","v":0},"HPB",null,null,null,0]
["042007",4,{"$f":"+MIN(Contributo_cer[[#This Row],[Totale Immissione in rete]:[Totale Consumi rimanenti]])","v":0},"HPB",null,null,null,0]
["042008",4,{"$f":"+MIN(Contributo_cer[[#This Row],[Totale Immissione in rete]:[Totale Consumi rimanenti]])","v":0},"HPB",null,null,null,0]
["042009",4,{"$f":"+MIN(Contributo_cer[[#This Row],[Totale Immissione in rete]:[Totale Consumi rimanenti]])","v":0},"HPB",null,null,null,0]
["042010",4,{"$f":"+MIN(Contributo_cer[[#This Row],[Totale Immissione in rete]:[Totale Consumi rimanenti]])","v":0},"HPB",null,null,null,0]
["042011",4,{"$f":"+MIN(Contributo_cer[[#This Row],[Totale Immissione in rete]:[Totale Consumi rimanenti]])","v":0},"HPB",null,null,null,0]
["042012",4,{"$f":"+MIN(Contributo_cer[[#This Row],[Totale Immissione in rete]:[Totale Consumi rimanenti]])","v":0},"HPB",null,null,null,0]
["042013",4,{"$f":"+MIN(Contributo_cer[[#This Row],[Totale Immissione in rete]:[Totale Consumi rimanenti]])","v":0},"HPB",null,null,null,0]
["042014",4,{"$f":"+MIN(Contributo_cer[[#This Row],[Totale Immissione in rete]:[Totale Consumi rimanenti]])","v":0},"HPB",null,null,null,0]
["042015",4,{"$f":"+MIN(Contributo_cer[[#This Row],[Totale Immissione in rete]:[Totale Consumi rimanenti]])","v":0},"HPB",null,null,null,0]
["042016",4,{"$f":"+MIN(Contributo_cer[[#This Row],[Totale Immissione in rete]:[Totale Consumi rimanenti]])","v":0},"HPB",null,null,null,0]
["042017",4,{"$f":"+MIN(Contributo_cer[[#This Row],[Totale Immissione in rete]:[Totale Consumi rimanenti]])","v":0},"HPB",null,null,null,0]
["042018",4,{"$f":"+MIN(Contributo_cer[[#This Row],[Totale Immissione in rete]:[Totale Consumi rimanenti]])","v":0},"HPB",null,null,null,0]
["042019",4,{"$f":"+MIN(Contributo_cer[[#This Row],[Totale Immissione in rete]:[Totale Consumi rimanenti]])","v":0},"HPB",null,null,null,0]
["042020",4,{"$f":"+MIN(Contributo_cer[[#This Row],[Totale Immissione in rete]:[Totale Consumi rimanenti]])","v":0},"HPB",null,null,null,0]
["042021",4,{"$f":"+MIN(Contributo_cer[[#This Row],[Totale Immissione in rete]:[Totale Consumi rimanenti]])","v":0},"HPB",null,null,null,0]
["042022",4,{"$f":"+MIN(Contributo_cer[[#This Row],[Totale Immissione in rete]:[Totale Consumi rimanenti]])","v":0},"HCB",null,null,null,0]
["042023",4,{"$f":"+MIN(Contributo_cer[[#This Row],[Totale Immissione in rete]:[Totale Consumi rimanenti]])","v":0},"HCB",null,null,null,0]
["042100",4,{"$f":"+MIN(Contributo_cer[[#This Row],[Totale Immissione in rete]:[Totale Consumi rimanenti]])","v":0},"HCB",null,null,null,0]
["042101",4,{"$f":"+MIN(Contributo_cer[[#This Row],[Totale Immissione in rete]:[Totale Consumi rimanenti]])","v":0},"HCB",null,null,null,0]
["042102",4,{"$f":"+MIN(Contributo_cer[[#This Row],[Totale Immissione in rete]:[Totale Consumi rimanenti]])","v":0},"HCB",null,null,null,0]
["042103",4,{"$f":"+MIN(Contributo_cer[[#This Row],[Totale Immissione in rete]:[Totale Consumi rimanenti]])","v":0},"HCB",null,null,null,0]
["042104",4,{"$f":"+MIN(Contributo_cer[[#This Row],[Totale Immissione in rete]:[Totale Consumi rimanenti]])","v":0},"HCB",null,null,null,0]
["042105",4,{"$f":"+MIN(Contributo_cer[[#This Row],[Totale Immissione in rete]:[Totale Consumi rimanenti]])","v":0},"HCB",null,null,null,0]
["042106",4,{"$f":"+MIN(Contributo_cer[[#This Row],[Totale Immissione in rete]:[Totale Consumi rimanenti]])","v":0},"HPB",null,null,null,0]
["042107",4,{"$f":"+MIN(Contributo_cer[[#This Row],[Totale Immissione in rete]:[Totale Consumi rimanenti]])","v":0},"HPB",null,null,null,0]
["042108",4,{"$f":"+MIN(Contributo_cer[[#This Row],[Totale Immissione in rete]:[Totale Consumi rimanenti]])","v":0},"HPB",null,null,null,0]
["042109",4,{"$f":"+MIN(Contributo_cer[[#This Row],[Totale Immissione in rete]:[Totale Consumi rimanenti]])","v":0},"HPB",null,null,null,0]
["042110",4,{"$f":"+MIN(Contributo_cer[[#This Row],[Totale Immissione in rete]:[Totale Consumi rimanenti]])","v":0},"HPB",null,null,null,0]
["042111",4,{"$f":"+MIN(Contributo_cer[[#This Row],[Totale Immissione in rete]:[Totale Consumi rimanenti]])","v":0},"HPB",null,null,null,0]
["042112",4,{"$f":"+MIN(Contributo_cer[[#This Row],[Totale Immissione in rete]:[Totale Consumi rimanenti]])","v":0},"HPB",null,null,null,0]
["042113",4,{"$f":"+MIN(Contributo_cer[[#This Row],[Totale Immissione in rete]:[Totale Consumi rimanenti]])","v":0},"HPB",null,null,null,0]
["042114",4,{"$f":"+MIN(Contributo_cer[[#This Row],[Totale Immissione in rete]:[Totale Consumi rimanenti]])","v":0},"HPB",null,null,null,0]
["042115",4,{"$f":"+MIN(Contributo_cer[[#This Row],[Totale Immissione in rete]:[Totale Consumi rimanenti]])","v":0},"HPB",null,null,null,0]
["042116",4,{"$f":"+MIN(Contributo_cer[[#This Row],[Totale Immissione in rete]:[Totale Consumi rimanenti]])","v":0},"HPB",null,null,null,0]
["042117",4,{"$f":"+MIN(Contributo_cer[[#This Row],[Totale Immissione in rete]:[Totale Consumi rimanenti]])","v":0},"HPB",null,null,null,0]
["042118",4,{"$f":"+MIN(Contributo_cer[[#This Row],[Totale Immissione in rete]:[Totale Consumi rimanenti]])","v":0},"HPB",null,null,null,0]
["042119",4,{"$f":"+MIN(Contributo_cer[[#This Row],[Totale Immissione in rete]:[Totale Consumi rimanenti]])","v":0},"HPB",null,null,null,0]
["042120",4,{"$f":"+MIN(Contributo_cer[[#This Row],[Totale Immissione in rete]:[Totale Consumi rimanenti]])","v":0},"HPB",null,null,null,0]
["042121",4,{"$f":"+MIN(Contributo_cer[[#This Row],[Totale Immissione in rete]:[Totale Consumi rimanenti]])","v":0},"HPB",null,null,null,0]
["042122",4,{"$f":"+MIN(Contributo_cer[[#This Row],[Totale Immissione in rete]:[Totale Consumi rimanenti]])","v":0},"HCB",null,null,null,0]
["042123",4,{"$f":"+MIN(Contributo_cer[[#This Row],[Totale Immissione in rete]:[Totale Consumi rimanenti]])","v":0},"HCB",null,null,null,0]
["042200",4,{"$f":"+MIN(Contributo_cer[[#This Row],[Totale Immissione in rete]:[Totale Consumi rimanenti]])","v":0},"HCB",null,null,null,0]
["042201",4,{"$f":"+MIN(Contributo_cer[[#This Row],[Totale Immissione in rete]:[Totale Consumi rimanenti]])","v":0},"HCB",null,null,null,0]
["042202",4,{"$f":"+MIN(Contributo_cer[[#This Row],[Totale Immissione in rete]:[Totale Consumi rimanenti]])","v":0},"HCB",null,null,null,0]
["042203",4,{"$f":"+MIN(Contributo_cer[[#This Row],[Totale Immissione in rete]:[Totale Consumi rimanenti]])","v":0},"HCB",null,null,null,0]
["042204",4,{"$f":"+MIN(Contributo_cer[[#This Row],[Totale Immissione in rete]:[Totale Consumi rimanenti]])","v":0},"HCB",null,null,null,0]
["042205",4,{"$f":"+MIN(Contributo_cer[[#This Row],[Totale Immissione in rete]:[Totale Consumi rimanenti]])","v":0},"HCB",null,null,null,0]
["042206",4,{"$f":"+MIN(Contributo_cer[[#This Row],[Totale Immissione in rete]:[Totale Consumi rimanenti]])","v":0},"HPB",null,null,null,0]
["042207",4,{"$f":"+MIN(Contributo_cer[[#This Row],[Totale Immissione in rete]:[Totale Consumi rimanenti]])","v":0},"HPB",null,null,null,0]
["042208",4,{"$f":"+MIN(Contributo_cer[[#This Row],[Totale Immissione in rete]:[Totale Consumi rimanenti]])","v":0},"HPB",null,null,null,0]
["042209",4,{"$f":"+MIN(Contributo_cer[[#This Row],[Totale Immissione in rete]:[Totale Consumi rimanenti]])","v":0},"HPB",null,null,null,0]
["042210",4,{"$f":"+MIN(Contributo_cer[[#This Row],[Totale Immissione in rete]:[Totale Consumi rimanenti]])","v":0},"HPB",null,null,null,0]
["042211",4,{"$f":"+MIN(Contributo_cer[[#This Row],[Totale Immissione in rete]:[Totale Consumi rimanenti]])","v":0},"HPB",null,null,null,0]
["042212",4,{"$f":"+MIN(Contributo_cer[[#This Row],[Totale Immissione in rete]:[Totale Consumi rimanenti]])","v":0},"HPB",null,null,null,0]
["042213",4,{"$f":"+MIN(Contributo_cer[[#This Row],[Totale Immissione in rete]:[Totale Consumi rimanenti]])","v":0},"HPB",null,null,null,0]
["042214",4,{"$f":"+MIN(Contributo_cer[[#This Row],[Totale Immissione in rete]:[Totale Consumi rimanenti]])","v":0},"HPB",null,null,null,0]
["042215",4,{"$f":"+MIN(Contributo_cer[[#This Row],[Totale Immissione in rete]:[Totale Consumi rimanenti]])","v":0},"HPB",null,null,null,0]
["042216",4,{"$f":"+MIN(Contributo_cer[[#This Row],[Totale Immissione in rete]:[Totale Consumi rimanenti]])","v":0},"HPB",null,null,null,0]
["042217",4,{"$f":"+MIN(Contributo_cer[[#This Row],[Totale Immissione in rete]:[Totale Consumi rimanenti]])","v":0},"HPB",null,null,null,0]
["042218",4,{"$f":"+MIN(Contributo_cer[[#This Row],[Totale Immissione in rete]:[Totale Consumi rimanenti]])","v":0},"HPB",null,null,null,0]
["042219",4,{"$f":"+MIN(Contributo_cer[[#This Row],[Totale Immissione in rete]:[Totale Consumi rimanenti]])","v":0},"HPB",null,null,null,0]
["042220",4,{"$f":"+MIN(Contributo_cer[[#This Row],[Totale Immissione in rete]:[Totale Consumi rimanenti]])","v":0},"HPB",null,null,null,0]
["042221",4,{"$f":"+MIN(Contributo_cer[[#This Row],[Totale Immissione in rete]:[Totale Consumi rimanenti]])","v":0},"HPB",null,null,null,0]
["042222",4,{"$f":"+MIN(Contributo_cer[[#This Row],[Totale Immissione in rete]:[Totale Consumi rimanenti]])","v":0},"HCB",null,null,null,0]
["042223",4,{"$f":"+MIN(Contributo_cer[[#This Row],[Totale Immissione in rete]:[Totale Consumi rimanenti]])","v":0},"HCB",null,null,null,0]
["042300",4,{"$f":"+MIN(Contributo_cer[[#This Row],[Totale Immissione in rete]:[Totale Consumi rimanenti]])","v":0},"HCB",null,null,null,0]
["042301",4,{"$f":"+MIN(Contributo_cer[[#This Row],[Totale Immissione in rete]:[Totale Consumi rimanenti]])","v":0},"HCB",null,null,null,0]
["042302",4,{"$f":"+MIN(Contributo_cer[[#This Row],[Totale Immissione in rete]:[Totale Consumi rimanenti]])","v":0},"HCB",null,null,null,0]
["042303",4,{"$f":"+MIN(Contributo_cer[[#This Row],[Totale Immissione in rete]:[Totale Consumi rimanenti]])","v":0},"HCB",null,null,null,0]
["042304",4,{"$f":"+MIN(Contributo_cer[[#This Row],[Totale Immissione in rete]:[Totale Consumi rimanenti]])","v":0},"HCB",null,null,null,0]
["042305",4,{"$f":"+MIN(Contributo_cer[[#This Row],[Totale Immissione in rete]:[Totale Consumi rimanenti]])","v":0},"HCB",null,null,null,0]
["042306",4,{"$f":"+MIN(Contributo_cer[[#This Row],[Totale Immissione in rete]:[Totale Consumi rimanenti]])","v":0},"HPB",null,null,null,0]
["042307",4,{"$f":"+MIN(Contributo_cer[[#This Row],[Totale Immissione in rete]:[Totale Consumi rimanenti]])","v":0},"HPB",null,null,null,0]
["042308",4,{"$f":"+MIN(Contributo_cer[[#This Row],[Totale Immissione in rete]:[Totale Consumi rimanenti]])","v":0},"HPB",null,null,null,0]
["042309",4,{"$f":"+MIN(Contributo_cer[[#This Row],[Totale Immissione in rete]:[Totale Consumi rimanenti]])","v":0},"HPB",null,null,null,0]
["042310",4,{"$f":"+MIN(Contributo_cer[[#This Row],[Totale Immissione in rete]:[Totale Consumi rimanenti]])","v":0},"HPB",null,null,null,0]
["042311",4,{"$f":"+MIN(Contributo_cer[[#This Row],[Totale Immissione in rete]:[Totale Consumi rimanenti]])","v":0},"HPB",null,null,null,0]
["042312",4,{"$f":"+MIN(Contributo_cer[[#This Row],[Totale Immissione in rete]:[Totale Consumi rimanenti]])","v":0},"HPB",null,null,null,0]
["042313",4,{"$f":"+MIN(Contributo_cer[[#This Row],[Totale Immissione in rete]:[Totale Consumi rimanenti]])","v":0},"HPB",null,null,null,0]
["042314",4,{"$f":"+MIN(Contributo_cer[[#This Row],[Totale Immissione in rete]:[Totale Consumi rimanenti]])","v":0},"HPB",null,null,null,0]
["042315",4,{"$f":"+MIN(Contributo_cer[[#This Row],[Totale Immissione in rete]:[Totale Consumi rimanenti]])","v":0},"HPB",null,null,null,0]
["042316",4,{"$f":"+MIN(Contributo_cer[[#This Row],[Totale Immissione in rete]:[Totale Consumi rimanenti]])","v":0},"HPB",null,null,null,0]
["042317",4,{"$f":"+MIN(Contributo_cer[[#This Row],[Totale Immissione in rete]:[Totale Consumi rimanenti]])","v":0},"HPB",null,null,null,0]
["042318",4,{"$f":"+MIN(Contributo_cer[[#This Row],[Totale Immissione in rete]:[Totale Consumi rimanenti]])","v":0},"HPB",null,null,null,0]
["042319",4,{"$f":"+MIN(Contributo_cer[[#This Row],[Totale Immissione in rete]:[Totale Consumi rimanenti]])","v":0},"HPB",null,null,null,0]
["042320",4,{"$f":"+MIN(Contributo_cer[[#This Row],[Totale Immissione in rete]:[Totale Consumi rimanenti]])","v":0},"HPB",null,null,null,0]
["042321",4,{"$f":"+MIN(Contributo_cer[[#This Row],[Totale Immissione in rete]:[Totale Consumi rimanenti]])","v":0},"HPB",null,null,null,0]
["042322",4,{"$f":"+MIN(Contributo_cer[[#This Row],[Totale Immissione in rete]:[Totale Consumi rimanenti]])","v":0},"HCB",null,null,null,0]
["042323",4,{"$f":"+MIN(Contributo_cer[[#This Row],[Totale Immissione in rete]:[Totale Consumi rimanenti]])","v":0},"HCB",null,null,null,0]
["042400",4,{"$f":"+MIN(Contributo_cer[[#This Row],[Totale Immissione in rete]:[Totale Consumi rimanenti]])","v":0},"HCB",null,null,null,0]
["042401",4,{"$f":"+MIN(Contributo_cer[[#This Row],[Totale Immissione in rete]:[Totale Consumi rimanenti]])","v":0},"HCB",null,null,null,0]
["042402",4,{"$f":"+MIN(Contributo_cer[[#This Row],[Totale Immissione in rete]:[Totale Consumi rimanenti]])","v":0},"HCB",null,null,null,0]
["042403",4,{"$f":"+MIN(Contributo_cer[[#This Row],[Totale Immissione in rete]:[Totale Consumi rimanenti]])","v":0},"HCB",null,null,null,0]
["042404",4,{"$f":"+MIN(Contributo_cer[[#This Row],[Totale Immissione in rete]:[Totale Consumi rimanenti]])","v":0},"HCB",null,null,null,0]
["042405",4,{"$f":"+MIN(Contributo_cer[[#This Row],[Totale Immissione in rete]:[Totale Consumi rimanenti]])","v":0},"HCB",null,null,null,0]
["042406",4,{"$f":"+MIN(Contributo_cer[[#This Row],[Totale Immissione in rete]:[Totale Consumi rimanenti]])","v":0},"HPB",null,null,null,0]
["042407",4,{"$f":"+MIN(Contributo_cer[[#This Row],[Totale Immissione in rete]:[Totale Consumi rimanenti]])","v":0},"HPB",null,null,null,0]
["042408",4,{"$f":"+MIN(Contributo_cer[[#This Row],[Totale Immissione in rete]:[Totale Consumi rimanenti]])","v":0},"HPB",null,null,null,0]
["042409",4,{"$f":"+MIN(Contributo_cer[[#This Row],[Totale Immissione in rete]:[Totale Consumi rimanenti]])","v":0},"HPB",null,null,null,0]
["042410",4,{"$f":"+MIN(Contributo_cer[[#This Row],[Totale Immissione in rete]:[Totale Consumi rimanenti]])","v":0},"HPB",null,null,null,0]
["042411",4,{"$f":"+MIN(Contributo_cer[[#This Row],[Totale Immissione in rete]:[Totale Consumi rimanenti]])","v":0},"HPB",null,null,null,0]
["042412",4,{"$f":"+MIN(Contributo_cer[[#This Row],[Totale Immissione in rete]:[Totale Consumi rimanenti]])","v":0},"HPB",null,null,null,0]
["042413",4,{"$f":"+MIN(Contributo_cer[[#This Row],[Totale Immissione in rete]:[Totale Consumi rimanenti]])","v":0},"HPB",null,null,null,0]
["042414",4,{"$f":"+MIN(Contributo_cer[[#This Row],[Totale Immissione in rete]:[Totale Consumi rimanenti]])","v":0},"HPB",null,null,null,0]
["042415",4,{"$f":"+MIN(Contributo_cer[[#This Row],[Totale Immissione in rete]:[Totale Consumi rimanenti]])","v":0},"HPB",null,null,null,0]
["042416",4,{"$f":"+MIN(Contributo_cer[[#This Row],[Totale Immissione in rete]:[Totale Consumi rimanenti]])","v":0},"HPB",null,null,null,0]
["042417",4,{"$f":"+MIN(Contributo_cer[[#This Row],[Totale Immissione in rete]:[Totale Consumi rimanenti]])","v":0},"HPB",null,null,null,0]
["042418",4,{"$f":"+MIN(Contributo_cer[[#This Row],[Totale Immissione in rete]:[Totale Consumi rimanenti]])","v":0},"HPB",null,null,null,0]
["042419",4,{"$f":"+MIN(Contributo_cer[[#This Row],[Totale Immissione in rete]:[Totale Consumi rimanenti]])","v":0},"HPB",null,null,null,0]
["042420",4,{"$f":"+MIN(Contributo_cer[[#This Row],[Totale Immissione in rete]:[Totale Consumi rimanenti]])","v":0},"HPB",null,null,null,0]
["042421",4,{"$f":"+MIN(Contributo_cer[[#This Row],[Totale Immissione in rete]:[Totale Consumi rimanenti]])","v":0},"HPB",null,null,null,0]
["042422",4,{"$f":"+MIN(Contributo_cer[[#This Row],[Totale Immissione in rete]:[Totale Consumi rimanenti]])","v":0},"HCB",null,null,null,0]
["042423",4,{"$f":"+MIN(Contributo_cer[[#This Row],[Totale Immissione in rete]:[Totale Consumi rimanenti]])","v":0},"HCB",null,null,null,0]
["042500",4,{"$f":"+MIN(Contributo_cer[[#This Row],[Totale Immissione in rete]:[Totale Consumi rimanenti]])","v":0},"HCB",null,null,null,0]
["042501",4,{"$f":"+MIN(Contributo_cer[[#This Row],[Totale Immissione in rete]:[Totale Consumi rimanenti]])","v":0},"HCB",null,null,null,0]
["042502",4,{"$f":"+MIN(Contributo_cer[[#This Row],[Totale Immissione in rete]:[Totale Consumi rimanenti]])","v":0},"HCB",null,null,null,0]
["042503",4,{"$f":"+MIN(Contributo_cer[[#This Row],[Totale Immissione in rete]:[Totale Consumi rimanenti]])","v":0},"HCB",null,null,null,0]
["042504",4,{"$f":"+MIN(Contributo_cer[[#This Row],[Totale Immissione in rete]:[Totale Consumi rimanenti]])","v":0},"HCB",null,null,null,0]
["042505",4,{"$f":"+MIN(Contributo_cer[[#This Row],[Totale Immissione in rete]:[Totale Consumi rimanenti]])","v":0},"HCB",null,null,null,0]
["042506",4,{"$f":"+MIN(Contributo_cer[[#This Row],[Totale Immissione in rete]:[Totale Consumi rimanenti]])","v":0},"HPB",null,null,null,0]
["042507",4,{"$f":"+MIN(Contributo_cer[[#This Row],[Totale Immissione in rete]:[Totale Consumi rimanenti]])","v":0},"HPB",null,null,null,0]
["042508",4,{"$f":"+MIN(Contributo_cer[[#This Row],[Totale Immissione in rete]:[Totale Consumi rimanenti]])","v":0},"HPB",null,null,null,0]
["042509",4,{"$f":"+MIN(Contributo_cer[[#This Row],[Totale Immissione in rete]:[Totale Consumi rimanenti]])","v":0},"HPB",null,null,null,0]
["042510",4,{"$f":"+MIN(Contributo_cer[[#This Row],[Totale Immissione in rete]:[Totale Consumi rimanenti]])","v":0},"HPB",null,null,null,0]
["042511",4,{"$f":"+MIN(Contributo_cer[[#This Row],[Totale Immissione in rete]:[Totale Consumi rimanenti]])","v":0},"HPB",null,null,null,0]
["042512",4,{"$f":"+MIN(Contributo_cer[[#This Row],[Totale Immissione in rete]:[Totale Consumi rimanenti]])","v":0},"HPB",null,null,null,0]
["042513",4,{"$f":"+MIN(Contributo_cer[[#This Row],[Totale Immissione in rete]:[Totale Consumi rimanenti]])","v":0},"HPB",null,null,null,0]
["042514",4,{"$f":"+MIN(Contributo_cer[[#This Row],[Totale Immissione in rete]:[Totale Consumi rimanenti]])","v":0},"HPB",null,null,null,0]
["042515",4,{"$f":"+MIN(Contributo_cer[[#This Row],[Totale Immissione in rete]:[Totale Consumi rimanenti]])","v":0},"HPB",null,null,null,0]
["042516",4,{"$f":"+MIN(Contributo_cer[[#This Row],[Totale Immissione in rete]:[Totale Consumi rimanenti]])","v":0},"HPB",null,null,null,0]
["042517",4,{"$f":"+MIN(Contributo_cer[[#This Row],[Totale Immissione in rete]:[Totale Consumi rimanenti]])","v":0},"HPB",null,null,null,0]
["042518",4,{"$f":"+MIN(Contributo_cer[[#This Row],[Totale Immissione in rete]:[Totale Consumi rimanenti]])","v":0},"HPB",null,null,null,0]
["042519",4,{"$f":"+MIN(Contributo_cer[[#This Row],[Totale Immissione in rete]:[Totale Consumi rimanenti]])","v":0},"HPB",null,null,null,0]
["042520",4,{"$f":"+MIN(Contributo_cer[[#This Row],[Totale Immissione in rete]:[Totale Consumi rimanenti]])","v":0},"HPB",null,null,null,0]
["042521",4,{"$f":"+MIN(Contributo_cer[[#This Row],[Totale Immissione in rete]:[Totale Consumi rimanenti]])","v":0},"HPB",null,null,null,0]
["042522",4,{"$f":"+MIN(Contributo_cer[[#This Row],[Totale Immissione in rete]:[Totale Consumi rimanenti]])","v":0},"HCB",null,null,null,0]
["042523",4,{"$f":"+MIN(Contributo_cer[[#This Row],[Totale Immissione in rete]:[Totale Consumi rimanenti]])","v":0},"HCB",null,null,null,0]
["042600",4,{"$f":"+MIN(Contributo_cer[[#This Row],[Totale Immissione in rete]:[Totale Consumi rimanenti]])","v":0},"HCB",null,null,null,0]
["042601",4,{"$f":"+MIN(Contributo_cer[[#This Row],[Totale Immissione in rete]:[Totale Consumi rimanenti]])","v":0},"HCB",null,null,null,0]
["042602",4,{"$f":"+MIN(Contributo_cer[[#This Row],[Totale Immissione in rete]:[Totale Consumi rimanenti]])","v":0},"HCB",null,null,null,0]
["042603",4,{"$f":"+MIN(Contributo_cer[[#This Row],[Totale Immissione in rete]:[Totale Consumi rimanenti]])","v":0},"HCB",null,null,null,0]
["042604",4,{"$f":"+MIN(Contributo_cer[[#This Row],[Totale Immissione in rete]:[Totale Consumi rimanenti]])","v":0},"HCB",null,null,null,0]
["042605",4,{"$f":"+MIN(Contributo_cer[[#This Row],[Totale Immissione in rete]:[Totale Consumi rimanenti]])","v":0},"HCB",null,null,null,0]
["042606",4,{"$f":"+MIN(Contributo_cer[[#This Row],[Totale Immissione in rete]:[Totale Consumi rimanenti]])","v":0},"HPB",null,null,null,0]
["042607",4,{"$f":"+MIN(Contributo_cer[[#This Row],[Totale Immissione in rete]:[Totale Consumi rimanenti]])","v":0},"HPB",null,null,null,0]
["042608",4,{"$f":"+MIN(Contributo_cer[[#This Row],[Totale Immissione in rete]:[Totale Consumi rimanenti]])","v":0},"HPB",null,null,null,0]
["042609",4,{"$f":"+MIN(Contributo_cer[[#This Row],[Totale Immissione in rete]:[Totale Consumi rimanenti]])","v":0},"HPB",null,null,null,0]
["042610",4,{"$f":"+MIN(Contributo_cer[[#This Row],[Totale Immissione in rete]:[Totale Consumi rimanenti]])","v":0},"HPB",null,null,null,0]
["042611",4,{"$f":"+MIN(Contributo_cer[[#This Row],[Totale Immissione in rete]:[Totale Consumi rimanenti]])","v":0},"HPB",null,null,null,0]
["042612",4,{"$f":"+MIN(Contributo_cer[[#This Row],[Totale Immissione in rete]:[Totale Consumi rimanenti]])","v":0},"HPB",null,null,null,0]
["042613",4,{"$f":"+MIN(Contributo_cer[[#This Row],[Totale Immissione in rete]:[Totale Consumi rimanenti]])","v":0},"HPB",null,null,null,0]
["042614",4,{"$f":"+MIN(Contributo_cer[[#This Row],[Totale Immissione in rete]:[Totale Consumi rimanenti]])","v":0},"HPB",null,null,null,0]
["042615",4,{"$f":"+MIN(Contributo_cer[[#This Row],[Totale Immissione in rete]:[Totale Consumi rimanenti]])","v":0},"HPB",null,null,null,0]
["042616",4,{"$f":"+MIN(Contributo_cer[[#This Row],[Totale Immissione in rete]:[Totale Consumi rimanenti]])","v":0},"HPB",null,null,null,0]
["042617",4,{"$f":"+MIN(Contributo_cer[[#This Row],[Totale Immissione in rete]:[Totale Consumi rimanenti]])","v":0},"HPB",null,null,null,0]
["042618",4,{"$f":"+MIN(Contributo_cer[[#This Row],[Totale Immissione in rete]:[Totale Consumi rimanenti]])","v":0},"HPB",null,null,null,0]
["042619",4,{"$f":"+MIN(Contributo_cer[[#This Row],[Totale Immissione in rete]:[Totale Consumi rimanenti]])","v":0},"HPB",null,null,null,0]
["042620",4,{"$f":"+MIN(Contributo_cer[[#This Row],[Totale Immissione in rete]:[Totale Consumi rimanenti]])","v":0},"HPB",null,null,null,0]
["042621",4,{"$f":"+MIN(Contributo_cer[[#This Row],[Totale Immissione in rete]:[Totale Consumi rimanenti]])","v":0},"HPB",null,null,null,0]
["042622",4,{"$f":"+MIN(Contributo_cer[[#This Row],[Totale Immissione in rete]:[Totale Consumi rimanenti]])","v":0},"HCB",null,null,null,0]
["042623",4,{"$f":"+MIN(Contributo_cer[[#This Row],[Totale Immissione in rete]:[Totale Consumi rimanenti]])","v":0},"HCB",null,null,null,0]
["042700",4,{"$f":"+MIN(Contributo_cer[[#This Row],[Totale Immissione in rete]:[Totale Consumi rimanenti]])","v":0},"HCB",null,null,null,0]
["042701",4,{"$f":"+MIN(Contributo_cer[[#This Row],[Totale Immissione in rete]:[Totale Consumi rimanenti]])","v":0},"HCB",null,null,null,0]
["042702",4,{"$f":"+MIN(Contributo_cer[[#This Row],[Totale Immissione in rete]:[Totale Consumi rimanenti]])","v":0},"HCB",null,null,null,0]
["042703",4,{"$f":"+MIN(Contributo_cer[[#This Row],[Totale Immissione in rete]:[Totale Consumi rimanenti]])","v":0},"HCB",null,null,null,0]
["042704",4,{"$f":"+MIN(Contributo_cer[[#This Row],[Totale Immissione in rete]:[Totale Consumi rimanenti]])","v":0},"HCB",null,null,null,0]
["042705",4,{"$f":"+MIN(Contributo_cer[[#This Row],[Totale Immissione in rete]:[Totale Consumi rimanenti]])","v":0},"HCB",null,null,null,0]
["042706",4,{"$f":"+MIN(Contributo_cer[[#This Row],[Totale Immissione in rete]:[Totale Consumi rimanenti]])","v":0},"HPB",null,null,null,0]
["042707",4,{"$f":"+MIN(Contributo_cer[[#This Row],[Totale Immissione in rete]:[Totale Consumi rimanenti]])","v":0},"HPB",null,null,null,0]
["042708",4,{"$f":"+MIN(Contributo_cer[[#This Row],[Totale Immissione in rete]:[Totale Consumi rimanenti]])","v":0},"HPB",null,null,null,0]
["042709",4,{"$f":"+MIN(Contributo_cer[[#This Row],[Totale Immissione in rete]:[Totale Consumi rimanenti]])","v":0},"HPB",null,null,null,0]
["042710",4,{"$f":"+MIN(Contributo_cer[[#This Row],[Totale Immissione in rete]:[Totale Consumi rimanenti]])","v":0},"HPB",null,null,null,0]
["042711",4,{"$f":"+MIN(Contributo_cer[[#This Row],[Totale Immissione in rete]:[Totale Consumi rimanenti]])","v":0},"HPB",null,null,null,0]
["042712",4,{"$f":"+MIN(Contributo_cer[[#This Row],[Totale Immissione in rete]:[Totale Consumi rimanenti]])","v":0},"HPB",null,null,null,0]
["042713",4,{"$f":"+MIN(Contributo_cer[[#This Row],[Totale Immissione in rete]:[Totale Consumi rimanenti]])","v":0},"HPB",null,null,null,0]
["042714",4,{"$f":"+MIN(Contributo_cer[[#This Row],[Totale Immissione in rete]:[Totale Consumi rimanenti]])","v":0},"HPB",null,null,null,0]
["042715",4,{"$f":"+MIN(Contributo_cer[[#This Row],[Totale Immissione in rete]:[Totale Consumi rimanenti]])","v":0},"HPB",null,null,null,0]
["042716",4,{"$f":"+MIN(Contributo_cer[[#This Row],[Totale Immissione in rete]:[Totale Consumi rimanenti]])","v":0},"HPB",null,null,null,0]
["042717",4,{"$f":"+MIN(Contributo_cer[[#This Row],[Totale Immissione in rete]:[Totale Consumi rimanenti]])","v":0},"HPB",null,null,null,0]
["042718",4,{"$f":"+MIN(Contributo_cer[[#This Row],[Totale Immissione in rete]:[Totale Consumi rimanenti]])","v":0},"HPB",null,null,null,0]
["042719",4,{"$f":"+MIN(Contributo_cer[[#This Row],[Totale Immissione in rete]:[Totale Consumi rimanenti]])","v":0},"HPB",null,null,null,0]
["042720",4,{"$f":"+MIN(Contributo_cer[[#This Row],[Totale Immissione in rete]:[Totale Consumi rimanenti]])","v":0},"HPB",null,null,null,0]
["042721",4,{"$f":"+MIN(Contributo_cer[[#This Row],[Totale Immissione in rete]:[Totale Consumi rimanenti]])","v":0},"HPB",null,null,null,0]
["042722",4,{"$f":"+MIN(Contributo_cer[[#This Row],[Totale Immissione in rete]:[Totale Consumi rimanenti]])","v":0},"HCB",null,null,null,0]
["042723",4,{"$f":"+MIN(Contributo_cer[[#This Row],[Totale Immissione in rete]:[Totale Consumi rimanenti]])","v":0},"HCB",null,null,null,0]
["042800",4,{"$f":"+MIN(Contributo_cer[[#This Row],[Totale Immissione in rete]:[Totale Consumi rimanenti]])","v":0},"HCB",null,null,null,0]
["042801",4,{"$f":"+MIN(Contributo_cer[[#This Row],[Totale Immissione in rete]:[Totale Consumi rimanenti]])","v":0},"HCB",null,null,null,0]
["042802",4,{"$f":"+MIN(Contributo_cer[[#This Row],[Totale Immissione in rete]:[Totale Consumi rimanenti]])","v":0},"HCB",null,null,null,0]
["042803",4,{"$f":"+MIN(Contributo_cer[[#This Row],[Totale Immissione in rete]:[Totale Consumi rimanenti]])","v":0},"HCB",null,null,null,0]
["042804",4,{"$f":"+MIN(Contributo_cer[[#This Row],[Totale Immissione in rete]:[Totale Consumi rimanenti]])","v":0},"HCB",null,null,null,0]
["042805",4,{"$f":"+MIN(Contributo_cer[[#This Row],[Totale Immissione in rete]:[Totale Consumi rimanenti]])","v":0},"HCB",null,null,null,0]
["042806",4,{"$f":"+MIN(Contributo_cer[[#This Row],[Totale Immissione in rete]:[Totale Consumi rimanenti]])","v":0},"HPB",null,null,null,0]
["042807",4,{"$f":"+MIN(Contributo_cer[[#This Row],[Totale Immissione in rete]:[Totale Consumi rimanenti]])","v":0},"HPB",null,null,null,0]
["042808",4,{"$f":"+MIN(Contributo_cer[[#This Row],[Totale Immissione in rete]:[Totale Consumi rimanenti]])","v":0},"HPB",null,null,null,0]
["042809",4,{"$f":"+MIN(Contributo_cer[[#This Row],[Totale Immissione in rete]:[Totale Consumi rimanenti]])","v":0},"HPB",null,null,null,0]
["042810",4,{"$f":"+MIN(Contributo_cer[[#This Row],[Totale Immissione in rete]:[Totale Consumi rimanenti]])","v":0},"HPB",null,null,null,0]
["042811",4,{"$f":"+MIN(Contributo_cer[[#This Row],[Totale Immissione in rete]:[Totale Consumi rimanenti]])","v":0},"HPB",null,null,null,0]
["042812",4,{"$f":"+MIN(Contributo_cer[[#This Row],[Totale Immissione in rete]:[Totale Consumi rimanenti]])","v":0},"HPB",null,null,null,0]
["042813",4,{"$f":"+MIN(Contributo_cer[[#This Row],[Totale Immissione in rete]:[Totale Consumi rimanenti]])","v":0},"HPB",null,null,null,0]
["042814",4,{"$f":"+MIN(Contributo_cer[[#This Row],[Totale Immissione in rete]:[Totale Consumi rimanenti]])","v":0},"HPB",null,null,null,0]
["042815",4,{"$f":"+MIN(Contributo_cer[[#This Row],[Totale Immissione in rete]:[Totale Consumi rimanenti]])","v":0},"HPB",null,null,null,0]
["042816",4,{"$f":"+MIN(Contributo_cer[[#This Row],[Totale Immissione in rete]:[Totale Consumi rimanenti]])","v":0},"HPB",null,null,null,0]
["042817",4,{"$f":"+MIN(Contributo_cer[[#This Row],[Totale Immissione in rete]:[Totale Consumi rimanenti]])","v":0},"HPB",null,null,null,0]
["042818",4,{"$f":"+MIN(Contributo_cer[[#This Row],[Totale Immissione in rete]:[Totale Consumi rimanenti]])","v":0},"HPB",null,null,null,0]
["042819",4,{"$f":"+MIN(Contributo_cer[[#This Row],[Totale Immissione in rete]:[Totale Consumi rimanenti]])","v":0},"HPB",null,null,null,0]
["042820",4,{"$f":"+MIN(Contributo_cer[[#This Row],[Totale Immissione in rete]:[Totale Consumi rimanenti]])","v":0},"HPB",null,null,null,0]
["042821",4,{"$f":"+MIN(Contributo_cer[[#This Row],[Totale Immissione in rete]:[Totale Consumi rimanenti]])","v":0},"HPB",null,null,null,0]
["042822",4,{"$f":"+MIN(Contributo_cer[[#This Row],[Totale Immissione in rete]:[Totale Consumi rimanenti]])","v":0},"HCB",null,null,null,0]
["042823",4,{"$f":"+MIN(Contributo_cer[[#This Row],[Totale Immissione in rete]:[Totale Consumi rimanenti]])","v":0},"HCB",null,null,null,0]
["042900",4,{"$f":"+MIN(Contributo_cer[[#This Row],[Totale Immissione in rete]:[Totale Consumi rimanenti]])","v":0},"HCB",null,null,null,0]
["042901",4,{"$f":"+MIN(Contributo_cer[[#This Row],[Totale Immissione in rete]:[Totale Consumi rimanenti]])","v":0},"HCB",null,null,null,0]
["042902",4,{"$f":"+MIN(Contributo_cer[[#This Row],[Totale Immissione in rete]:[Totale Consumi rimanenti]])","v":0},"HCB",null,null,null,0]
["042903",4,{"$f":"+MIN(Contributo_cer[[#This Row],[Totale Immissione in rete]:[Totale Consumi rimanenti]])","v":0},"HCB",null,null,null,0]
["042904",4,{"$f":"+MIN(Contributo_cer[[#This Row],[Totale Immissione in rete]:[Totale Consumi rimanenti]])","v":0},"HCB",null,null,null,0]
["042905",4,{"$f":"+MIN(Contributo_cer[[#This Row],[Totale Immissione in rete]:[Totale Consumi rimanenti]])","v":0},"HCB",null,null,null,0]
["042906",4,{"$f":"+MIN(Contributo_cer[[#This Row],[Totale Immissione in rete]:[Totale Consumi rimanenti]])","v":0},"HPB",null,null,null,0]
["042907",4,{"$f":"+MIN(Contributo_cer[[#This Row],[Totale Immissione in rete]:[Totale Consumi rimanenti]])","v":0},"HPB",null,null,null,0]
["042908",4,{"$f":"+MIN(Contributo_cer[[#This Row],[Totale Immissione in rete]:[Totale Consumi rimanenti]])","v":0},"HPB",null,null,null,0]
["042909",4,{"$f":"+MIN(Contributo_cer[[#This Row],[Totale Immissione in rete]:[Totale Consumi rimanenti]])","v":0},"HPB",null,null,null,0]
["042910",4,{"$f":"+MIN(Contributo_cer[[#This Row],[Totale Immissione in rete]:[Totale Consumi rimanenti]])","v":0},"HPB",null,null,null,0]
["042911",4,{"$f":"+MIN(Contributo_cer[[#This Row],[Totale Immissione in rete]:[Totale Consumi rimanenti]])","v":0},"HPB",null,null,null,0]
["042912",4,{"$f":"+MIN(Contributo_cer[[#This Row],[Totale Immissione in rete]:[Totale Consumi rimanenti]])","v":0},"HPB",null,null,null,0]
["042913",4,{"$f":"+MIN(Contributo_cer[[#This Row],[Totale Immissione in rete]:[Totale Consumi rimanenti]])","v":0},"HPB",null,null,null,0]
["042914",4,{"$f":"+MIN(Contributo_cer[[#This Row],[Totale Immissione in rete]:[Totale Consumi rimanenti]])","v":0},"HPB",null,null,null,0]
["042915",4,{"$f":"+MIN(Contributo_cer[[#This Row],[Totale Immissione in rete]:[Totale Consumi rimanenti]])","v":0},"HPB",null,null,null,0]
["042916",4,{"$f":"+MIN(Contributo_cer[[#This Row],[Totale Immissione in rete]:[Totale Consumi rimanenti]])","v":0},"HPB",null,null,null,0]
["042917",4,{"$f":"+MIN(Contributo_cer[[#This Row],[Totale Immissione in rete]:[Totale Consumi rimanenti]])","v":0},"HPB",null,null,null,0]
["042918",4,{"$f":"+MIN(Contributo_cer[[#This Row],[Totale Immissione in rete]:[Totale Consumi rimanenti]])","v":0},"HPB",null,null,null,0]
["042919",4,{"$f":"+MIN(Contributo_cer[[#This Row],[Totale Immissione in rete]:[Totale Consumi rimanenti]])","v":0},"HPB",null,null,null,0]
["042920",4,{"$f":"+MIN(Contributo_cer[[#This Row],[Totale Immissione in rete]:[Totale Consumi rimanenti]])","v":0},"HPB",null,null,null,0]
["042921",4,{"$f":"+MIN(Contributo_cer[[#This Row],[Totale Immissione in rete]:[Totale Consumi rimanenti]])","v":0},"HPB",null,null,null,0]
["042922",4,{"$f":"+MIN(Contributo_cer[[#This Row],[Totale Immissione in rete]:[Totale Consumi rimanenti]])","v":0},"HCB",null,null,null,0]
["042923",4,{"$f":"+MIN(Contributo_cer[[#This Row],[Totale Immissione in rete]:[Totale Consumi rimanenti]])","v":0},"HCB",null,null,null,0]
["043000",4,{"$f":"+MIN(Contributo_cer[[#This Row],[Totale Immissione in rete]:[Totale Consumi rimanenti]])","v":0},"HCB",null,null,null,0]
["043001",4,{"$f":"+MIN(Contributo_cer[[#This Row],[Totale Immissione in rete]:[Totale Consumi rimanenti]])","v":0},"HCB",null,null,null,0]
["043002",4,{"$f":"+MIN(Contributo_cer[[#This Row],[Totale Immissione in rete]:[Totale Consumi rimanenti]])","v":0},"HCB",null,null,null,0]
["043003",4,{"$f":"+MIN(Contributo_cer[[#This Row],[Totale Immissione in rete]:[Totale Consumi rimanenti]])","v":0},"HCB",null,null,null,0]
["043004",4,{"$f":"+MIN(Contributo_cer[[#This Row],[Totale Immissione in rete]:[Totale Consumi rimanenti]])","v":0},"HCB",null,null,null,0]
["043005",4,{"$f":"+MIN(Contributo_cer[[#This Row],[Totale Immissione in rete]:[Totale Consumi rimanenti]])","v":0},"HCB",null,null,null,0]
["043006",4,{"$f":"+MIN(Contributo_cer[[#This Row],[Totale Immissione in rete]:[Totale Consumi rimanenti]])","v":0},"HPB",null,null,null,0]
["043007",4,{"$f":"+MIN(Contributo_cer[[#This Row],[Totale Immissione in rete]:[Totale Consumi rimanenti]])","v":0},"HPB",null,null,null,0]
["043008",4,{"$f":"+MIN(Contributo_cer[[#This Row],[Totale Immissione in rete]:[Totale Consumi rimanenti]])","v":0},"HPB",null,null,null,0]
["043009",4,{"$f":"+MIN(Contributo_cer[[#This Row],[Totale Immissione in rete]:[Totale Consumi rimanenti]])","v":0},"HPB",null,null,null,0]
["043010",4,{"$f":"+MIN(Contributo_cer[[#This Row],[Totale Immissione in rete]:[Totale Consumi rimanenti]])","v":0},"HPB",null,null,null,0]
["043011",4,{"$f":"+MIN(Contributo_cer[[#This Row],[Totale Immissione in rete]:[Totale Consumi rimanenti]])","v":0},"HPB",null,null,null,0]
["043012",4,{"$f":"+MIN(Contributo_cer[[#This Row],[Totale Immissione in rete]:[Totale Consumi rimanenti]])","v":0},"HPB",null,null,null,0]
["043013",4,{"$f":"+MIN(Contributo_cer[[#This Row],[Totale Immissione in rete]:[Totale Consumi rimanenti]])","v":0},"HPB",null,null,null,0]
["043014",4,{"$f":"+MIN(Contributo_cer[[#This Row],[Totale Immissione in rete]:[Totale Consumi rimanenti]])","v":0},"HPB",null,null,null,0]
["043015",4,{"$f":"+MIN(Contributo_cer[[#This Row],[Totale Immissione in rete]:[Totale Consumi rimanenti]])","v":0},"HPB",null,null,null,0]
["043016",4,{"$f":"+MIN(Contributo_cer[[#This Row],[Totale Immissione in rete]:[Totale Consumi rimanenti]])","v":0},"HPB",null,null,null,0]
["043017",4,{"$f":"+MIN(Contributo_cer[[#This Row],[Totale Immissione in rete]:[Totale Consumi rimanenti]])","v":0},"HPB",null,null,null,0]
["043018",4,{"$f":"+MIN(Contributo_cer[[#This Row],[Totale Immissione in rete]:[Totale Consumi rimanenti]])","v":0},"HPB",null,null,null,0]
["043019",4,{"$f":"+MIN(Contributo_cer[[#This Row],[Totale Immissione in rete]:[Totale Consumi rimanenti]])","v":0},"HPB",null,null,null,0]
["043020",4,{"$f":"+MIN(Contributo_cer[[#This Row],[Totale Immissione in rete]:[Totale Consumi rimanenti]])","v":0},"HPB",null,null,null,0]
["043021",4,{"$f":"+MIN(Contributo_cer[[#This Row],[Totale Immissione in rete]:[Totale Consumi rimanenti]])","v":0},"HPB",null,null,null,0]
["043022",4,{"$f":"+MIN(Contributo_cer[[#This Row],[Totale Immissione in rete]:[Totale Consumi rimanenti]])","v":0},"HCB",null,null,null,0]
["043023",4,{"$f":"+MIN(Contributo_cer[[#This Row],[Totale Immissione in rete]:[Totale Consumi rimanenti]])","v":0},"HCB",null,null,null,0]
["050100",5,{"$f":"+MIN(Contributo_cer[[#This Row],[Totale Immissione in rete]:[Totale Consumi rimanenti]])","v":0},"HCB",null,null,null,0]
["050101",5,{"$f":"+MIN(Contributo_cer[[#This Row],[Totale Immissione in rete]:[Totale Consumi rimanenti]])","v":0},"HCB",null,null,null,0]
["050102",5,{"$f":"+MIN(Contributo_cer[[#This Row],[Totale Immissione in rete]:[Totale Consumi rimanenti]])","v":0},"HCB",null,null,null,0]
["050103",5,{"$f":"+MIN(Contributo_cer[[#This Row],[Totale Immissione in rete]:[Totale Consumi rimanenti]])","v":0},"HCB",null,null,null,0]
["050104",5,{"$f":"+MIN(Contributo_cer[[#This Row],[Totale Immissione in rete]:[Totale Consumi rimanenti]])","v":0},"HCB",null,null,null,0]
["050105",5,{"$f":"+MIN(Contributo_cer[[#This Row],[Totale Immissione in rete]:[Totale Consumi rimanenti]])","v":0},"HCB",null,null,null,0]
["050106",5,{"$f":"+MIN(Contributo_cer[[#This Row],[Totale Immissione in rete]:[Totale Consumi rimanenti]])","v":0},"HPB",null,null,null,0]
["050107",5,{"$f":"+MIN(Contributo_cer[[#This Row],[Totale Immissione in rete]:[Totale Consumi rimanenti]])","v":0},"HPB",null,null,null,0]
["050108",5,{"$f":"+MIN(Contributo_cer[[#This Row],[Totale Immissione in rete]:[Totale Consumi rimanenti]])","v":0},"HPB",null,null,null,0]
["050109",5,{"$f":"+MIN(Contributo_cer[[#This Row],[Totale Immissione in rete]:[Totale Consumi rimanenti]])","v":0},"HPB",null,null,null,0]
["050110",5,{"$f":"+MIN(Contributo_cer[[#This Row],[Totale Immissione in rete]:[Totale Consumi rimanenti]])","v":0},"HPB",null,null,null,0]
["050111",5,{"$f":"+MIN(Contributo_cer[[#This Row],[Totale Immissione in rete]:[Totale Consumi rimanenti]])","v":0},"HPB",null,null,null,0]
["050112",5,{"$f":"+MIN(Contributo_cer[[#This Row],[Totale Immissione in rete]:[Totale Consumi rimanenti]])","v":0},"HPB",null,null,null,0]
["050113",5,{"$f":"+MIN(Contributo_cer[[#This Row],[Totale Immissione in rete]:[Totale Consumi rimanenti]])","v":0},"HPB",null,null,null,0]
["050114",5,{"$f":"+MIN(Contributo_cer[[#This Row],[Totale Immissione in rete]:[Totale Consumi rimanenti]])","v":0},"HPB",null,null,null,0]
["050115",5,{"$f":"+MIN(Contributo_cer[[#This Row],[Totale Immissione in rete]:[Totale Consumi rimanenti]])","v":0},"HPB",null,null,null,0]
["050116",5,{"$f":"+MIN(Contributo_cer[[#This Row],[Totale Immissione in rete]:[Totale Consumi rimanenti]])","v":0},"HPB",null,null,null,0]
["050117",5,{"$f":"+MIN(Contributo_cer[[#This Row],[Totale Immissione in rete]:[Totale Consumi rimanenti]])","v":0},"HPB",null,null,null,0]
["050118",5,{"$f":"+MIN(Contributo_cer[[#This Row],[Totale Immissione in rete]:[Totale Consumi rimanenti]])","v":0},"HPB",null,null,null,0]
["050119",5,{"$f":"+MIN(Contributo_cer[[#This Row],[Totale Immissione in rete]:[Totale Consumi rimanenti]])","v":0},"HPB",null,null,null,0]
["050120",5,{"$f":"+MIN(Contributo_cer[[#This Row],[Totale Immissione in rete]:[Totale Consumi rimanenti]])","v":0},"HPB",null,null,null,0]
["050121",5,{"$f":"+MIN(Contributo_cer[[#This Row],[Totale Immissione in rete]:[Totale Consumi rimanenti]])","v":0},"HPB",null,null,null,0]
["050122",5,{"$f":"+MIN(Contributo_cer[[#This Row],[Totale Immissione in rete]:[Totale Consumi rimanenti]])","v":0},"HCB",null,null,null,0]
["050123",5,{"$f":"+MIN(Contributo_cer[[#This Row],[Totale Immissione in rete]:[Totale Consumi rimanenti]])","v":0},"HCB",null,null,null,0]
["050200",5,{"$f":"+MIN(Contributo_cer[[#This Row],[Totale Immissione in rete]:[Totale Consumi rimanenti]])","v":0},"HCB",null,null,null,0]
["050201",5,{"$f":"+MIN(Contributo_cer[[#This Row],[Totale Immissione in rete]:[Totale Consumi rimanenti]])","v":0},"HCB",null,null,null,0]
["050202",5,{"$f":"+MIN(Contributo_cer[[#This Row],[Totale Immissione in rete]:[Totale Consumi rimanenti]])","v":0},"HCB",null,null,null,0]
["050203",5,{"$f":"+MIN(Contributo_cer[[#This Row],[Totale Immissione in rete]:[Totale Consumi rimanenti]])","v":0},"HCB",null,null,null,0]
["050204",5,{"$f":"+MIN(Contributo_cer[[#This Row],[Totale Immissione in rete]:[Totale Consumi rimanenti]])","v":0},"HCB",null,null,null,0]
["050205",5,{"$f":"+MIN(Contributo_cer[[#This Row],[Totale Immissione in rete]:[Totale Consumi rimanenti]])","v":0},"HCB",null,null,null,0]
["050206",5,{"$f":"+MIN(Contributo_cer[[#This Row],[Totale Immissione in rete]:[Totale Consumi rimanenti]])","v":0},"HPB",null,null,null,0]
["050207",5,{"$f":"+MIN(Contributo_cer[[#This Row],[Totale Immissione in rete]:[Totale Consumi rimanenti]])","v":0},"HPB",null,null,null,0]
["050208",5,{"$f":"+MIN(Contributo_cer[[#This Row],[Totale Immissione in rete]:[Totale Consumi rimanenti]])","v":0},"HPB",null,null,null,0]
["050209",5,{"$f":"+MIN(Contributo_cer[[#This Row],[Totale Immissione in rete]:[Totale Consumi rimanenti]])","v":0},"HPB",null,null,null,0]
["050210",5,{"$f":"+MIN(Contributo_cer[[#This Row],[Totale Immissione in rete]:[Totale Consumi rimanenti]])","v":0},"HPB",null,null,null,0]
["050211",5,{"$f":"+MIN(Contributo_cer[[#This Row],[Totale Immissione in rete]:[Totale Consumi rimanenti]])","v":0},"HPB",null,null,null,0]
["050212",5,{"$f":"+MIN(Contributo_cer[[#This Row],[Totale Immissione in rete]:[Totale Consumi rimanenti]])","v":0},"HPB",null,null,null,0]
["050213",5,{"$f":"+MIN(Contributo_cer[[#This Row],[Totale Immissione in rete]:[Totale Consumi rimanenti]])","v":0},"HPB",null,null,null,0]
["050214",5,{"$f":"+MIN(Contributo_cer[[#This Row],[Totale Immissione in rete]:[Totale Consumi rimanenti]])","v":0},"HPB",null,null,null,0]
["050215",5,{"$f":"+MIN(Contributo_cer[[#This Row],[Totale Immissione in rete]:[Totale Consumi rimanenti]])","v":0},"HPB",null,null,null,0]
["050216",5,{"$f":"+MIN(Contributo_cer[[#This Row],[Totale Immissione in rete]:[Totale Consumi rimanenti]])","v":0},"HPB",null,null,null,0]
["050217",5,{"$f":"+MIN(Contributo_cer[[#This Row],[Totale Immissione in rete]:[Totale Consumi rimanenti]])","v":0},"HPB",null,null,null,0]
["050218",5,{"$f":"+MIN(Contributo_cer[[#This Row],[Totale Immissione in rete]:[Totale Consumi rimanenti]])","v":0},"HPB",null,null,null,0]
["050219",5,{"$f":"+MIN(Contributo_cer[[#This Row],[Totale Immissione in rete]:[Totale Consumi rimanenti]])","v":0},"HPB",null,null,null,0]
["050220",5,{"$f":"+MIN(Contributo_cer[[#This Row],[Totale Immissione in rete]:[Totale Consumi rimanenti]])","v":0},"HPB",null,null,null,0]
["050221",5,{"$f":"+MIN(Contributo_cer[[#This Row],[Totale Immissione in rete]:[Totale Consumi rimanenti]])","v":0},"HPB",null,null,null,0]
["050222",5,{"$f":"+MIN(Contributo_cer[[#This Row],[Totale Immissione in rete]:[Totale Consumi rimanenti]])","v":0},"HCB",null,null,null,0]
["050223",5,{"$f":"+MIN(Contributo_cer[[#This Row],[Totale Immissione in rete]:[Totale Consumi rimanenti]])","v":0},"HCB",null,null,null,0]
["050300",5,{"$f":"+MIN(Contributo_cer[[#This Row],[Totale Immissione in rete]:[Totale Consumi rimanenti]])","v":0},"HCB",null,null,null,0]
["050301",5,{"$f":"+MIN(Contributo_cer[[#This Row],[Totale Immissione in rete]:[Totale Consumi rimanenti]])","v":0},"HCB",null,null,null,0]
["050302",5,{"$f":"+MIN(Contributo_cer[[#This Row],[Totale Immissione in rete]:[Totale Consumi rimanenti]])","v":0},"HCB",null,null,null,0]
["050303",5,{"$f":"+MIN(Contributo_cer[[#This Row],[Totale Immissione in rete]:[Totale Consumi rimanenti]])","v":0},"HCB",null,null,null,0]
["050304",5,{"$f":"+MIN(Contributo_cer[[#This Row],[Totale Immissione in rete]:[Totale Consumi rimanenti]])","v":0},"HCB",null,null,null,0]
["050305",5,{"$f":"+MIN(Contributo_cer[[#This Row],[Totale Immissione in rete]:[Totale Consumi rimanenti]])","v":0},"HCB",null,null,null,0]
["050306",5,{"$f":"+MIN(Contributo_cer[[#This Row],[Totale Immissione in rete]:[Totale Consumi rimanenti]])","v":0},"HPB",null,null,null,0]
["050307",5,{"$f":"+MIN(Contributo_cer[[#This Row],[Totale Immissione in rete]:[Totale Consumi rimanenti]])","v":0},"HPB",null,null,null,0]
["050308",5,{"$f":"+MIN(Contributo_cer[[#This Row],[Totale Immissione in rete]:[Totale Consumi rimanenti]])","v":0},"HPB",null,null,null,0]
["050309",5,{"$f":"+MIN(Contributo_cer[[#This Row],[Totale Immissione in rete]:[Totale Consumi rimanenti]])","v":0},"HPB",null,null,null,0]
["050310",5,{"$f":"+MIN(Contributo_cer[[#This Row],[Totale Immissione in rete]:[Totale Consumi rimanenti]])","v":0},"HPB",null,null,null,0]
["050311",5,{"$f":"+MIN(Contributo_cer[[#This Row],[Totale Immissione in rete]:[Totale Consumi rimanenti]])","v":0},"HPB",null,null,null,0]
["050312",5,{"$f":"+MIN(Contributo_cer[[#This Row],[Totale Immissione in rete]:[Totale Consumi rimanenti]])","v":0},"HPB",null,null,null,0]
["050313",5,{"$f":"+MIN(Contributo_cer[[#This Row],[Totale Immissione in rete]:[Totale Consumi rimanenti]])","v":0},"HPB",null,null,null,0]
["050314",5,{"$f":"+MIN(Contributo_cer[[#This Row],[Totale Immissione in rete]:[Totale Consumi rimanenti]])","v":0},"HPB",null,null,null,0]
["050315",5,{"$f":"+MIN(Contributo_cer[[#This Row],[Totale Immissione in rete]:[Totale Consumi rimanenti]])","v":0},"HPB",null,null,null,0]
["050316",5,{"$f":"+MIN(Contributo_cer[[#This Row],[Totale Immissione in rete]:[Totale Consumi rimanenti]])","v":0},"HPB",null,null,null,0]
["050317",5,{"$f":"+MIN(Contributo_cer[[#This Row],[Totale Immissione in rete]:[Totale Consumi rimanenti]])","v":0},"HPB",null,null,null,0]
["050318",5,{"$f":"+MIN(Contributo_cer[[#This Row],[Totale Immissione in rete]:[Totale Consumi rimanenti]])","v":0},"HPB",null,null,null,0]
["050319",5,{"$f":"+MIN(Contributo_cer[[#This Row],[Totale Immissione in rete]:[Totale Consumi rimanenti]])","v":0},"HPB",null,null,null,0]
["050320",5,{"$f":"+MIN(Contributo_cer[[#This Row],[Totale Immissione in rete]:[Totale Consumi rimanenti]])","v":0},"HPB",null,null,null,0]
["050321",5,{"$f":"+MIN(Contributo_cer[[#This Row],[Totale Immissione in rete]:[Totale Consumi rimanenti]])","v":0},"HPB",null,null,null,0]
["050322",5,{"$f":"+MIN(Contributo_cer[[#This Row],[Totale Immissione in rete]:[Totale Consumi rimanenti]])","v":0},"HCB",null,null,null,0]
["050323",5,{"$f":"+MIN(Contributo_cer[[#This Row],[Totale Immissione in rete]:[Totale Consumi rimanenti]])","v":0},"HCB",null,null,null,0]
["050400",5,{"$f":"+MIN(Contributo_cer[[#This Row],[Totale Immissione in rete]:[Totale Consumi rimanenti]])","v":0},"HCB",null,null,null,0]
["050401",5,{"$f":"+MIN(Contributo_cer[[#This Row],[Totale Immissione in rete]:[Totale Consumi rimanenti]])","v":0},"HCB",null,null,null,0]
["050402",5,{"$f":"+MIN(Contributo_cer[[#This Row],[Totale Immissione in rete]:[Totale Consumi rimanenti]])","v":0},"HCB",null,null,null,0]
["050403",5,{"$f":"+MIN(Contributo_cer[[#This Row],[Totale Immissione in rete]:[Totale Consumi rimanenti]])","v":0},"HCB",null,null,null,0]
["050404",5,{"$f":"+MIN(Contributo_cer[[#This Row],[Totale Immissione in rete]:[Totale Consumi rimanenti]])","v":0},"HCB",null,null,null,0]
["050405",5,{"$f":"+MIN(Contributo_cer[[#This Row],[Totale Immissione in rete]:[Totale Consumi rimanenti]])","v":0},"HCB",null,null,null,0]
["050406",5,{"$f":"+MIN(Contributo_cer[[#This Row],[Totale Immissione in rete]:[Totale Consumi rimanenti]])","v":0},"HPB",null,null,null,0]
["050407",5,{"$f":"+MIN(Contributo_cer[[#This Row],[Totale Immissione in rete]:[Totale Consumi rimanenti]])","v":0},"HPB",null,null,null,0]
["050408",5,{"$f":"+MIN(Contributo_cer[[#This Row],[Totale Immissione in rete]:[Totale Consumi rimanenti]])","v":0},"HPB",null,null,null,0]
["050409",5,{"$f":"+MIN(Contributo_cer[[#This Row],[Totale Immissione in rete]:[Totale Consumi rimanenti]])","v":0},"HPB",null,null,null,0]
["050410",5,{"$f":"+MIN(Contributo_cer[[#This Row],[Totale Immissione in rete]:[Totale Consumi rimanenti]])","v":0},"HPB",null,null,null,0]
["050411",5,{"$f":"+MIN(Contributo_cer[[#This Row],[Totale Immissione in rete]:[Totale Consumi rimanenti]])","v":0},"HPB",null,null,null,0]
["050412",5,{"$f":"+MIN(Contributo_cer[[#This Row],[Totale Immissione in rete]:[Totale Consumi rimanenti]])","v":0},"HPB",null,null,null,0]
["050413",5,{"$f":"+MIN(Contributo_cer[[#This Row],[Totale Immissione in rete]:[Totale Consumi rimanenti]])","v":0},"HPB",null,null,null,0]
["050414",5,{"$f":"+MIN(Contributo_cer[[#This Row],[Totale Immissione in rete]:[Totale Consumi rimanenti]])","v":0},"HPB",null,null,null,0]
["050415",5,{"$f":"+MIN(Contributo_cer[[#This Row],[Totale Immissione in rete]:[Totale Consumi rimanenti]])","v":0},"HPB",null,null,null,0]
["050416",5,{"$f":"+MIN(Contributo_cer[[#This Row],[Totale Immissione in rete]:[Totale Consumi rimanenti]])","v":0},"HPB",null,null,null,0]
["050417",5,{"$f":"+MIN(Contributo_cer[[#This Row],[Totale Immissione in rete]:[Totale Consumi rimanenti]])","v":0},"HPB",null,null,null,0]
["050418",5,{"$f":"+MIN(Contributo_cer[[#This Row],[Totale Immissione in rete]:[Totale Consumi rimanenti]])","v":0},"HPB",null,null,null,0]
["050419",5,{"$f":"+MIN(Contributo_cer[[#This Row],[Totale Immissione in rete]:[Totale Consumi rimanenti]])","v":0},"HPB",null,null,null,0]
["050420",5,{"$f":"+MIN(Contributo_cer[[#This Row],[Totale Immissione in rete]:[Totale Consumi rimanenti]])","v":0},"HPB",null,null,null,0]
["050421",5,{"$f":"+MIN(Contributo_cer[[#This Row],[Totale Immissione in rete]:[Totale Consumi rimanenti]])","v":0},"HPB",null,null,null,0]
["050422",5,{"$f":"+MIN(Contributo_cer[[#This Row],[Totale Immissione in rete]:[Totale Consumi rimanenti]])","v":0},"HCB",null,null,null,0]
["050423",5,{"$f":"+MIN(Contributo_cer[[#This Row],[Totale Immissione in rete]:[Totale Consumi rimanenti]])","v":0},"HCB",null,null,null,0]
["050500",5,{"$f":"+MIN(Contributo_cer[[#This Row],[Totale Immissione in rete]:[Totale Consumi rimanenti]])","v":0},"HCB",null,null,null,0]
["050501",5,{"$f":"+MIN(Contributo_cer[[#This Row],[Totale Immissione in rete]:[Totale Consumi rimanenti]])","v":0},"HCB",null,null,null,0]
["050502",5,{"$f":"+MIN(Contributo_cer[[#This Row],[Totale Immissione in rete]:[Totale Consumi rimanenti]])","v":0},"HCB",null,null,null,0]
["050503",5,{"$f":"+MIN(Contributo_cer[[#This Row],[Totale Immissione in rete]:[Totale Consumi rimanenti]])","v":0},"HCB",null,null,null,0]
["050504",5,{"$f":"+MIN(Contributo_cer[[#This Row],[Totale Immissione in rete]:[Totale Consumi rimanenti]])","v":0},"HCB",null,null,null,0]
["050505",5,{"$f":"+MIN(Contributo_cer[[#This Row],[Totale Immissione in rete]:[Totale Consumi rimanenti]])","v":0},"HCB",null,null,null,0]
["050506",5,{"$f":"+MIN(Contributo_cer[[#This Row],[Totale Immissione in rete]:[Totale Consumi rimanenti]])","v":0},"HPB",null,null,null,0]
["050507",5,{"$f":"+MIN(Contributo_cer[[#This Row],[Totale Immissione in rete]:[Totale Consumi rimanenti]])","v":0},"HPB",null,null,null,0]
["050508",5,{"$f":"+MIN(Contributo_cer[[#This Row],[Totale Immissione in rete]:[Totale Consumi rimanenti]])","v":0},"HPB",null,null,null,0]
["050509",5,{"$f":"+MIN(Contributo_cer[[#This Row],[Totale Immissione in rete]:[Totale Consumi rimanenti]])","v":0},"HPB",null,null,null,0]
["050510",5,{"$f":"+MIN(Contributo_cer[[#This Row],[Totale Immissione in rete]:[Totale Consumi rimanenti]])","v":0},"HPB",null,null,null,0]
["050511",5,{"$f":"+MIN(Contributo_cer[[#This Row],[Totale Immissione in rete]:[Totale Consumi rimanenti]])","v":0},"HPB",null,null,null,0]
["050512",5,{"$f":"+MIN(Contributo_cer[[#This Row],[Totale Immissione in rete]:[Totale Consumi rimanenti]])","v":0},"HPB",null,null,null,0]
["050513",5,{"$f":"+MIN(Contributo_cer[[#This Row],[Totale Immissione in rete]:[Totale Consumi rimanenti]])","v":0},"HPB",null,null,null,0]
["050514",5,{"$f":"+MIN(Contributo_cer[[#This Row],[Totale Immissione in rete]:[Totale Consumi rimanenti]])","v":0},"HPB",null,null,null,0]
["050515",5,{"$f":"+MIN(Contributo_cer[[#This Row],[Totale Immissione in rete]:[Totale Consumi rimanenti]])","v":0},"HPB",null,null,null,0]
["050516",5,{"$f":"+MIN(Contributo_cer[[#This Row],[Totale Immissione in rete]:[Totale Consumi rimanenti]])","v":0},"HPB",null,null,null,0]
["050517",5,{"$f":"+MIN(Contributo_cer[[#This Row],[Totale Immissione in rete]:[Totale Consumi rimanenti]])","v":0},"HPB",null,null,null,0]
["050518",5,{"$f":"+MIN(Contributo_cer[[#This Row],[Totale Immissione in rete]:[Totale Consumi rimanenti]])","v":0},"HPB",null,null,null,0]
["050519",5,{"$f":"+MIN(Contributo_cer[[#This Row],[Totale Immissione in rete]:[Totale Consumi rimanenti]])","v":0},"HPB",null,null,null,0]
["050520",5,{"$f":"+MIN(Contributo_cer[[#This Row],[Totale Immissione in rete]:[Totale Consumi rimanenti]])","v":0},"HPB",null,null,null,0]
["050521",5,{"$f":"+MIN(Contributo_cer[[#This Row],[Totale Immissione in rete]:[Totale Consumi rimanenti]])","v":0},"HPB",null,null,null,0]
["050522",5,{"$f":"+MIN(Contributo_cer[[#This Row],[Totale Immissione in rete]:[Totale Consumi rimanenti]])","v":0},"HCB",null,null,null,0]
["050523",5,{"$f":"+MIN(Contributo_cer[[#This Row],[Totale Immissione in rete]:[Totale Consumi rimanenti]])","v":0},"HCB",null,null,null,0]
["050600",5,{"$f":"+MIN(Contributo_cer[[#This Row],[Totale Immissione in rete]:[Totale Consumi rimanenti]])","v":0},"HCB",null,null,null,0]
["050601",5,{"$f":"+MIN(Contributo_cer[[#This Row],[Totale Immissione in rete]:[Totale Consumi rimanenti]])","v":0},"HCB",null,null,null,0]
["050602",5,{"$f":"+MIN(Contributo_cer[[#This Row],[Totale Immissione in rete]:[Totale Consumi rimanenti]])","v":0},"HCB",null,null,null,0]
["050603",5,{"$f":"+MIN(Contributo_cer[[#This Row],[Totale Immissione in rete]:[Totale Consumi rimanenti]])","v":0},"HCB",null,null,null,0]
["050604",5,{"$f":"+MIN(Contributo_cer[[#This Row],[Totale Immissione in rete]:[Totale Consumi rimanenti]])","v":0},"HCB",null,null,null,0]
["050605",5,{"$f":"+MIN(Contributo_cer[[#This Row],[Totale Immissione in rete]:[Totale Consumi rimanenti]])","v":0},"HCB",null,null,null,0]
["050606",5,{"$f":"+MIN(Contributo_cer[[#This Row],[Totale Immissione in rete]:[Totale Consumi rimanenti]])","v":0},"HPB",null,null,null,0]
["050607",5,{"$f":"+MIN(Contributo_cer[[#This Row],[Totale Immissione in rete]:[Totale Consumi rimanenti]])","v":0},"HPB",null,null,null,0]
["050608",5,{"$f":"+MIN(Contributo_cer[[#This Row],[Totale Immissione in rete]:[Totale Consumi rimanenti]])","v":0},"HPB",null,null,null,0]
["050609",5,{"$f":"+MIN(Contributo_cer[[#This Row],[Totale Immissione in rete]:[Totale Consumi rimanenti]])","v":0},"HPB",null,null,null,0]
["050610",5,{"$f":"+MIN(Contributo_cer[[#This Row],[Totale Immissione in rete]:[Totale Consumi rimanenti]])","v":0},"HPB",null,null,null,0]
["050611",5,{"$f":"+MIN(Contributo_cer[[#This Row],[Totale Immissione in rete]:[Totale Consumi rimanenti]])","v":0},"HPB",null,null,null,0]
["050612",5,{"$f":"+MIN(Contributo_cer[[#This Row],[Totale Immissione in rete]:[Totale Consumi rimanenti]])","v":0},"HPB",null,null,null,0]
["050613",5,{"$f":"+MIN(Contributo_cer[[#This Row],[Totale Immissione in rete]:[Totale Consumi rimanenti]])","v":0},"HPB",null,null,null,0]
["050614",5,{"$f":"+MIN(Contributo_cer[[#This Row],[Totale Immissione in rete]:[Totale Consumi rimanenti]])","v":0},"HPB",null,null,null,0]
["050615",5,{"$f":"+MIN(Contributo_cer[[#This Row],[Totale Immissione in rete]:[Totale Consumi rimanenti]])","v":0},"HPB",null,null,null,0]
["050616",5,{"$f":"+MIN(Contributo_cer[[#This Row],[Totale Immissione in rete]:[Totale Consumi rimanenti]])","v":0},"HPB",null,null,null,0]
["050617",5,{"$f":"+MIN(Contributo_cer[[#This Row],[Totale Immissione in rete]:[Totale Consumi rimanenti]])","v":0},"HPB",null,null,null,0]
["050618",5,{"$f":"+MIN(Contributo_cer[[#This Row],[Totale Immissione in rete]:[Totale Consumi rimanenti]])","v":0},"HPB",null,null,null,0]
["050619",5,{"$f":"+MIN(Contributo_cer[[#This Row],[Totale Immissione in rete]:[Totale Consumi rimanenti]])","v":0},"HPB",null,null,null,0]
["050620",5,{"$f":"+MIN(Contributo_cer[[#This Row],[Totale Immissione in rete]:[Totale Consumi rimanenti]])","v":0},"HPB",null,null,null,0]
["050621",5,{"$f":"+MIN(Contributo_cer[[#This Row],[Totale Immissione in rete]:[Totale Consumi rimanenti]])","v":0},"HPB",null,null,null,0]
["050622",5,{"$f":"+MIN(Contributo_cer[[#This Row],[Totale Immissione in rete]:[Totale Consumi rimanenti]])","v":0},"HCB",null,null,null,0]
["050623",5,{"$f":"+MIN(Contributo_cer[[#This Row],[Totale Immissione in rete]:[Totale Consumi rimanenti]])","v":0},"HCB",null,null,null,0]
["050700",5,{"$f":"+MIN(Contributo_cer[[#This Row],[Totale Immissione in rete]:[Totale Consumi rimanenti]])","v":0},"HCB",null,null,null,0]
["050701",5,{"$f":"+MIN(Contributo_cer[[#This Row],[Totale Immissione in rete]:[Totale Consumi rimanenti]])","v":0},"HCB",null,null,null,0]
["050702",5,{"$f":"+MIN(Contributo_cer[[#This Row],[Totale Immissione in rete]:[Totale Consumi rimanenti]])","v":0},"HCB",null,null,null,0]
["050703",5,{"$f":"+MIN(Contributo_cer[[#This Row],[Totale Immissione in rete]:[Totale Consumi rimanenti]])","v":0},"HCB",null,null,null,0]
["050704",5,{"$f":"+MIN(Contributo_cer[[#This Row],[Totale Immissione in rete]:[Totale Consumi rimanenti]])","v":0},"HCB",null,null,null,0]
["050705",5,{"$f":"+MIN(Contributo_cer[[#This Row],[Totale Immissione in rete]:[Totale Consumi rimanenti]])","v":0},"HCB",null,null,null,0]
["050706",5,{"$f":"+MIN(Contributo_cer[[#This Row],[Totale Immissione in rete]:[Totale Consumi rimanenti]])","v":0},"HPB",null,null,null,0]
["050707",5,{"$f":"+MIN(Contributo_cer[[#This Row],[Totale Immissione in rete]:[Totale Consumi rimanenti]])","v":0},"HPB",null,null,null,0]
["050708",5,{"$f":"+MIN(Contributo_cer[[#This Row],[Totale Immissione in rete]:[Totale Consumi rimanenti]])","v":0},"HPB",null,null,null,0]
["050709",5,{"$f":"+MIN(Contributo_cer[[#This Row],[Totale Immissione in rete]:[Totale Consumi rimanenti]])","v":0},"HPB",null,null,null,0]
["050710",5,{"$f":"+MIN(Contributo_cer[[#This Row],[Totale Immissione in rete]:[Totale Consumi rimanenti]])","v":0},"HPB",null,null,null,0]
["050711",5,{"$f":"+MIN(Contributo_cer[[#This Row],[Totale Immissione in rete]:[Totale Consumi rimanenti]])","v":0},"HPB",null,null,null,0]
["050712",5,{"$f":"+MIN(Contributo_cer[[#This Row],[Totale Immissione in rete]:[Totale Consumi rimanenti]])","v":0},"HPB",null,null,null,0]
["050713",5,{"$f":"+MIN(Contributo_cer[[#This Row],[Totale Immissione in rete]:[Totale Consumi rimanenti]])","v":0},"HPB",null,null,null,0]
["050714",5,{"$f":"+MIN(Contributo_cer[[#This Row],[Totale Immissione in rete]:[Totale Consumi rimanenti]])","v":0},"HPB",null,null,null,0]
["050715",5,{"$f":"+MIN(Contributo_cer[[#This Row],[Totale Immissione in rete]:[Totale Consumi rimanenti]])","v":0},"HPB",null,null,null,0]
["050716",5,{"$f":"+MIN(Contributo_cer[[#This Row],[Totale Immissione in rete]:[Totale Consumi rimanenti]])","v":0},"HPB",null,null,null,0]
["050717",5,{"$f":"+MIN(Contributo_cer[[#This Row],[Totale Immissione in rete]:[Totale Consumi rimanenti]])","v":0},"HPB",null,null,null,0]
["050718",5,{"$f":"+MIN(Contributo_cer[[#This Row],[Totale Immissione in rete]:[Totale Consumi rimanenti]])","v":0},"HPB",null,null,null,0]
["050719",5,{"$f":"+MIN(Contributo_cer[[#This Row],[Totale Immissione in rete]:[Totale Consumi rimanenti]])","v":0},"HPB",null,null,null,0]
["050720",5,{"$f":"+MIN(Contributo_cer[[#This Row],[Totale Immissione in rete]:[Totale Consumi rimanenti]])","v":0},"HPB",null,null,null,0]
["050721",5,{"$f":"+MIN(Contributo_cer[[#This Row],[Totale Immissione in rete]:[Totale Consumi rimanenti]])","v":0},"HPB",null,null,null,0]
["050722",5,{"$f":"+MIN(Contributo_cer[[#This Row],[Totale Immissione in rete]:[Totale Consumi rimanenti]])","v":0},"HCB",null,null,null,0]
["050723",5,{"$f":"+MIN(Contributo_cer[[#This Row],[Totale Immissione in rete]:[Totale Consumi rimanenti]])","v":0},"HCB",null,null,null,0]
["050800",5,{"$f":"+MIN(Contributo_cer[[#This Row],[Totale Immissione in rete]:[Totale Consumi rimanenti]])","v":0},"HCB",null,null,null,0]
["050801",5,{"$f":"+MIN(Contributo_cer[[#This Row],[Totale Immissione in rete]:[Totale Consumi rimanenti]])","v":0},"HCB",null,null,null,0]
["050802",5,{"$f":"+MIN(Contributo_cer[[#This Row],[Totale Immissione in rete]:[Totale Consumi rimanenti]])","v":0},"HCB",null,null,null,0]
["050803",5,{"$f":"+MIN(Contributo_cer[[#This Row],[Totale Immissione in rete]:[Totale Consumi rimanenti]])","v":0},"HCB",null,null,null,0]
["050804",5,{"$f":"+MIN(Contributo_cer[[#This Row],[Totale Immissione in rete]:[Totale Consumi rimanenti]])","v":0},"HCB",null,null,null,0]
["050805",5,{"$f":"+MIN(Contributo_cer[[#This Row],[Totale Immissione in rete]:[Totale Consumi rimanenti]])","v":0},"HCB",null,null,null,0]
["050806",5,{"$f":"+MIN(Contributo_cer[[#This Row],[Totale Immissione in rete]:[Totale Consumi rimanenti]])","v":0},"HPB",null,null,null,0]
["050807",5,{"$f":"+MIN(Contributo_cer[[#This Row],[Totale Immissione in rete]:[Totale Consumi rimanenti]])","v":0},"HPB",null,null,null,0]
["050808",5,{"$f":"+MIN(Contributo_cer[[#This Row],[Totale Immissione in rete]:[Totale Consumi rimanenti]])","v":0},"HPB",null,null,null,0]
["050809",5,{"$f":"+MIN(Contributo_cer[[#This Row],[Totale Immissione in rete]:[Totale Consumi rimanenti]])","v":0},"HPB",null,null,null,0]
["050810",5,{"$f":"+MIN(Contributo_cer[[#This Row],[Totale Immissione in rete]:[Totale Consumi rimanenti]])","v":0},"HPB",null,null,null,0]
["050811",5,{"$f":"+MIN(Contributo_cer[[#This Row],[Totale Immissione in rete]:[Totale Consumi rimanenti]])","v":0},"HPB",null,null,null,0]
["050812",5,{"$f":"+MIN(Contributo_cer[[#This Row],[Totale Immissione in rete]:[Totale Consumi rimanenti]])","v":0},"HPB",null,null,null,0]
["050813",5,{"$f":"+MIN(Contributo_cer[[#This Row],[Totale Immissione in rete]:[Totale Consumi rimanenti]])","v":0},"HPB",null,null,null,0]
["050814",5,{"$f":"+MIN(Contributo_cer[[#This Row],[Totale Immissione in rete]:[Totale Consumi rimanenti]])","v":0},"HPB",null,null,null,0]
["050815",5,{"$f":"+MIN(Contributo_cer[[#This Row],[Totale Immissione in rete]:[Totale Consumi rimanenti]])","v":0},"HPB",null,null,null,0]
["050816",5,{"$f":"+MIN(Contributo_cer[[#This Row],[Totale Immissione in rete]:[Totale Consumi rimanenti]])","v":0},"HPB",null,null,null,0]
["050817",5,{"$f":"+MIN(Contributo_cer[[#This Row],[Totale Immissione in rete]:[Totale Consumi rimanenti]])","v":0},"HPB",null,null,null,0]
["050818",5,{"$f":"+MIN(Contributo_cer[[#This Row],[Totale Immissione in rete]:[Totale Consumi rimanenti]])","v":0},"HPB",null,null,null,0]
["050819",5,{"$f":"+MIN(Contributo_cer[[#This Row],[Totale Immissione in rete]:[Totale Consumi rimanenti]])","v":0},"HPB",null,null,null,0]
["050820",5,{"$f":"+MIN(Contributo_cer[[#This Row],[Totale Immissione in rete]:[Totale Consumi rimanenti]])","v":0},"HPB",null,null,null,0]
["050821",5,{"$f":"+MIN(Contributo_cer[[#This Row],[Totale Immissione in rete]:[Totale Consumi rimanenti]])","v":0},"HPB",null,null,null,0]
["050822",5,{"$f":"+MIN(Contributo_cer[[#This Row],[Totale Immissione in rete]:[Totale Consumi rimanenti]])","v":0},"HCB",null,null,null,0]
["050823",5,{"$f":"+MIN(Contributo_cer[[#This Row],[Totale Immissione in rete]:[Totale Consumi rimanenti]])","v":0},"HCB",null,null,null,0]
["050900",5,{"$f":"+MIN(Contributo_cer[[#This Row],[Totale Immissione in rete]:[Totale Consumi rimanenti]])","v":0},"HCB",null,null,null,0]
["050901",5,{"$f":"+MIN(Contributo_cer[[#This Row],[Totale Immissione in rete]:[Totale Consumi rimanenti]])","v":0},"HCB",null,null,null,0]
["050902",5,{"$f":"+MIN(Contributo_cer[[#This Row],[Totale Immissione in rete]:[Totale Consumi rimanenti]])","v":0},"HCB",null,null,null,0]
["050903",5,{"$f":"+MIN(Contributo_cer[[#This Row],[Totale Immissione in rete]:[Totale Consumi rimanenti]])","v":0},"HCB",null,null,null,0]
["050904",5,{"$f":"+MIN(Contributo_cer[[#This Row],[Totale Immissione in rete]:[Totale Consumi rimanenti]])","v":0},"HCB",null,null,null,0]
["050905",5,{"$f":"+MIN(Contributo_cer[[#This Row],[Totale Immissione in rete]:[Totale Consumi rimanenti]])","v":0},"HCB",null,null,null,0]
["050906",5,{"$f":"+MIN(Contributo_cer[[#This Row],[Totale Immissione in rete]:[Totale Consumi rimanenti]])","v":0},"HPB",null,null,null,0]
["050907",5,{"$f":"+MIN(Contributo_cer[[#This Row],[Totale Immissione in rete]:[Totale Consumi rimanenti]])","v":0},"HPB",null,null,null,0]
["050908",5,{"$f":"+MIN(Contributo_cer[[#This Row],[Totale Immissione in rete]:[Totale Consumi rimanenti]])","v":0},"HPB",null,null,null,0]
["050909",5,{"$f":"+MIN(Contributo_cer[[#This Row],[Totale Immissione in rete]:[Totale Consumi rimanenti]])","v":0},"HPB",null,null,null,0]
["050910",5,{"$f":"+MIN(Contributo_cer[[#This Row],[Totale Immissione in rete]:[Totale Consumi rimanenti]])","v":0},"HPB",null,null,null,0]
["050911",5,{"$f":"+MIN(Contributo_cer[[#This Row],[Totale Immissione in rete]:[Totale Consumi rimanenti]])","v":0},"HPB",null,null,null,0]
["050912",5,{"$f":"+MIN(Contributo_cer[[#This Row],[Totale Immissione in rete]:[Totale Consumi rimanenti]])","v":0},"HPB",null,null,null,0]
["050913",5,{"$f":"+MIN(Contributo_cer[[#This Row],[Totale Immissione in rete]:[Totale Consumi rimanenti]])","v":0},"HPB",null,null,null,0]
["050914",5,{"$f":"+MIN(Contributo_cer[[#This Row],[Totale Immissione in rete]:[Totale Consumi rimanenti]])","v":0},"HPB",null,null,null,0]
["050915",5,{"$f":"+MIN(Contributo_cer[[#This Row],[Totale Immissione in rete]:[Totale Consumi rimanenti]])","v":0},"HPB",null,null,null,0]
["050916",5,{"$f":"+MIN(Contributo_cer[[#This Row],[Totale Immissione in rete]:[Totale Consumi rimanenti]])","v":0},"HPB",null,null,null,0]
["050917",5,{"$f":"+MIN(Contributo_cer[[#This Row],[Totale Immissione in rete]:[Totale Consumi rimanenti]])","v":0},"HPB",null,null,null,0]
["050918",5,{"$f":"+MIN(Contributo_cer[[#This Row],[Totale Immissione in rete]:[Totale Consumi rimanenti]])","v":0},"HPB",null,null,null,0]
["050919",5,{"$f":"+MIN(Contributo_cer[[#This Row],[Totale Immissione in rete]:[Totale Consumi rimanenti]])","v":0},"HPB",null,null,null,0]
["050920",5,{"$f":"+MIN(Contributo_cer[[#This Row],[Totale Immissione in rete]:[Totale Consumi rimanenti]])","v":0},"HPB",null,null,null,0]
["050921",5,{"$f":"+MIN(Contributo_cer[[#This Row],[Totale Immissione in rete]:[Totale Consumi rimanenti]])","v":0},"HPB",null,null,null,0]
["050922",5,{"$f":"+MIN(Contributo_cer[[#This Row],[Totale Immissione in rete]:[Totale Consumi rimanenti]])","v":0},"HCB",null,null,null,0]
["050923",5,{"$f":"+MIN(Contributo_cer[[#This Row],[Totale Immissione in rete]:[Totale Consumi rimanenti]])","v":0},"HCB",null,null,null,0]
["051000",5,{"$f":"+MIN(Contributo_cer[[#This Row],[Totale Immissione in rete]:[Totale Consumi rimanenti]])","v":0},"HCB",null,null,null,0]
["051001",5,{"$f":"+MIN(Contributo_cer[[#This Row],[Totale Immissione in rete]:[Totale Consumi rimanenti]])","v":0},"HCB",null,null,null,0]
["051002",5,{"$f":"+MIN(Contributo_cer[[#This Row],[Totale Immissione in rete]:[Totale Consumi rimanenti]])","v":0},"HCB",null,null,null,0]
["051003",5,{"$f":"+MIN(Contributo_cer[[#This Row],[Totale Immissione in rete]:[Totale Consumi rimanenti]])","v":0},"HCB",null,null,null,0]
["051004",5,{"$f":"+MIN(Contributo_cer[[#This Row],[Totale Immissione in rete]:[Totale Consumi rimanenti]])","v":0},"HCB",null,null,null,0]
["051005",5,{"$f":"+MIN(Contributo_cer[[#This Row],[Totale Immissione in rete]:[Totale Consumi rimanenti]])","v":0},"HCB",null,null,null,0]
["051006",5,{"$f":"+MIN(Contributo_cer[[#This Row],[Totale Immissione in rete]:[Totale Consumi rimanenti]])","v":0},"HPB",null,null,null,0]
["051007",5,{"$f":"+MIN(Contributo_cer[[#This Row],[Totale Immissione in rete]:[Totale Consumi rimanenti]])","v":0},"HPB",null,null,null,0]
["051008",5,{"$f":"+MIN(Contributo_cer[[#This Row],[Totale Immissione in rete]:[Totale Consumi rimanenti]])","v":0},"HPB",null,null,null,0]
["051009",5,{"$f":"+MIN(Contributo_cer[[#This Row],[Totale Immissione in rete]:[Totale Consumi rimanenti]])","v":0},"HPB",null,null,null,0]
["051010",5,{"$f":"+MIN(Contributo_cer[[#This Row],[Totale Immissione in rete]:[Totale Consumi rimanenti]])","v":0},"HPB",null,null,null,0]
["051011",5,{"$f":"+MIN(Contributo_cer[[#This Row],[Totale Immissione in rete]:[Totale Consumi rimanenti]])","v":0},"HPB",null,null,null,0]
["051012",5,{"$f":"+MIN(Contributo_cer[[#This Row],[Totale Immissione in rete]:[Totale Consumi rimanenti]])","v":0},"HPB",null,null,null,0]
["051013",5,{"$f":"+MIN(Contributo_cer[[#This Row],[Totale Immissione in rete]:[Totale Consumi rimanenti]])","v":0},"HPB",null,null,null,0]
["051014",5,{"$f":"+MIN(Contributo_cer[[#This Row],[Totale Immissione in rete]:[Totale Consumi rimanenti]])","v":0},"HPB",null,null,null,0]
["051015",5,{"$f":"+MIN(Contributo_cer[[#This Row],[Totale Immissione in rete]:[Totale Consumi rimanenti]])","v":0},"HPB",null,null,null,0]
["051016",5,{"$f":"+MIN(Contributo_cer[[#This Row],[Totale Immissione in rete]:[Totale Consumi rimanenti]])","v":0},"HPB",null,null,null,0]
["051017",5,{"$f":"+MIN(Contributo_cer[[#This Row],[Totale Immissione in rete]:[Totale Consumi rimanenti]])","v":0},"HPB",null,null,null,0]
["051018",5,{"$f":"+MIN(Contributo_cer[[#This Row],[Totale Immissione in rete]:[Totale Consumi rimanenti]])","v":0},"HPB",null,null,null,0]
["051019",5,{"$f":"+MIN(Contributo_cer[[#This Row],[Totale Immissione in rete]:[Totale Consumi rimanenti]])","v":0},"HPB",null,null,null,0]
["051020",5,{"$f":"+MIN(Contributo_cer[[#This Row],[Totale Immissione in rete]:[Totale Consumi rimanenti]])","v":0},"HPB",null,null,null,0]
["051021",5,{"$f":"+MIN(Contributo_cer[[#This Row],[Totale Immissione in rete]:[Totale Consumi rimanenti]])","v":0},"HPB",null,null,null,0]
["051022",5,{"$f":"+MIN(Contributo_cer[[#This Row],[Totale Immissione in rete]:[Totale Consumi rimanenti]])","v":0},"HCB",null,null,null,0]
["051023",5,{"$f":"+MIN(Contributo_cer[[#This Row],[Totale Immissione in rete]:[Totale Consumi rimanenti]])","v":0},"HCB",null,null,null,0]
["051100",5,{"$f":"+MIN(Contributo_cer[[#This Row],[Totale Immissione in rete]:[Totale Consumi rimanenti]])","v":0},"HCB",null,null,null,0]
["051101",5,{"$f":"+MIN(Contributo_cer[[#This Row],[Totale Immissione in rete]:[Totale Consumi rimanenti]])","v":0},"HCB",null,null,null,0]
["051102",5,{"$f":"+MIN(Contributo_cer[[#This Row],[Totale Immissione in rete]:[Totale Consumi rimanenti]])","v":0},"HCB",null,null,null,0]
["051103",5,{"$f":"+MIN(Contributo_cer[[#This Row],[Totale Immissione in rete]:[Totale Consumi rimanenti]])","v":0},"HCB",null,null,null,0]
["051104",5,{"$f":"+MIN(Contributo_cer[[#This Row],[Totale Immissione in rete]:[Totale Consumi rimanenti]])","v":0},"HCB",null,null,null,0]
["051105",5,{"$f":"+MIN(Contributo_cer[[#This Row],[Totale Immissione in rete]:[Totale Consumi rimanenti]])","v":0},"HCB",null,null,null,0]
["051106",5,{"$f":"+MIN(Contributo_cer[[#This Row],[Totale Immissione in rete]:[Totale Consumi rimanenti]])","v":0},"HPB",null,null,null,0]
["051107",5,{"$f":"+MIN(Contributo_cer[[#This Row],[Totale Immissione in rete]:[Totale Consumi rimanenti]])","v":0},"HPB",null,null,null,0]
["051108",5,{"$f":"+MIN(Contributo_cer[[#This Row],[Totale Immissione in rete]:[Totale Consumi rimanenti]])","v":0},"HPB",null,null,null,0]
["051109",5,{"$f":"+MIN(Contributo_cer[[#This Row],[Totale Immissione in rete]:[Totale Consumi rimanenti]])","v":0},"HPB",null,null,null,0]
["051110",5,{"$f":"+MIN(Contributo_cer[[#This Row],[Totale Immissione in rete]:[Totale Consumi rimanenti]])","v":0},"HPB",null,null,null,0]
["051111",5,{"$f":"+MIN(Contributo_cer[[#This Row],[Totale Immissione in rete]:[Totale Consumi rimanenti]])","v":0},"HPB",null,null,null,0]
["051112",5,{"$f":"+MIN(Contributo_cer[[#This Row],[Totale Immissione in rete]:[Totale Consumi rimanenti]])","v":0},"HPB",null,null,null,0]
["051113",5,{"$f":"+MIN(Contributo_cer[[#This Row],[Totale Immissione in rete]:[Totale Consumi rimanenti]])","v":0},"HPB",null,null,null,0]
["051114",5,{"$f":"+MIN(Contributo_cer[[#This Row],[Totale Immissione in rete]:[Totale Consumi rimanenti]])","v":0},"HPB",null,null,null,0]
["051115",5,{"$f":"+MIN(Contributo_cer[[#This Row],[Totale Immissione in rete]:[Totale Consumi rimanenti]])","v":0},"HPB",null,null,null,0]
["051116",5,{"$f":"+MIN(Contributo_cer[[#This Row],[Totale Immissione in rete]:[Totale Consumi rimanenti]])","v":0},"HPB",null,null,null,0]
["051117",5,{"$f":"+MIN(Contributo_cer[[#This Row],[Totale Immissione in rete]:[Totale Consumi rimanenti]])","v":0},"HPB",null,null,null,0]
["051118",5,{"$f":"+MIN(Contributo_cer[[#This Row],[Totale Immissione in rete]:[Totale Consumi rimanenti]])","v":0},"HPB",null,null,null,0]
["051119",5,{"$f":"+MIN(Contributo_cer[[#This Row],[Totale Immissione in rete]:[Totale Consumi rimanenti]])","v":0},"HPB",null,null,null,0]
["051120",5,{"$f":"+MIN(Contributo_cer[[#This Row],[Totale Immissione in rete]:[Totale Consumi rimanenti]])","v":0},"HPB",null,null,null,0]
["051121",5,{"$f":"+MIN(Contributo_cer[[#This Row],[Totale Immissione in rete]:[Totale Consumi rimanenti]])","v":0},"HPB",null,null,null,0]
["051122",5,{"$f":"+MIN(Contributo_cer[[#This Row],[Totale Immissione in rete]:[Totale Consumi rimanenti]])","v":0},"HCB",null,null,null,0]
["051123",5,{"$f":"+MIN(Contributo_cer[[#This Row],[Totale Immissione in rete]:[Totale Consumi rimanenti]])","v":0},"HCB",null,null,null,0]
["051200",5,{"$f":"+MIN(Contributo_cer[[#This Row],[Totale Immissione in rete]:[Totale Consumi rimanenti]])","v":0},"HCB",null,null,null,0]
["051201",5,{"$f":"+MIN(Contributo_cer[[#This Row],[Totale Immissione in rete]:[Totale Consumi rimanenti]])","v":0},"HCB",null,null,null,0]
["051202",5,{"$f":"+MIN(Contributo_cer[[#This Row],[Totale Immissione in rete]:[Totale Consumi rimanenti]])","v":0},"HCB",null,null,null,0]
["051203",5,{"$f":"+MIN(Contributo_cer[[#This Row],[Totale Immissione in rete]:[Totale Consumi rimanenti]])","v":0},"HCB",null,null,null,0]
["051204",5,{"$f":"+MIN(Contributo_cer[[#This Row],[Totale Immissione in rete]:[Totale Consumi rimanenti]])","v":0},"HCB",null,null,null,0]
["051205",5,{"$f":"+MIN(Contributo_cer[[#This Row],[Totale Immissione in rete]:[Totale Consumi rimanenti]])","v":0},"HCB",null,null,null,0]
["051206",5,{"$f":"+MIN(Contributo_cer[[#This Row],[Totale Immissione in rete]:[Totale Consumi rimanenti]])","v":0},"HPB",null,null,null,0]
["051207",5,{"$f":"+MIN(Contributo_cer[[#This Row],[Totale Immissione in rete]:[Totale Consumi rimanenti]])","v":0},"HPB",null,null,null,0]
["051208",5,{"$f":"+MIN(Contributo_cer[[#This Row],[Totale Immissione in rete]:[Totale Consumi rimanenti]])","v":0},"HPB",null,null,null,0]
["051209",5,{"$f":"+MIN(Contributo_cer[[#This Row],[Totale Immissione in rete]:[Totale Consumi rimanenti]])","v":0},"HPB",null,null,null,0]
["051210",5,{"$f":"+MIN(Contributo_cer[[#This Row],[Totale Immissione in rete]:[Totale Consumi rimanenti]])","v":0},"HPB",null,null,null,0]
["051211",5,{"$f":"+MIN(Contributo_cer[[#This Row],[Totale Immissione in rete]:[Totale Consumi rimanenti]])","v":0},"HPB",null,null,null,0]
["051212",5,{"$f":"+MIN(Contributo_cer[[#This Row],[Totale Immissione in rete]:[Totale Consumi rimanenti]])","v":0},"HPB",null,null,null,0]
["051213",5,{"$f":"+MIN(Contributo_cer[[#This Row],[Totale Immissione in rete]:[Totale Consumi rimanenti]])","v":0},"HPB",null,null,null,0]
["051214",5,{"$f":"+MIN(Contributo_cer[[#This Row],[Totale Immissione in rete]:[Totale Consumi rimanenti]])","v":0},"HPB",null,null,null,0]
["051215",5,{"$f":"+MIN(Contributo_cer[[#This Row],[Totale Immissione in rete]:[Totale Consumi rimanenti]])","v":0},"HPB",null,null,null,0]
["051216",5,{"$f":"+MIN(Contributo_cer[[#This Row],[Totale Immissione in rete]:[Totale Consumi rimanenti]])","v":0},"HPB",null,null,null,0]
["051217",5,{"$f":"+MIN(Contributo_cer[[#This Row],[Totale Immissione in rete]:[Totale Consumi rimanenti]])","v":0},"HPB",null,null,null,0]
["051218",5,{"$f":"+MIN(Contributo_cer[[#This Row],[Totale Immissione in rete]:[Totale Consumi rimanenti]])","v":0},"HPB",null,null,null,0]
["051219",5,{"$f":"+MIN(Contributo_cer[[#This Row],[Totale Immissione in rete]:[Totale Consumi rimanenti]])","v":0},"HPB",null,null,null,0]
["051220",5,{"$f":"+MIN(Contributo_cer[[#This Row],[Totale Immissione in rete]:[Totale Consumi rimanenti]])","v":0},"HPB",null,null,null,0]
["051221",5,{"$f":"+MIN(Contributo_cer[[#This Row],[Totale Immissione in rete]:[Totale Consumi rimanenti]])","v":0},"HPB",null,null,null,0]
["051222",5,{"$f":"+MIN(Contributo_cer[[#This Row],[Totale Immissione in rete]:[Totale Consumi rimanenti]])","v":0},"HCB",null,null,null,0]
["051223",5,{"$f":"+MIN(Contributo_cer[[#This Row],[Totale Immissione in rete]:[Totale Consumi rimanenti]])","v":0},"HCB",null,null,null,0]
["051300",5,{"$f":"+MIN(Contributo_cer[[#This Row],[Totale Immissione in rete]:[Totale Consumi rimanenti]])","v":0},"HCB",null,null,null,0]
["051301",5,{"$f":"+MIN(Contributo_cer[[#This Row],[Totale Immissione in rete]:[Totale Consumi rimanenti]])","v":0},"HCB",null,null,null,0]
["051302",5,{"$f":"+MIN(Contributo_cer[[#This Row],[Totale Immissione in rete]:[Totale Consumi rimanenti]])","v":0},"HCB",null,null,null,0]
["051303",5,{"$f":"+MIN(Contributo_cer[[#This Row],[Totale Immissione in rete]:[Totale Consumi rimanenti]])","v":0},"HCB",null,null,null,0]
["051304",5,{"$f":"+MIN(Contributo_cer[[#This Row],[Totale Immissione in rete]:[Totale Consumi rimanenti]])","v":0},"HCB",null,null,null,0]
["051305",5,{"$f":"+MIN(Contributo_cer[[#This Row],[Totale Immissione in rete]:[Totale Consumi rimanenti]])","v":0},"HCB",null,null,null,0]
["051306",5,{"$f":"+MIN(Contributo_cer[[#This Row],[Totale Immissione in rete]:[Totale Consumi rimanenti]])","v":0},"HPB",null,null,null,0]
["051307",5,{"$f":"+MIN(Contributo_cer[[#This Row],[Totale Immissione in rete]:[Totale Consumi rimanenti]])","v":0},"HPB",null,null,null,0]
["051308",5,{"$f":"+MIN(Contributo_cer[[#This Row],[Totale Immissione in rete]:[Totale Consumi rimanenti]])","v":0},"HPB",null,null,null,0]
["051309",5,{"$f":"+MIN(Contributo_cer[[#This Row],[Totale Immissione in rete]:[Totale Consumi rimanenti]])","v":0},"HPB",null,null,null,0]
["051310",5,{"$f":"+MIN(Contributo_cer[[#This Row],[Totale Immissione in rete]:[Totale Consumi rimanenti]])","v":0},"HPB",null,null,null,0]
["051311",5,{"$f":"+MIN(Contributo_cer[[#This Row],[Totale Immissione in rete]:[Totale Consumi rimanenti]])","v":0},"HPB",null,null,null,0]
["051312",5,{"$f":"+MIN(Contributo_cer[[#This Row],[Totale Immissione in rete]:[Totale Consumi rimanenti]])","v":0},"HPB",null,null,null,0]
["051313",5,{"$f":"+MIN(Contributo_cer[[#This Row],[Totale Immissione in rete]:[Totale Consumi rimanenti]])","v":0},"HPB",null,null,null,0]
["051314",5,{"$f":"+MIN(Contributo_cer[[#This Row],[Totale Immissione in rete]:[Totale Consumi rimanenti]])","v":0},"HPB",null,null,null,0]
["051315",5,{"$f":"+MIN(Contributo_cer[[#This Row],[Totale Immissione in rete]:[Totale Consumi rimanenti]])","v":0},"HPB",null,null,null,0]
["051316",5,{"$f":"+MIN(Contributo_cer[[#This Row],[Totale Immissione in rete]:[Totale Consumi rimanenti]])","v":0},"HPB",null,null,null,0]
["051317",5,{"$f":"+MIN(Contributo_cer[[#This Row],[Totale Immissione in rete]:[Totale Consumi rimanenti]])","v":0},"HPB",null,null,null,0]
["051318",5,{"$f":"+MIN(Contributo_cer[[#This Row],[Totale Immissione in rete]:[Totale Consumi rimanenti]])","v":0},"HPB",null,null,null,0]
["051319",5,{"$f":"+MIN(Contributo_cer[[#This Row],[Totale Immissione in rete]:[Totale Consumi rimanenti]])","v":0},"HPB",null,null,null,0]
["051320",5,{"$f":"+MIN(Contributo_cer[[#This Row],[Totale Immissione in rete]:[Totale Consumi rimanenti]])","v":0},"HPB",null,null,null,0]
["051321",5,{"$f":"+MIN(Contributo_cer[[#This Row],[Totale Immissione in rete]:[Totale Consumi rimanenti]])","v":0},"HPB",null,null,null,0]
["051322",5,{"$f":"+MIN(Contributo_cer[[#This Row],[Totale Immissione in rete]:[Totale Consumi rimanenti]])","v":0},"HCB",null,null,null,0]
["051323",5,{"$f":"+MIN(Contributo_cer[[#This Row],[Totale Immissione in rete]:[Totale Consumi rimanenti]])","v":0},"HCB",null,null,null,0]
["051400",5,{"$f":"+MIN(Contributo_cer[[#This Row],[Totale Immissione in rete]:[Totale Consumi rimanenti]])","v":0},"HCB",null,null,null,0]
["051401",5,{"$f":"+MIN(Contributo_cer[[#This Row],[Totale Immissione in rete]:[Totale Consumi rimanenti]])","v":0},"HCB",null,null,null,0]
["051402",5,{"$f":"+MIN(Contributo_cer[[#This Row],[Totale Immissione in rete]:[Totale Consumi rimanenti]])","v":0},"HCB",null,null,null,0]
["051403",5,{"$f":"+MIN(Contributo_cer[[#This Row],[Totale Immissione in rete]:[Totale Consumi rimanenti]])","v":0},"HCB",null,null,null,0]
["051404",5,{"$f":"+MIN(Contributo_cer[[#This Row],[Totale Immissione in rete]:[Totale Consumi rimanenti]])","v":0},"HCB",null,null,null,0]
["051405",5,{"$f":"+MIN(Contributo_cer[[#This Row],[Totale Immissione in rete]:[Totale Consumi rimanenti]])","v":0},"HCB",null,null,null,0]
["051406",5,{"$f":"+MIN(Contributo_cer[[#This Row],[Totale Immissione in rete]:[Totale Consumi rimanenti]])","v":0},"HPB",null,null,null,0]
["051407",5,{"$f":"+MIN(Contributo_cer[[#This Row],[Totale Immissione in rete]:[Totale Consumi rimanenti]])","v":0},"HPB",null,null,null,0]
["051408",5,{"$f":"+MIN(Contributo_cer[[#This Row],[Totale Immissione in rete]:[Totale Consumi rimanenti]])","v":0},"HPB",null,null,null,0]
["051409",5,{"$f":"+MIN(Contributo_cer[[#This Row],[Totale Immissione in rete]:[Totale Consumi rimanenti]])","v":0},"HPB",null,null,null,0]
["051410",5,{"$f":"+MIN(Contributo_cer[[#This Row],[Totale Immissione in rete]:[Totale Consumi rimanenti]])","v":0},"HPB",null,null,null,0]
["051411",5,{"$f":"+MIN(Contributo_cer[[#This Row],[Totale Immissione in rete]:[Totale Consumi rimanenti]])","v":0},"HPB",null,null,null,0]
["051412",5,{"$f":"+MIN(Contributo_cer[[#This Row],[Totale Immissione in rete]:[Totale Consumi rimanenti]])","v":0},"HPB",null,null,null,0]
["051413",5,{"$f":"+MIN(Contributo_cer[[#This Row],[Totale Immissione in rete]:[Totale Consumi rimanenti]])","v":0},"HPB",null,null,null,0]
["051414",5,{"$f":"+MIN(Contributo_cer[[#This Row],[Totale Immissione in rete]:[Totale Consumi rimanenti]])","v":0},"HPB",null,null,null,0]
["051415",5,{"$f":"+MIN(Contributo_cer[[#This Row],[Totale Immissione in rete]:[Totale Consumi rimanenti]])","v":0},"HPB",null,null,null,0]
["051416",5,{"$f":"+MIN(Contributo_cer[[#This Row],[Totale Immissione in rete]:[Totale Consumi rimanenti]])","v":0},"HPB",null,null,null,0]
["051417",5,{"$f":"+MIN(Contributo_cer[[#This Row],[Totale Immissione in rete]:[Totale Consumi rimanenti]])","v":0},"HPB",null,null,null,0]
["051418",5,{"$f":"+MIN(Contributo_cer[[#This Row],[Totale Immissione in rete]:[Totale Consumi rimanenti]])","v":0},"HPB",null,null,null,0]
["051419",5,{"$f":"+MIN(Contributo_cer[[#This Row],[Totale Immissione in rete]:[Totale Consumi rimanenti]])","v":0},"HPB",null,null,null,0]
["051420",5,{"$f":"+MIN(Contributo_cer[[#This Row],[Totale Immissione in rete]:[Totale Consumi rimanenti]])","v":0},"HPB",null,null,null,0]
["051421",5,{"$f":"+MIN(Contributo_cer[[#This Row],[Totale Immissione in rete]:[Totale Consumi rimanenti]])","v":0},"HPB",null,null,null,0]
["051422",5,{"$f":"+MIN(Contributo_cer[[#This Row],[Totale Immissione in rete]:[Totale Consumi rimanenti]])","v":0},"HCB",null,null,null,0]
["051423",5,{"$f":"+MIN(Contributo_cer[[#This Row],[Totale Immissione in rete]:[Totale Consumi rimanenti]])","v":0},"HCB",null,null,null,0]
["051500",5,{"$f":"+MIN(Contributo_cer[[#This Row],[Totale Immissione in rete]:[Totale Consumi rimanenti]])","v":0},"HCB",null,null,null,0]
["051501",5,{"$f":"+MIN(Contributo_cer[[#This Row],[Totale Immissione in rete]:[Totale Consumi rimanenti]])","v":0},"HCB",null,null,null,0]
["051502",5,{"$f":"+MIN(Contributo_cer[[#This Row],[Totale Immissione in rete]:[Totale Consumi rimanenti]])","v":0},"HCB",null,null,null,0]
["051503",5,{"$f":"+MIN(Contributo_cer[[#This Row],[Totale Immissione in rete]:[Totale Consumi rimanenti]])","v":0},"HCB",null,null,null,0]
["051504",5,{"$f":"+MIN(Contributo_cer[[#This Row],[Totale Immissione in rete]:[Totale Consumi rimanenti]])","v":0},"HCB",null,null,null,0]
["051505",5,{"$f":"+MIN(Contributo_cer[[#This Row],[Totale Immissione in rete]:[Totale Consumi rimanenti]])","v":0},"HCB",null,null,null,0]
["051506",5,{"$f":"+MIN(Contributo_cer[[#This Row],[Totale Immissione in rete]:[Totale Consumi rimanenti]])","v":0},"HPB",null,null,null,0]
["051507",5,{"$f":"+MIN(Contributo_cer[[#This Row],[Totale Immissione in rete]:[Totale Consumi rimanenti]])","v":0},"HPB",null,null,null,0]
["051508",5,{"$f":"+MIN(Contributo_cer[[#This Row],[Totale Immissione in rete]:[Totale Consumi rimanenti]])","v":0},"HPB",null,null,null,0]
["051509",5,{"$f":"+MIN(Contributo_cer[[#This Row],[Totale Immissione in rete]:[Totale Consumi rimanenti]])","v":0},"HPB",null,null,null,0]
["051510",5,{"$f":"+MIN(Contributo_cer[[#This Row],[Totale Immissione in rete]:[Totale Consumi rimanenti]])","v":0},"HPB",null,null,null,0]
["051511",5,{"$f":"+MIN(Contributo_cer[[#This Row],[Totale Immissione in rete]:[Totale Consumi rimanenti]])","v":0},"HPB",null,null,null,0]
["051512",5,{"$f":"+MIN(Contributo_cer[[#This Row],[Totale Immissione in rete]:[Totale Consumi rimanenti]])","v":0},"HPB",null,null,null,0]
["051513",5,{"$f":"+MIN(Contributo_cer[[#This Row],[Totale Immissione in rete]:[Totale Consumi rimanenti]])","v":0},"HPB",null,null,null,0]
["051514",5,{"$f":"+MIN(Contributo_cer[[#This Row],[Totale Immissione in rete]:[Totale Consumi rimanenti]])","v":0},"HPB",null,null,null,0]
["051515",5,{"$f":"+MIN(Contributo_cer[[#This Row],[Totale Immissione in rete]:[Totale Consumi rimanenti]])","v":0},"HPB",null,null,null,0]
["051516",5,{"$f":"+MIN(Contributo_cer[[#This Row],[Totale Immissione in rete]:[Totale Consumi rimanenti]])","v":0},"HPB",null,null,null,0]
["051517",5,{"$f":"+MIN(Contributo_cer[[#This Row],[Totale Immissione in rete]:[Totale Consumi rimanenti]])","v":0},"HPB",null,null,null,0]
["051518",5,{"$f":"+MIN(Contributo_cer[[#This Row],[Totale Immissione in rete]:[Totale Consumi rimanenti]])","v":0},"HPB",null,null,null,0]
["051519",5,{"$f":"+MIN(Contributo_cer[[#This Row],[Totale Immissione in rete]:[Totale Consumi rimanenti]])","v":0},"HPB",null,null,null,0]
["051520",5,{"$f":"+MIN(Contributo_cer[[#This Row],[Totale Immissione in rete]:[Totale Consumi rimanenti]])","v":0},"HPB",null,null,null,0]
["051521",5,{"$f":"+MIN(Contributo_cer[[#This Row],[Totale Immissione in rete]:[Totale Consumi rimanenti]])","v":0},"HPB",null,null,null,0]
["051522",5,{"$f":"+MIN(Contributo_cer[[#This Row],[Totale Immissione in rete]:[Totale Consumi rimanenti]])","v":0},"HCB",null,null,null,0]
["051523",5,{"$f":"+MIN(Contributo_cer[[#This Row],[Totale Immissione in rete]:[Totale Consumi rimanenti]])","v":0},"HCB",null,null,null,0]
["051600",5,{"$f":"+MIN(Contributo_cer[[#This Row],[Totale Immissione in rete]:[Totale Consumi rimanenti]])","v":0},"HCB",null,null,null,0]
["051601",5,{"$f":"+MIN(Contributo_cer[[#This Row],[Totale Immissione in rete]:[Totale Consumi rimanenti]])","v":0},"HCB",null,null,null,0]
["051602",5,{"$f":"+MIN(Contributo_cer[[#This Row],[Totale Immissione in rete]:[Totale Consumi rimanenti]])","v":0},"HCB",null,null,null,0]
["051603",5,{"$f":"+MIN(Contributo_cer[[#This Row],[Totale Immissione in rete]:[Totale Consumi rimanenti]])","v":0},"HCB",null,null,null,0]
["051604",5,{"$f":"+MIN(Contributo_cer[[#This Row],[Totale Immissione in rete]:[Totale Consumi rimanenti]])","v":0},"HCB",null,null,null,0]
["051605",5,{"$f":"+MIN(Contributo_cer[[#This Row],[Totale Immissione in rete]:[Totale Consumi rimanenti]])","v":0},"HCB",null,null,null,0]
["051606",5,{"$f":"+MIN(Contributo_cer[[#This Row],[Totale Immissione in rete]:[Totale Consumi rimanenti]])","v":0},"HPB",null,null,null,0]
["051607",5,{"$f":"+MIN(Contributo_cer[[#This Row],[Totale Immissione in rete]:[Totale Consumi rimanenti]])","v":0},"HPB",null,null,null,0]
["051608",5,{"$f":"+MIN(Contributo_cer[[#This Row],[Totale Immissione in rete]:[Totale Consumi rimanenti]])","v":0},"HPB",null,null,null,0]
["051609",5,{"$f":"+MIN(Contributo_cer[[#This Row],[Totale Immissione in rete]:[Totale Consumi rimanenti]])","v":0},"HPB",null,null,null,0]
["051610",5,{"$f":"+MIN(Contributo_cer[[#This Row],[Totale Immissione in rete]:[Totale Consumi rimanenti]])","v":0},"HPB",null,null,null,0]
["051611",5,{"$f":"+MIN(Contributo_cer[[#This Row],[Totale Immissione in rete]:[Totale Consumi rimanenti]])","v":0},"HPB",null,null,null,0]
["051612",5,{"$f":"+MIN(Contributo_cer[[#This Row],[Totale Immissione in rete]:[Totale Consumi rimanenti]])","v":0},"HPB",null,null,null,0]
["051613",5,{"$f":"+MIN(Contributo_cer[[#This Row],[Totale Immissione in rete]:[Totale Consumi rimanenti]])","v":0},"HPB",null,null,null,0]
["051614",5,{"$f":"+MIN(Contributo_cer[[#This Row],[Totale Immissione in rete]:[Totale Consumi rimanenti]])","v":0},"HPB",null,null,null,0]
["051615",5,{"$f":"+MIN(Contributo_cer[[#This Row],[Totale Immissione in rete]:[Totale Consumi rimanenti]])","v":0},"HPB",null,null,null,0]
["051616",5,{"$f":"+MIN(Contributo_cer[[#This Row],[Totale Immissione in rete]:[Totale Consumi rimanenti]])","v":0},"HPB",null,null,null,0]
["051617",5,{"$f":"+MIN(Contributo_cer[[#This Row],[Totale Immissione in rete]:[Totale Consumi rimanenti]])","v":0},"HPB",null,null,null,0]
["051618",5,{"$f":"+MIN(Contributo_cer[[#This Row],[Totale Immissione in rete]:[Totale Consumi rimanenti]])","v":0},"HPB",null,null,null,0]
["051619",5,{"$f":"+MIN(Contributo_cer[[#This Row],[Totale Immissione in rete]:[Totale Consumi rimanenti]])","v":0},"HPB",null,null,null,0]
["051620",5,{"$f":"+MIN(Contributo_cer[[#This Row],[Totale Immissione in rete]:[Totale Consumi rimanenti]])","v":0},"HPB",null,null,null,0]
["051621",5,{"$f":"+MIN(Contributo_cer[[#This Row],[Totale Immissione in rete]:[Totale Consumi rimanenti]])","v":0},"HPB",null,null,null,0]
["051622",5,{"$f":"+MIN(Contributo_cer[[#This Row],[Totale Immissione in rete]:[Totale Consumi rimanenti]])","v":0},"HCB",null,null,null,0]
["051623",5,{"$f":"+MIN(Contributo_cer[[#This Row],[Totale Immissione in rete]:[Totale Consumi rimanenti]])","v":0},"HCB",null,null,null,0]
["051700",5,{"$f":"+MIN(Contributo_cer[[#This Row],[Totale Immissione in rete]:[Totale Consumi rimanenti]])","v":0},"HCB",null,null,null,0]
["051701",5,{"$f":"+MIN(Contributo_cer[[#This Row],[Totale Immissione in rete]:[Totale Consumi rimanenti]])","v":0},"HCB",null,null,null,0]
["051702",5,{"$f":"+MIN(Contributo_cer[[#This Row],[Totale Immissione in rete]:[Totale Consumi rimanenti]])","v":0},"HCB",null,null,null,0]
["051703",5,{"$f":"+MIN(Contributo_cer[[#This Row],[Totale Immissione in rete]:[Totale Consumi rimanenti]])","v":0},"HCB",null,null,null,0]
["051704",5,{"$f":"+MIN(Contributo_cer[[#This Row],[Totale Immissione in rete]:[Totale Consumi rimanenti]])","v":0},"HCB",null,null,null,0]
["051705",5,{"$f":"+MIN(Contributo_cer[[#This Row],[Totale Immissione in rete]:[Totale Consumi rimanenti]])","v":0},"HCB",null,null,null,0]
["051706",5,{"$f":"+MIN(Contributo_cer[[#This Row],[Totale Immissione in rete]:[Totale Consumi rimanenti]])","v":0},"HPB",null,null,null,0]
["051707",5,{"$f":"+MIN(Contributo_cer[[#This Row],[Totale Immissione in rete]:[Totale Consumi rimanenti]])","v":0},"HPB",null,null,null,0]
["051708",5,{"$f":"+MIN(Contributo_cer[[#This Row],[Totale Immissione in rete]:[Totale Consumi rimanenti]])","v":0},"HPB",null,null,null,0]
["051709",5,{"$f":"+MIN(Contributo_cer[[#This Row],[Totale Immissione in rete]:[Totale Consumi rimanenti]])","v":0},"HPB",null,null,null,0]
["051710",5,{"$f":"+MIN(Contributo_cer[[#This Row],[Totale Immissione in rete]:[Totale Consumi rimanenti]])","v":0},"HPB",null,null,null,0]
["051711",5,{"$f":"+MIN(Contributo_cer[[#This Row],[Totale Immissione in rete]:[Totale Consumi rimanenti]])","v":0},"HPB",null,null,null,0]
["051712",5,{"$f":"+MIN(Contributo_cer[[#This Row],[Totale Immissione in rete]:[Totale Consumi rimanenti]])","v":0},"HPB",null,null,null,0]
["051713",5,{"$f":"+MIN(Contributo_cer[[#This Row],[Totale Immissione in rete]:[Totale Consumi rimanenti]])","v":0},"HPB",null,null,null,0]
["051714",5,{"$f":"+MIN(Contributo_cer[[#This Row],[Totale Immissione in rete]:[Totale Consumi rimanenti]])","v":0},"HPB",null,null,null,0]
["051715",5,{"$f":"+MIN(Contributo_cer[[#This Row],[Totale Immissione in rete]:[Totale Consumi rimanenti]])","v":0},"HPB",null,null,null,0]
["051716",5,{"$f":"+MIN(Contributo_cer[[#This Row],[Totale Immissione in rete]:[Totale Consumi rimanenti]])","v":0},"HPB",null,null,null,0]
["051717",5,{"$f":"+MIN(Contributo_cer[[#This Row],[Totale Immissione in rete]:[Totale Consumi rimanenti]])","v":0},"HPB",null,null,null,0]
["051718",5,{"$f":"+MIN(Contributo_cer[[#This Row],[Totale Immissione in rete]:[Totale Consumi rimanenti]])","v":0},"HPB",null,null,null,0]
["051719",5,{"$f":"+MIN(Contributo_cer[[#This Row],[Totale Immissione in rete]:[Totale Consumi rimanenti]])","v":0},"HPB",null,null,null,0]
["051720",5,{"$f":"+MIN(Contributo_cer[[#This Row],[Totale Immissione in rete]:[Totale Consumi rimanenti]])","v":0},"HPB",null,null,null,0]
["051721",5,{"$f":"+MIN(Contributo_cer[[#This Row],[Totale Immissione in rete]:[Totale Consumi rimanenti]])","v":0},"HPB",null,null,null,0]
["051722",5,{"$f":"+MIN(Contributo_cer[[#This Row],[Totale Immissione in rete]:[Totale Consumi rimanenti]])","v":0},"HCB",null,null,null,0]
["051723",5,{"$f":"+MIN(Contributo_cer[[#This Row],[Totale Immissione in rete]:[Totale Consumi rimanenti]])","v":0},"HCB",null,null,null,0]
["051800",5,{"$f":"+MIN(Contributo_cer[[#This Row],[Totale Immissione in rete]:[Totale Consumi rimanenti]])","v":0},"HCB",null,null,null,0]
["051801",5,{"$f":"+MIN(Contributo_cer[[#This Row],[Totale Immissione in rete]:[Totale Consumi rimanenti]])","v":0},"HCB",null,null,null,0]
["051802",5,{"$f":"+MIN(Contributo_cer[[#This Row],[Totale Immissione in rete]:[Totale Consumi rimanenti]])","v":0},"HCB",null,null,null,0]
["051803",5,{"$f":"+MIN(Contributo_cer[[#This Row],[Totale Immissione in rete]:[Totale Consumi rimanenti]])","v":0},"HCB",null,null,null,0]
["051804",5,{"$f":"+MIN(Contributo_cer[[#This Row],[Totale Immissione in rete]:[Totale Consumi rimanenti]])","v":0},"HCB",null,null,null,0]
["051805",5,{"$f":"+MIN(Contributo_cer[[#This Row],[Totale Immissione in rete]:[Totale Consumi rimanenti]])","v":0},"HCB",null,null,null,0]
["051806",5,{"$f":"+MIN(Contributo_cer[[#This Row],[Totale Immissione in rete]:[Totale Consumi rimanenti]])","v":0},"HPB",null,null,null,0]
["051807",5,{"$f":"+MIN(Contributo_cer[[#This Row],[Totale Immissione in rete]:[Totale Consumi rimanenti]])","v":0},"HPB",null,null,null,0]
["051808",5,{"$f":"+MIN(Contributo_cer[[#This Row],[Totale Immissione in rete]:[Totale Consumi rimanenti]])","v":0},"HPB",null,null,null,0]
["051809",5,{"$f":"+MIN(Contributo_cer[[#This Row],[Totale Immissione in rete]:[Totale Consumi rimanenti]])","v":0},"HPB",null,null,null,0]
["051810",5,{"$f":"+MIN(Contributo_cer[[#This Row],[Totale Immissione in rete]:[Totale Consumi rimanenti]])","v":0},"HPB",null,null,null,0]
["051811",5,{"$f":"+MIN(Contributo_cer[[#This Row],[Totale Immissione in rete]:[Totale Consumi rimanenti]])","v":0},"HPB",null,null,null,0]
["051812",5,{"$f":"+MIN(Contributo_cer[[#This Row],[Totale Immissione in rete]:[Totale Consumi rimanenti]])","v":0},"HPB",null,null,null,0]
["051813",5,{"$f":"+MIN(Contributo_cer[[#This Row],[Totale Immissione in rete]:[Totale Consumi rimanenti]])","v":0},"HPB",null,null,null,0]
["051814",5,{"$f":"+MIN(Contributo_cer[[#This Row],[Totale Immissione in rete]:[Totale Consumi rimanenti]])","v":0},"HPB",null,null,null,0]
["051815",5,{"$f":"+MIN(Contributo_cer[[#This Row],[Totale Immissione in rete]:[Totale Consumi rimanenti]])","v":0},"HPB",null,null,null,0]
["051816",5,{"$f":"+MIN(Contributo_cer[[#This Row],[Totale Immissione in rete]:[Totale Consumi rimanenti]])","v":0},"HPB",null,null,null,0]
["051817",5,{"$f":"+MIN(Contributo_cer[[#This Row],[Totale Immissione in rete]:[Totale Consumi rimanenti]])","v":0},"HPB",null,null,null,0]
["051818",5,{"$f":"+MIN(Contributo_cer[[#This Row],[Totale Immissione in rete]:[Totale Consumi rimanenti]])","v":0},"HPB",null,null,null,0]
["051819",5,{"$f":"+MIN(Contributo_cer[[#This Row],[Totale Immissione in rete]:[Totale Consumi rimanenti]])","v":0},"HPB",null,null,null,0]
["051820",5,{"$f":"+MIN(Contributo_cer[[#This Row],[Totale Immissione in rete]:[Totale Consumi rimanenti]])","v":0},"HPB",null,null,null,0]
["051821",5,{"$f":"+MIN(Contributo_cer[[#This Row],[Totale Immissione in rete]:[Totale Consumi rimanenti]])","v":0},"HPB",null,null,null,0]
["051822",5,{"$f":"+MIN(Contributo_cer[[#This Row],[Totale Immissione in rete]:[Totale Consumi rimanenti]])","v":0},"HCB",null,null,null,0]
["051823",5,{"$f":"+MIN(Contributo_cer[[#This Row],[Totale Immissione in rete]:[Totale Consumi rimanenti]])","v":0},"HCB",null,null,null,0]
["051900",5,{"$f":"+MIN(Contributo_cer[[#This Row],[Totale Immissione in rete]:[Totale Consumi rimanenti]])","v":0},"HCB",null,null,null,0]
["051901",5,{"$f":"+MIN(Contributo_cer[[#This Row],[Totale Immissione in rete]:[Totale Consumi rimanenti]])","v":0},"HCB",null,null,null,0]
["051902",5,{"$f":"+MIN(Contributo_cer[[#This Row],[Totale Immissione in rete]:[Totale Consumi rimanenti]])","v":0},"HCB",null,null,null,0]
["051903",5,{"$f":"+MIN(Contributo_cer[[#This Row],[Totale Immissione in rete]:[Totale Consumi rimanenti]])","v":0},"HCB",null,null,null,0]
["051904",5,{"$f":"+MIN(Contributo_cer[[#This Row],[Totale Immissione in rete]:[Totale Consumi rimanenti]])","v":0},"HCB",null,null,null,0]
["051905",5,{"$f":"+MIN(Contributo_cer[[#This Row],[Totale Immissione in rete]:[Totale Consumi rimanenti]])","v":0},"HCB",null,null,null,0]
["051906",5,{"$f":"+MIN(Contributo_cer[[#This Row],[Totale Immissione in rete]:[Totale Consumi rimanenti]])","v":0},"HPB",null,null,null,0]
["051907",5,{"$f":"+MIN(Contributo_cer[[#This Row],[Totale Immissione in rete]:[Totale Consumi rimanenti]])","v":0},"HPB",null,null,null,0]
["051908",5,{"$f":"+MIN(Contributo_cer[[#This Row],[Totale Immissione in rete]:[Totale Consumi rimanenti]])","v":0},"HPB",null,null,null,0]
["051909",5,{"$f":"+MIN(Contributo_cer[[#This Row],[Totale Immissione in rete]:[Totale Consumi rimanenti]])","v":0},"HPB",null,null,null,0]
["051910",5,{"$f":"+MIN(Contributo_cer[[#This Row],[Totale Immissione in rete]:[Totale Consumi rimanenti]])","v":0},"HPB",null,null,null,0]
["051911",5,{"$f":"+MIN(Contributo_cer[[#This Row],[Totale Immissione in rete]:[Totale Consumi rimanenti]])","v":0},"HPB",null,null,null,0]
["051912",5,{"$f":"+MIN(Contributo_cer[[#This Row],[Totale Immissione in rete]:[Totale Consumi rimanenti]])","v":0},"HPB",null,null,null,0]
["051913",5,{"$f":"+MIN(Contributo_cer[[#This Row],[Totale Immissione in rete]:[Totale Consumi rimanenti]])","v":0},"HPB",null,null,null,0]
["051914",5,{"$f":"+MIN(Contributo_cer[[#This Row],[Totale Immissione in rete]:[Totale Consumi rimanenti]])","v":0},"HPB",null,null,null,0]
["051915",5,{"$f":"+MIN(Contributo_cer[[#This Row],[Totale Immissione in rete]:[Totale Consumi rimanenti]])","v":0},"HPB",null,null,null,0]
["051916",5,{"$f":"+MIN(Contributo_cer[[#This Row],[Totale Immissione in rete]:[Totale Consumi rimanenti]])","v":0},"HPB",null,null,null,0]
["051917",5,{"$f":"+MIN(Contributo_cer[[#This Row],[Totale Immissione in rete]:[Totale Consumi rimanenti]])","v":0},"HPB",null,null,null,0]
["051918",5,{"$f":"+MIN(Contributo_cer[[#This Row],[Totale Immissione in rete]:[Totale Consumi rimanenti]])","v":0},"HPB",null,null,null,0]
["051919",5,{"$f":"+MIN(Contributo_cer[[#This Row],[Totale Immissione in rete]:[Totale Consumi rimanenti]])","v":0},"HPB",null,null,null,0]
["051920",5,{"$f":"+MIN(Contributo_cer[[#This Row],[Totale Immissione in rete]:[Totale Consumi rimanenti]])","v":0},"HPB",null,null,null,0]
["051921",5,{"$f":"+MIN(Contributo_cer[[#This Row],[Totale Immissione in rete]:[Totale Consumi rimanenti]])","v":0},"HPB",null,null,null,0]
["051922",5,{"$f":"+MIN(Contributo_cer[[#This Row],[Totale Immissione in rete]:[Totale Consumi rimanenti]])","v":0},"HCB",null,null,null,0]
["051923",5,{"$f":"+MIN(Contributo_cer[[#This Row],[Totale Immissione in rete]:[Totale Consumi rimanenti]])","v":0},"HCB",null,null,null,0]
["052000",5,{"$f":"+MIN(Contributo_cer[[#This Row],[Totale Immissione in rete]:[Totale Consumi rimanenti]])","v":0},"HCB",null,null,null,0]
["052001",5,{"$f":"+MIN(Contributo_cer[[#This Row],[Totale Immissione in rete]:[Totale Consumi rimanenti]])","v":0},"HCB",null,null,null,0]
["052002",5,{"$f":"+MIN(Contributo_cer[[#This Row],[Totale Immissione in rete]:[Totale Consumi rimanenti]])","v":0},"HCB",null,null,null,0]
["052003",5,{"$f":"+MIN(Contributo_cer[[#This Row],[Totale Immissione in rete]:[Totale Consumi rimanenti]])","v":0},"HCB",null,null,null,0]
["052004",5,{"$f":"+MIN(Contributo_cer[[#This Row],[Totale Immissione in rete]:[Totale Consumi rimanenti]])","v":0},"HCB",null,null,null,0]
["052005",5,{"$f":"+MIN(Contributo_cer[[#This Row],[Totale Immissione in rete]:[Totale Consumi rimanenti]])","v":0},"HCB",null,null,null,0]
["052006",5,{"$f":"+MIN(Contributo_cer[[#This Row],[Totale Immissione in rete]:[Totale Consumi rimanenti]])","v":0},"HPB",null,null,null,0]
["052007",5,{"$f":"+MIN(Contributo_cer[[#This Row],[Totale Immissione in rete]:[Totale Consumi rimanenti]])","v":0},"HPB",null,null,null,0]
["052008",5,{"$f":"+MIN(Contributo_cer[[#This Row],[Totale Immissione in rete]:[Totale Consumi rimanenti]])","v":0},"HPB",null,null,null,0]
["052009",5,{"$f":"+MIN(Contributo_cer[[#This Row],[Totale Immissione in rete]:[Totale Consumi rimanenti]])","v":0},"HPB",null,null,null,0]
["052010",5,{"$f":"+MIN(Contributo_cer[[#This Row],[Totale Immissione in rete]:[Totale Consumi rimanenti]])","v":0},"HPB",null,null,null,0]
["052011",5,{"$f":"+MIN(Contributo_cer[[#This Row],[Totale Immissione in rete]:[Totale Consumi rimanenti]])","v":0},"HPB",null,null,null,0]
["052012",5,{"$f":"+MIN(Contributo_cer[[#This Row],[Totale Immissione in rete]:[Totale Consumi rimanenti]])","v":0},"HPB",null,null,null,0]
["052013",5,{"$f":"+MIN(Contributo_cer[[#This Row],[Totale Immissione in rete]:[Totale Consumi rimanenti]])","v":0},"HPB",null,null,null,0]
["052014",5,{"$f":"+MIN(Contributo_cer[[#This Row],[Totale Immissione in rete]:[Totale Consumi rimanenti]])","v":0},"HPB",null,null,null,0]
["052015",5,{"$f":"+MIN(Contributo_cer[[#This Row],[Totale Immissione in rete]:[Totale Consumi rimanenti]])","v":0},"HPB",null,null,null,0]
["052016",5,{"$f":"+MIN(Contributo_cer[[#This Row],[Totale Immissione in rete]:[Totale Consumi rimanenti]])","v":0},"HPB",null,null,null,0]
["052017",5,{"$f":"+MIN(Contributo_cer[[#This Row],[Totale Immissione in rete]:[Totale Consumi rimanenti]])","v":0},"HPB",null,null,null,0]
["052018",5,{"$f":"+MIN(Contributo_cer[[#This Row],[Totale Immissione in rete]:[Totale Consumi rimanenti]])","v":0},"HPB",null,null,null,0]
["052019",5,{"$f":"+MIN(Contributo_cer[[#This Row],[Totale Immissione in rete]:[Totale Consumi rimanenti]])","v":0},"HPB",null,null,null,0]
["052020",5,{"$f":"+MIN(Contributo_cer[[#This Row],[Totale Immissione in rete]:[Totale Consumi rimanenti]])","v":0},"HPB",null,null,null,0]
["052021",5,{"$f":"+MIN(Contributo_cer[[#This Row],[Totale Immissione in rete]:[Totale Consumi rimanenti]])","v":0},"HPB",null,null,null,0]
["052022",5,{"$f":"+MIN(Contributo_cer[[#This Row],[Totale Immissione in rete]:[Totale Consumi rimanenti]])","v":0},"HCB",null,null,null,0]
["052023",5,{"$f":"+MIN(Contributo_cer[[#This Row],[Totale Immissione in rete]:[Totale Consumi rimanenti]])","v":0},"HCB",null,null,null,0]
["052100",5,{"$f":"+MIN(Contributo_cer[[#This Row],[Totale Immissione in rete]:[Totale Consumi rimanenti]])","v":0},"HCB",null,null,null,0]
["052101",5,{"$f":"+MIN(Contributo_cer[[#This Row],[Totale Immissione in rete]:[Totale Consumi rimanenti]])","v":0},"HCB",null,null,null,0]
["052102",5,{"$f":"+MIN(Contributo_cer[[#This Row],[Totale Immissione in rete]:[Totale Consumi rimanenti]])","v":0},"HCB",null,null,null,0]
["052103",5,{"$f":"+MIN(Contributo_cer[[#This Row],[Totale Immissione in rete]:[Totale Consumi rimanenti]])","v":0},"HCB",null,null,null,0]
["052104",5,{"$f":"+MIN(Contributo_cer[[#This Row],[Totale Immissione in rete]:[Totale Consumi rimanenti]])","v":0},"HCB",null,null,null,0]
["052105",5,{"$f":"+MIN(Contributo_cer[[#This Row],[Totale Immissione in rete]:[Totale Consumi rimanenti]])","v":0},"HCB",null,null,null,0]
["052106",5,{"$f":"+MIN(Contributo_cer[[#This Row],[Totale Immissione in rete]:[Totale Consumi rimanenti]])","v":0},"HPB",null,null,null,0]
["052107",5,{"$f":"+MIN(Contributo_cer[[#This Row],[Totale Immissione in rete]:[Totale Consumi rimanenti]])","v":0},"HPB",null,null,null,0]
["052108",5,{"$f":"+MIN(Contributo_cer[[#This Row],[Totale Immissione in rete]:[Totale Consumi rimanenti]])","v":0},"HPB",null,null,null,0]
["052109",5,{"$f":"+MIN(Contributo_cer[[#This Row],[Totale Immissione in rete]:[Totale Consumi rimanenti]])","v":0},"HPB",null,null,null,0]
["052110",5,{"$f":"+MIN(Contributo_cer[[#This Row],[Totale Immissione in rete]:[Totale Consumi rimanenti]])","v":0},"HPB",null,null,null,0]
["052111",5,{"$f":"+MIN(Contributo_cer[[#This Row],[Totale Immissione in rete]:[Totale Consumi rimanenti]])","v":0},"HPB",null,null,null,0]
["052112",5,{"$f":"+MIN(Contributo_cer[[#This Row],[Totale Immissione in rete]:[Totale Consumi rimanenti]])","v":0},"HPB",null,null,null,0]
["052113",5,{"$f":"+MIN(Contributo_cer[[#This Row],[Totale Immissione in rete]:[Totale Consumi rimanenti]])","v":0},"HPB",null,null,null,0]
["052114",5,{"$f":"+MIN(Contributo_cer[[#This Row],[Totale Immissione in rete]:[Totale Consumi rimanenti]])","v":0},"HPB",null,null,null,0]
["052115",5,{"$f":"+MIN(Contributo_cer[[#This Row],[Totale Immissione in rete]:[Totale Consumi rimanenti]])","v":0},"HPB",null,null,null,0]
["052116",5,{"$f":"+MIN(Contributo_cer[[#This Row],[Totale Immissione in rete]:[Totale Consumi rimanenti]])","v":0},"HPB",null,null,null,0]
["052117",5,{"$f":"+MIN(Contributo_cer[[#This Row],[Totale Immissione in rete]:[Totale Consumi rimanenti]])","v":0},"HPB",null,null,null,0]
["052118",5,{"$f":"+MIN(Contributo_cer[[#This Row],[Totale Immissione in rete]:[Totale Consumi rimanenti]])","v":0},"HPB",null,null,null,0]
["052119",5,{"$f":"+MIN(Contributo_cer[[#This Row],[Totale Immissione in rete]:[Totale Consumi rimanenti]])","v":0},"HPB",null,null,null,0]
["052120",5,{"$f":"+MIN(Contributo_cer[[#This Row],[Totale Immissione in rete]:[Totale Consumi rimanenti]])","v":0},"HPB",null,null,null,0]
["052121",5,{"$f":"+MIN(Contributo_cer[[#This Row],[Totale Immissione in rete]:[Totale Consumi rimanenti]])","v":0},"HPB",null,null,null,0]
["052122",5,{"$f":"+MIN(Contributo_cer[[#This Row],[Totale Immissione in rete]:[Totale Consumi rimanenti]])","v":0},"HCB",null,null,null,0]
["052123",5,{"$f":"+MIN(Contributo_cer[[#This Row],[Totale Immissione in rete]:[Totale Consumi rimanenti]])","v":0},"HCB",null,null,null,0]
["052200",5,{"$f":"+MIN(Contributo_cer[[#This Row],[Totale Immissione in rete]:[Totale Consumi rimanenti]])","v":0},"HCB",null,null,null,0]
["052201",5,{"$f":"+MIN(Contributo_cer[[#This Row],[Totale Immissione in rete]:[Totale Consumi rimanenti]])","v":0},"HCB",null,null,null,0]
["052202",5,{"$f":"+MIN(Contributo_cer[[#This Row],[Totale Immissione in rete]:[Totale Consumi rimanenti]])","v":0},"HCB",null,null,null,0]
["052203",5,{"$f":"+MIN(Contributo_cer[[#This Row],[Totale Immissione in rete]:[Totale Consumi rimanenti]])","v":0},"HCB",null,null,null,0]
["052204",5,{"$f":"+MIN(Contributo_cer[[#This Row],[Totale Immissione in rete]:[Totale Consumi rimanenti]])","v":0},"HCB",null,null,null,0]
["052205",5,{"$f":"+MIN(Contributo_cer[[#This Row],[Totale Immissione in rete]:[Totale Consumi rimanenti]])","v":0},"HCB",null,null,null,0]
["052206",5,{"$f":"+MIN(Contributo_cer[[#This Row],[Totale Immissione in rete]:[Totale Consumi rimanenti]])","v":0},"HPB",null,null,null,0]
["052207",5,{"$f":"+MIN(Contributo_cer[[#This Row],[Totale Immissione in rete]:[Totale Consumi rimanenti]])","v":0},"HPB",null,null,null,0]
["052208",5,{"$f":"+MIN(Contributo_cer[[#This Row],[Totale Immissione in rete]:[Totale Consumi rimanenti]])","v":0},"HPB",null,null,null,0]
["052209",5,{"$f":"+MIN(Contributo_cer[[#This Row],[Totale Immissione in rete]:[Totale Consumi rimanenti]])","v":0},"HPB",null,null,null,0]
["052210",5,{"$f":"+MIN(Contributo_cer[[#This Row],[Totale Immissione in rete]:[Totale Consumi rimanenti]])","v":0},"HPB",null,null,null,0]
["052211",5,{"$f":"+MIN(Contributo_cer[[#This Row],[Totale Immissione in rete]:[Totale Consumi rimanenti]])","v":0},"HPB",null,null,null,0]
["052212",5,{"$f":"+MIN(Contributo_cer[[#This Row],[Totale Immissione in rete]:[Totale Consumi rimanenti]])","v":0},"HPB",null,null,null,0]
["052213",5,{"$f":"+MIN(Contributo_cer[[#This Row],[Totale Immissione in rete]:[Totale Consumi rimanenti]])","v":0},"HPB",null,null,null,0]
["052214",5,{"$f":"+MIN(Contributo_cer[[#This Row],[Totale Immissione in rete]:[Totale Consumi rimanenti]])","v":0},"HPB",null,null,null,0]
["052215",5,{"$f":"+MIN(Contributo_cer[[#This Row],[Totale Immissione in rete]:[Totale Consumi rimanenti]])","v":0},"HPB",null,null,null,0]
["052216",5,{"$f":"+MIN(Contributo_cer[[#This Row],[Totale Immissione in rete]:[Totale Consumi rimanenti]])","v":0},"HPB",null,null,null,0]
["052217",5,{"$f":"+MIN(Contributo_cer[[#This Row],[Totale Immissione in rete]:[Totale Consumi rimanenti]])","v":0},"HPB",null,null,null,0]
["052218",5,{"$f":"+MIN(Contributo_cer[[#This Row],[Totale Immissione in rete]:[Totale Consumi rimanenti]])","v":0},"HPB",null,null,null,0]
["052219",5,{"$f":"+MIN(Contributo_cer[[#This Row],[Totale Immissione in rete]:[Totale Consumi rimanenti]])","v":0},"HPB",null,null,null,0]
["052220",5,{"$f":"+MIN(Contributo_cer[[#This Row],[Totale Immissione in rete]:[Totale Consumi rimanenti]])","v":0},"HPB",null,null,null,0]
["052221",5,{"$f":"+MIN(Contributo_cer[[#This Row],[Totale Immissione in rete]:[Totale Consumi rimanenti]])","v":0},"HPB",null,null,null,0]
["052222",5,{"$f":"+MIN(Contributo_cer[[#This Row],[Totale Immissione in rete]:[Totale Consumi rimanenti]])","v":0},"HCB",null,null,null,0]
["052223",5,{"$f":"+MIN(Contributo_cer[[#This Row],[Totale Immissione in rete]:[Totale Consumi rimanenti]])","v":0},"HCB",null,null,null,0]
["052300",5,{"$f":"+MIN(Contributo_cer[[#This Row],[Totale Immissione in rete]:[Totale Consumi rimanenti]])","v":0},"HCB",null,null,null,0]
["052301",5,{"$f":"+MIN(Contributo_cer[[#This Row],[Totale Immissione in rete]:[Totale Consumi rimanenti]])","v":0},"HCB",null,null,null,0]
["052302",5,{"$f":"+MIN(Contributo_cer[[#This Row],[Totale Immissione in rete]:[Totale Consumi rimanenti]])","v":0},"HCB",null,null,null,0]
["052303",5,{"$f":"+MIN(Contributo_cer[[#This Row],[Totale Immissione in rete]:[Totale Consumi rimanenti]])","v":0},"HCB",null,null,null,0]
["052304",5,{"$f":"+MIN(Contributo_cer[[#This Row],[Totale Immissione in rete]:[Totale Consumi rimanenti]])","v":0},"HCB",null,null,null,0]
["052305",5,{"$f":"+MIN(Contributo_cer[[#This Row],[Totale Immissione in rete]:[Totale Consumi rimanenti]])","v":0},"HCB",null,null,null,0]
["052306",5,{"$f":"+MIN(Contributo_cer[[#This Row],[Totale Immissione in rete]:[Totale Consumi rimanenti]])","v":0},"HPB",null,null,null,0]
["052307",5,{"$f":"+MIN(Contributo_cer[[#This Row],[Totale Immissione in rete]:[Totale Consumi rimanenti]])","v":0},"HPB",null,null,null,0]
["052308",5,{"$f":"+MIN(Contributo_cer[[#This Row],[Totale Immissione in rete]:[Totale Consumi rimanenti]])","v":0},"HPB",null,null,null,0]
["052309",5,{"$f":"+MIN(Contributo_cer[[#This Row],[Totale Immissione in rete]:[Totale Consumi rimanenti]])","v":0},"HPB",null,null,null,0]
["052310",5,{"$f":"+MIN(Contributo_cer[[#This Row],[Totale Immissione in rete]:[Totale Consumi rimanenti]])","v":0},"HPB",null,null,null,0]
["052311",5,{"$f":"+MIN(Contributo_cer[[#This Row],[Totale Immissione in rete]:[Totale Consumi rimanenti]])","v":0},"HPB",null,null,null,0]
["052312",5,{"$f":"+MIN(Contributo_cer[[#This Row],[Totale Immissione in rete]:[Totale Consumi rimanenti]])","v":0},"HPB",null,null,null,0]
["052313",5,{"$f":"+MIN(Contributo_cer[[#This Row],[Totale Immissione in rete]:[Totale Consumi rimanenti]])","v":0},"HPB",null,null,null,0]
["052314",5,{"$f":"+MIN(Contributo_cer[[#This Row],[Totale Immissione in rete]:[Totale Consumi rimanenti]])","v":0},"HPB",null,null,null,0]
["052315",5,{"$f":"+MIN(Contributo_cer[[#This Row],[Totale Immissione in rete]:[Totale Consumi rimanenti]])","v":0},"HPB",null,null,null,0]
["052316",5,{"$f":"+MIN(Contributo_cer[[#This Row],[Totale Immissione in rete]:[Totale Consumi rimanenti]])","v":0},"HPB",null,null,null,0]
["052317",5,{"$f":"+MIN(Contributo_cer[[#This Row],[Totale Immissione in rete]:[Totale Consumi rimanenti]])","v":0},"HPB",null,null,null,0]
["052318",5,{"$f":"+MIN(Contributo_cer[[#This Row],[Totale Immissione in rete]:[Totale Consumi rimanenti]])","v":0},"HPB",null,null,null,0]
["052319",5,{"$f":"+MIN(Contributo_cer[[#This Row],[Totale Immissione in rete]:[Totale Consumi rimanenti]])","v":0},"HPB",null,null,null,0]
["052320",5,{"$f":"+MIN(Contributo_cer[[#This Row],[Totale Immissione in rete]:[Totale Consumi rimanenti]])","v":0},"HPB",null,null,null,0]
["052321",5,{"$f":"+MIN(Contributo_cer[[#This Row],[Totale Immissione in rete]:[Totale Consumi rimanenti]])","v":0},"HPB",null,null,null,0]
["052322",5,{"$f":"+MIN(Contributo_cer[[#This Row],[Totale Immissione in rete]:[Totale Consumi rimanenti]])","v":0},"HCB",null,null,null,0]
["052323",5,{"$f":"+MIN(Contributo_cer[[#This Row],[Totale Immissione in rete]:[Totale Consumi rimanenti]])","v":0},"HCB",null,null,null,0]
["052400",5,{"$f":"+MIN(Contributo_cer[[#This Row],[Totale Immissione in rete]:[Totale Consumi rimanenti]])","v":0},"HCB",null,null,null,0]
["052401",5,{"$f":"+MIN(Contributo_cer[[#This Row],[Totale Immissione in rete]:[Totale Consumi rimanenti]])","v":0},"HCB",null,null,null,0]
["052402",5,{"$f":"+MIN(Contributo_cer[[#This Row],[Totale Immissione in rete]:[Totale Consumi rimanenti]])","v":0},"HCB",null,null,null,0]
["052403",5,{"$f":"+MIN(Contributo_cer[[#This Row],[Totale Immissione in rete]:[Totale Consumi rimanenti]])","v":0},"HCB",null,null,null,0]
["052404",5,{"$f":"+MIN(Contributo_cer[[#This Row],[Totale Immissione in rete]:[Totale Consumi rimanenti]])","v":0},"HCB",null,null,null,0]
["052405",5,{"$f":"+MIN(Contributo_cer[[#This Row],[Totale Immissione in rete]:[Totale Consumi rimanenti]])","v":0},"HCB",null,null,null,0]
["052406",5,{"$f":"+MIN(Contributo_cer[[#This Row],[Totale Immissione in rete]:[Totale Consumi rimanenti]])","v":0},"HPB",null,null,null,0]
["052407",5,{"$f":"+MIN(Contributo_cer[[#This Row],[Totale Immissione in rete]:[Totale Consumi rimanenti]])","v":0},"HPB",null,null,null,0]
["052408",5,{"$f":"+MIN(Contributo_cer[[#This Row],[Totale Immissione in rete]:[Totale Consumi rimanenti]])","v":0},"HPB",null,null,null,0]
["052409",5,{"$f":"+MIN(Contributo_cer[[#This Row],[Totale Immissione in rete]:[Totale Consumi rimanenti]])","v":0},"HPB",null,null,null,0]
["052410",5,{"$f":"+MIN(Contributo_cer[[#This Row],[Totale Immissione in rete]:[Totale Consumi rimanenti]])","v":0},"HPB",null,null,null,0]
["052411",5,{"$f":"+MIN(Contributo_cer[[#This Row],[Totale Immissione in rete]:[Totale Consumi rimanenti]])","v":0},"HPB",null,null,null,0]
["052412",5,{"$f":"+MIN(Contributo_cer[[#This Row],[Totale Immissione in rete]:[Totale Consumi rimanenti]])","v":0},"HPB",null,null,null,0]
["052413",5,{"$f":"+MIN(Contributo_cer[[#This Row],[Totale Immissione in rete]:[Totale Consumi rimanenti]])","v":0},"HPB",null,null,null,0]
["052414",5,{"$f":"+MIN(Contributo_cer[[#This Row],[Totale Immissione in rete]:[Totale Consumi rimanenti]])","v":0},"HPB",null,null,null,0]
["052415",5,{"$f":"+MIN(Contributo_cer[[#This Row],[Totale Immissione in rete]:[Totale Consumi rimanenti]])","v":0},"HPB",null,null,null,0]
["052416",5,{"$f":"+MIN(Contributo_cer[[#This Row],[Totale Immissione in rete]:[Totale Consumi rimanenti]])","v":0},"HPB",null,null,null,0]
["052417",5,{"$f":"+MIN(Contributo_cer[[#This Row],[Totale Immissione in rete]:[Totale Consumi rimanenti]])","v":0},"HPB",null,null,null,0]
["052418",5,{"$f":"+MIN(Contributo_cer[[#This Row],[Totale Immissione in rete]:[Totale Consumi rimanenti]])","v":0},"HPB",null,null,null,0]
["052419",5,{"$f":"+MIN(Contributo_cer[[#This Row],[Totale Immissione in rete]:[Totale Consumi rimanenti]])","v":0},"HPB",null,null,null,0]
["052420",5,{"$f":"+MIN(Contributo_cer[[#This Row],[Totale Immissione in rete]:[Totale Consumi rimanenti]])","v":0},"HPB",null,null,null,0]
["052421",5,{"$f":"+MIN(Contributo_cer[[#This Row],[Totale Immissione in rete]:[Totale Consumi rimanenti]])","v":0},"HPB",null,null,null,0]
["052422",5,{"$f":"+MIN(Contributo_cer[[#This Row],[Totale Immissione in rete]:[Totale Consumi rimanenti]])","v":0},"HCB",null,null,null,0]
["052423",5,{"$f":"+MIN(Contributo_cer[[#This Row],[Totale Immissione in rete]:[Totale Consumi rimanenti]])","v":0},"HCB",null,null,null,0]
["052500",5,{"$f":"+MIN(Contributo_cer[[#This Row],[Totale Immissione in rete]:[Totale Consumi rimanenti]])","v":0},"HCB",null,null,null,0]
["052501",5,{"$f":"+MIN(Contributo_cer[[#This Row],[Totale Immissione in rete]:[Totale Consumi rimanenti]])","v":0},"HCB",null,null,null,0]
["052502",5,{"$f":"+MIN(Contributo_cer[[#This Row],[Totale Immissione in rete]:[Totale Consumi rimanenti]])","v":0},"HCB",null,null,null,0]
["052503",5,{"$f":"+MIN(Contributo_cer[[#This Row],[Totale Immissione in rete]:[Totale Consumi rimanenti]])","v":0},"HCB",null,null,null,0]
["052504",5,{"$f":"+MIN(Contributo_cer[[#This Row],[Totale Immissione in rete]:[Totale Consumi rimanenti]])","v":0},"HCB",null,null,null,0]
["052505",5,{"$f":"+MIN(Contributo_cer[[#This Row],[Totale Immissione in rete]:[Totale Consumi rimanenti]])","v":0},"HCB",null,null,null,0]
["052506",5,{"$f":"+MIN(Contributo_cer[[#This Row],[Totale Immissione in rete]:[Totale Consumi rimanenti]])","v":0},"HPB",null,null,null,0]
["052507",5,{"$f":"+MIN(Contributo_cer[[#This Row],[Totale Immissione in rete]:[Totale Consumi rimanenti]])","v":0},"HPB",null,null,null,0]
["052508",5,{"$f":"+MIN(Contributo_cer[[#This Row],[Totale Immissione in rete]:[Totale Consumi rimanenti]])","v":0},"HPB",null,null,null,0]
["052509",5,{"$f":"+MIN(Contributo_cer[[#This Row],[Totale Immissione in rete]:[Totale Consumi rimanenti]])","v":0},"HPB",null,null,null,0]
["052510",5,{"$f":"+MIN(Contributo_cer[[#This Row],[Totale Immissione in rete]:[Totale Consumi rimanenti]])","v":0},"HPB",null,null,null,0]
["052511",5,{"$f":"+MIN(Contributo_cer[[#This Row],[Totale Immissione in rete]:[Totale Consumi rimanenti]])","v":0},"HPB",null,null,null,0]
["052512",5,{"$f":"+MIN(Contributo_cer[[#This Row],[Totale Immissione in rete]:[Totale Consumi rimanenti]])","v":0},"HPB",null,null,null,0]
["052513",5,{"$f":"+MIN(Contributo_cer[[#This Row],[Totale Immissione in rete]:[Totale Consumi rimanenti]])","v":0},"HPB",null,null,null,0]
["052514",5,{"$f":"+MIN(Contributo_cer[[#This Row],[Totale Immissione in rete]:[Totale Consumi rimanenti]])","v":0},"HPB",null,null,null,0]
["052515",5,{"$f":"+MIN(Contributo_cer[[#This Row],[Totale Immissione in rete]:[Totale Consumi rimanenti]])","v":0},"HPB",null,null,null,0]
["052516",5,{"$f":"+MIN(Contributo_cer[[#This Row],[Totale Immissione in rete]:[Totale Consumi rimanenti]])","v":0},"HPB",null,null,null,0]
["052517",5,{"$f":"+MIN(Contributo_cer[[#This Row],[Totale Immissione in rete]:[Totale Consumi rimanenti]])","v":0},"HPB",null,null,null,0]
["052518",5,{"$f":"+MIN(Contributo_cer[[#This Row],[Totale Immissione in rete]:[Totale Consumi rimanenti]])","v":0},"HPB",null,null,null,0]
["052519",5,{"$f":"+MIN(Contributo_cer[[#This Row],[Totale Immissione in rete]:[Totale Consumi rimanenti]])","v":0},"HPB",null,null,null,0]
["052520",5,{"$f":"+MIN(Contributo_cer[[#This Row],[Totale Immissione in rete]:[Totale Consumi rimanenti]])","v":0},"HPB",null,null,null,0]
["052521",5,{"$f":"+MIN(Contributo_cer[[#This Row],[Totale Immissione in rete]:[Totale Consumi rimanenti]])","v":0},"HPB",null,null,null,0]
["052522",5,{"$f":"+MIN(Contributo_cer[[#This Row],[Totale Immissione in rete]:[Totale Consumi rimanenti]])","v":0},"HCB",null,null,null,0]
["052523",5,{"$f":"+MIN(Contributo_cer[[#This Row],[Totale Immissione in rete]:[Totale Consumi rimanenti]])","v":0},"HCB",null,null,null,0]
["052600",5,{"$f":"+MIN(Contributo_cer[[#This Row],[Totale Immissione in rete]:[Totale Consumi rimanenti]])","v":0},"HCB",null,null,null,0]
["052601",5,{"$f":"+MIN(Contributo_cer[[#This Row],[Totale Immissione in rete]:[Totale Consumi rimanenti]])","v":0},"HCB",null,null,null,0]
["052602",5,{"$f":"+MIN(Contributo_cer[[#This Row],[Totale Immissione in rete]:[Totale Consumi rimanenti]])","v":0},"HCB",null,null,null,0]
["052603",5,{"$f":"+MIN(Contributo_cer[[#This Row],[Totale Immissione in rete]:[Totale Consumi rimanenti]])","v":0},"HCB",null,null,null,0]
["052604",5,{"$f":"+MIN(Contributo_cer[[#This Row],[Totale Immissione in rete]:[Totale Consumi rimanenti]])","v":0},"HCB",null,null,null,0]
["052605",5,{"$f":"+MIN(Contributo_cer[[#This Row],[Totale Immissione in rete]:[Totale Consumi rimanenti]])","v":0},"HCB",null,null,null,0]
["052606",5,{"$f":"+MIN(Contributo_cer[[#This Row],[Totale Immissione in rete]:[Totale Consumi rimanenti]])","v":0},"HPB",null,null,null,0]
["052607",5,{"$f":"+MIN(Contributo_cer[[#This Row],[Totale Immissione in rete]:[Totale Consumi rimanenti]])","v":0},"HPB",null,null,null,0]
["052608",5,{"$f":"+MIN(Contributo_cer[[#This Row],[Totale Immissione in rete]:[Totale Consumi rimanenti]])","v":0},"HPB",null,null,null,0]
["052609",5,{"$f":"+MIN(Contributo_cer[[#This Row],[Totale Immissione in rete]:[Totale Consumi rimanenti]])","v":0},"HPB",null,null,null,0]
["052610",5,{"$f":"+MIN(Contributo_cer[[#This Row],[Totale Immissione in rete]:[Totale Consumi rimanenti]])","v":0},"HPB",null,null,null,0]
["052611",5,{"$f":"+MIN(Contributo_cer[[#This Row],[Totale Immissione in rete]:[Totale Consumi rimanenti]])","v":0},"HPB",null,null,null,0]
["052612",5,{"$f":"+MIN(Contributo_cer[[#This Row],[Totale Immissione in rete]:[Totale Consumi rimanenti]])","v":0},"HPB",null,null,null,0]
["052613",5,{"$f":"+MIN(Contributo_cer[[#This Row],[Totale Immissione in rete]:[Totale Consumi rimanenti]])","v":0},"HPB",null,null,null,0]
["052614",5,{"$f":"+MIN(Contributo_cer[[#This Row],[Totale Immissione in rete]:[Totale Consumi rimanenti]])","v":0},"HPB",null,null,null,0]
["052615",5,{"$f":"+MIN(Contributo_cer[[#This Row],[Totale Immissione in rete]:[Totale Consumi rimanenti]])","v":0},"HPB",null,null,null,0]
["052616",5,{"$f":"+MIN(Contributo_cer[[#This Row],[Totale Immissione in rete]:[Totale Consumi rimanenti]])","v":0},"HPB",null,null,null,0]
["052617",5,{"$f":"+MIN(Contributo_cer[[#This Row],[Totale Immissione in rete]:[Totale Consumi rimanenti]])","v":0},"HPB",null,null,null,0]
["052618",5,{"$f":"+MIN(Contributo_cer[[#This Row],[Totale Immissione in rete]:[Totale Consumi rimanenti]])","v":0},"HPB",null,null,null,0]
["052619",5,{"$f":"+MIN(Contributo_cer[[#This Row],[Totale Immissione in rete]:[Totale Consumi rimanenti]])","v":0},"HPB",null,null,null,0]
["052620",5,{"$f":"+MIN(Contributo_cer[[#This Row],[Totale Immissione in rete]:[Totale Consumi rimanenti]])","v":0},"HPB",null,null,null,0]
["052621",5,{"$f":"+MIN(Contributo_cer[[#This Row],[Totale Immissione in rete]:[Totale Consumi rimanenti]])","v":0},"HPB",null,null,null,0]
["052622",5,{"$f":"+MIN(Contributo_cer[[#This Row],[Totale Immissione in rete]:[Totale Consumi rimanenti]])","v":0},"HCB",null,null,null,0]
["052623",5,{"$f":"+MIN(Contributo_cer[[#This Row],[Totale Immissione in rete]:[Totale Consumi rimanenti]])","v":0},"HCB",null,null,null,0]
["052700",5,{"$f":"+MIN(Contributo_cer[[#This Row],[Totale Immissione in rete]:[Totale Consumi rimanenti]])","v":0},"HCB",null,null,null,0]
["052701",5,{"$f":"+MIN(Contributo_cer[[#This Row],[Totale Immissione in rete]:[Totale Consumi rimanenti]])","v":0},"HCB",null,null,null,0]
["052702",5,{"$f":"+MIN(Contributo_cer[[#This Row],[Totale Immissione in rete]:[Totale Consumi rimanenti]])","v":0},"HCB",null,null,null,0]
["052703",5,{"$f":"+MIN(Contributo_cer[[#This Row],[Totale Immissione in rete]:[Totale Consumi rimanenti]])","v":0},"HCB",null,null,null,0]
["052704",5,{"$f":"+MIN(Contributo_cer[[#This Row],[Totale Immissione in rete]:[Totale Consumi rimanenti]])","v":0},"HCB",null,null,null,0]
["052705",5,{"$f":"+MIN(Contributo_cer[[#This Row],[Totale Immissione in rete]:[Totale Consumi rimanenti]])","v":0},"HCB",null,null,null,0]
["052706",5,{"$f":"+MIN(Contributo_cer[[#This Row],[Totale Immissione in rete]:[Totale Consumi rimanenti]])","v":0},"HPB",null,null,null,0]
["052707",5,{"$f":"+MIN(Contributo_cer[[#This Row],[Totale Immissione in rete]:[Totale Consumi rimanenti]])","v":0},"HPB",null,null,null,0]
["052708",5,{"$f":"+MIN(Contributo_cer[[#This Row],[Totale Immissione in rete]:[Totale Consumi rimanenti]])","v":0},"HPB",null,null,null,0]
["052709",5,{"$f":"+MIN(Contributo_cer[[#This Row],[Totale Immissione in rete]:[Totale Consumi rimanenti]])","v":0},"HPB",null,null,null,0]
["052710",5,{"$f":"+MIN(Contributo_cer[[#This Row],[Totale Immissione in rete]:[Totale Consumi rimanenti]])","v":0},"HPB",null,null,null,0]
["052711",5,{"$f":"+MIN(Contributo_cer[[#This Row],[Totale Immissione in rete]:[Totale Consumi rimanenti]])","v":0},"HPB",null,null,null,0]
["052712",5,{"$f":"+MIN(Contributo_cer[[#This Row],[Totale Immissione in rete]:[Totale Consumi rimanenti]])","v":0},"HPB",null,null,null,0]
["052713",5,{"$f":"+MIN(Contributo_cer[[#This Row],[Totale Immissione in rete]:[Totale Consumi rimanenti]])","v":0},"HPB",null,null,null,0]
["052714",5,{"$f":"+MIN(Contributo_cer[[#This Row],[Totale Immissione in rete]:[Totale Consumi rimanenti]])","v":0},"HPB",null,null,null,0]
["052715",5,{"$f":"+MIN(Contributo_cer[[#This Row],[Totale Immissione in rete]:[Totale Consumi rimanenti]])","v":0},"HPB",null,null,null,0]
["052716",5,{"$f":"+MIN(Contributo_cer[[#This Row],[Totale Immissione in rete]:[Totale Consumi rimanenti]])","v":0},"HPB",null,null,null,0]
["052717",5,{"$f":"+MIN(Contributo_cer[[#This Row],[Totale Immissione in rete]:[Totale Consumi rimanenti]])","v":0},"HPB",null,null,null,0]
["052718",5,{"$f":"+MIN(Contributo_cer[[#This Row],[Totale Immissione in rete]:[Totale Consumi rimanenti]])","v":0},"HPB",null,null,null,0]
["052719",5,{"$f":"+MIN(Contributo_cer[[#This Row],[Totale Immissione in rete]:[Totale Consumi rimanenti]])","v":0},"HPB",null,null,null,0]
["052720",5,{"$f":"+MIN(Contributo_cer[[#This Row],[Totale Immissione in rete]:[Totale Consumi rimanenti]])","v":0},"HPB",null,null,null,0]
["052721",5,{"$f":"+MIN(Contributo_cer[[#This Row],[Totale Immissione in rete]:[Totale Consumi rimanenti]])","v":0},"HPB",null,null,null,0]
["052722",5,{"$f":"+MIN(Contributo_cer[[#This Row],[Totale Immissione in rete]:[Totale Consumi rimanenti]])","v":0},"HCB",null,null,null,0]
["052723",5,{"$f":"+MIN(Contributo_cer[[#This Row],[Totale Immissione in rete]:[Totale Consumi rimanenti]])","v":0},"HCB",null,null,null,0]
["052800",5,{"$f":"+MIN(Contributo_cer[[#This Row],[Totale Immissione in rete]:[Totale Consumi rimanenti]])","v":0},"HCB",null,null,null,0]
["052801",5,{"$f":"+MIN(Contributo_cer[[#This Row],[Totale Immissione in rete]:[Totale Consumi rimanenti]])","v":0},"HCB",null,null,null,0]
["052802",5,{"$f":"+MIN(Contributo_cer[[#This Row],[Totale Immissione in rete]:[Totale Consumi rimanenti]])","v":0},"HCB",null,null,null,0]
["052803",5,{"$f":"+MIN(Contributo_cer[[#This Row],[Totale Immissione in rete]:[Totale Consumi rimanenti]])","v":0},"HCB",null,null,null,0]
["052804",5,{"$f":"+MIN(Contributo_cer[[#This Row],[Totale Immissione in rete]:[Totale Consumi rimanenti]])","v":0},"HCB",null,null,null,0]
["052805",5,{"$f":"+MIN(Contributo_cer[[#This Row],[Totale Immissione in rete]:[Totale Consumi rimanenti]])","v":0},"HCB",null,null,null,0]
["052806",5,{"$f":"+MIN(Contributo_cer[[#This Row],[Totale Immissione in rete]:[Totale Consumi rimanenti]])","v":0},"HPB",null,null,null,0]
["052807",5,{"$f":"+MIN(Contributo_cer[[#This Row],[Totale Immissione in rete]:[Totale Consumi rimanenti]])","v":0},"HPB",null,null,null,0]
["052808",5,{"$f":"+MIN(Contributo_cer[[#This Row],[Totale Immissione in rete]:[Totale Consumi rimanenti]])","v":0},"HPB",null,null,null,0]
["052809",5,{"$f":"+MIN(Contributo_cer[[#This Row],[Totale Immissione in rete]:[Totale Consumi rimanenti]])","v":0},"HPB",null,null,null,0]
["052810",5,{"$f":"+MIN(Contributo_cer[[#This Row],[Totale Immissione in rete]:[Totale Consumi rimanenti]])","v":0},"HPB",null,null,null,0]
["052811",5,{"$f":"+MIN(Contributo_cer[[#This Row],[Totale Immissione in rete]:[Totale Consumi rimanenti]])","v":0},"HPB",null,null,null,0]
["052812",5,{"$f":"+MIN(Contributo_cer[[#This Row],[Totale Immissione in rete]:[Totale Consumi rimanenti]])","v":0},"HPB",null,null,null,0]
["052813",5,{"$f":"+MIN(Contributo_cer[[#This Row],[Totale Immissione in rete]:[Totale Consumi rimanenti]])","v":0},"HPB",null,null,null,0]
["052814",5,{"$f":"+MIN(Contributo_cer[[#This Row],[Totale Immissione in rete]:[Totale Consumi rimanenti]])","v":0},"HPB",null,null,null,0]
["052815",5,{"$f":"+MIN(Contributo_cer[[#This Row],[Totale Immissione in rete]:[Totale Consumi rimanenti]])","v":0},"HPB",null,null,null,0]
["052816",5,{"$f":"+MIN(Contributo_cer[[#This Row],[Totale Immissione in rete]:[Totale Consumi rimanenti]])","v":0},"HPB",null,null,null,0]
["052817",5,{"$f":"+MIN(Contributo_cer[[#This Row],[Totale Immissione in rete]:[Totale Consumi rimanenti]])","v":0},"HPB",null,null,null,0]
["052818",5,{"$f":"+MIN(Contributo_cer[[#This Row],[Totale Immissione in rete]:[Totale Consumi rimanenti]])","v":0},"HPB",null,null,null,0]
["052819",5,{"$f":"+MIN(Contributo_cer[[#This Row],[Totale Immissione in rete]:[Totale Consumi rimanenti]])","v":0},"HPB",null,null,null,0]
["052820",5,{"$f":"+MIN(Contributo_cer[[#This Row],[Totale Immissione in rete]:[Totale Consumi rimanenti]])","v":0},"HPB",null,null,null,0]
["052821",5,{"$f":"+MIN(Contributo_cer[[#This Row],[Totale Immissione in rete]:[Totale Consumi rimanenti]])","v":0},"HPB",null,null,null,0]
["052822",5,{"$f":"+MIN(Contributo_cer[[#This Row],[Totale Immissione in rete]:[Totale Consumi rimanenti]])","v":0},"HCB",null,null,null,0]
["052823",5,{"$f":"+MIN(Contributo_cer[[#This Row],[Totale Immissione in rete]:[Totale Consumi rimanenti]])","v":0},"HCB",null,null,null,0]
["052900",5,{"$f":"+MIN(Contributo_cer[[#This Row],[Totale Immissione in rete]:[Totale Consumi rimanenti]])","v":0},"HCB",null,null,null,0]
["052901",5,{"$f":"+MIN(Contributo_cer[[#This Row],[Totale Immissione in rete]:[Totale Consumi rimanenti]])","v":0},"HCB",null,null,null,0]
["052902",5,{"$f":"+MIN(Contributo_cer[[#This Row],[Totale Immissione in rete]:[Totale Consumi rimanenti]])","v":0},"HCB",null,null,null,0]
["052903",5,{"$f":"+MIN(Contributo_cer[[#This Row],[Totale Immissione in rete]:[Totale Consumi rimanenti]])","v":0},"HCB",null,null,null,0]
["052904",5,{"$f":"+MIN(Contributo_cer[[#This Row],[Totale Immissione in rete]:[Totale Consumi rimanenti]])","v":0},"HCB",null,null,null,0]
["052905",5,{"$f":"+MIN(Contributo_cer[[#This Row],[Totale Immissione in rete]:[Totale Consumi rimanenti]])","v":0},"HCB",null,null,null,0]
["052906",5,{"$f":"+MIN(Contributo_cer[[#This Row],[Totale Immissione in rete]:[Totale Consumi rimanenti]])","v":0},"HPB",null,null,null,0]
["052907",5,{"$f":"+MIN(Contributo_cer[[#This Row],[Totale Immissione in rete]:[Totale Consumi rimanenti]])","v":0},"HPB",null,null,null,0]
["052908",5,{"$f":"+MIN(Contributo_cer[[#This Row],[Totale Immissione in rete]:[Totale Consumi rimanenti]])","v":0},"HPB",null,null,null,0]
["052909",5,{"$f":"+MIN(Contributo_cer[[#This Row],[Totale Immissione in rete]:[Totale Consumi rimanenti]])","v":0},"HPB",null,null,null,0]
["052910",5,{"$f":"+MIN(Contributo_cer[[#This Row],[Totale Immissione in rete]:[Totale Consumi rimanenti]])","v":0},"HPB",null,null,null,0]
["052911",5,{"$f":"+MIN(Contributo_cer[[#This Row],[Totale Immissione in rete]:[Totale Consumi rimanenti]])","v":0},"HPB",null,null,null,0]
["052912",5,{"$f":"+MIN(Contributo_cer[[#This Row],[Totale Immissione in rete]:[Totale Consumi rimanenti]])","v":0},"HPB",null,null,null,0]
["052913",5,{"$f":"+MIN(Contributo_cer[[#This Row],[Totale Immissione in rete]:[Totale Consumi rimanenti]])","v":0},"HPB",null,null,null,0]
["052914",5,{"$f":"+MIN(Contributo_cer[[#This Row],[Totale Immissione in rete]:[Totale Consumi rimanenti]])","v":0},"HPB",null,null,null,0]
["052915",5,{"$f":"+MIN(Contributo_cer[[#This Row],[Totale Immissione in rete]:[Totale Consumi rimanenti]])","v":0},"HPB",null,null,null,0]
["052916",5,{"$f":"+MIN(Contributo_cer[[#This Row],[Totale Immissione in rete]:[Totale Consumi rimanenti]])","v":0},"HPB",null,null,null,0]
["052917",5,{"$f":"+MIN(Contributo_cer[[#This Row],[Totale Immissione in rete]:[Totale Consumi rimanenti]])","v":0},"HPB",null,null,null,0]
["052918",5,{"$f":"+MIN(Contributo_cer[[#This Row],[Totale Immissione in rete]:[Totale Consumi rimanenti]])","v":0},"HPB",null,null,null,0]
["052919",5,{"$f":"+MIN(Contributo_cer[[#This Row],[Totale Immissione in rete]:[Totale Consumi rimanenti]])","v":0},"HPB",null,null,null,0]
["052920",5,{"$f":"+MIN(Contributo_cer[[#This Row],[Totale Immissione in rete]:[Totale Consumi rimanenti]])","v":0},"HPB",null,null,null,0]
["052921",5,{"$f":"+MIN(Contributo_cer[[#This Row],[Totale Immissione in rete]:[Totale Consumi rimanenti]])","v":0},"HPB",null,null,null,0]
["052922",5,{"$f":"+MIN(Contributo_cer[[#This Row],[Totale Immissione in rete]:[Totale Consumi rimanenti]])","v":0},"HCB",null,null,null,0]
["052923",5,{"$f":"+MIN(Contributo_cer[[#This Row],[Totale Immissione in rete]:[Totale Consumi rimanenti]])","v":0},"HCB",null,null,null,0]
["053000",5,{"$f":"+MIN(Contributo_cer[[#This Row],[Totale Immissione in rete]:[Totale Consumi rimanenti]])","v":0},"HCB",null,null,null,0]
["053001",5,{"$f":"+MIN(Contributo_cer[[#This Row],[Totale Immissione in rete]:[Totale Consumi rimanenti]])","v":0},"HCB",null,null,null,0]
["053002",5,{"$f":"+MIN(Contributo_cer[[#This Row],[Totale Immissione in rete]:[Totale Consumi rimanenti]])","v":0},"HCB",null,null,null,0]
["053003",5,{"$f":"+MIN(Contributo_cer[[#This Row],[Totale Immissione in rete]:[Totale Consumi rimanenti]])","v":0},"HCB",null,null,null,0]
["053004",5,{"$f":"+MIN(Contributo_cer[[#This Row],[Totale Immissione in rete]:[Totale Consumi rimanenti]])","v":0},"HCB",null,null,null,0]
["053005",5,{"$f":"+MIN(Contributo_cer[[#This Row],[Totale Immissione in rete]:[Totale Consumi rimanenti]])","v":0},"HCB",null,null,null,0]
["053006",5,{"$f":"+MIN(Contributo_cer[[#This Row],[Totale Immissione in rete]:[Totale Consumi rimanenti]])","v":0},"HPB",null,null,null,0]
["053007",5,{"$f":"+MIN(Contributo_cer[[#This Row],[Totale Immissione in rete]:[Totale Consumi rimanenti]])","v":0},"HPB",null,null,null,0]
["053008",5,{"$f":"+MIN(Contributo_cer[[#This Row],[Totale Immissione in rete]:[Totale Consumi rimanenti]])","v":0},"HPB",null,null,null,0]
["053009",5,{"$f":"+MIN(Contributo_cer[[#This Row],[Totale Immissione in rete]:[Totale Consumi rimanenti]])","v":0},"HPB",null,null,null,0]
["053010",5,{"$f":"+MIN(Contributo_cer[[#This Row],[Totale Immissione in rete]:[Totale Consumi rimanenti]])","v":0},"HPB",null,null,null,0]
["053011",5,{"$f":"+MIN(Contributo_cer[[#This Row],[Totale Immissione in rete]:[Totale Consumi rimanenti]])","v":0},"HPB",null,null,null,0]
["053012",5,{"$f":"+MIN(Contributo_cer[[#This Row],[Totale Immissione in rete]:[Totale Consumi rimanenti]])","v":0},"HPB",null,null,null,0]
["053013",5,{"$f":"+MIN(Contributo_cer[[#This Row],[Totale Immissione in rete]:[Totale Consumi rimanenti]])","v":0},"HPB",null,null,null,0]
["053014",5,{"$f":"+MIN(Contributo_cer[[#This Row],[Totale Immissione in rete]:[Totale Consumi rimanenti]])","v":0},"HPB",null,null,null,0]
["053015",5,{"$f":"+MIN(Contributo_cer[[#This Row],[Totale Immissione in rete]:[Totale Consumi rimanenti]])","v":0},"HPB",null,null,null,0]
["053016",5,{"$f":"+MIN(Contributo_cer[[#This Row],[Totale Immissione in rete]:[Totale Consumi rimanenti]])","v":0},"HPB",null,null,null,0]
["053017",5,{"$f":"+MIN(Contributo_cer[[#This Row],[Totale Immissione in rete]:[Totale Consumi rimanenti]])","v":0},"HPB",null,null,null,0]
["053018",5,{"$f":"+MIN(Contributo_cer[[#This Row],[Totale Immissione in rete]:[Totale Consumi rimanenti]])","v":0},"HPB",null,null,null,0]
["053019",5,{"$f":"+MIN(Contributo_cer[[#This Row],[Totale Immissione in rete]:[Totale Consumi rimanenti]])","v":0},"HPB",null,null,null,0]
["053020",5,{"$f":"+MIN(Contributo_cer[[#This Row],[Totale Immissione in rete]:[Totale Consumi rimanenti]])","v":0},"HPB",null,null,null,0]
["053021",5,{"$f":"+MIN(Contributo_cer[[#This Row],[Totale Immissione in rete]:[Totale Consumi rimanenti]])","v":0},"HPB",null,null,null,0]
["053022",5,{"$f":"+MIN(Contributo_cer[[#This Row],[Totale Immissione in rete]:[Totale Consumi rimanenti]])","v":0},"HCB",null,null,null,0]
["053023",5,{"$f":"+MIN(Contributo_cer[[#This Row],[Totale Immissione in rete]:[Totale Consumi rimanenti]])","v":0},"HCB",null,null,null,0]
["053100",5,{"$f":"+MIN(Contributo_cer[[#This Row],[Totale Immissione in rete]:[Totale Consumi rimanenti]])","v":0},"HCB",null,null,null,0]
["053101",5,{"$f":"+MIN(Contributo_cer[[#This Row],[Totale Immissione in rete]:[Totale Consumi rimanenti]])","v":0},"HCB",null,null,null,0]
["053102",5,{"$f":"+MIN(Contributo_cer[[#This Row],[Totale Immissione in rete]:[Totale Consumi rimanenti]])","v":0},"HCB",null,null,null,0]
["053103",5,{"$f":"+MIN(Contributo_cer[[#This Row],[Totale Immissione in rete]:[Totale Consumi rimanenti]])","v":0},"HCB",null,null,null,0]
["053104",5,{"$f":"+MIN(Contributo_cer[[#This Row],[Totale Immissione in rete]:[Totale Consumi rimanenti]])","v":0},"HCB",null,null,null,0]
["053105",5,{"$f":"+MIN(Contributo_cer[[#This Row],[Totale Immissione in rete]:[Totale Consumi rimanenti]])","v":0},"HCB",null,null,null,0]
["053106",5,{"$f":"+MIN(Contributo_cer[[#This Row],[Totale Immissione in rete]:[Totale Consumi rimanenti]])","v":0},"HPB",null,null,null,0]
["053107",5,{"$f":"+MIN(Contributo_cer[[#This Row],[Totale Immissione in rete]:[Totale Consumi rimanenti]])","v":0},"HPB",null,null,null,0]
["053108",5,{"$f":"+MIN(Contributo_cer[[#This Row],[Totale Immissione in rete]:[Totale Consumi rimanenti]])","v":0},"HPB",null,null,null,0]
["053109",5,{"$f":"+MIN(Contributo_cer[[#This Row],[Totale Immissione in rete]:[Totale Consumi rimanenti]])","v":0},"HPB",null,null,null,0]
["053110",5,{"$f":"+MIN(Contributo_cer[[#This Row],[Totale Immissione in rete]:[Totale Consumi rimanenti]])","v":0},"HPB",null,null,null,0]
["053111",5,{"$f":"+MIN(Contributo_cer[[#This Row],[Totale Immissione in rete]:[Totale Consumi rimanenti]])","v":0},"HPB",null,null,null,0]
["053112",5,{"$f":"+MIN(Contributo_cer[[#This Row],[Totale Immissione in rete]:[Totale Consumi rimanenti]])","v":0},"HPB",null,null,null,0]
["053113",5,{"$f":"+MIN(Contributo_cer[[#This Row],[Totale Immissione in rete]:[Totale Consumi rimanenti]])","v":0},"HPB",null,null,null,0]
["053114",5,{"$f":"+MIN(Contributo_cer[[#This Row],[Totale Immissione in rete]:[Totale Consumi rimanenti]])","v":0},"HPB",null,null,null,0]
["053115",5,{"$f":"+MIN(Contributo_cer[[#This Row],[Totale Immissione in rete]:[Totale Consumi rimanenti]])","v":0},"HPB",null,null,null,0]
["053116",5,{"$f":"+MIN(Contributo_cer[[#This Row],[Totale Immissione in rete]:[Totale Consumi rimanenti]])","v":0},"HPB",null,null,null,0]
["053117",5,{"$f":"+MIN(Contributo_cer[[#This Row],[Totale Immissione in rete]:[Totale Consumi rimanenti]])","v":0},"HPB",null,null,null,0]
["053118",5,{"$f":"+MIN(Contributo_cer[[#This Row],[Totale Immissione in rete]:[Totale Consumi rimanenti]])","v":0},"HPB",null,null,null,0]
["053119",5,{"$f":"+MIN(Contributo_cer[[#This Row],[Totale Immissione in rete]:[Totale Consumi rimanenti]])","v":0},"HPB",null,null,null,0]
["053120",5,{"$f":"+MIN(Contributo_cer[[#This Row],[Totale Immissione in rete]:[Totale Consumi rimanenti]])","v":0},"HPB",null,null,null,0]
["053121",5,{"$f":"+MIN(Contributo_cer[[#This Row],[Totale Immissione in rete]:[Totale Consumi rimanenti]])","v":0},"HPB",null,null,null,0]
["053122",5,{"$f":"+MIN(Contributo_cer[[#This Row],[Totale Immissione in rete]:[Totale Consumi rimanenti]])","v":0},"HCB",null,null,null,0]
["053123",5,{"$f":"+MIN(Contributo_cer[[#This Row],[Totale Immissione in rete]:[Totale Consumi rimanenti]])","v":0},"HCB",null,null,null,0]
["060100",6,{"$f":"+MIN(Contributo_cer[[#This Row],[Totale Immissione in rete]:[Totale Consumi rimanenti]])","v":0},"HCB",null,null,null,0]
["060101",6,{"$f":"+MIN(Contributo_cer[[#This Row],[Totale Immissione in rete]:[Totale Consumi rimanenti]])","v":0},"HCB",null,null,null,0]
["060102",6,{"$f":"+MIN(Contributo_cer[[#This Row],[Totale Immissione in rete]:[Totale Consumi rimanenti]])","v":0},"HCB",null,null,null,0]
["060103",6,{"$f":"+MIN(Contributo_cer[[#This Row],[Totale Immissione in rete]:[Totale Consumi rimanenti]])","v":0},"HCB",null,null,null,0]
["060104",6,{"$f":"+MIN(Contributo_cer[[#This Row],[Totale Immissione in rete]:[Totale Consumi rimanenti]])","v":0},"HCB",null,null,null,0]
["060105",6,{"$f":"+MIN(Contributo_cer[[#This Row],[Totale Immissione in rete]:[Totale Consumi rimanenti]])","v":0},"HCB",null,null,null,0]
["060106",6,{"$f":"+MIN(Contributo_cer[[#This Row],[Totale Immissione in rete]:[Totale Consumi rimanenti]])","v":0},"HPB",null,null,null,0]
["060107",6,{"$f":"+MIN(Contributo_cer[[#This Row],[Totale Immissione in rete]:[Totale Consumi rimanenti]])","v":0},"HPB",null,null,null,0]
["060108",6,{"$f":"+MIN(Contributo_cer[[#This Row],[Totale Immissione in rete]:[Totale Consumi rimanenti]])","v":0},"HPB",null,null,null,0]
["060109",6,{"$f":"+MIN(Contributo_cer[[#This Row],[Totale Immissione in rete]:[Totale Consumi rimanenti]])","v":0},"HPB",null,null,null,0]
["060110",6,{"$f":"+MIN(Contributo_cer[[#This Row],[Totale Immissione in rete]:[Totale Consumi rimanenti]])","v":0},"HPB",null,null,null,0]
["060111",6,{"$f":"+MIN(Contributo_cer[[#This Row],[Totale Immissione in rete]:[Totale Consumi rimanenti]])","v":0},"HPB",null,null,null,0]
["060112",6,{"$f":"+MIN(Contributo_cer[[#This Row],[Totale Immissione in rete]:[Totale Consumi rimanenti]])","v":0},"HPB",null,null,null,0]
["060113",6,{"$f":"+MIN(Contributo_cer[[#This Row],[Totale Immissione in rete]:[Totale Consumi rimanenti]])","v":0},"HPB",null,null,null,0]
["060114",6,{"$f":"+MIN(Contributo_cer[[#This Row],[Totale Immissione in rete]:[Totale Consumi rimanenti]])","v":0},"HPB",null,null,null,0]
["060115",6,{"$f":"+MIN(Contributo_cer[[#This Row],[Totale Immissione in rete]:[Totale Consumi rimanenti]])","v":0},"HPB",null,null,null,0]
["060116",6,{"$f":"+MIN(Contributo_cer[[#This Row],[Totale Immissione in rete]:[Totale Consumi rimanenti]])","v":0},"HPB",null,null,null,0]
["060117",6,{"$f":"+MIN(Contributo_cer[[#This Row],[Totale Immissione in rete]:[Totale Consumi rimanenti]])","v":0},"HPB",null,null,null,0]
["060118",6,{"$f":"+MIN(Contributo_cer[[#This Row],[Totale Immissione in rete]:[Totale Consumi rimanenti]])","v":0},"HPB",null,null,null,0]
["060119",6,{"$f":"+MIN(Contributo_cer[[#This Row],[Totale Immissione in rete]:[Totale Consumi rimanenti]])","v":0},"HPB",null,null,null,0]
["060120",6,{"$f":"+MIN(Contributo_cer[[#This Row],[Totale Immissione in rete]:[Totale Consumi rimanenti]])","v":0},"HPB",null,null,null,0]
["060121",6,{"$f":"+MIN(Contributo_cer[[#This Row],[Totale Immissione in rete]:[Totale Consumi rimanenti]])","v":0},"HPB",null,null,null,0]
["060122",6,{"$f":"+MIN(Contributo_cer[[#This Row],[Totale Immissione in rete]:[Totale Consumi rimanenti]])","v":0},"HCB",null,null,null,0]
["060123",6,{"$f":"+MIN(Contributo_cer[[#This Row],[Totale Immissione in rete]:[Totale Consumi rimanenti]])","v":0},"HCB",null,null,null,0]
["060200",6,{"$f":"+MIN(Contributo_cer[[#This Row],[Totale Immissione in rete]:[Totale Consumi rimanenti]])","v":0},"HCB",null,null,null,0]
["060201",6,{"$f":"+MIN(Contributo_cer[[#This Row],[Totale Immissione in rete]:[Totale Consumi rimanenti]])","v":0},"HCB",null,null,null,0]
["060202",6,{"$f":"+MIN(Contributo_cer[[#This Row],[Totale Immissione in rete]:[Totale Consumi rimanenti]])","v":0},"HCB",null,null,null,0]
["060203",6,{"$f":"+MIN(Contributo_cer[[#This Row],[Totale Immissione in rete]:[Totale Consumi rimanenti]])","v":0},"HCB",null,null,null,0]
["060204",6,{"$f":"+MIN(Contributo_cer[[#This Row],[Totale Immissione in rete]:[Totale Consumi rimanenti]])","v":0},"HCB",null,null,null,0]
["060205",6,{"$f":"+MIN(Contributo_cer[[#This Row],[Totale Immissione in rete]:[Totale Consumi rimanenti]])","v":0},"HCB",null,null,null,0]
["060206",6,{"$f":"+MIN(Contributo_cer[[#This Row],[Totale Immissione in rete]:[Totale Consumi rimanenti]])","v":0},"HPB",null,null,null,0]
["060207",6,{"$f":"+MIN(Contributo_cer[[#This Row],[Totale Immissione in rete]:[Totale Consumi rimanenti]])","v":0},"HPB",null,null,null,0]
["060208",6,{"$f":"+MIN(Contributo_cer[[#This Row],[Totale Immissione in rete]:[Totale Consumi rimanenti]])","v":0},"HPB",null,null,null,0]
["060209",6,{"$f":"+MIN(Contributo_cer[[#This Row],[Totale Immissione in rete]:[Totale Consumi rimanenti]])","v":0},"HPB",null,null,null,0]
["060210",6,{"$f":"+MIN(Contributo_cer[[#This Row],[Totale Immissione in rete]:[Totale Consumi rimanenti]])","v":0},"HPB",null,null,null,0]
["060211",6,{"$f":"+MIN(Contributo_cer[[#This Row],[Totale Immissione in rete]:[Totale Consumi rimanenti]])","v":0},"HPB",null,null,null,0]
["060212",6,{"$f":"+MIN(Contributo_cer[[#This Row],[Totale Immissione in rete]:[Totale Consumi rimanenti]])","v":0},"HPB",null,null,null,0]
["060213",6,{"$f":"+MIN(Contributo_cer[[#This Row],[Totale Immissione in rete]:[Totale Consumi rimanenti]])","v":0},"HPB",null,null,null,0]
["060214",6,{"$f":"+MIN(Contributo_cer[[#This Row],[Totale Immissione in rete]:[Totale Consumi rimanenti]])","v":0},"HPB",null,null,null,0]
["060215",6,{"$f":"+MIN(Contributo_cer[[#This Row],[Totale Immissione in rete]:[Totale Consumi rimanenti]])","v":0},"HPB",null,null,null,0]
["060216",6,{"$f":"+MIN(Contributo_cer[[#This Row],[Totale Immissione in rete]:[Totale Consumi rimanenti]])","v":0},"HPB",null,null,null,0]
["060217",6,{"$f":"+MIN(Contributo_cer[[#This Row],[Totale Immissione in rete]:[Totale Consumi rimanenti]])","v":0},"HPB",null,null,null,0]
["060218",6,{"$f":"+MIN(Contributo_cer[[#This Row],[Totale Immissione in rete]:[Totale Consumi rimanenti]])","v":0},"HPB",null,null,null,0]
["060219",6,{"$f":"+MIN(Contributo_cer[[#This Row],[Totale Immissione in rete]:[Totale Consumi rimanenti]])","v":0},"HPB",null,null,null,0]
["060220",6,{"$f":"+MIN(Contributo_cer[[#This Row],[Totale Immissione in rete]:[Totale Consumi rimanenti]])","v":0},"HPB",null,null,null,0]
["060221",6,{"$f":"+MIN(Contributo_cer[[#This Row],[Totale Immissione in rete]:[Totale Consumi rimanenti]])","v":0},"HPB",null,null,null,0]
["060222",6,{"$f":"+MIN(Contributo_cer[[#This Row],[Totale Immissione in rete]:[Totale Consumi rimanenti]])","v":0},"HCB",null,null,null,0]
["060223",6,{"$f":"+MIN(Contributo_cer[[#This Row],[Totale Immissione in rete]:[Totale Consumi rimanenti]])","v":0},"HCB",null,null,null,0]
["060300",6,{"$f":"+MIN(Contributo_cer[[#This Row],[Totale Immissione in rete]:[Totale Consumi rimanenti]])","v":0},"HCB",null,null,null,0]
["060301",6,{"$f":"+MIN(Contributo_cer[[#This Row],[Totale Immissione in rete]:[Totale Consumi rimanenti]])","v":0},"HCB",null,null,null,0]
["060302",6,{"$f":"+MIN(Contributo_cer[[#This Row],[Totale Immissione in rete]:[Totale Consumi rimanenti]])","v":0},"HCB",null,null,null,0]
["060303",6,{"$f":"+MIN(Contributo_cer[[#This Row],[Totale Immissione in rete]:[Totale Consumi rimanenti]])","v":0},"HCB",null,null,null,0]
["060304",6,{"$f":"+MIN(Contributo_cer[[#This Row],[Totale Immissione in rete]:[Totale Consumi rimanenti]])","v":0},"HCB",null,null,null,0]
["060305",6,{"$f":"+MIN(Contributo_cer[[#This Row],[Totale Immissione in rete]:[Totale Consumi rimanenti]])","v":0},"HCB",null,null,null,0]
["060306",6,{"$f":"+MIN(Contributo_cer[[#This Row],[Totale Immissione in rete]:[Totale Consumi rimanenti]])","v":0},"HPB",null,null,null,0]
["060307",6,{"$f":"+MIN(Contributo_cer[[#This Row],[Totale Immissione in rete]:[Totale Consumi rimanenti]])","v":0},"HPB",null,null,null,0]
["060308",6,{"$f":"+MIN(Contributo_cer[[#This Row],[Totale Immissione in rete]:[Totale Consumi rimanenti]])","v":0},"HPB",null,null,null,0]
["060309",6,{"$f":"+MIN(Contributo_cer[[#This Row],[Totale Immissione in rete]:[Totale Consumi rimanenti]])","v":0},"HPB",null,null,null,0]
["060310",6,{"$f":"+MIN(Contributo_cer[[#This Row],[Totale Immissione in rete]:[Totale Consumi rimanenti]])","v":0},"HPB",null,null,null,0]
["060311",6,{"$f":"+MIN(Contributo_cer[[#This Row],[Totale Immissione in rete]:[Totale Consumi rimanenti]])","v":0},"HPB",null,null,null,0]
["060312",6,{"$f":"+MIN(Contributo_cer[[#This Row],[Totale Immissione in rete]:[Totale Consumi rimanenti]])","v":0},"HPB",null,null,null,0]
["060313",6,{"$f":"+MIN(Contributo_cer[[#This Row],[Totale Immissione in rete]:[Totale Consumi rimanenti]])","v":0},"HPB",null,null,null,0]
["060314",6,{"$f":"+MIN(Contributo_cer[[#This Row],[Totale Immissione in rete]:[Totale Consumi rimanenti]])","v":0},"HPB",null,null,null,0]
["060315",6,{"$f":"+MIN(Contributo_cer[[#This Row],[Totale Immissione in rete]:[Totale Consumi rimanenti]])","v":0},"HPB",null,null,null,0]
["060316",6,{"$f":"+MIN(Contributo_cer[[#This Row],[Totale Immissione in rete]:[Totale Consumi rimanenti]])","v":0},"HPB",null,null,null,0]
["060317",6,{"$f":"+MIN(Contributo_cer[[#This Row],[Totale Immissione in rete]:[Totale Consumi rimanenti]])","v":0},"HPB",null,null,null,0]
["060318",6,{"$f":"+MIN(Contributo_cer[[#This Row],[Totale Immissione in rete]:[Totale Consumi rimanenti]])","v":0},"HPB",null,null,null,0]
["060319",6,{"$f":"+MIN(Contributo_cer[[#This Row],[Totale Immissione in rete]:[Totale Consumi rimanenti]])","v":0},"HPB",null,null,null,0]
["060320",6,{"$f":"+MIN(Contributo_cer[[#This Row],[Totale Immissione in rete]:[Totale Consumi rimanenti]])","v":0},"HPB",null,null,null,0]
["060321",6,{"$f":"+MIN(Contributo_cer[[#This Row],[Totale Immissione in rete]:[Totale Consumi rimanenti]])","v":0},"HPB",null,null,null,0]
["060322",6,{"$f":"+MIN(Contributo_cer[[#This Row],[Totale Immissione in rete]:[Totale Consumi rimanenti]])","v":0},"HCB",null,null,null,0]
["060323",6,{"$f":"+MIN(Contributo_cer[[#This Row],[Totale Immissione in rete]:[Totale Consumi rimanenti]])","v":0},"HCB",null,null,null,0]
["060400",6,{"$f":"+MIN(Contributo_cer[[#This Row],[Totale Immissione in rete]:[Totale Consumi rimanenti]])","v":0},"HCB",null,null,null,0]
["060401",6,{"$f":"+MIN(Contributo_cer[[#This Row],[Totale Immissione in rete]:[Totale Consumi rimanenti]])","v":0},"HCB",null,null,null,0]
["060402",6,{"$f":"+MIN(Contributo_cer[[#This Row],[Totale Immissione in rete]:[Totale Consumi rimanenti]])","v":0},"HCB",null,null,null,0]
["060403",6,{"$f":"+MIN(Contributo_cer[[#This Row],[Totale Immissione in rete]:[Totale Consumi rimanenti]])","v":0},"HCB",null,null,null,0]
["060404",6,{"$f":"+MIN(Contributo_cer[[#This Row],[Totale Immissione in rete]:[Totale Consumi rimanenti]])","v":0},"HCB",null,null,null,0]
["060405",6,{"$f":"+MIN(Contributo_cer[[#This Row],[Totale Immissione in rete]:[Totale Consumi rimanenti]])","v":0},"HCB",null,null,null,0]
["060406",6,{"$f":"+MIN(Contributo_cer[[#This Row],[Totale Immissione in rete]:[Totale Consumi rimanenti]])","v":0},"HPB",null,null,null,0]
["060407",6,{"$f":"+MIN(Contributo_cer[[#This Row],[Totale Immissione in rete]:[Totale Consumi rimanenti]])","v":0},"HPB",null,null,null,0]
["060408",6,{"$f":"+MIN(Contributo_cer[[#This Row],[Totale Immissione in rete]:[Totale Consumi rimanenti]])","v":0},"HPB",null,null,null,0]
["060409",6,{"$f":"+MIN(Contributo_cer[[#This Row],[Totale Immissione in rete]:[Totale Consumi rimanenti]])","v":0},"HPB",null,null,null,0]
["060410",6,{"$f":"+MIN(Contributo_cer[[#This Row],[Totale Immissione in rete]:[Totale Consumi rimanenti]])","v":0},"HPB",null,null,null,0]
["060411",6,{"$f":"+MIN(Contributo_cer[[#This Row],[Totale Immissione in rete]:[Totale Consumi rimanenti]])","v":0},"HPB",null,null,null,0]
["060412",6,{"$f":"+MIN(Contributo_cer[[#This Row],[Totale Immissione in rete]:[Totale Consumi rimanenti]])","v":0},"HPB",null,null,null,0]
["060413",6,{"$f":"+MIN(Contributo_cer[[#This Row],[Totale Immissione in rete]:[Totale Consumi rimanenti]])","v":0},"HPB",null,null,null,0]
["060414",6,{"$f":"+MIN(Contributo_cer[[#This Row],[Totale Immissione in rete]:[Totale Consumi rimanenti]])","v":0},"HPB",null,null,null,0]
["060415",6,{"$f":"+MIN(Contributo_cer[[#This Row],[Totale Immissione in rete]:[Totale Consumi rimanenti]])","v":0},"HPB",null,null,null,0]
["060416",6,{"$f":"+MIN(Contributo_cer[[#This Row],[Totale Immissione in rete]:[Totale Consumi rimanenti]])","v":0},"HPB",null,null,null,0]
["060417",6,{"$f":"+MIN(Contributo_cer[[#This Row],[Totale Immissione in rete]:[Totale Consumi rimanenti]])","v":0},"HPB",null,null,null,0]
["060418",6,{"$f":"+MIN(Contributo_cer[[#This Row],[Totale Immissione in rete]:[Totale Consumi rimanenti]])","v":0},"HPB",null,null,null,0]
["060419",6,{"$f":"+MIN(Contributo_cer[[#This Row],[Totale Immissione in rete]:[Totale Consumi rimanenti]])","v":0},"HPB",null,null,null,0]
["060420",6,{"$f":"+MIN(Contributo_cer[[#This Row],[Totale Immissione in rete]:[Totale Consumi rimanenti]])","v":0},"HPB",null,null,null,0]
["060421",6,{"$f":"+MIN(Contributo_cer[[#This Row],[Totale Immissione in rete]:[Totale Consumi rimanenti]])","v":0},"HPB",null,null,null,0]
["060422",6,{"$f":"+MIN(Contributo_cer[[#This Row],[Totale Immissione in rete]:[Totale Consumi rimanenti]])","v":0},"HCB",null,null,null,0]
["060423",6,{"$f":"+MIN(Contributo_cer[[#This Row],[Totale Immissione in rete]:[Totale Consumi rimanenti]])","v":0},"HCB",null,null,null,0]
["060500",6,{"$f":"+MIN(Contributo_cer[[#This Row],[Totale Immissione in rete]:[Totale Consumi rimanenti]])","v":0},"HCB",null,null,null,0]
["060501",6,{"$f":"+MIN(Contributo_cer[[#This Row],[Totale Immissione in rete]:[Totale Consumi rimanenti]])","v":0},"HCB",null,null,null,0]
["060502",6,{"$f":"+MIN(Contributo_cer[[#This Row],[Totale Immissione in rete]:[Totale Consumi rimanenti]])","v":0},"HCB",null,null,null,0]
["060503",6,{"$f":"+MIN(Contributo_cer[[#This Row],[Totale Immissione in rete]:[Totale Consumi rimanenti]])","v":0},"HCB",null,null,null,0]
["060504",6,{"$f":"+MIN(Contributo_cer[[#This Row],[Totale Immissione in rete]:[Totale Consumi rimanenti]])","v":0},"HCB",null,null,null,0]
["060505",6,{"$f":"+MIN(Contributo_cer[[#This Row],[Totale Immissione in rete]:[Totale Consumi rimanenti]])","v":0},"HCB",null,null,null,0]
["060506",6,{"$f":"+MIN(Contributo_cer[[#This Row],[Totale Immissione in rete]:[Totale Consumi rimanenti]])","v":0},"HPB",null,null,null,0]
["060507",6,{"$f":"+MIN(Contributo_cer[[#This Row],[Totale Immissione in rete]:[Totale Consumi rimanenti]])","v":0},"HPB",null,null,null,0]
["060508",6,{"$f":"+MIN(Contributo_cer[[#This Row],[Totale Immissione in rete]:[Totale Consumi rimanenti]])","v":0},"HPB",null,null,null,0]
["060509",6,{"$f":"+MIN(Contributo_cer[[#This Row],[Totale Immissione in rete]:[Totale Consumi rimanenti]])","v":0},"HPB",null,null,null,0]
["060510",6,{"$f":"+MIN(Contributo_cer[[#This Row],[Totale Immissione in rete]:[Totale Consumi rimanenti]])","v":0},"HPB",null,null,null,0]
["060511",6,{"$f":"+MIN(Contributo_cer[[#This Row],[Totale Immissione in rete]:[Totale Consumi rimanenti]])","v":0},"HPB",null,null,null,0]
["060512",6,{"$f":"+MIN(Contributo_cer[[#This Row],[Totale Immissione in rete]:[Totale Consumi rimanenti]])","v":0},"HPB",null,null,null,0]
["060513",6,{"$f":"+MIN(Contributo_cer[[#This Row],[Totale Immissione in rete]:[Totale Consumi rimanenti]])","v":0},"HPB",null,null,null,0]
["060514",6,{"$f":"+MIN(Contributo_cer[[#This Row],[Totale Immissione in rete]:[Totale Consumi rimanenti]])","v":0},"HPB",null,null,null,0]
["060515",6,{"$f":"+MIN(Contributo_cer[[#This Row],[Totale Immissione in rete]:[Totale Consumi rimanenti]])","v":0},"HPB",null,null,null,0]
["060516",6,{"$f":"+MIN(Contributo_cer[[#This Row],[Totale Immissione in rete]:[Totale Consumi rimanenti]])","v":0},"HPB",null,null,null,0]
["060517",6,{"$f":"+MIN(Contributo_cer[[#This Row],[Totale Immissione in rete]:[Totale Consumi rimanenti]])","v":0},"HPB",null,null,null,0]
["060518",6,{"$f":"+MIN(Contributo_cer[[#This Row],[Totale Immissione in rete]:[Totale Consumi rimanenti]])","v":0},"HPB",null,null,null,0]
["060519",6,{"$f":"+MIN(Contributo_cer[[#This Row],[Totale Immissione in rete]:[Totale Consumi rimanenti]])","v":0},"HPB",null,null,null,0]
["060520",6,{"$f":"+MIN(Contributo_cer[[#This Row],[Totale Immissione in rete]:[Totale Consumi rimanenti]])","v":0},"HPB",null,null,null,0]
["060521",6,{"$f":"+MIN(Contributo_cer[[#This Row],[Totale Immissione in rete]:[Totale Consumi rimanenti]])","v":0},"HPB",null,null,null,0]
["060522",6,{"$f":"+MIN(Contributo_cer[[#This Row],[Totale Immissione in rete]:[Totale Consumi rimanenti]])","v":0},"HCB",null,null,null,0]
["060523",6,{"$f":"+MIN(Contributo_cer[[#This Row],[Totale Immissione in rete]:[Totale Consumi rimanenti]])","v":0},"HCB",null,null,null,0]
["060600",6,{"$f":"+MIN(Contributo_cer[[#This Row],[Totale Immissione in rete]:[Totale Consumi rimanenti]])","v":0},"HCB",null,null,null,0]
["060601",6,{"$f":"+MIN(Contributo_cer[[#This Row],[Totale Immissione in rete]:[Totale Consumi rimanenti]])","v":0},"HCB",null,null,null,0]
["060602",6,{"$f":"+MIN(Contributo_cer[[#This Row],[Totale Immissione in rete]:[Totale Consumi rimanenti]])","v":0},"HCB",null,null,null,0]
["060603",6,{"$f":"+MIN(Contributo_cer[[#This Row],[Totale Immissione in rete]:[Totale Consumi rimanenti]])","v":0},"HCB",null,null,null,0]
["060604",6,{"$f":"+MIN(Contributo_cer[[#This Row],[Totale Immissione in rete]:[Totale Consumi rimanenti]])","v":0},"HCB",null,null,null,0]
["060605",6,{"$f":"+MIN(Contributo_cer[[#This Row],[Totale Immissione in rete]:[Totale Consumi rimanenti]])","v":0},"HCB",null,null,null,0]
["060606",6,{"$f":"+MIN(Contributo_cer[[#This Row],[Totale Immissione in rete]:[Totale Consumi rimanenti]])","v":0},"HPB",null,null,null,0]
["060607",6,{"$f":"+MIN(Contributo_cer[[#This Row],[Totale Immissione in rete]:[Totale Consumi rimanenti]])","v":0},"HPB",null,null,null,0]
["060608",6,{"$f":"+MIN(Contributo_cer[[#This Row],[Totale Immissione in rete]:[Totale Consumi rimanenti]])","v":0},"HPB",null,null,null,0]
["060609",6,{"$f":"+MIN(Contributo_cer[[#This Row],[Totale Immissione in rete]:[Totale Consumi rimanenti]])","v":0},"HPB",null,null,null,0]
["060610",6,{"$f":"+MIN(Contributo_cer[[#This Row],[Totale Immissione in rete]:[Totale Consumi rimanenti]])","v":0},"HPB",null,null,null,0]
["060611",6,{"$f":"+MIN(Contributo_cer[[#This Row],[Totale Immissione in rete]:[Totale Consumi rimanenti]])","v":0},"HPB",null,null,null,0]
["060612",6,{"$f":"+MIN(Contributo_cer[[#This Row],[Totale Immissione in rete]:[Totale Consumi rimanenti]])","v":0},"HPB",null,null,null,0]
["060613",6,{"$f":"+MIN(Contributo_cer[[#This Row],[Totale Immissione in rete]:[Totale Consumi rimanenti]])","v":0},"HPB",null,null,null,0]
["060614",6,{"$f":"+MIN(Contributo_cer[[#This Row],[Totale Immissione in rete]:[Totale Consumi rimanenti]])","v":0},"HPB",null,null,null,0]
["060615",6,{"$f":"+MIN(Contributo_cer[[#This Row],[Totale Immissione in rete]:[Totale Consumi rimanenti]])","v":0},"HPB",null,null,null,0]
["060616",6,{"$f":"+MIN(Contributo_cer[[#This Row],[Totale Immissione in rete]:[Totale Consumi rimanenti]])","v":0},"HPB",null,null,null,0]
["060617",6,{"$f":"+MIN(Contributo_cer[[#This Row],[Totale Immissione in rete]:[Totale Consumi rimanenti]])","v":0},"HPB",null,null,null,0]
["060618",6,{"$f":"+MIN(Contributo_cer[[#This Row],[Totale Immissione in rete]:[Totale Consumi rimanenti]])","v":0},"HPB",null,null,null,0]
["060619",6,{"$f":"+MIN(Contributo_cer[[#This Row],[Totale Immissione in rete]:[Totale Consumi rimanenti]])","v":0},"HPB",null,null,null,0]
["060620",6,{"$f":"+MIN(Contributo_cer[[#This Row],[Totale Immissione in rete]:[Totale Consumi rimanenti]])","v":0},"HPB",null,null,null,0]
["060621",6,{"$f":"+MIN(Contributo_cer[[#This Row],[Totale Immissione in rete]:[Totale Consumi rimanenti]])","v":0},"HPB",null,null,null,0]
["060622",6,{"$f":"+MIN(Contributo_cer[[#This Row],[Totale Immissione in rete]:[Totale Consumi rimanenti]])","v":0},"HCB",null,null,null,0]
["060623",6,{"$f":"+MIN(Contributo_cer[[#This Row],[Totale Immissione in rete]:[Totale Consumi rimanenti]])","v":0},"HCB",null,null,null,0]
["060700",6,{"$f":"+MIN(Contributo_cer[[#This Row],[Totale Immissione in rete]:[Totale Consumi rimanenti]])","v":0},"HCB",null,null,null,0]
["060701",6,{"$f":"+MIN(Contributo_cer[[#This Row],[Totale Immissione in rete]:[Totale Consumi rimanenti]])","v":0},"HCB",null,null,null,0]
["060702",6,{"$f":"+MIN(Contributo_cer[[#This Row],[Totale Immissione in rete]:[Totale Consumi rimanenti]])","v":0},"HCB",null,null,null,0]
["060703",6,{"$f":"+MIN(Contributo_cer[[#This Row],[Totale Immissione in rete]:[Totale Consumi rimanenti]])","v":0},"HCB",null,null,null,0]
["060704",6,{"$f":"+MIN(Contributo_cer[[#This Row],[Totale Immissione in rete]:[Totale Consumi rimanenti]])","v":0},"HCB",null,null,null,0]
["060705",6,{"$f":"+MIN(Contributo_cer[[#This Row],[Totale Immissione in rete]:[Totale Consumi rimanenti]])","v":0},"HCB",null,null,null,0]
["060706",6,{"$f":"+MIN(Contributo_cer[[#This Row],[Totale Immissione in rete]:[Totale Consumi rimanenti]])","v":0},"HPB",null,null,null,0]
["060707",6,{"$f":"+MIN(Contributo_cer[[#This Row],[Totale Immissione in rete]:[Totale Consumi rimanenti]])","v":0},"HPB",null,null,null,0]
["060708",6,{"$f":"+MIN(Contributo_cer[[#This Row],[Totale Immissione in rete]:[Totale Consumi rimanenti]])","v":0},"HPB",null,null,null,0]
["060709",6,{"$f":"+MIN(Contributo_cer[[#This Row],[Totale Immissione in rete]:[Totale Consumi rimanenti]])","v":0},"HPB",null,null,null,0]
["060710",6,{"$f":"+MIN(Contributo_cer[[#This Row],[Totale Immissione in rete]:[Totale Consumi rimanenti]])","v":0},"HPB",null,null,null,0]
["060711",6,{"$f":"+MIN(Contributo_cer[[#This Row],[Totale Immissione in rete]:[Totale Consumi rimanenti]])","v":0},"HPB",null,null,null,0]
["060712",6,{"$f":"+MIN(Contributo_cer[[#This Row],[Totale Immissione in rete]:[Totale Consumi rimanenti]])","v":0},"HPB",null,null,null,0]
["060713",6,{"$f":"+MIN(Contributo_cer[[#This Row],[Totale Immissione in rete]:[Totale Consumi rimanenti]])","v":0},"HPB",null,null,null,0]
["060714",6,{"$f":"+MIN(Contributo_cer[[#This Row],[Totale Immissione in rete]:[Totale Consumi rimanenti]])","v":0},"HPB",null,null,null,0]
["060715",6,{"$f":"+MIN(Contributo_cer[[#This Row],[Totale Immissione in rete]:[Totale Consumi rimanenti]])","v":0},"HPB",null,null,null,0]
["060716",6,{"$f":"+MIN(Contributo_cer[[#This Row],[Totale Immissione in rete]:[Totale Consumi rimanenti]])","v":0},"HPB",null,null,null,0]
["060717",6,{"$f":"+MIN(Contributo_cer[[#This Row],[Totale Immissione in rete]:[Totale Consumi rimanenti]])","v":0},"HPB",null,null,null,0]
["060718",6,{"$f":"+MIN(Contributo_cer[[#This Row],[Totale Immissione in rete]:[Totale Consumi rimanenti]])","v":0},"HPB",null,null,null,0]
["060719",6,{"$f":"+MIN(Contributo_cer[[#This Row],[Totale Immissione in rete]:[Totale Consumi rimanenti]])","v":0},"HPB",null,null,null,0]
["060720",6,{"$f":"+MIN(Contributo_cer[[#This Row],[Totale Immissione in rete]:[Totale Consumi rimanenti]])","v":0},"HPB",null,null,null,0]
["060721",6,{"$f":"+MIN(Contributo_cer[[#This Row],[Totale Immissione in rete]:[Totale Consumi rimanenti]])","v":0},"HPB",null,null,null,0]
["060722",6,{"$f":"+MIN(Contributo_cer[[#This Row],[Totale Immissione in rete]:[Totale Consumi rimanenti]])","v":0},"HCB",null,null,null,0]
["060723",6,{"$f":"+MIN(Contributo_cer[[#This Row],[Totale Immissione in rete]:[Totale Consumi rimanenti]])","v":0},"HCB",null,null,null,0]
["060800",6,{"$f":"+MIN(Contributo_cer[[#This Row],[Totale Immissione in rete]:[Totale Consumi rimanenti]])","v":0},"HCB",null,null,null,0]
["060801",6,{"$f":"+MIN(Contributo_cer[[#This Row],[Totale Immissione in rete]:[Totale Consumi rimanenti]])","v":0},"HCB",null,null,null,0]
["060802",6,{"$f":"+MIN(Contributo_cer[[#This Row],[Totale Immissione in rete]:[Totale Consumi rimanenti]])","v":0},"HCB",null,null,null,0]
["060803",6,{"$f":"+MIN(Contributo_cer[[#This Row],[Totale Immissione in rete]:[Totale Consumi rimanenti]])","v":0},"HCB",null,null,null,0]
["060804",6,{"$f":"+MIN(Contributo_cer[[#This Row],[Totale Immissione in rete]:[Totale Consumi rimanenti]])","v":0},"HCB",null,null,null,0]
["060805",6,{"$f":"+MIN(Contributo_cer[[#This Row],[Totale Immissione in rete]:[Totale Consumi rimanenti]])","v":0},"HCB",null,null,null,0]
["060806",6,{"$f":"+MIN(Contributo_cer[[#This Row],[Totale Immissione in rete]:[Totale Consumi rimanenti]])","v":0},"HPB",null,null,null,0]
["060807",6,{"$f":"+MIN(Contributo_cer[[#This Row],[Totale Immissione in rete]:[Totale Consumi rimanenti]])","v":0},"HPB",null,null,null,0]
["060808",6,{"$f":"+MIN(Contributo_cer[[#This Row],[Totale Immissione in rete]:[Totale Consumi rimanenti]])","v":0},"HPB",null,null,null,0]
["060809",6,{"$f":"+MIN(Contributo_cer[[#This Row],[Totale Immissione in rete]:[Totale Consumi rimanenti]])","v":0},"HPB",null,null,null,0]
["060810",6,{"$f":"+MIN(Contributo_cer[[#This Row],[Totale Immissione in rete]:[Totale Consumi rimanenti]])","v":0},"HPB",null,null,null,0]
["060811",6,{"$f":"+MIN(Contributo_cer[[#This Row],[Totale Immissione in rete]:[Totale Consumi rimanenti]])","v":0},"HPB",null,null,null,0]
["060812",6,{"$f":"+MIN(Contributo_cer[[#This Row],[Totale Immissione in rete]:[Totale Consumi rimanenti]])","v":0},"HPB",null,null,null,0]
["060813",6,{"$f":"+MIN(Contributo_cer[[#This Row],[Totale Immissione in rete]:[Totale Consumi rimanenti]])","v":0},"HPB",null,null,null,0]
["060814",6,{"$f":"+MIN(Contributo_cer[[#This Row],[Totale Immissione in rete]:[Totale Consumi rimanenti]])","v":0},"HPB",null,null,null,0]
["060815",6,{"$f":"+MIN(Contributo_cer[[#This Row],[Totale Immissione in rete]:[Totale Consumi rimanenti]])","v":0},"HPB",null,null,null,0]
["060816",6,{"$f":"+MIN(Contributo_cer[[#This Row],[Totale Immissione in rete]:[Totale Consumi rimanenti]])","v":0},"HPB",null,null,null,0]
["060817",6,{"$f":"+MIN(Contributo_cer[[#This Row],[Totale Immissione in rete]:[Totale Consumi rimanenti]])","v":0},"HPB",null,null,null,0]
["060818",6,{"$f":"+MIN(Contributo_cer[[#This Row],[Totale Immissione in rete]:[Totale Consumi rimanenti]])","v":0},"HPB",null,null,null,0]
["060819",6,{"$f":"+MIN(Contributo_cer[[#This Row],[Totale Immissione in rete]:[Totale Consumi rimanenti]])","v":0},"HPB",null,null,null,0]
["060820",6,{"$f":"+MIN(Contributo_cer[[#This Row],[Totale Immissione in rete]:[Totale Consumi rimanenti]])","v":0},"HPB",null,null,null,0]
["060821",6,{"$f":"+MIN(Contributo_cer[[#This Row],[Totale Immissione in rete]:[Totale Consumi rimanenti]])","v":0},"HPB",null,null,null,0]
["060822",6,{"$f":"+MIN(Contributo_cer[[#This Row],[Totale Immissione in rete]:[Totale Consumi rimanenti]])","v":0},"HCB",null,null,null,0]
["060823",6,{"$f":"+MIN(Contributo_cer[[#This Row],[Totale Immissione in rete]:[Totale Consumi rimanenti]])","v":0},"HCB",null,null,null,0]
["060900",6,{"$f":"+MIN(Contributo_cer[[#This Row],[Totale Immissione in rete]:[Totale Consumi rimanenti]])","v":0},"HCB",null,null,null,0]
["060901",6,{"$f":"+MIN(Contributo_cer[[#This Row],[Totale Immissione in rete]:[Totale Consumi rimanenti]])","v":0},"HCB",null,null,null,0]
["060902",6,{"$f":"+MIN(Contributo_cer[[#This Row],[Totale Immissione in rete]:[Totale Consumi rimanenti]])","v":0},"HCB",null,null,null,0]
["060903",6,{"$f":"+MIN(Contributo_cer[[#This Row],[Totale Immissione in rete]:[Totale Consumi rimanenti]])","v":0},"HCB",null,null,null,0]
["060904",6,{"$f":"+MIN(Contributo_cer[[#This Row],[Totale Immissione in rete]:[Totale Consumi rimanenti]])","v":0},"HCB",null,null,null,0]
["060905",6,{"$f":"+MIN(Contributo_cer[[#This Row],[Totale Immissione in rete]:[Totale Consumi rimanenti]])","v":0},"HCB",null,null,null,0]
["060906",6,{"$f":"+MIN(Contributo_cer[[#This Row],[Totale Immissione in rete]:[Totale Consumi rimanenti]])","v":0},"HPB",null,null,null,0]
["060907",6,{"$f":"+MIN(Contributo_cer[[#This Row],[Totale Immissione in rete]:[Totale Consumi rimanenti]])","v":0},"HPB",null,null,null,0]
["060908",6,{"$f":"+MIN(Contributo_cer[[#This Row],[Totale Immissione in rete]:[Totale Consumi rimanenti]])","v":0},"HPB",null,null,null,0]
["060909",6,{"$f":"+MIN(Contributo_cer[[#This Row],[Totale Immissione in rete]:[Totale Consumi rimanenti]])","v":0},"HPB",null,null,null,0]
["060910",6,{"$f":"+MIN(Contributo_cer[[#This Row],[Totale Immissione in rete]:[Totale Consumi rimanenti]])","v":0},"HPB",null,null,null,0]
["060911",6,{"$f":"+MIN(Contributo_cer[[#This Row],[Totale Immissione in rete]:[Totale Consumi rimanenti]])","v":0},"HPB",null,null,null,0]
["060912",6,{"$f":"+MIN(Contributo_cer[[#This Row],[Totale Immissione in rete]:[Totale Consumi rimanenti]])","v":0},"HPB",null,null,null,0]
["060913",6,{"$f":"+MIN(Contributo_cer[[#This Row],[Totale Immissione in rete]:[Totale Consumi rimanenti]])","v":0},"HPB",null,null,null,0]
["060914",6,{"$f":"+MIN(Contributo_cer[[#This Row],[Totale Immissione in rete]:[Totale Consumi rimanenti]])","v":0},"HPB",null,null,null,0]
["060915",6,{"$f":"+MIN(Contributo_cer[[#This Row],[Totale Immissione in rete]:[Totale Consumi rimanenti]])","v":0},"HPB",null,null,null,0]
["060916",6,{"$f":"+MIN(Contributo_cer[[#This Row],[Totale Immissione in rete]:[Totale Consumi rimanenti]])","v":0},"HPB",null,null,null,0]
["060917",6,{"$f":"+MIN(Contributo_cer[[#This Row],[Totale Immissione in rete]:[Totale Consumi rimanenti]])","v":0},"HPB",null,null,null,0]
["060918",6,{"$f":"+MIN(Contributo_cer[[#This Row],[Totale Immissione in rete]:[Totale Consumi rimanenti]])","v":0},"HPB",null,null,null,0]
["060919",6,{"$f":"+MIN(Contributo_cer[[#This Row],[Totale Immissione in rete]:[Totale Consumi rimanenti]])","v":0},"HPB",null,null,null,0]
["060920",6,{"$f":"+MIN(Contributo_cer[[#This Row],[Totale Immissione in rete]:[Totale Consumi rimanenti]])","v":0},"HPB",null,null,null,0]
["060921",6,{"$f":"+MIN(Contributo_cer[[#This Row],[Totale Immissione in rete]:[Totale Consumi rimanenti]])","v":0},"HPB",null,null,null,0]
["060922",6,{"$f":"+MIN(Contributo_cer[[#This Row],[Totale Immissione in rete]:[Totale Consumi rimanenti]])","v":0},"HCB",null,null,null,0]
["060923",6,{"$f":"+MIN(Contributo_cer[[#This Row],[Totale Immissione in rete]:[Totale Consumi rimanenti]])","v":0},"HCB",null,null,null,0]
["061000",6,{"$f":"+MIN(Contributo_cer[[#This Row],[Totale Immissione in rete]:[Totale Consumi rimanenti]])","v":0},"HCB",null,null,null,0]
["061001",6,{"$f":"+MIN(Contributo_cer[[#This Row],[Totale Immissione in rete]:[Totale Consumi rimanenti]])","v":0},"HCB",null,null,null,0]
["061002",6,{"$f":"+MIN(Contributo_cer[[#This Row],[Totale Immissione in rete]:[Totale Consumi rimanenti]])","v":0},"HCB",null,null,null,0]
["061003",6,{"$f":"+MIN(Contributo_cer[[#This Row],[Totale Immissione in rete]:[Totale Consumi rimanenti]])","v":0},"HCB",null,null,null,0]
["061004",6,{"$f":"+MIN(Contributo_cer[[#This Row],[Totale Immissione in rete]:[Totale Consumi rimanenti]])","v":0},"HCB",null,null,null,0]
["061005",6,{"$f":"+MIN(Contributo_cer[[#This Row],[Totale Immissione in rete]:[Totale Consumi rimanenti]])","v":0},"HCB",null,null,null,0]
["061006",6,{"$f":"+MIN(Contributo_cer[[#This Row],[Totale Immissione in rete]:[Totale Consumi rimanenti]])","v":0},"HPB",null,null,null,0]
["061007",6,{"$f":"+MIN(Contributo_cer[[#This Row],[Totale Immissione in rete]:[Totale Consumi rimanenti]])","v":0},"HPB",null,null,null,0]
["061008",6,{"$f":"+MIN(Contributo_cer[[#This Row],[Totale Immissione in rete]:[Totale Consumi rimanenti]])","v":0},"HPB",null,null,null,0]
["061009",6,{"$f":"+MIN(Contributo_cer[[#This Row],[Totale Immissione in rete]:[Totale Consumi rimanenti]])","v":0},"HPB",null,null,null,0]
["061010",6,{"$f":"+MIN(Contributo_cer[[#This Row],[Totale Immissione in rete]:[Totale Consumi rimanenti]])","v":0},"HPB",null,null,null,0]
["061011",6,{"$f":"+MIN(Contributo_cer[[#This Row],[Totale Immissione in rete]:[Totale Consumi rimanenti]])","v":0},"HPB",null,null,null,0]
["061012",6,{"$f":"+MIN(Contributo_cer[[#This Row],[Totale Immissione in rete]:[Totale Consumi rimanenti]])","v":0},"HPB",null,null,null,0]
["061013",6,{"$f":"+MIN(Contributo_cer[[#This Row],[Totale Immissione in rete]:[Totale Consumi rimanenti]])","v":0},"HPB",null,null,null,0]
["061014",6,{"$f":"+MIN(Contributo_cer[[#This Row],[Totale Immissione in rete]:[Totale Consumi rimanenti]])","v":0},"HPB",null,null,null,0]
["061015",6,{"$f":"+MIN(Contributo_cer[[#This Row],[Totale Immissione in rete]:[Totale Consumi rimanenti]])","v":0},"HPB",null,null,null,0]
["061016",6,{"$f":"+MIN(Contributo_cer[[#This Row],[Totale Immissione in rete]:[Totale Consumi rimanenti]])","v":0},"HPB",null,null,null,0]
["061017",6,{"$f":"+MIN(Contributo_cer[[#This Row],[Totale Immissione in rete]:[Totale Consumi rimanenti]])","v":0},"HPB",null,null,null,0]
["061018",6,{"$f":"+MIN(Contributo_cer[[#This Row],[Totale Immissione in rete]:[Totale Consumi rimanenti]])","v":0},"HPB",null,null,null,0]
["061019",6,{"$f":"+MIN(Contributo_cer[[#This Row],[Totale Immissione in rete]:[Totale Consumi rimanenti]])","v":0},"HPB",null,null,null,0]
["061020",6,{"$f":"+MIN(Contributo_cer[[#This Row],[Totale Immissione in rete]:[Totale Consumi rimanenti]])","v":0},"HPB",null,null,null,0]
["061021",6,{"$f":"+MIN(Contributo_cer[[#This Row],[Totale Immissione in rete]:[Totale Consumi rimanenti]])","v":0},"HPB",null,null,null,0]
["061022",6,{"$f":"+MIN(Contributo_cer[[#This Row],[Totale Immissione in rete]:[Totale Consumi rimanenti]])","v":0},"HCB",null,null,null,0]
["061023",6,{"$f":"+MIN(Contributo_cer[[#This Row],[Totale Immissione in rete]:[Totale Consumi rimanenti]])","v":0},"HCB",null,null,null,0]
["061100",6,{"$f":"+MIN(Contributo_cer[[#This Row],[Totale Immissione in rete]:[Totale Consumi rimanenti]])","v":0},"HCB",null,null,null,0]
["061101",6,{"$f":"+MIN(Contributo_cer[[#This Row],[Totale Immissione in rete]:[Totale Consumi rimanenti]])","v":0},"HCB",null,null,null,0]
["061102",6,{"$f":"+MIN(Contributo_cer[[#This Row],[Totale Immissione in rete]:[Totale Consumi rimanenti]])","v":0},"HCB",null,null,null,0]
["061103",6,{"$f":"+MIN(Contributo_cer[[#This Row],[Totale Immissione in rete]:[Totale Consumi rimanenti]])","v":0},"HCB",null,null,null,0]
["061104",6,{"$f":"+MIN(Contributo_cer[[#This Row],[Totale Immissione in rete]:[Totale Consumi rimanenti]])","v":0},"HCB",null,null,null,0]
["061105",6,{"$f":"+MIN(Contributo_cer[[#This Row],[Totale Immissione in rete]:[Totale Consumi rimanenti]])","v":0},"HCB",null,null,null,0]
["061106",6,{"$f":"+MIN(Contributo_cer[[#This Row],[Totale Immissione in rete]:[Totale Consumi rimanenti]])","v":0},"HPB",null,null,null,0]
["061107",6,{"$f":"+MIN(Contributo_cer[[#This Row],[Totale Immissione in rete]:[Totale Consumi rimanenti]])","v":0},"HPB",null,null,null,0]
["061108",6,{"$f":"+MIN(Contributo_cer[[#This Row],[Totale Immissione in rete]:[Totale Consumi rimanenti]])","v":0},"HPB",null,null,null,0]
["061109",6,{"$f":"+MIN(Contributo_cer[[#This Row],[Totale Immissione in rete]:[Totale Consumi rimanenti]])","v":0},"HPB",null,null,null,0]
["061110",6,{"$f":"+MIN(Contributo_cer[[#This Row],[Totale Immissione in rete]:[Totale Consumi rimanenti]])","v":0},"HPB",null,null,null,0]
["061111",6,{"$f":"+MIN(Contributo_cer[[#This Row],[Totale Immissione in rete]:[Totale Consumi rimanenti]])","v":0},"HPB",null,null,null,0]
["061112",6,{"$f":"+MIN(Contributo_cer[[#This Row],[Totale Immissione in rete]:[Totale Consumi rimanenti]])","v":0},"HPB",null,null,null,0]
["061113",6,{"$f":"+MIN(Contributo_cer[[#This Row],[Totale Immissione in rete]:[Totale Consumi rimanenti]])","v":0},"HPB",null,null,null,0]
["061114",6,{"$f":"+MIN(Contributo_cer[[#This Row],[Totale Immissione in rete]:[Totale Consumi rimanenti]])","v":0},"HPB",null,null,null,0]
["061115",6,{"$f":"+MIN(Contributo_cer[[#This Row],[Totale Immissione in rete]:[Totale Consumi rimanenti]])","v":0},"HPB",null,null,null,0]
["061116",6,{"$f":"+MIN(Contributo_cer[[#This Row],[Totale Immissione in rete]:[Totale Consumi rimanenti]])","v":0},"HPB",null,null,null,0]
["061117",6,{"$f":"+MIN(Contributo_cer[[#This Row],[Totale Immissione in rete]:[Totale Consumi rimanenti]])","v":0},"HPB",null,null,null,0]
["061118",6,{"$f":"+MIN(Contributo_cer[[#This Row],[Totale Immissione in rete]:[Totale Consumi rimanenti]])","v":0},"HPB",null,null,null,0]
["061119",6,{"$f":"+MIN(Contributo_cer[[#This Row],[Totale Immissione in rete]:[Totale Consumi rimanenti]])","v":0},"HPB",null,null,null,0]
["061120",6,{"$f":"+MIN(Contributo_cer[[#This Row],[Totale Immissione in rete]:[Totale Consumi rimanenti]])","v":0},"HPB",null,null,null,0]
["061121",6,{"$f":"+MIN(Contributo_cer[[#This Row],[Totale Immissione in rete]:[Totale Consumi rimanenti]])","v":0},"HPB",null,null,null,0]
["061122",6,{"$f":"+MIN(Contributo_cer[[#This Row],[Totale Immissione in rete]:[Totale Consumi rimanenti]])","v":0},"HCB",null,null,null,0]
["061123",6,{"$f":"+MIN(Contributo_cer[[#This Row],[Totale Immissione in rete]:[Totale Consumi rimanenti]])","v":0},"HCB",null,null,null,0]
["061200",6,{"$f":"+MIN(Contributo_cer[[#This Row],[Totale Immissione in rete]:[Totale Consumi rimanenti]])","v":0},"HCB",null,null,null,0]
["061201",6,{"$f":"+MIN(Contributo_cer[[#This Row],[Totale Immissione in rete]:[Totale Consumi rimanenti]])","v":0},"HCB",null,null,null,0]
["061202",6,{"$f":"+MIN(Contributo_cer[[#This Row],[Totale Immissione in rete]:[Totale Consumi rimanenti]])","v":0},"HCB",null,null,null,0]
["061203",6,{"$f":"+MIN(Contributo_cer[[#This Row],[Totale Immissione in rete]:[Totale Consumi rimanenti]])","v":0},"HCB",null,null,null,0]
["061204",6,{"$f":"+MIN(Contributo_cer[[#This Row],[Totale Immissione in rete]:[Totale Consumi rimanenti]])","v":0},"HCB",null,null,null,0]
["061205",6,{"$f":"+MIN(Contributo_cer[[#This Row],[Totale Immissione in rete]:[Totale Consumi rimanenti]])","v":0},"HCB",null,null,null,0]
["061206",6,{"$f":"+MIN(Contributo_cer[[#This Row],[Totale Immissione in rete]:[Totale Consumi rimanenti]])","v":0},"HPB",null,null,null,0]
["061207",6,{"$f":"+MIN(Contributo_cer[[#This Row],[Totale Immissione in rete]:[Totale Consumi rimanenti]])","v":0},"HPB",null,null,null,0]
["061208",6,{"$f":"+MIN(Contributo_cer[[#This Row],[Totale Immissione in rete]:[Totale Consumi rimanenti]])","v":0},"HPB",null,null,null,0]
["061209",6,{"$f":"+MIN(Contributo_cer[[#This Row],[Totale Immissione in rete]:[Totale Consumi rimanenti]])","v":0},"HPB",null,null,null,0]
["061210",6,{"$f":"+MIN(Contributo_cer[[#This Row],[Totale Immissione in rete]:[Totale Consumi rimanenti]])","v":0},"HPB",null,null,null,0]
["061211",6,{"$f":"+MIN(Contributo_cer[[#This Row],[Totale Immissione in rete]:[Totale Consumi rimanenti]])","v":0},"HPB",null,null,null,0]
["061212",6,{"$f":"+MIN(Contributo_cer[[#This Row],[Totale Immissione in rete]:[Totale Consumi rimanenti]])","v":0},"HPB",null,null,null,0]
["061213",6,{"$f":"+MIN(Contributo_cer[[#This Row],[Totale Immissione in rete]:[Totale Consumi rimanenti]])","v":0},"HPB",null,null,null,0]
["061214",6,{"$f":"+MIN(Contributo_cer[[#This Row],[Totale Immissione in rete]:[Totale Consumi rimanenti]])","v":0},"HPB",null,null,null,0]
["061215",6,{"$f":"+MIN(Contributo_cer[[#This Row],[Totale Immissione in rete]:[Totale Consumi rimanenti]])","v":0},"HPB",null,null,null,0]
["061216",6,{"$f":"+MIN(Contributo_cer[[#This Row],[Totale Immissione in rete]:[Totale Consumi rimanenti]])","v":0},"HPB",null,null,null,0]
["061217",6,{"$f":"+MIN(Contributo_cer[[#This Row],[Totale Immissione in rete]:[Totale Consumi rimanenti]])","v":0},"HPB",null,null,null,0]
["061218",6,{"$f":"+MIN(Contributo_cer[[#This Row],[Totale Immissione in rete]:[Totale Consumi rimanenti]])","v":0},"HPB",null,null,null,0]
["061219",6,{"$f":"+MIN(Contributo_cer[[#This Row],[Totale Immissione in rete]:[Totale Consumi rimanenti]])","v":0},"HPB",null,null,null,0]
["061220",6,{"$f":"+MIN(Contributo_cer[[#This Row],[Totale Immissione in rete]:[Totale Consumi rimanenti]])","v":0},"HPB",null,null,null,0]
["061221",6,{"$f":"+MIN(Contributo_cer[[#This Row],[Totale Immissione in rete]:[Totale Consumi rimanenti]])","v":0},"HPB",null,null,null,0]
["061222",6,{"$f":"+MIN(Contributo_cer[[#This Row],[Totale Immissione in rete]:[Totale Consumi rimanenti]])","v":0},"HCB",null,null,null,0]
["061223",6,{"$f":"+MIN(Contributo_cer[[#This Row],[Totale Immissione in rete]:[Totale Consumi rimanenti]])","v":0},"HCB",null,null,null,0]
["061300",6,{"$f":"+MIN(Contributo_cer[[#This Row],[Totale Immissione in rete]:[Totale Consumi rimanenti]])","v":0},"HCB",null,null,null,0]
["061301",6,{"$f":"+MIN(Contributo_cer[[#This Row],[Totale Immissione in rete]:[Totale Consumi rimanenti]])","v":0},"HCB",null,null,null,0]
["061302",6,{"$f":"+MIN(Contributo_cer[[#This Row],[Totale Immissione in rete]:[Totale Consumi rimanenti]])","v":0},"HCB",null,null,null,0]
["061303",6,{"$f":"+MIN(Contributo_cer[[#This Row],[Totale Immissione in rete]:[Totale Consumi rimanenti]])","v":0},"HCB",null,null,null,0]
["061304",6,{"$f":"+MIN(Contributo_cer[[#This Row],[Totale Immissione in rete]:[Totale Consumi rimanenti]])","v":0},"HCB",null,null,null,0]
["061305",6,{"$f":"+MIN(Contributo_cer[[#This Row],[Totale Immissione in rete]:[Totale Consumi rimanenti]])","v":0},"HCB",null,null,null,0]
["061306",6,{"$f":"+MIN(Contributo_cer[[#This Row],[Totale Immissione in rete]:[Totale Consumi rimanenti]])","v":0},"HPB",null,null,null,0]
["061307",6,{"$f":"+MIN(Contributo_cer[[#This Row],[Totale Immissione in rete]:[Totale Consumi rimanenti]])","v":0},"HPB",null,null,null,0]
["061308",6,{"$f":"+MIN(Contributo_cer[[#This Row],[Totale Immissione in rete]:[Totale Consumi rimanenti]])","v":0},"HPB",null,null,null,0]
["061309",6,{"$f":"+MIN(Contributo_cer[[#This Row],[Totale Immissione in rete]:[Totale Consumi rimanenti]])","v":0},"HPB",null,null,null,0]
["061310",6,{"$f":"+MIN(Contributo_cer[[#This Row],[Totale Immissione in rete]:[Totale Consumi rimanenti]])","v":0},"HPB",null,null,null,0]
["061311",6,{"$f":"+MIN(Contributo_cer[[#This Row],[Totale Immissione in rete]:[Totale Consumi rimanenti]])","v":0},"HPB",null,null,null,0]
["061312",6,{"$f":"+MIN(Contributo_cer[[#This Row],[Totale Immissione in rete]:[Totale Consumi rimanenti]])","v":0},"HPB",null,null,null,0]
["061313",6,{"$f":"+MIN(Contributo_cer[[#This Row],[Totale Immissione in rete]:[Totale Consumi rimanenti]])","v":0},"HPB",null,null,null,0]
["061314",6,{"$f":"+MIN(Contributo_cer[[#This Row],[Totale Immissione in rete]:[Totale Consumi rimanenti]])","v":0},"HPB",null,null,null,0]
["061315",6,{"$f":"+MIN(Contributo_cer[[#This Row],[Totale Immissione in rete]:[Totale Consumi rimanenti]])","v":0},"HPB",null,null,null,0]
["061316",6,{"$f":"+MIN(Contributo_cer[[#This Row],[Totale Immissione in rete]:[Totale Consumi rimanenti]])","v":0},"HPB",null,null,null,0]
["061317",6,{"$f":"+MIN(Contributo_cer[[#This Row],[Totale Immissione in rete]:[Totale Consumi rimanenti]])","v":0},"HPB",null,null,null,0]
["061318",6,{"$f":"+MIN(Contributo_cer[[#This Row],[Totale Immissione in rete]:[Totale Consumi rimanenti]])","v":0},"HPB",null,null,null,0]
["061319",6,{"$f":"+MIN(Contributo_cer[[#This Row],[Totale Immissione in rete]:[Totale Consumi rimanenti]])","v":0},"HPB",null,null,null,0]
["061320",6,{"$f":"+MIN(Contributo_cer[[#This Row],[Totale Immissione in rete]:[Totale Consumi rimanenti]])","v":0},"HPB",null,null,null,0]
["061321",6,{"$f":"+MIN(Contributo_cer[[#This Row],[Totale Immissione in rete]:[Totale Consumi rimanenti]])","v":0},"HPB",null,null,null,0]
["061322",6,{"$f":"+MIN(Contributo_cer[[#This Row],[Totale Immissione in rete]:[Totale Consumi rimanenti]])","v":0},"HCB",null,null,null,0]
["061323",6,{"$f":"+MIN(Contributo_cer[[#This Row],[Totale Immissione in rete]:[Totale Consumi rimanenti]])","v":0},"HCB",null,null,null,0]
["061400",6,{"$f":"+MIN(Contributo_cer[[#This Row],[Totale Immissione in rete]:[Totale Consumi rimanenti]])","v":0},"HCB",null,null,null,0]
["061401",6,{"$f":"+MIN(Contributo_cer[[#This Row],[Totale Immissione in rete]:[Totale Consumi rimanenti]])","v":0},"HCB",null,null,null,0]
["061402",6,{"$f":"+MIN(Contributo_cer[[#This Row],[Totale Immissione in rete]:[Totale Consumi rimanenti]])","v":0},"HCB",null,null,null,0]
["061403",6,{"$f":"+MIN(Contributo_cer[[#This Row],[Totale Immissione in rete]:[Totale Consumi rimanenti]])","v":0},"HCB",null,null,null,0]
["061404",6,{"$f":"+MIN(Contributo_cer[[#This Row],[Totale Immissione in rete]:[Totale Consumi rimanenti]])","v":0},"HCB",null,null,null,0]
["061405",6,{"$f":"+MIN(Contributo_cer[[#This Row],[Totale Immissione in rete]:[Totale Consumi rimanenti]])","v":0},"HCB",null,null,null,0]
["061406",6,{"$f":"+MIN(Contributo_cer[[#This Row],[Totale Immissione in rete]:[Totale Consumi rimanenti]])","v":0},"HPB",null,null,null,0]
["061407",6,{"$f":"+MIN(Contributo_cer[[#This Row],[Totale Immissione in rete]:[Totale Consumi rimanenti]])","v":0},"HPB",null,null,null,0]
["061408",6,{"$f":"+MIN(Contributo_cer[[#This Row],[Totale Immissione in rete]:[Totale Consumi rimanenti]])","v":0},"HPB",null,null,null,0]
["061409",6,{"$f":"+MIN(Contributo_cer[[#This Row],[Totale Immissione in rete]:[Totale Consumi rimanenti]])","v":0},"HPB",null,null,null,0]
["061410",6,{"$f":"+MIN(Contributo_cer[[#This Row],[Totale Immissione in rete]:[Totale Consumi rimanenti]])","v":0},"HPB",null,null,null,0]
["061411",6,{"$f":"+MIN(Contributo_cer[[#This Row],[Totale Immissione in rete]:[Totale Consumi rimanenti]])","v":0},"HPB",null,null,null,0]
["061412",6,{"$f":"+MIN(Contributo_cer[[#This Row],[Totale Immissione in rete]:[Totale Consumi rimanenti]])","v":0},"HPB",null,null,null,0]
["061413",6,{"$f":"+MIN(Contributo_cer[[#This Row],[Totale Immissione in rete]:[Totale Consumi rimanenti]])","v":0},"HPB",null,null,null,0]
["061414",6,{"$f":"+MIN(Contributo_cer[[#This Row],[Totale Immissione in rete]:[Totale Consumi rimanenti]])","v":0},"HPB",null,null,null,0]
["061415",6,{"$f":"+MIN(Contributo_cer[[#This Row],[Totale Immissione in rete]:[Totale Consumi rimanenti]])","v":0},"HPB",null,null,null,0]
["061416",6,{"$f":"+MIN(Contributo_cer[[#This Row],[Totale Immissione in rete]:[Totale Consumi rimanenti]])","v":0},"HPB",null,null,null,0]
["061417",6,{"$f":"+MIN(Contributo_cer[[#This Row],[Totale Immissione in rete]:[Totale Consumi rimanenti]])","v":0},"HPB",null,null,null,0]
["061418",6,{"$f":"+MIN(Contributo_cer[[#This Row],[Totale Immissione in rete]:[Totale Consumi rimanenti]])","v":0},"HPB",null,null,null,0]
["061419",6,{"$f":"+MIN(Contributo_cer[[#This Row],[Totale Immissione in rete]:[Totale Consumi rimanenti]])","v":0},"HPB",null,null,null,0]
["061420",6,{"$f":"+MIN(Contributo_cer[[#This Row],[Totale Immissione in rete]:[Totale Consumi rimanenti]])","v":0},"HPB",null,null,null,0]
["061421",6,{"$f":"+MIN(Contributo_cer[[#This Row],[Totale Immissione in rete]:[Totale Consumi rimanenti]])","v":0},"HPB",null,null,null,0]
["061422",6,{"$f":"+MIN(Contributo_cer[[#This Row],[Totale Immissione in rete]:[Totale Consumi rimanenti]])","v":0},"HCB",null,null,null,0]
["061423",6,{"$f":"+MIN(Contributo_cer[[#This Row],[Totale Immissione in rete]:[Totale Consumi rimanenti]])","v":0},"HCB",null,null,null,0]
["061500",6,{"$f":"+MIN(Contributo_cer[[#This Row],[Totale Immissione in rete]:[Totale Consumi rimanenti]])","v":0},"HCB",null,null,null,0]
["061501",6,{"$f":"+MIN(Contributo_cer[[#This Row],[Totale Immissione in rete]:[Totale Consumi rimanenti]])","v":0},"HCB",null,null,null,0]
["061502",6,{"$f":"+MIN(Contributo_cer[[#This Row],[Totale Immissione in rete]:[Totale Consumi rimanenti]])","v":0},"HCB",null,null,null,0]
["061503",6,{"$f":"+MIN(Contributo_cer[[#This Row],[Totale Immissione in rete]:[Totale Consumi rimanenti]])","v":0},"HCB",null,null,null,0]
["061504",6,{"$f":"+MIN(Contributo_cer[[#This Row],[Totale Immissione in rete]:[Totale Consumi rimanenti]])","v":0},"HCB",null,null,null,0]
["061505",6,{"$f":"+MIN(Contributo_cer[[#This Row],[Totale Immissione in rete]:[Totale Consumi rimanenti]])","v":0},"HCB",null,null,null,0]
["061506",6,{"$f":"+MIN(Contributo_cer[[#This Row],[Totale Immissione in rete]:[Totale Consumi rimanenti]])","v":0},"HPB",null,null,null,0]
["061507",6,{"$f":"+MIN(Contributo_cer[[#This Row],[Totale Immissione in rete]:[Totale Consumi rimanenti]])","v":0},"HPB",null,null,null,0]
["061508",6,{"$f":"+MIN(Contributo_cer[[#This Row],[Totale Immissione in rete]:[Totale Consumi rimanenti]])","v":0},"HPB",null,null,null,0]
["061509",6,{"$f":"+MIN(Contributo_cer[[#This Row],[Totale Immissione in rete]:[Totale Consumi rimanenti]])","v":0},"HPB",null,null,null,0]
["061510",6,{"$f":"+MIN(Contributo_cer[[#This Row],[Totale Immissione in rete]:[Totale Consumi rimanenti]])","v":0},"HPB",null,null,null,0]
["061511",6,{"$f":"+MIN(Contributo_cer[[#This Row],[Totale Immissione in rete]:[Totale Consumi rimanenti]])","v":0},"HPB",null,null,null,0]
["061512",6,{"$f":"+MIN(Contributo_cer[[#This Row],[Totale Immissione in rete]:[Totale Consumi rimanenti]])","v":0},"HPB",null,null,null,0]
["061513",6,{"$f":"+MIN(Contributo_cer[[#This Row],[Totale Immissione in rete]:[Totale Consumi rimanenti]])","v":0},"HPB",null,null,null,0]
["061514",6,{"$f":"+MIN(Contributo_cer[[#This Row],[Totale Immissione in rete]:[Totale Consumi rimanenti]])","v":0},"HPB",null,null,null,0]
["061515",6,{"$f":"+MIN(Contributo_cer[[#This Row],[Totale Immissione in rete]:[Totale Consumi rimanenti]])","v":0},"HPB",null,null,null,0]
["061516",6,{"$f":"+MIN(Contributo_cer[[#This Row],[Totale Immissione in rete]:[Totale Consumi rimanenti]])","v":0},"HPB",null,null,null,0]
["061517",6,{"$f":"+MIN(Contributo_cer[[#This Row],[Totale Immissione in rete]:[Totale Consumi rimanenti]])","v":0},"HPB",null,null,null,0]
["061518",6,{"$f":"+MIN(Contributo_cer[[#This Row],[Totale Immissione in rete]:[Totale Consumi rimanenti]])","v":0},"HPB",null,null,null,0]
["061519",6,{"$f":"+MIN(Contributo_cer[[#This Row],[Totale Immissione in rete]:[Totale Consumi rimanenti]])","v":0},"HPB",null,null,null,0]
["061520",6,{"$f":"+MIN(Contributo_cer[[#This Row],[Totale Immissione in rete]:[Totale Consumi rimanenti]])","v":0},"HPB",null,null,null,0]
["061521",6,{"$f":"+MIN(Contributo_cer[[#This Row],[Totale Immissione in rete]:[Totale Consumi rimanenti]])","v":0},"HPB",null,null,null,0]
["061522",6,{"$f":"+MIN(Contributo_cer[[#This Row],[Totale Immissione in rete]:[Totale Consumi rimanenti]])","v":0},"HCB",null,null,null,0]
["061523",6,{"$f":"+MIN(Contributo_cer[[#This Row],[Totale Immissione in rete]:[Totale Consumi rimanenti]])","v":0},"HCB",null,null,null,0]
["061600",6,{"$f":"+MIN(Contributo_cer[[#This Row],[Totale Immissione in rete]:[Totale Consumi rimanenti]])","v":0},"HCB",null,null,null,0]
["061601",6,{"$f":"+MIN(Contributo_cer[[#This Row],[Totale Immissione in rete]:[Totale Consumi rimanenti]])","v":0},"HCB",null,null,null,0]
["061602",6,{"$f":"+MIN(Contributo_cer[[#This Row],[Totale Immissione in rete]:[Totale Consumi rimanenti]])","v":0},"HCB",null,null,null,0]
["061603",6,{"$f":"+MIN(Contributo_cer[[#This Row],[Totale Immissione in rete]:[Totale Consumi rimanenti]])","v":0},"HCB",null,null,null,0]
["061604",6,{"$f":"+MIN(Contributo_cer[[#This Row],[Totale Immissione in rete]:[Totale Consumi rimanenti]])","v":0},"HCB",null,null,null,0]
["061605",6,{"$f":"+MIN(Contributo_cer[[#This Row],[Totale Immissione in rete]:[Totale Consumi rimanenti]])","v":0},"HCB",null,null,null,0]
["061606",6,{"$f":"+MIN(Contributo_cer[[#This Row],[Totale Immissione in rete]:[Totale Consumi rimanenti]])","v":0},"HPB",null,null,null,0]
["061607",6,{"$f":"+MIN(Contributo_cer[[#This Row],[Totale Immissione in rete]:[Totale Consumi rimanenti]])","v":0},"HPB",null,null,null,0]
["061608",6,{"$f":"+MIN(Contributo_cer[[#This Row],[Totale Immissione in rete]:[Totale Consumi rimanenti]])","v":0},"HPB",null,null,null,0]
["061609",6,{"$f":"+MIN(Contributo_cer[[#This Row],[Totale Immissione in rete]:[Totale Consumi rimanenti]])","v":0},"HPB",null,null,null,0]
["061610",6,{"$f":"+MIN(Contributo_cer[[#This Row],[Totale Immissione in rete]:[Totale Consumi rimanenti]])","v":0},"HPB",null,null,null,0]
["061611",6,{"$f":"+MIN(Contributo_cer[[#This Row],[Totale Immissione in rete]:[Totale Consumi rimanenti]])","v":0},"HPB",null,null,null,0]
["061612",6,{"$f":"+MIN(Contributo_cer[[#This Row],[Totale Immissione in rete]:[Totale Consumi rimanenti]])","v":0},"HPB",null,null,null,0]
["061613",6,{"$f":"+MIN(Contributo_cer[[#This Row],[Totale Immissione in rete]:[Totale Consumi rimanenti]])","v":0},"HPB",null,null,null,0]
["061614",6,{"$f":"+MIN(Contributo_cer[[#This Row],[Totale Immissione in rete]:[Totale Consumi rimanenti]])","v":0},"HPB",null,null,null,0]
["061615",6,{"$f":"+MIN(Contributo_cer[[#This Row],[Totale Immissione in rete]:[Totale Consumi rimanenti]])","v":0},"HPB",null,null,null,0]
["061616",6,{"$f":"+MIN(Contributo_cer[[#This Row],[Totale Immissione in rete]:[Totale Consumi rimanenti]])","v":0},"HPB",null,null,null,0]
["061617",6,{"$f":"+MIN(Contributo_cer[[#This Row],[Totale Immissione in rete]:[Totale Consumi rimanenti]])","v":0},"HPB",null,null,null,0]
["061618",6,{"$f":"+MIN(Contributo_cer[[#This Row],[Totale Immissione in rete]:[Totale Consumi rimanenti]])","v":0},"HPB",null,null,null,0]
["061619",6,{"$f":"+MIN(Contributo_cer[[#This Row],[Totale Immissione in rete]:[Totale Consumi rimanenti]])","v":0},"HPB",null,null,null,0]
["061620",6,{"$f":"+MIN(Contributo_cer[[#This Row],[Totale Immissione in rete]:[Totale Consumi rimanenti]])","v":0},"HPB",null,null,null,0]
["061621",6,{"$f":"+MIN(Contributo_cer[[#This Row],[Totale Immissione in rete]:[Totale Consumi rimanenti]])","v":0},"HPB",null,null,null,0]
["061622",6,{"$f":"+MIN(Contributo_cer[[#This Row],[Totale Immissione in rete]:[Totale Consumi rimanenti]])","v":0},"HCB",null,null,null,0]
["061623",6,{"$f":"+MIN(Contributo_cer[[#This Row],[Totale Immissione in rete]:[Totale Consumi rimanenti]])","v":0},"HCB",null,null,null,0]
["061700",6,{"$f":"+MIN(Contributo_cer[[#This Row],[Totale Immissione in rete]:[Totale Consumi rimanenti]])","v":0},"HCB",null,null,null,0]
["061701",6,{"$f":"+MIN(Contributo_cer[[#This Row],[Totale Immissione in rete]:[Totale Consumi rimanenti]])","v":0},"HCB",null,null,null,0]
["061702",6,{"$f":"+MIN(Contributo_cer[[#This Row],[Totale Immissione in rete]:[Totale Consumi rimanenti]])","v":0},"HCB",null,null,null,0]
["061703",6,{"$f":"+MIN(Contributo_cer[[#This Row],[Totale Immissione in rete]:[Totale Consumi rimanenti]])","v":0},"HCB",null,null,null,0]
["061704",6,{"$f":"+MIN(Contributo_cer[[#This Row],[Totale Immissione in rete]:[Totale Consumi rimanenti]])","v":0},"HCB",null,null,null,0]
["061705",6,{"$f":"+MIN(Contributo_cer[[#This Row],[Totale Immissione in rete]:[Totale Consumi rimanenti]])","v":0},"HCB",null,null,null,0]
["061706",6,{"$f":"+MIN(Contributo_cer[[#This Row],[Totale Immissione in rete]:[Totale Consumi rimanenti]])","v":0},"HPB",null,null,null,0]
["061707",6,{"$f":"+MIN(Contributo_cer[[#This Row],[Totale Immissione in rete]:[Totale Consumi rimanenti]])","v":0},"HPB",null,null,null,0]
["061708",6,{"$f":"+MIN(Contributo_cer[[#This Row],[Totale Immissione in rete]:[Totale Consumi rimanenti]])","v":0},"HPB",null,null,null,0]
["061709",6,{"$f":"+MIN(Contributo_cer[[#This Row],[Totale Immissione in rete]:[Totale Consumi rimanenti]])","v":0},"HPB",null,null,null,0]
["061710",6,{"$f":"+MIN(Contributo_cer[[#This Row],[Totale Immissione in rete]:[Totale Consumi rimanenti]])","v":0},"HPB",null,null,null,0]
["061711",6,{"$f":"+MIN(Contributo_cer[[#This Row],[Totale Immissione in rete]:[Totale Consumi rimanenti]])","v":0},"HPB",null,null,null,0]
["061712",6,{"$f":"+MIN(Contributo_cer[[#This Row],[Totale Immissione in rete]:[Totale Consumi rimanenti]])","v":0},"HPB",null,null,null,0]
["061713",6,{"$f":"+MIN(Contributo_cer[[#This Row],[Totale Immissione in rete]:[Totale Consumi rimanenti]])","v":0},"HPB",null,null,null,0]
["061714",6,{"$f":"+MIN(Contributo_cer[[#This Row],[Totale Immissione in rete]:[Totale Consumi rimanenti]])","v":0},"HPB",null,null,null,0]
["061715",6,{"$f":"+MIN(Contributo_cer[[#This Row],[Totale Immissione in rete]:[Totale Consumi rimanenti]])","v":0},"HPB",null,null,null,0]
["061716",6,{"$f":"+MIN(Contributo_cer[[#This Row],[Totale Immissione in rete]:[Totale Consumi rimanenti]])","v":0},"HPB",null,null,null,0]
["061717",6,{"$f":"+MIN(Contributo_cer[[#This Row],[Totale Immissione in rete]:[Totale Consumi rimanenti]])","v":0},"HPB",null,null,null,0]
["061718",6,{"$f":"+MIN(Contributo_cer[[#This Row],[Totale Immissione in rete]:[Totale Consumi rimanenti]])","v":0},"HPB",null,null,null,0]
["061719",6,{"$f":"+MIN(Contributo_cer[[#This Row],[Totale Immissione in rete]:[Totale Consumi rimanenti]])","v":0},"HPB",null,null,null,0]
["061720",6,{"$f":"+MIN(Contributo_cer[[#This Row],[Totale Immissione in rete]:[Totale Consumi rimanenti]])","v":0},"HPB",null,null,null,0]
["061721",6,{"$f":"+MIN(Contributo_cer[[#This Row],[Totale Immissione in rete]:[Totale Consumi rimanenti]])","v":0},"HPB",null,null,null,0]
["061722",6,{"$f":"+MIN(Contributo_cer[[#This Row],[Totale Immissione in rete]:[Totale Consumi rimanenti]])","v":0},"HCB",null,null,null,0]
["061723",6,{"$f":"+MIN(Contributo_cer[[#This Row],[Totale Immissione in rete]:[Totale Consumi rimanenti]])","v":0},"HCB",null,null,null,0]
["061800",6,{"$f":"+MIN(Contributo_cer[[#This Row],[Totale Immissione in rete]:[Totale Consumi rimanenti]])","v":0},"HCB",null,null,null,0]
["061801",6,{"$f":"+MIN(Contributo_cer[[#This Row],[Totale Immissione in rete]:[Totale Consumi rimanenti]])","v":0},"HCB",null,null,null,0]
["061802",6,{"$f":"+MIN(Contributo_cer[[#This Row],[Totale Immissione in rete]:[Totale Consumi rimanenti]])","v":0},"HCB",null,null,null,0]
["061803",6,{"$f":"+MIN(Contributo_cer[[#This Row],[Totale Immissione in rete]:[Totale Consumi rimanenti]])","v":0},"HCB",null,null,null,0]
["061804",6,{"$f":"+MIN(Contributo_cer[[#This Row],[Totale Immissione in rete]:[Totale Consumi rimanenti]])","v":0},"HCB",null,null,null,0]
["061805",6,{"$f":"+MIN(Contributo_cer[[#This Row],[Totale Immissione in rete]:[Totale Consumi rimanenti]])","v":0},"HCB",null,null,null,0]
["061806",6,{"$f":"+MIN(Contributo_cer[[#This Row],[Totale Immissione in rete]:[Totale Consumi rimanenti]])","v":0},"HPB",null,null,null,0]
["061807",6,{"$f":"+MIN(Contributo_cer[[#This Row],[Totale Immissione in rete]:[Totale Consumi rimanenti]])","v":0},"HPB",null,null,null,0]
["061808",6,{"$f":"+MIN(Contributo_cer[[#This Row],[Totale Immissione in rete]:[Totale Consumi rimanenti]])","v":0},"HPB",null,null,null,0]
["061809",6,{"$f":"+MIN(Contributo_cer[[#This Row],[Totale Immissione in rete]:[Totale Consumi rimanenti]])","v":0},"HPB",null,null,null,0]
["061810",6,{"$f":"+MIN(Contributo_cer[[#This Row],[Totale Immissione in rete]:[Totale Consumi rimanenti]])","v":0},"HPB",null,null,null,0]
["061811",6,{"$f":"+MIN(Contributo_cer[[#This Row],[Totale Immissione in rete]:[Totale Consumi rimanenti]])","v":0},"HPB",null,null,null,0]
["061812",6,{"$f":"+MIN(Contributo_cer[[#This Row],[Totale Immissione in rete]:[Totale Consumi rimanenti]])","v":0},"HPB",null,null,null,0]
["061813",6,{"$f":"+MIN(Contributo_cer[[#This Row],[Totale Immissione in rete]:[Totale Consumi rimanenti]])","v":0},"HPB",null,null,null,0]
["061814",6,{"$f":"+MIN(Contributo_cer[[#This Row],[Totale Immissione in rete]:[Totale Consumi rimanenti]])","v":0},"HPB",null,null,null,0]
["061815",6,{"$f":"+MIN(Contributo_cer[[#This Row],[Totale Immissione in rete]:[Totale Consumi rimanenti]])","v":0},"HPB",null,null,null,0]
["061816",6,{"$f":"+MIN(Contributo_cer[[#This Row],[Totale Immissione in rete]:[Totale Consumi rimanenti]])","v":0},"HPB",null,null,null,0]
["061817",6,{"$f":"+MIN(Contributo_cer[[#This Row],[Totale Immissione in rete]:[Totale Consumi rimanenti]])","v":0},"HPB",null,null,null,0]
["061818",6,{"$f":"+MIN(Contributo_cer[[#This Row],[Totale Immissione in rete]:[Totale Consumi rimanenti]])","v":0},"HPB",null,null,null,0]
["061819",6,{"$f":"+MIN(Contributo_cer[[#This Row],[Totale Immissione in rete]:[Totale Consumi rimanenti]])","v":0},"HPB",null,null,null,0]
["061820",6,{"$f":"+MIN(Contributo_cer[[#This Row],[Totale Immissione in rete]:[Totale Consumi rimanenti]])","v":0},"HPB",null,null,null,0]
["061821",6,{"$f":"+MIN(Contributo_cer[[#This Row],[Totale Immissione in rete]:[Totale Consumi rimanenti]])","v":0},"HPB",null,null,null,0]
["061822",6,{"$f":"+MIN(Contributo_cer[[#This Row],[Totale Immissione in rete]:[Totale Consumi rimanenti]])","v":0},"HCB",null,null,null,0]
["061823",6,{"$f":"+MIN(Contributo_cer[[#This Row],[Totale Immissione in rete]:[Totale Consumi rimanenti]])","v":0},"HCB",null,null,null,0]
["061900",6,{"$f":"+MIN(Contributo_cer[[#This Row],[Totale Immissione in rete]:[Totale Consumi rimanenti]])","v":0},"HCB",null,null,null,0]
["061901",6,{"$f":"+MIN(Contributo_cer[[#This Row],[Totale Immissione in rete]:[Totale Consumi rimanenti]])","v":0},"HCB",null,null,null,0]
["061902",6,{"$f":"+MIN(Contributo_cer[[#This Row],[Totale Immissione in rete]:[Totale Consumi rimanenti]])","v":0},"HCB",null,null,null,0]
["061903",6,{"$f":"+MIN(Contributo_cer[[#This Row],[Totale Immissione in rete]:[Totale Consumi rimanenti]])","v":0},"HCB",null,null,null,0]
["061904",6,{"$f":"+MIN(Contributo_cer[[#This Row],[Totale Immissione in rete]:[Totale Consumi rimanenti]])","v":0},"HCB",null,null,null,0]
["061905",6,{"$f":"+MIN(Contributo_cer[[#This Row],[Totale Immissione in rete]:[Totale Consumi rimanenti]])","v":0},"HCB",null,null,null,0]
["061906",6,{"$f":"+MIN(Contributo_cer[[#This Row],[Totale Immissione in rete]:[Totale Consumi rimanenti]])","v":0},"HPB",null,null,null,0]
["061907",6,{"$f":"+MIN(Contributo_cer[[#This Row],[Totale Immissione in rete]:[Totale Consumi rimanenti]])","v":0},"HPB",null,null,null,0]
["061908",6,{"$f":"+MIN(Contributo_cer[[#This Row],[Totale Immissione in rete]:[Totale Consumi rimanenti]])","v":0},"HPB",null,null,null,0]
["061909",6,{"$f":"+MIN(Contributo_cer[[#This Row],[Totale Immissione in rete]:[Totale Consumi rimanenti]])","v":0},"HPB",null,null,null,0]
["061910",6,{"$f":"+MIN(Contributo_cer[[#This Row],[Totale Immissione in rete]:[Totale Consumi rimanenti]])","v":0},"HPB",null,null,null,0]
["061911",6,{"$f":"+MIN(Contributo_cer[[#This Row],[Totale Immissione in rete]:[Totale Consumi rimanenti]])","v":0},"HPB",null,null,null,0]
["061912",6,{"$f":"+MIN(Contributo_cer[[#This Row],[Totale Immissione in rete]:[Totale Consumi rimanenti]])","v":0},"HPB",null,null,null,0]
["061913",6,{"$f":"+MIN(Contributo_cer[[#This Row],[Totale Immissione in rete]:[Totale Consumi rimanenti]])","v":0},"HPB",null,null,null,0]
["061914",6,{"$f":"+MIN(Contributo_cer[[#This Row],[Totale Immissione in rete]:[Totale Consumi rimanenti]])","v":0},"HPB",null,null,null,0]
["061915",6,{"$f":"+MIN(Contributo_cer[[#This Row],[Totale Immissione in rete]:[Totale Consumi rimanenti]])","v":0},"HPB",null,null,null,0]
["061916",6,{"$f":"+MIN(Contributo_cer[[#This Row],[Totale Immissione in rete]:[Totale Consumi rimanenti]])","v":0},"HPB",null,null,null,0]
["061917",6,{"$f":"+MIN(Contributo_cer[[#This Row],[Totale Immissione in rete]:[Totale Consumi rimanenti]])","v":0},"HPB",null,null,null,0]
["061918",6,{"$f":"+MIN(Contributo_cer[[#This Row],[Totale Immissione in rete]:[Totale Consumi rimanenti]])","v":0},"HPB",null,null,null,0]
["061919",6,{"$f":"+MIN(Contributo_cer[[#This Row],[Totale Immissione in rete]:[Totale Consumi rimanenti]])","v":0},"HPB",null,null,null,0]
["061920",6,{"$f":"+MIN(Contributo_cer[[#This Row],[Totale Immissione in rete]:[Totale Consumi rimanenti]])","v":0},"HPB",null,null,null,0]
["061921",6,{"$f":"+MIN(Contributo_cer[[#This Row],[Totale Immissione in rete]:[Totale Consumi rimanenti]])","v":0},"HPB",null,null,null,0]
["061922",6,{"$f":"+MIN(Contributo_cer[[#This Row],[Totale Immissione in rete]:[Totale Consumi rimanenti]])","v":0},"HCB",null,null,null,0]
["061923",6,{"$f":"+MIN(Contributo_cer[[#This Row],[Totale Immissione in rete]:[Totale Consumi rimanenti]])","v":0},"HCB",null,null,null,0]
["062000",6,{"$f":"+MIN(Contributo_cer[[#This Row],[Totale Immissione in rete]:[Totale Consumi rimanenti]])","v":0},"HCB",null,null,null,0]
["062001",6,{"$f":"+MIN(Contributo_cer[[#This Row],[Totale Immissione in rete]:[Totale Consumi rimanenti]])","v":0},"HCB",null,null,null,0]
["062002",6,{"$f":"+MIN(Contributo_cer[[#This Row],[Totale Immissione in rete]:[Totale Consumi rimanenti]])","v":0},"HCB",null,null,null,0]
["062003",6,{"$f":"+MIN(Contributo_cer[[#This Row],[Totale Immissione in rete]:[Totale Consumi rimanenti]])","v":0},"HCB",null,null,null,0]
["062004",6,{"$f":"+MIN(Contributo_cer[[#This Row],[Totale Immissione in rete]:[Totale Consumi rimanenti]])","v":0},"HCB",null,null,null,0]
["062005",6,{"$f":"+MIN(Contributo_cer[[#This Row],[Totale Immissione in rete]:[Totale Consumi rimanenti]])","v":0},"HCB",null,null,null,0]
["062006",6,{"$f":"+MIN(Contributo_cer[[#This Row],[Totale Immissione in rete]:[Totale Consumi rimanenti]])","v":0},"HPB",null,null,null,0]
["062007",6,{"$f":"+MIN(Contributo_cer[[#This Row],[Totale Immissione in rete]:[Totale Consumi rimanenti]])","v":0},"HPB",null,null,null,0]
["062008",6,{"$f":"+MIN(Contributo_cer[[#This Row],[Totale Immissione in rete]:[Totale Consumi rimanenti]])","v":0},"HPB",null,null,null,0]
["062009",6,{"$f":"+MIN(Contributo_cer[[#This Row],[Totale Immissione in rete]:[Totale Consumi rimanenti]])","v":0},"HPB",null,null,null,0]
["062010",6,{"$f":"+MIN(Contributo_cer[[#This Row],[Totale Immissione in rete]:[Totale Consumi rimanenti]])","v":0},"HPB",null,null,null,0]
["062011",6,{"$f":"+MIN(Contributo_cer[[#This Row],[Totale Immissione in rete]:[Totale Consumi rimanenti]])","v":0},"HPB",null,null,null,0]
["062012",6,{"$f":"+MIN(Contributo_cer[[#This Row],[Totale Immissione in rete]:[Totale Consumi rimanenti]])","v":0},"HPB",null,null,null,0]
["062013",6,{"$f":"+MIN(Contributo_cer[[#This Row],[Totale Immissione in rete]:[Totale Consumi rimanenti]])","v":0},"HPB",null,null,null,0]
["062014",6,{"$f":"+MIN(Contributo_cer[[#This Row],[Totale Immissione in rete]:[Totale Consumi rimanenti]])","v":0},"HPB",null,null,null,0]
["062015",6,{"$f":"+MIN(Contributo_cer[[#This Row],[Totale Immissione in rete]:[Totale Consumi rimanenti]])","v":0},"HPB",null,null,null,0]
["062016",6,{"$f":"+MIN(Contributo_cer[[#This Row],[Totale Immissione in rete]:[Totale Consumi rimanenti]])","v":0},"HPB",null,null,null,0]
["062017",6,{"$f":"+MIN(Contributo_cer[[#This Row],[Totale Immissione in rete]:[Totale Consumi rimanenti]])","v":0},"HPB",null,null,null,0]
["062018",6,{"$f":"+MIN(Contributo_cer[[#This Row],[Totale Immissione in rete]:[Totale Consumi rimanenti]])","v":0},"HPB",null,null,null,0]
["062019",6,{"$f":"+MIN(Contributo_cer[[#This Row],[Totale Immissione in rete]:[Totale Consumi rimanenti]])","v":0},"HPB",null,null,null,0]
["062020",6,{"$f":"+MIN(Contributo_cer[[#This Row],[Totale Immissione in rete]:[Totale Consumi rimanenti]])","v":0},"HPB",null,null,null,0]
["062021",6,{"$f":"+MIN(Contributo_cer[[#This Row],[Totale Immissione in rete]:[Totale Consumi rimanenti]])","v":0},"HPB",null,null,null,0]
["062022",6,{"$f":"+MIN(Contributo_cer[[#This Row],[Totale Immissione in rete]:[Totale Consumi rimanenti]])","v":0},"HCB",null,null,null,0]
["062023",6,{"$f":"+MIN(Contributo_cer[[#This Row],[Totale Immissione in rete]:[Totale Consumi rimanenti]])","v":0},"HCB",null,null,null,0]
["062100",6,{"$f":"+MIN(Contributo_cer[[#This Row],[Totale Immissione in rete]:[Totale Consumi rimanenti]])","v":0},"HCB",null,null,null,0]
["062101",6,{"$f":"+MIN(Contributo_cer[[#This Row],[Totale Immissione in rete]:[Totale Consumi rimanenti]])","v":0},"HCB",null,null,null,0]
["062102",6,{"$f":"+MIN(Contributo_cer[[#This Row],[Totale Immissione in rete]:[Totale Consumi rimanenti]])","v":0},"HCB",null,null,null,0]
["062103",6,{"$f":"+MIN(Contributo_cer[[#This Row],[Totale Immissione in rete]:[Totale Consumi rimanenti]])","v":0},"HCB",null,null,null,0]
["062104",6,{"$f":"+MIN(Contributo_cer[[#This Row],[Totale Immissione in rete]:[Totale Consumi rimanenti]])","v":0},"HCB",null,null,null,0]
["062105",6,{"$f":"+MIN(Contributo_cer[[#This Row],[Totale Immissione in rete]:[Totale Consumi rimanenti]])","v":0},"HCB",null,null,null,0]
["062106",6,{"$f":"+MIN(Contributo_cer[[#This Row],[Totale Immissione in rete]:[Totale Consumi rimanenti]])","v":0},"HPB",null,null,null,0]
["062107",6,{"$f":"+MIN(Contributo_cer[[#This Row],[Totale Immissione in rete]:[Totale Consumi rimanenti]])","v":0},"HPB",null,null,null,0]
["062108",6,{"$f":"+MIN(Contributo_cer[[#This Row],[Totale Immissione in rete]:[Totale Consumi rimanenti]])","v":0},"HPB",null,null,null,0]
["062109",6,{"$f":"+MIN(Contributo_cer[[#This Row],[Totale Immissione in rete]:[Totale Consumi rimanenti]])","v":0},"HPB",null,null,null,0]
["062110",6,{"$f":"+MIN(Contributo_cer[[#This Row],[Totale Immissione in rete]:[Totale Consumi rimanenti]])","v":0},"HPB",null,null,null,0]
["062111",6,{"$f":"+MIN(Contributo_cer[[#This Row],[Totale Immissione in rete]:[Totale Consumi rimanenti]])","v":0},"HPB",null,null,null,0]
["062112",6,{"$f":"+MIN(Contributo_cer[[#This Row],[Totale Immissione in rete]:[Totale Consumi rimanenti]])","v":0},"HPB",null,null,null,0]
["062113",6,{"$f":"+MIN(Contributo_cer[[#This Row],[Totale Immissione in rete]:[Totale Consumi rimanenti]])","v":0},"HPB",null,null,null,0]
["062114",6,{"$f":"+MIN(Contributo_cer[[#This Row],[Totale Immissione in rete]:[Totale Consumi rimanenti]])","v":0},"HPB",null,null,null,0]
["062115",6,{"$f":"+MIN(Contributo_cer[[#This Row],[Totale Immissione in rete]:[Totale Consumi rimanenti]])","v":0},"HPB",null,null,null,0]
["062116",6,{"$f":"+MIN(Contributo_cer[[#This Row],[Totale Immissione in rete]:[Totale Consumi rimanenti]])","v":0},"HPB",null,null,null,0]
["062117",6,{"$f":"+MIN(Contributo_cer[[#This Row],[Totale Immissione in rete]:[Totale Consumi rimanenti]])","v":0},"HPB",null,null,null,0]
["062118",6,{"$f":"+MIN(Contributo_cer[[#This Row],[Totale Immissione in rete]:[Totale Consumi rimanenti]])","v":0},"HPB",null,null,null,0]
["062119",6,{"$f":"+MIN(Contributo_cer[[#This Row],[Totale Immissione in rete]:[Totale Consumi rimanenti]])","v":0},"HPB",null,null,null,0]
["062120",6,{"$f":"+MIN(Contributo_cer[[#This Row],[Totale Immissione in rete]:[Totale Consumi rimanenti]])","v":0},"HPB",null,null,null,0]
["062121",6,{"$f":"+MIN(Contributo_cer[[#This Row],[Totale Immissione in rete]:[Totale Consumi rimanenti]])","v":0},"HPB",null,null,null,0]
["062122",6,{"$f":"+MIN(Contributo_cer[[#This Row],[Totale Immissione in rete]:[Totale Consumi rimanenti]])","v":0},"HCB",null,null,null,0]
["062123",6,{"$f":"+MIN(Contributo_cer[[#This Row],[Totale Immissione in rete]:[Totale Consumi rimanenti]])","v":0},"HCB",null,null,null,0]
["062200",6,{"$f":"+MIN(Contributo_cer[[#This Row],[Totale Immissione in rete]:[Totale Consumi rimanenti]])","v":0},"HCB",null,null,null,0]
["062201",6,{"$f":"+MIN(Contributo_cer[[#This Row],[Totale Immissione in rete]:[Totale Consumi rimanenti]])","v":0},"HCB",null,null,null,0]
["062202",6,{"$f":"+MIN(Contributo_cer[[#This Row],[Totale Immissione in rete]:[Totale Consumi rimanenti]])","v":0},"HCB",null,null,null,0]
["062203",6,{"$f":"+MIN(Contributo_cer[[#This Row],[Totale Immissione in rete]:[Totale Consumi rimanenti]])","v":0},"HCB",null,null,null,0]
["062204",6,{"$f":"+MIN(Contributo_cer[[#This Row],[Totale Immissione in rete]:[Totale Consumi rimanenti]])","v":0},"HCB",null,null,null,0]
["062205",6,{"$f":"+MIN(Contributo_cer[[#This Row],[Totale Immissione in rete]:[Totale Consumi rimanenti]])","v":0},"HCB",null,null,null,0]
["062206",6,{"$f":"+MIN(Contributo_cer[[#This Row],[Totale Immissione in rete]:[Totale Consumi rimanenti]])","v":0},"HPB",null,null,null,0]
["062207",6,{"$f":"+MIN(Contributo_cer[[#This Row],[Totale Immissione in rete]:[Totale Consumi rimanenti]])","v":0},"HPB",null,null,null,0]
["062208",6,{"$f":"+MIN(Contributo_cer[[#This Row],[Totale Immissione in rete]:[Totale Consumi rimanenti]])","v":0},"HPB",null,null,null,0]
["062209",6,{"$f":"+MIN(Contributo_cer[[#This Row],[Totale Immissione in rete]:[Totale Consumi rimanenti]])","v":0},"HPB",null,null,null,0]
["062210",6,{"$f":"+MIN(Contributo_cer[[#This Row],[Totale Immissione in rete]:[Totale Consumi rimanenti]])","v":0},"HPB",null,null,null,0]
["062211",6,{"$f":"+MIN(Contributo_cer[[#This Row],[Totale Immissione in rete]:[Totale Consumi rimanenti]])","v":0},"HPB",null,null,null,0]
["062212",6,{"$f":"+MIN(Contributo_cer[[#This Row],[Totale Immissione in rete]:[Totale Consumi rimanenti]])","v":0},"HPB",null,null,null,0]
["062213",6,{"$f":"+MIN(Contributo_cer[[#This Row],[Totale Immissione in rete]:[Totale Consumi rimanenti]])","v":0},"HPB",null,null,null,0]
["062214",6,{"$f":"+MIN(Contributo_cer[[#This Row],[Totale Immissione in rete]:[Totale Consumi rimanenti]])","v":0},"HPB",null,null,null,0]
["062215",6,{"$f":"+MIN(Contributo_cer[[#This Row],[Totale Immissione in rete]:[Totale Consumi rimanenti]])","v":0},"HPB",null,null,null,0]
["062216",6,{"$f":"+MIN(Contributo_cer[[#This Row],[Totale Immissione in rete]:[Totale Consumi rimanenti]])","v":0},"HPB",null,null,null,0]
["062217",6,{"$f":"+MIN(Contributo_cer[[#This Row],[Totale Immissione in rete]:[Totale Consumi rimanenti]])","v":0},"HPB",null,null,null,0]
["062218",6,{"$f":"+MIN(Contributo_cer[[#This Row],[Totale Immissione in rete]:[Totale Consumi rimanenti]])","v":0},"HPB",null,null,null,0]
["062219",6,{"$f":"+MIN(Contributo_cer[[#This Row],[Totale Immissione in rete]:[Totale Consumi rimanenti]])","v":0},"HPB",null,null,null,0]
["062220",6,{"$f":"+MIN(Contributo_cer[[#This Row],[Totale Immissione in rete]:[Totale Consumi rimanenti]])","v":0},"HPB",null,null,null,0]
["062221",6,{"$f":"+MIN(Contributo_cer[[#This Row],[Totale Immissione in rete]:[Totale Consumi rimanenti]])","v":0},"HPB",null,null,null,0]
["062222",6,{"$f":"+MIN(Contributo_cer[[#This Row],[Totale Immissione in rete]:[Totale Consumi rimanenti]])","v":0},"HCB",null,null,null,0]
["062223",6,{"$f":"+MIN(Contributo_cer[[#This Row],[Totale Immissione in rete]:[Totale Consumi rimanenti]])","v":0},"HCB",null,null,null,0]
["062300",6,{"$f":"+MIN(Contributo_cer[[#This Row],[Totale Immissione in rete]:[Totale Consumi rimanenti]])","v":0},"HCB",null,null,null,0]
["062301",6,{"$f":"+MIN(Contributo_cer[[#This Row],[Totale Immissione in rete]:[Totale Consumi rimanenti]])","v":0},"HCB",null,null,null,0]
["062302",6,{"$f":"+MIN(Contributo_cer[[#This Row],[Totale Immissione in rete]:[Totale Consumi rimanenti]])","v":0},"HCB",null,null,null,0]
["062303",6,{"$f":"+MIN(Contributo_cer[[#This Row],[Totale Immissione in rete]:[Totale Consumi rimanenti]])","v":0},"HCB",null,null,null,0]
["062304",6,{"$f":"+MIN(Contributo_cer[[#This Row],[Totale Immissione in rete]:[Totale Consumi rimanenti]])","v":0},"HCB",null,null,null,0]
["062305",6,{"$f":"+MIN(Contributo_cer[[#This Row],[Totale Immissione in rete]:[Totale Consumi rimanenti]])","v":0},"HCB",null,null,null,0]
["062306",6,{"$f":"+MIN(Contributo_cer[[#This Row],[Totale Immissione in rete]:[Totale Consumi rimanenti]])","v":0},"HPB",null,null,null,0]
["062307",6,{"$f":"+MIN(Contributo_cer[[#This Row],[Totale Immissione in rete]:[Totale Consumi rimanenti]])","v":0},"HPB",null,null,null,0]
["062308",6,{"$f":"+MIN(Contributo_cer[[#This Row],[Totale Immissione in rete]:[Totale Consumi rimanenti]])","v":0},"HPB",null,null,null,0]
["062309",6,{"$f":"+MIN(Contributo_cer[[#This Row],[Totale Immissione in rete]:[Totale Consumi rimanenti]])","v":0},"HPB",null,null,null,0]
["062310",6,{"$f":"+MIN(Contributo_cer[[#This Row],[Totale Immissione in rete]:[Totale Consumi rimanenti]])","v":0},"HPB",null,null,null,0]
["062311",6,{"$f":"+MIN(Contributo_cer[[#This Row],[Totale Immissione in rete]:[Totale Consumi rimanenti]])","v":0},"HPB",null,null,null,0]
["062312",6,{"$f":"+MIN(Contributo_cer[[#This Row],[Totale Immissione in rete]:[Totale Consumi rimanenti]])","v":0},"HPB",null,null,null,0]
["062313",6,{"$f":"+MIN(Contributo_cer[[#This Row],[Totale Immissione in rete]:[Totale Consumi rimanenti]])","v":0},"HPB",null,null,null,0]
["062314",6,{"$f":"+MIN(Contributo_cer[[#This Row],[Totale Immissione in rete]:[Totale Consumi rimanenti]])","v":0},"HPB",null,null,null,0]
["062315",6,{"$f":"+MIN(Contributo_cer[[#This Row],[Totale Immissione in rete]:[Totale Consumi rimanenti]])","v":0},"HPB",null,null,null,0]
["062316",6,{"$f":"+MIN(Contributo_cer[[#This Row],[Totale Immissione in rete]:[Totale Consumi rimanenti]])","v":0},"HPB",null,null,null,0]
["062317",6,{"$f":"+MIN(Contributo_cer[[#This Row],[Totale Immissione in rete]:[Totale Consumi rimanenti]])","v":0},"HPB",null,null,null,0]
["062318",6,{"$f":"+MIN(Contributo_cer[[#This Row],[Totale Immissione in rete]:[Totale Consumi rimanenti]])","v":0},"HPB",null,null,null,0]
["062319",6,{"$f":"+MIN(Contributo_cer[[#This Row],[Totale Immissione in rete]:[Totale Consumi rimanenti]])","v":0},"HPB",null,null,null,0]
["062320",6,{"$f":"+MIN(Contributo_cer[[#This Row],[Totale Immissione in rete]:[Totale Consumi rimanenti]])","v":0},"HPB",null,null,null,0]
["062321",6,{"$f":"+MIN(Contributo_cer[[#This Row],[Totale Immissione in rete]:[Totale Consumi rimanenti]])","v":0},"HPB",null,null,null,0]
["062322",6,{"$f":"+MIN(Contributo_cer[[#This Row],[Totale Immissione in rete]:[Totale Consumi rimanenti]])","v":0},"HCB",null,null,null,0]
["062323",6,{"$f":"+MIN(Contributo_cer[[#This Row],[Totale Immissione in rete]:[Totale Consumi rimanenti]])","v":0},"HCB",null,null,null,0]
["062400",6,{"$f":"+MIN(Contributo_cer[[#This Row],[Totale Immissione in rete]:[Totale Consumi rimanenti]])","v":0},"HCB",null,null,null,0]
["062401",6,{"$f":"+MIN(Contributo_cer[[#This Row],[Totale Immissione in rete]:[Totale Consumi rimanenti]])","v":0},"HCB",null,null,null,0]
["062402",6,{"$f":"+MIN(Contributo_cer[[#This Row],[Totale Immissione in rete]:[Totale Consumi rimanenti]])","v":0},"HCB",null,null,null,0]
["062403",6,{"$f":"+MIN(Contributo_cer[[#This Row],[Totale Immissione in rete]:[Totale Consumi rimanenti]])","v":0},"HCB",null,null,null,0]
["062404",6,{"$f":"+MIN(Contributo_cer[[#This Row],[Totale Immissione in rete]:[Totale Consumi rimanenti]])","v":0},"HCB",null,null,null,0]
["062405",6,{"$f":"+MIN(Contributo_cer[[#This Row],[Totale Immissione in rete]:[Totale Consumi rimanenti]])","v":0},"HCB",null,null,null,0]
["062406",6,{"$f":"+MIN(Contributo_cer[[#This Row],[Totale Immissione in rete]:[Totale Consumi rimanenti]])","v":0},"HPB",null,null,null,0]
["062407",6,{"$f":"+MIN(Contributo_cer[[#This Row],[Totale Immissione in rete]:[Totale Consumi rimanenti]])","v":0},"HPB",null,null,null,0]
["062408",6,{"$f":"+MIN(Contributo_cer[[#This Row],[Totale Immissione in rete]:[Totale Consumi rimanenti]])","v":0},"HPB",null,null,null,0]
["062409",6,{"$f":"+MIN(Contributo_cer[[#This Row],[Totale Immissione in rete]:[Totale Consumi rimanenti]])","v":0},"HPB",null,null,null,0]
["062410",6,{"$f":"+MIN(Contributo_cer[[#This Row],[Totale Immissione in rete]:[Totale Consumi rimanenti]])","v":0},"HPB",null,null,null,0]
["062411",6,{"$f":"+MIN(Contributo_cer[[#This Row],[Totale Immissione in rete]:[Totale Consumi rimanenti]])","v":0},"HPB",null,null,null,0]
["062412",6,{"$f":"+MIN(Contributo_cer[[#This Row],[Totale Immissione in rete]:[Totale Consumi rimanenti]])","v":0},"HPB",null,null,null,0]
["062413",6,{"$f":"+MIN(Contributo_cer[[#This Row],[Totale Immissione in rete]:[Totale Consumi rimanenti]])","v":0},"HPB",null,null,null,0]
["062414",6,{"$f":"+MIN(Contributo_cer[[#This Row],[Totale Immissione in rete]:[Totale Consumi rimanenti]])","v":0},"HPB",null,null,null,0]
["062415",6,{"$f":"+MIN(Contributo_cer[[#This Row],[Totale Immissione in rete]:[Totale Consumi rimanenti]])","v":0},"HPB",null,null,null,0]
["062416",6,{"$f":"+MIN(Contributo_cer[[#This Row],[Totale Immissione in rete]:[Totale Consumi rimanenti]])","v":0},"HPB",null,null,null,0]
["062417",6,{"$f":"+MIN(Contributo_cer[[#This Row],[Totale Immissione in rete]:[Totale Consumi rimanenti]])","v":0},"HPB",null,null,null,0]
["062418",6,{"$f":"+MIN(Contributo_cer[[#This Row],[Totale Immissione in rete]:[Totale Consumi rimanenti]])","v":0},"HPB",null,null,null,0]
["062419",6,{"$f":"+MIN(Contributo_cer[[#This Row],[Totale Immissione in rete]:[Totale Consumi rimanenti]])","v":0},"HPB",null,null,null,0]
["062420",6,{"$f":"+MIN(Contributo_cer[[#This Row],[Totale Immissione in rete]:[Totale Consumi rimanenti]])","v":0},"HPB",null,null,null,0]
["062421",6,{"$f":"+MIN(Contributo_cer[[#This Row],[Totale Immissione in rete]:[Totale Consumi rimanenti]])","v":0},"HPB",null,null,null,0]
["062422",6,{"$f":"+MIN(Contributo_cer[[#This Row],[Totale Immissione in rete]:[Totale Consumi rimanenti]])","v":0},"HCB",null,null,null,0]
["062423",6,{"$f":"+MIN(Contributo_cer[[#This Row],[Totale Immissione in rete]:[Totale Consumi rimanenti]])","v":0},"HCB",null,null,null,0]
["062500",6,{"$f":"+MIN(Contributo_cer[[#This Row],[Totale Immissione in rete]:[Totale Consumi rimanenti]])","v":0},"HCB",null,null,null,0]
["062501",6,{"$f":"+MIN(Contributo_cer[[#This Row],[Totale Immissione in rete]:[Totale Consumi rimanenti]])","v":0},"HCB",null,null,null,0]
["062502",6,{"$f":"+MIN(Contributo_cer[[#This Row],[Totale Immissione in rete]:[Totale Consumi rimanenti]])","v":0},"HCB",null,null,null,0]
["062503",6,{"$f":"+MIN(Contributo_cer[[#This Row],[Totale Immissione in rete]:[Totale Consumi rimanenti]])","v":0},"HCB",null,null,null,0]
["062504",6,{"$f":"+MIN(Contributo_cer[[#This Row],[Totale Immissione in rete]:[Totale Consumi rimanenti]])","v":0},"HCB",null,null,null,0]
["062505",6,{"$f":"+MIN(Contributo_cer[[#This Row],[Totale Immissione in rete]:[Totale Consumi rimanenti]])","v":0},"HCB",null,null,null,0]
["062506",6,{"$f":"+MIN(Contributo_cer[[#This Row],[Totale Immissione in rete]:[Totale Consumi rimanenti]])","v":0},"HPB",null,null,null,0]
["062507",6,{"$f":"+MIN(Contributo_cer[[#This Row],[Totale Immissione in rete]:[Totale Consumi rimanenti]])","v":0},"HPB",null,null,null,0]
["062508",6,{"$f":"+MIN(Contributo_cer[[#This Row],[Totale Immissione in rete]:[Totale Consumi rimanenti]])","v":0},"HPB",null,null,null,0]
["062509",6,{"$f":"+MIN(Contributo_cer[[#This Row],[Totale Immissione in rete]:[Totale Consumi rimanenti]])","v":0},"HPB",null,null,null,0]
["062510",6,{"$f":"+MIN(Contributo_cer[[#This Row],[Totale Immissione in rete]:[Totale Consumi rimanenti]])","v":0},"HPB",null,null,null,0]
["062511",6,{"$f":"+MIN(Contributo_cer[[#This Row],[Totale Immissione in rete]:[Totale Consumi rimanenti]])","v":0},"HPB",null,null,null,0]
["062512",6,{"$f":"+MIN(Contributo_cer[[#This Row],[Totale Immissione in rete]:[Totale Consumi rimanenti]])","v":0},"HPB",null,null,null,0]
["062513",6,{"$f":"+MIN(Contributo_cer[[#This Row],[Totale Immissione in rete]:[Totale Consumi rimanenti]])","v":0},"HPB",null,null,null,0]
["062514",6,{"$f":"+MIN(Contributo_cer[[#This Row],[Totale Immissione in rete]:[Totale Consumi rimanenti]])","v":0},"HPB",null,null,null,0]
["062515",6,{"$f":"+MIN(Contributo_cer[[#This Row],[Totale Immissione in rete]:[Totale Consumi rimanenti]])","v":0},"HPB",null,null,null,0]
["062516",6,{"$f":"+MIN(Contributo_cer[[#This Row],[Totale Immissione in rete]:[Totale Consumi rimanenti]])","v":0},"HPB",null,null,null,0]
["062517",6,{"$f":"+MIN(Contributo_cer[[#This Row],[Totale Immissione in rete]:[Totale Consumi rimanenti]])","v":0},"HPB",null,null,null,0]
["062518",6,{"$f":"+MIN(Contributo_cer[[#This Row],[Totale Immissione in rete]:[Totale Consumi rimanenti]])","v":0},"HPB",null,null,null,0]
["062519",6,{"$f":"+MIN(Contributo_cer[[#This Row],[Totale Immissione in rete]:[Totale Consumi rimanenti]])","v":0},"HPB",null,null,null,0]
["062520",6,{"$f":"+MIN(Contributo_cer[[#This Row],[Totale Immissione in rete]:[Totale Consumi rimanenti]])","v":0},"HPB",null,null,null,0]
["062521",6,{"$f":"+MIN(Contributo_cer[[#This Row],[Totale Immissione in rete]:[Totale Consumi rimanenti]])","v":0},"HPB",null,null,null,0]
["062522",6,{"$f":"+MIN(Contributo_cer[[#This Row],[Totale Immissione in rete]:[Totale Consumi rimanenti]])","v":0},"HCB",null,null,null,0]
["062523",6,{"$f":"+MIN(Contributo_cer[[#This Row],[Totale Immissione in rete]:[Totale Consumi rimanenti]])","v":0},"HCB",null,null,null,0]
["062600",6,{"$f":"+MIN(Contributo_cer[[#This Row],[Totale Immissione in rete]:[Totale Consumi rimanenti]])","v":0},"HCB",null,null,null,0]
["062601",6,{"$f":"+MIN(Contributo_cer[[#This Row],[Totale Immissione in rete]:[Totale Consumi rimanenti]])","v":0},"HCB",null,null,null,0]
["062602",6,{"$f":"+MIN(Contributo_cer[[#This Row],[Totale Immissione in rete]:[Totale Consumi rimanenti]])","v":0},"HCB",null,null,null,0]
["062603",6,{"$f":"+MIN(Contributo_cer[[#This Row],[Totale Immissione in rete]:[Totale Consumi rimanenti]])","v":0},"HCB",null,null,null,0]
["062604",6,{"$f":"+MIN(Contributo_cer[[#This Row],[Totale Immissione in rete]:[Totale Consumi rimanenti]])","v":0},"HCB",null,null,null,0]
["062605",6,{"$f":"+MIN(Contributo_cer[[#This Row],[Totale Immissione in rete]:[Totale Consumi rimanenti]])","v":0},"HCB",null,null,null,0]
["062606",6,{"$f":"+MIN(Contributo_cer[[#This Row],[Totale Immissione in rete]:[Totale Consumi rimanenti]])","v":0},"HPB",null,null,null,0]
["062607",6,{"$f":"+MIN(Contributo_cer[[#This Row],[Totale Immissione in rete]:[Totale Consumi rimanenti]])","v":0},"HPB",null,null,null,0]
["062608",6,{"$f":"+MIN(Contributo_cer[[#This Row],[Totale Immissione in rete]:[Totale Consumi rimanenti]])","v":0},"HPB",null,null,null,0]
["062609",6,{"$f":"+MIN(Contributo_cer[[#This Row],[Totale Immissione in rete]:[Totale Consumi rimanenti]])","v":0},"HPB",null,null,null,0]
["062610",6,{"$f":"+MIN(Contributo_cer[[#This Row],[Totale Immissione in rete]:[Totale Consumi rimanenti]])","v":0},"HPB",null,null,null,0]
["062611",6,{"$f":"+MIN(Contributo_cer[[#This Row],[Totale Immissione in rete]:[Totale Consumi rimanenti]])","v":0},"HPB",null,null,null,0]
["062612",6,{"$f":"+MIN(Contributo_cer[[#This Row],[Totale Immissione in rete]:[Totale Consumi rimanenti]])","v":0},"HPB",null,null,null,0]
["062613",6,{"$f":"+MIN(Contributo_cer[[#This Row],[Totale Immissione in rete]:[Totale Consumi rimanenti]])","v":0},"HPB",null,null,null,0]
["062614",6,{"$f":"+MIN(Contributo_cer[[#This Row],[Totale Immissione in rete]:[Totale Consumi rimanenti]])","v":0},"HPB",null,null,null,0]
["062615",6,{"$f":"+MIN(Contributo_cer[[#This Row],[Totale Immissione in rete]:[Totale Consumi rimanenti]])","v":0},"HPB",null,null,null,0]
["062616",6,{"$f":"+MIN(Contributo_cer[[#This Row],[Totale Immissione in rete]:[Totale Consumi rimanenti]])","v":0},"HPB",null,null,null,0]
["062617",6,{"$f":"+MIN(Contributo_cer[[#This Row],[Totale Immissione in rete]:[Totale Consumi rimanenti]])","v":0},"HPB",null,null,null,0]
["062618",6,{"$f":"+MIN(Contributo_cer[[#This Row],[Totale Immissione in rete]:[Totale Consumi rimanenti]])","v":0},"HPB",null,null,null,0]
["062619",6,{"$f":"+MIN(Contributo_cer[[#This Row],[Totale Immissione in rete]:[Totale Consumi rimanenti]])","v":0},"HPB",null,null,null,0]
["062620",6,{"$f":"+MIN(Contributo_cer[[#This Row],[Totale Immissione in rete]:[Totale Consumi rimanenti]])","v":0},"HPB",null,null,null,0]
["062621",6,{"$f":"+MIN(Contributo_cer[[#This Row],[Totale Immissione in rete]:[Totale Consumi rimanenti]])","v":0},"HPB",null,null,null,0]
["062622",6,{"$f":"+MIN(Contributo_cer[[#This Row],[Totale Immissione in rete]:[Totale Consumi rimanenti]])","v":0},"HCB",null,null,null,0]
["062623",6,{"$f":"+MIN(Contributo_cer[[#This Row],[Totale Immissione in rete]:[Totale Consumi rimanenti]])","v":0},"HCB",null,null,null,0]
["062700",6,{"$f":"+MIN(Contributo_cer[[#This Row],[Totale Immissione in rete]:[Totale Consumi rimanenti]])","v":0},"HCB",null,null,null,0]
["062701",6,{"$f":"+MIN(Contributo_cer[[#This Row],[Totale Immissione in rete]:[Totale Consumi rimanenti]])","v":0},"HCB",null,null,null,0]
["062702",6,{"$f":"+MIN(Contributo_cer[[#This Row],[Totale Immissione in rete]:[Totale Consumi rimanenti]])","v":0},"HCB",null,null,null,0]
["062703",6,{"$f":"+MIN(Contributo_cer[[#This Row],[Totale Immissione in rete]:[Totale Consumi rimanenti]])","v":0},"HCB",null,null,null,0]
["062704",6,{"$f":"+MIN(Contributo_cer[[#This Row],[Totale Immissione in rete]:[Totale Consumi rimanenti]])","v":0},"HCB",null,null,null,0]
["062705",6,{"$f":"+MIN(Contributo_cer[[#This Row],[Totale Immissione in rete]:[Totale Consumi rimanenti]])","v":0},"HCB",null,null,null,0]
["062706",6,{"$f":"+MIN(Contributo_cer[[#This Row],[Totale Immissione in rete]:[Totale Consumi rimanenti]])","v":0},"HPB",null,null,null,0]
["062707",6,{"$f":"+MIN(Contributo_cer[[#This Row],[Totale Immissione in rete]:[Totale Consumi rimanenti]])","v":0},"HPB",null,null,null,0]
["062708",6,{"$f":"+MIN(Contributo_cer[[#This Row],[Totale Immissione in rete]:[Totale Consumi rimanenti]])","v":0},"HPB",null,null,null,0]
["062709",6,{"$f":"+MIN(Contributo_cer[[#This Row],[Totale Immissione in rete]:[Totale Consumi rimanenti]])","v":0},"HPB",null,null,null,0]
["062710",6,{"$f":"+MIN(Contributo_cer[[#This Row],[Totale Immissione in rete]:[Totale Consumi rimanenti]])","v":0},"HPB",null,null,null,0]
["062711",6,{"$f":"+MIN(Contributo_cer[[#This Row],[Totale Immissione in rete]:[Totale Consumi rimanenti]])","v":0},"HPB",null,null,null,0]
["062712",6,{"$f":"+MIN(Contributo_cer[[#This Row],[Totale Immissione in rete]:[Totale Consumi rimanenti]])","v":0},"HPB",null,null,null,0]
["062713",6,{"$f":"+MIN(Contributo_cer[[#This Row],[Totale Immissione in rete]:[Totale Consumi rimanenti]])","v":0},"HPB",null,null,null,0]
["062714",6,{"$f":"+MIN(Contributo_cer[[#This Row],[Totale Immissione in rete]:[Totale Consumi rimanenti]])","v":0},"HPB",null,null,null,0]
["062715",6,{"$f":"+MIN(Contributo_cer[[#This Row],[Totale Immissione in rete]:[Totale Consumi rimanenti]])","v":0},"HPB",null,null,null,0]
["062716",6,{"$f":"+MIN(Contributo_cer[[#This Row],[Totale Immissione in rete]:[Totale Consumi rimanenti]])","v":0},"HPB",null,null,null,0]
["062717",6,{"$f":"+MIN(Contributo_cer[[#This Row],[Totale Immissione in rete]:[Totale Consumi rimanenti]])","v":0},"HPB",null,null,null,0]
["062718",6,{"$f":"+MIN(Contributo_cer[[#This Row],[Totale Immissione in rete]:[Totale Consumi rimanenti]])","v":0},"HPB",null,null,null,0]
["062719",6,{"$f":"+MIN(Contributo_cer[[#This Row],[Totale Immissione in rete]:[Totale Consumi rimanenti]])","v":0},"HPB",null,null,null,0]
["062720",6,{"$f":"+MIN(Contributo_cer[[#This Row],[Totale Immissione in rete]:[Totale Consumi rimanenti]])","v":0},"HPB",null,null,null,0]
["062721",6,{"$f":"+MIN(Contributo_cer[[#This Row],[Totale Immissione in rete]:[Totale Consumi rimanenti]])","v":0},"HPB",null,null,null,0]
["062722",6,{"$f":"+MIN(Contributo_cer[[#This Row],[Totale Immissione in rete]:[Totale Consumi rimanenti]])","v":0},"HCB",null,null,null,0]
["062723",6,{"$f":"+MIN(Contributo_cer[[#This Row],[Totale Immissione in rete]:[Totale Consumi rimanenti]])","v":0},"HCB",null,null,null,0]
["062800",6,{"$f":"+MIN(Contributo_cer[[#This Row],[Totale Immissione in rete]:[Totale Consumi rimanenti]])","v":0},"HCB",null,null,null,0]
["062801",6,{"$f":"+MIN(Contributo_cer[[#This Row],[Totale Immissione in rete]:[Totale Consumi rimanenti]])","v":0},"HCB",null,null,null,0]
["062802",6,{"$f":"+MIN(Contributo_cer[[#This Row],[Totale Immissione in rete]:[Totale Consumi rimanenti]])","v":0},"HCB",null,null,null,0]
["062803",6,{"$f":"+MIN(Contributo_cer[[#This Row],[Totale Immissione in rete]:[Totale Consumi rimanenti]])","v":0},"HCB",null,null,null,0]
["062804",6,{"$f":"+MIN(Contributo_cer[[#This Row],[Totale Immissione in rete]:[Totale Consumi rimanenti]])","v":0},"HCB",null,null,null,0]
["062805",6,{"$f":"+MIN(Contributo_cer[[#This Row],[Totale Immissione in rete]:[Totale Consumi rimanenti]])","v":0},"HCB",null,null,null,0]
["062806",6,{"$f":"+MIN(Contributo_cer[[#This Row],[Totale Immissione in rete]:[Totale Consumi rimanenti]])","v":0},"HPB",null,null,null,0]
["062807",6,{"$f":"+MIN(Contributo_cer[[#This Row],[Totale Immissione in rete]:[Totale Consumi rimanenti]])","v":0},"HPB",null,null,null,0]
["062808",6,{"$f":"+MIN(Contributo_cer[[#This Row],[Totale Immissione in rete]:[Totale Consumi rimanenti]])","v":0},"HPB",null,null,null,0]
["062809",6,{"$f":"+MIN(Contributo_cer[[#This Row],[Totale Immissione in rete]:[Totale Consumi rimanenti]])","v":0},"HPB",null,null,null,0]
["062810",6,{"$f":"+MIN(Contributo_cer[[#This Row],[Totale Immissione in rete]:[Totale Consumi rimanenti]])","v":0},"HPB",null,null,null,0]
["062811",6,{"$f":"+MIN(Contributo_cer[[#This Row],[Totale Immissione in rete]:[Totale Consumi rimanenti]])","v":0},"HPB",null,null,null,0]
["062812",6,{"$f":"+MIN(Contributo_cer[[#This Row],[Totale Immissione in rete]:[Totale Consumi rimanenti]])","v":0},"HPB",null,null,null,0]
["062813",6,{"$f":"+MIN(Contributo_cer[[#This Row],[Totale Immissione in rete]:[Totale Consumi rimanenti]])","v":0},"HPB",null,null,null,0]
["062814",6,{"$f":"+MIN(Contributo_cer[[#This Row],[Totale Immissione in rete]:[Totale Consumi rimanenti]])","v":0},"HPB",null,null,null,0]
["062815",6,{"$f":"+MIN(Contributo_cer[[#This Row],[Totale Immissione in rete]:[Totale Consumi rimanenti]])","v":0},"HPB",null,null,null,0]
["062816",6,{"$f":"+MIN(Contributo_cer[[#This Row],[Totale Immissione in rete]:[Totale Consumi rimanenti]])","v":0},"HPB",null,null,null,0]
["062817",6,{"$f":"+MIN(Contributo_cer[[#This Row],[Totale Immissione in rete]:[Totale Consumi rimanenti]])","v":0},"HPB",null,null,null,0]
["062818",6,{"$f":"+MIN(Contributo_cer[[#This Row],[Totale Immissione in rete]:[Totale Consumi rimanenti]])","v":0},"HPB",null,null,null,0]
["062819",6,{"$f":"+MIN(Contributo_cer[[#This Row],[Totale Immissione in rete]:[Totale Consumi rimanenti]])","v":0},"HPB",null,null,null,0]
["062820",6,{"$f":"+MIN(Contributo_cer[[#This Row],[Totale Immissione in rete]:[Totale Consumi rimanenti]])","v":0},"HPB",null,null,null,0]
["062821",6,{"$f":"+MIN(Contributo_cer[[#This Row],[Totale Immissione in rete]:[Totale Consumi rimanenti]])","v":0},"HPB",null,null,null,0]
["062822",6,{"$f":"+MIN(Contributo_cer[[#This Row],[Totale Immissione in rete]:[Totale Consumi rimanenti]])","v":0},"HCB",null,null,null,0]
["062823",6,{"$f":"+MIN(Contributo_cer[[#This Row],[Totale Immissione in rete]:[Totale Consumi rimanenti]])","v":0},"HCB",null,null,null,0]
["062900",6,{"$f":"+MIN(Contributo_cer[[#This Row],[Totale Immissione in rete]:[Totale Consumi rimanenti]])","v":0},"HCB",null,null,null,0]
["062901",6,{"$f":"+MIN(Contributo_cer[[#This Row],[Totale Immissione in rete]:[Totale Consumi rimanenti]])","v":0},"HCB",null,null,null,0]
["062902",6,{"$f":"+MIN(Contributo_cer[[#This Row],[Totale Immissione in rete]:[Totale Consumi rimanenti]])","v":0},"HCB",null,null,null,0]
["062903",6,{"$f":"+MIN(Contributo_cer[[#This Row],[Totale Immissione in rete]:[Totale Consumi rimanenti]])","v":0},"HCB",null,null,null,0]
["062904",6,{"$f":"+MIN(Contributo_cer[[#This Row],[Totale Immissione in rete]:[Totale Consumi rimanenti]])","v":0},"HCB",null,null,null,0]
["062905",6,{"$f":"+MIN(Contributo_cer[[#This Row],[Totale Immissione in rete]:[Totale Consumi rimanenti]])","v":0},"HCB",null,null,null,0]
["062906",6,{"$f":"+MIN(Contributo_cer[[#This Row],[Totale Immissione in rete]:[Totale Consumi rimanenti]])","v":0},"HPB",null,null,null,0]
["062907",6,{"$f":"+MIN(Contributo_cer[[#This Row],[Totale Immissione in rete]:[Totale Consumi rimanenti]])","v":0},"HPB",null,null,null,0]
["062908",6,{"$f":"+MIN(Contributo_cer[[#This Row],[Totale Immissione in rete]:[Totale Consumi rimanenti]])","v":0},"HPB",null,null,null,0]
["062909",6,{"$f":"+MIN(Contributo_cer[[#This Row],[Totale Immissione in rete]:[Totale Consumi rimanenti]])","v":0},"HPB",null,null,null,0]
["062910",6,{"$f":"+MIN(Contributo_cer[[#This Row],[Totale Immissione in rete]:[Totale Consumi rimanenti]])","v":0},"HPB",null,null,null,0]
["062911",6,{"$f":"+MIN(Contributo_cer[[#This Row],[Totale Immissione in rete]:[Totale Consumi rimanenti]])","v":0},"HPB",null,null,null,0]
["062912",6,{"$f":"+MIN(Contributo_cer[[#This Row],[Totale Immissione in rete]:[Totale Consumi rimanenti]])","v":0},"HPB",null,null,null,0]
["062913",6,{"$f":"+MIN(Contributo_cer[[#This Row],[Totale Immissione in rete]:[Totale Consumi rimanenti]])","v":0},"HPB",null,null,null,0]
["062914",6,{"$f":"+MIN(Contributo_cer[[#This Row],[Totale Immissione in rete]:[Totale Consumi rimanenti]])","v":0},"HPB",null,null,null,0]
["062915",6,{"$f":"+MIN(Contributo_cer[[#This Row],[Totale Immissione in rete]:[Totale Consumi rimanenti]])","v":0},"HPB",null,null,null,0]
["062916",6,{"$f":"+MIN(Contributo_cer[[#This Row],[Totale Immissione in rete]:[Totale Consumi rimanenti]])","v":0},"HPB",null,null,null,0]
["062917",6,{"$f":"+MIN(Contributo_cer[[#This Row],[Totale Immissione in rete]:[Totale Consumi rimanenti]])","v":0},"HPB",null,null,null,0]
["062918",6,{"$f":"+MIN(Contributo_cer[[#This Row],[Totale Immissione in rete]:[Totale Consumi rimanenti]])","v":0},"HPB",null,null,null,0]
["062919",6,{"$f":"+MIN(Contributo_cer[[#This Row],[Totale Immissione in rete]:[Totale Consumi rimanenti]])","v":0},"HPB",null,null,null,0]
["062920",6,{"$f":"+MIN(Contributo_cer[[#This Row],[Totale Immissione in rete]:[Totale Consumi rimanenti]])","v":0},"HPB",null,null,null,0]
["062921",6,{"$f":"+MIN(Contributo_cer[[#This Row],[Totale Immissione in rete]:[Totale Consumi rimanenti]])","v":0},"HPB",null,null,null,0]
["062922",6,{"$f":"+MIN(Contributo_cer[[#This Row],[Totale Immissione in rete]:[Totale Consumi rimanenti]])","v":0},"HCB",null,null,null,0]
["062923",6,{"$f":"+MIN(Contributo_cer[[#This Row],[Totale Immissione in rete]:[Totale Consumi rimanenti]])","v":0},"HCB",null,null,null,0]
["063000",6,{"$f":"+MIN(Contributo_cer[[#This Row],[Totale Immissione in rete]:[Totale Consumi rimanenti]])","v":0},"HCB",null,null,null,0]
["063001",6,{"$f":"+MIN(Contributo_cer[[#This Row],[Totale Immissione in rete]:[Totale Consumi rimanenti]])","v":0},"HCB",null,null,null,0]
["063002",6,{"$f":"+MIN(Contributo_cer[[#This Row],[Totale Immissione in rete]:[Totale Consumi rimanenti]])","v":0},"HCB",null,null,null,0]
["063003",6,{"$f":"+MIN(Contributo_cer[[#This Row],[Totale Immissione in rete]:[Totale Consumi rimanenti]])","v":0},"HCB",null,null,null,0]
["063004",6,{"$f":"+MIN(Contributo_cer[[#This Row],[Totale Immissione in rete]:[Totale Consumi rimanenti]])","v":0},"HCB",null,null,null,0]
["063005",6,{"$f":"+MIN(Contributo_cer[[#This Row],[Totale Immissione in rete]:[Totale Consumi rimanenti]])","v":0},"HCB",null,null,null,0]
["063006",6,{"$f":"+MIN(Contributo_cer[[#This Row],[Totale Immissione in rete]:[Totale Consumi rimanenti]])","v":0},"HPB",null,null,null,0]
["063007",6,{"$f":"+MIN(Contributo_cer[[#This Row],[Totale Immissione in rete]:[Totale Consumi rimanenti]])","v":0},"HPB",null,null,null,0]
["063008",6,{"$f":"+MIN(Contributo_cer[[#This Row],[Totale Immissione in rete]:[Totale Consumi rimanenti]])","v":0},"HPB",null,null,null,0]
["063009",6,{"$f":"+MIN(Contributo_cer[[#This Row],[Totale Immissione in rete]:[Totale Consumi rimanenti]])","v":0},"HPB",null,null,null,0]
["063010",6,{"$f":"+MIN(Contributo_cer[[#This Row],[Totale Immissione in rete]:[Totale Consumi rimanenti]])","v":0},"HPB",null,null,null,0]
["063011",6,{"$f":"+MIN(Contributo_cer[[#This Row],[Totale Immissione in rete]:[Totale Consumi rimanenti]])","v":0},"HPB",null,null,null,0]
["063012",6,{"$f":"+MIN(Contributo_cer[[#This Row],[Totale Immissione in rete]:[Totale Consumi rimanenti]])","v":0},"HPB",null,null,null,0]
["063013",6,{"$f":"+MIN(Contributo_cer[[#This Row],[Totale Immissione in rete]:[Totale Consumi rimanenti]])","v":0},"HPB",null,null,null,0]
["063014",6,{"$f":"+MIN(Contributo_cer[[#This Row],[Totale Immissione in rete]:[Totale Consumi rimanenti]])","v":0},"HPB",null,null,null,0]
["063015",6,{"$f":"+MIN(Contributo_cer[[#This Row],[Totale Immissione in rete]:[Totale Consumi rimanenti]])","v":0},"HPB",null,null,null,0]
["063016",6,{"$f":"+MIN(Contributo_cer[[#This Row],[Totale Immissione in rete]:[Totale Consumi rimanenti]])","v":0},"HPB",null,null,null,0]
["063017",6,{"$f":"+MIN(Contributo_cer[[#This Row],[Totale Immissione in rete]:[Totale Consumi rimanenti]])","v":0},"HPB",null,null,null,0]
["063018",6,{"$f":"+MIN(Contributo_cer[[#This Row],[Totale Immissione in rete]:[Totale Consumi rimanenti]])","v":0},"HPB",null,null,null,0]
["063019",6,{"$f":"+MIN(Contributo_cer[[#This Row],[Totale Immissione in rete]:[Totale Consumi rimanenti]])","v":0},"HPB",null,null,null,0]
["063020",6,{"$f":"+MIN(Contributo_cer[[#This Row],[Totale Immissione in rete]:[Totale Consumi rimanenti]])","v":0},"HPB",null,null,null,0]
["063021",6,{"$f":"+MIN(Contributo_cer[[#This Row],[Totale Immissione in rete]:[Totale Consumi rimanenti]])","v":0},"HPB",null,null,null,0]
["063022",6,{"$f":"+MIN(Contributo_cer[[#This Row],[Totale Immissione in rete]:[Totale Consumi rimanenti]])","v":0},"HCB",null,null,null,0]
["063023",6,{"$f":"+MIN(Contributo_cer[[#This Row],[Totale Immissione in rete]:[Totale Consumi rimanenti]])","v":0},"HCB",null,null,null,0]
["070100",7,{"$f":"+MIN(Contributo_cer[[#This Row],[Totale Immissione in rete]:[Totale Consumi rimanenti]])","v":0},"HCB",null,null,null,0]
["070101",7,{"$f":"+MIN(Contributo_cer[[#This Row],[Totale Immissione in rete]:[Totale Consumi rimanenti]])","v":0},"HCB",null,null,null,0]
["070102",7,{"$f":"+MIN(Contributo_cer[[#This Row],[Totale Immissione in rete]:[Totale Consumi rimanenti]])","v":0},"HCB",null,null,null,0]
["070103",7,{"$f":"+MIN(Contributo_cer[[#This Row],[Totale Immissione in rete]:[Totale Consumi rimanenti]])","v":0},"HCB",null,null,null,0]
["070104",7,{"$f":"+MIN(Contributo_cer[[#This Row],[Totale Immissione in rete]:[Totale Consumi rimanenti]])","v":0},"HCB",null,null,null,0]
["070105",7,{"$f":"+MIN(Contributo_cer[[#This Row],[Totale Immissione in rete]:[Totale Consumi rimanenti]])","v":0},"HCB",null,null,null,0]
["070106",7,{"$f":"+MIN(Contributo_cer[[#This Row],[Totale Immissione in rete]:[Totale Consumi rimanenti]])","v":0},"HPB",null,null,null,0]
["070107",7,{"$f":"+MIN(Contributo_cer[[#This Row],[Totale Immissione in rete]:[Totale Consumi rimanenti]])","v":0},"HPB",null,null,null,0]
["070108",7,{"$f":"+MIN(Contributo_cer[[#This Row],[Totale Immissione in rete]:[Totale Consumi rimanenti]])","v":0},"HPB",null,null,null,0]
["070109",7,{"$f":"+MIN(Contributo_cer[[#This Row],[Totale Immissione in rete]:[Totale Consumi rimanenti]])","v":0},"HPB",null,null,null,0]
["070110",7,{"$f":"+MIN(Contributo_cer[[#This Row],[Totale Immissione in rete]:[Totale Consumi rimanenti]])","v":0},"HPB",null,null,null,0]
["070111",7,{"$f":"+MIN(Contributo_cer[[#This Row],[Totale Immissione in rete]:[Totale Consumi rimanenti]])","v":0},"HPB",null,null,null,0]
["070112",7,{"$f":"+MIN(Contributo_cer[[#This Row],[Totale Immissione in rete]:[Totale Consumi rimanenti]])","v":0},"HPB",null,null,null,0]
["070113",7,{"$f":"+MIN(Contributo_cer[[#This Row],[Totale Immissione in rete]:[Totale Consumi rimanenti]])","v":0},"HPB",null,null,null,0]
["070114",7,{"$f":"+MIN(Contributo_cer[[#This Row],[Totale Immissione in rete]:[Totale Consumi rimanenti]])","v":0},"HPB",null,null,null,0]
["070115",7,{"$f":"+MIN(Contributo_cer[[#This Row],[Totale Immissione in rete]:[Totale Consumi rimanenti]])","v":0},"HPB",null,null,null,0]
["070116",7,{"$f":"+MIN(Contributo_cer[[#This Row],[Totale Immissione in rete]:[Totale Consumi rimanenti]])","v":0},"HPB",null,null,null,0]
["070117",7,{"$f":"+MIN(Contributo_cer[[#This Row],[Totale Immissione in rete]:[Totale Consumi rimanenti]])","v":0},"HPB",null,null,null,0]
["070118",7,{"$f":"+MIN(Contributo_cer[[#This Row],[Totale Immissione in rete]:[Totale Consumi rimanenti]])","v":0},"HPB",null,null,null,0]
["070119",7,{"$f":"+MIN(Contributo_cer[[#This Row],[Totale Immissione in rete]:[Totale Consumi rimanenti]])","v":0},"HPB",null,null,null,0]
["070120",7,{"$f":"+MIN(Contributo_cer[[#This Row],[Totale Immissione in rete]:[Totale Consumi rimanenti]])","v":0},"HPB",null,null,null,0]
["070121",7,{"$f":"+MIN(Contributo_cer[[#This Row],[Totale Immissione in rete]:[Totale Consumi rimanenti]])","v":0},"HPB",null,null,null,0]
["070122",7,{"$f":"+MIN(Contributo_cer[[#This Row],[Totale Immissione in rete]:[Totale Consumi rimanenti]])","v":0},"HCB",null,null,null,0]
["070123",7,{"$f":"+MIN(Contributo_cer[[#This Row],[Totale Immissione in rete]:[Totale Consumi rimanenti]])","v":0},"HCB",null,null,null,0]
["070200",7,{"$f":"+MIN(Contributo_cer[[#This Row],[Totale Immissione in rete]:[Totale Consumi rimanenti]])","v":0},"HCB",null,null,null,0]
["070201",7,{"$f":"+MIN(Contributo_cer[[#This Row],[Totale Immissione in rete]:[Totale Consumi rimanenti]])","v":0},"HCB",null,null,null,0]
["070202",7,{"$f":"+MIN(Contributo_cer[[#This Row],[Totale Immissione in rete]:[Totale Consumi rimanenti]])","v":0},"HCB",null,null,null,0]
["070203",7,{"$f":"+MIN(Contributo_cer[[#This Row],[Totale Immissione in rete]:[Totale Consumi rimanenti]])","v":0},"HCB",null,null,null,0]
["070204",7,{"$f":"+MIN(Contributo_cer[[#This Row],[Totale Immissione in rete]:[Totale Consumi rimanenti]])","v":0},"HCB",null,null,null,0]
["070205",7,{"$f":"+MIN(Contributo_cer[[#This Row],[Totale Immissione in rete]:[Totale Consumi rimanenti]])","v":0},"HCB",null,null,null,0]
["070206",7,{"$f":"+MIN(Contributo_cer[[#This Row],[Totale Immissione in rete]:[Totale Consumi rimanenti]])","v":0},"HPB",null,null,null,0]
["070207",7,{"$f":"+MIN(Contributo_cer[[#This Row],[Totale Immissione in rete]:[Totale Consumi rimanenti]])","v":0},"HPB",null,null,null,0]
["070208",7,{"$f":"+MIN(Contributo_cer[[#This Row],[Totale Immissione in rete]:[Totale Consumi rimanenti]])","v":0},"HPB",null,null,null,0]
["070209",7,{"$f":"+MIN(Contributo_cer[[#This Row],[Totale Immissione in rete]:[Totale Consumi rimanenti]])","v":0},"HPB",null,null,null,0]
["070210",7,{"$f":"+MIN(Contributo_cer[[#This Row],[Totale Immissione in rete]:[Totale Consumi rimanenti]])","v":0},"HPB",null,null,null,0]
["070211",7,{"$f":"+MIN(Contributo_cer[[#This Row],[Totale Immissione in rete]:[Totale Consumi rimanenti]])","v":0},"HPB",null,null,null,0]
["070212",7,{"$f":"+MIN(Contributo_cer[[#This Row],[Totale Immissione in rete]:[Totale Consumi rimanenti]])","v":0},"HPB",null,null,null,0]
["070213",7,{"$f":"+MIN(Contributo_cer[[#This Row],[Totale Immissione in rete]:[Totale Consumi rimanenti]])","v":0},"HPB",null,null,null,0]
["070214",7,{"$f":"+MIN(Contributo_cer[[#This Row],[Totale Immissione in rete]:[Totale Consumi rimanenti]])","v":0},"HPB",null,null,null,0]
["070215",7,{"$f":"+MIN(Contributo_cer[[#This Row],[Totale Immissione in rete]:[Totale Consumi rimanenti]])","v":0},"HPB",null,null,null,0]
["070216",7,{"$f":"+MIN(Contributo_cer[[#This Row],[Totale Immissione in rete]:[Totale Consumi rimanenti]])","v":0},"HPB",null,null,null,0]
["070217",7,{"$f":"+MIN(Contributo_cer[[#This Row],[Totale Immissione in rete]:[Totale Consumi rimanenti]])","v":0},"HPB",null,null,null,0]
["070218",7,{"$f":"+MIN(Contributo_cer[[#This Row],[Totale Immissione in rete]:[Totale Consumi rimanenti]])","v":0},"HPB",null,null,null,0]
["070219",7,{"$f":"+MIN(Contributo_cer[[#This Row],[Totale Immissione in rete]:[Totale Consumi rimanenti]])","v":0},"HPB",null,null,null,0]
["070220",7,{"$f":"+MIN(Contributo_cer[[#This Row],[Totale Immissione in rete]:[Totale Consumi rimanenti]])","v":0},"HPB",null,null,null,0]
["070221",7,{"$f":"+MIN(Contributo_cer[[#This Row],[Totale Immissione in rete]:[Totale Consumi rimanenti]])","v":0},"HPB",null,null,null,0]
["070222",7,{"$f":"+MIN(Contributo_cer[[#This Row],[Totale Immissione in rete]:[Totale Consumi rimanenti]])","v":0},"HCB",null,null,null,0]
["070223",7,{"$f":"+MIN(Contributo_cer[[#This Row],[Totale Immissione in rete]:[Totale Consumi rimanenti]])","v":0},"HCB",null,null,null,0]
["070300",7,{"$f":"+MIN(Contributo_cer[[#This Row],[Totale Immissione in rete]:[Totale Consumi rimanenti]])","v":0},"HCB",null,null,null,0]
["070301",7,{"$f":"+MIN(Contributo_cer[[#This Row],[Totale Immissione in rete]:[Totale Consumi rimanenti]])","v":0},"HCB",null,null,null,0]
["070302",7,{"$f":"+MIN(Contributo_cer[[#This Row],[Totale Immissione in rete]:[Totale Consumi rimanenti]])","v":0},"HCB",null,null,null,0]
["070303",7,{"$f":"+MIN(Contributo_cer[[#This Row],[Totale Immissione in rete]:[Totale Consumi rimanenti]])","v":0},"HCB",null,null,null,0]
["070304",7,{"$f":"+MIN(Contributo_cer[[#This Row],[Totale Immissione in rete]:[Totale Consumi rimanenti]])","v":0},"HCB",null,null,null,0]
["070305",7,{"$f":"+MIN(Contributo_cer[[#This Row],[Totale Immissione in rete]:[Totale Consumi rimanenti]])","v":0},"HCB",null,null,null,0]
["070306",7,{"$f":"+MIN(Contributo_cer[[#This Row],[Totale Immissione in rete]:[Totale Consumi rimanenti]])","v":0},"HPB",null,null,null,0]
["070307",7,{"$f":"+MIN(Contributo_cer[[#This Row],[Totale Immissione in rete]:[Totale Consumi rimanenti]])","v":0},"HPB",null,null,null,0]
["070308",7,{"$f":"+MIN(Contributo_cer[[#This Row],[Totale Immissione in rete]:[Totale Consumi rimanenti]])","v":0},"HPB",null,null,null,0]
["070309",7,{"$f":"+MIN(Contributo_cer[[#This Row],[Totale Immissione in rete]:[Totale Consumi rimanenti]])","v":0},"HPB",null,null,null,0]
["070310",7,{"$f":"+MIN(Contributo_cer[[#This Row],[Totale Immissione in rete]:[Totale Consumi rimanenti]])","v":0},"HPB",null,null,null,0]
["070311",7,{"$f":"+MIN(Contributo_cer[[#This Row],[Totale Immissione in rete]:[Totale Consumi rimanenti]])","v":0},"HPB",null,null,null,0]
["070312",7,{"$f":"+MIN(Contributo_cer[[#This Row],[Totale Immissione in rete]:[Totale Consumi rimanenti]])","v":0},"HPB",null,null,null,0]
["070313",7,{"$f":"+MIN(Contributo_cer[[#This Row],[Totale Immissione in rete]:[Totale Consumi rimanenti]])","v":0},"HPB",null,null,null,0]
["070314",7,{"$f":"+MIN(Contributo_cer[[#This Row],[Totale Immissione in rete]:[Totale Consumi rimanenti]])","v":0},"HPB",null,null,null,0]
["070315",7,{"$f":"+MIN(Contributo_cer[[#This Row],[Totale Immissione in rete]:[Totale Consumi rimanenti]])","v":0},"HPB",null,null,null,0]
["070316",7,{"$f":"+MIN(Contributo_cer[[#This Row],[Totale Immissione in rete]:[Totale Consumi rimanenti]])","v":0},"HPB",null,null,null,0]
["070317",7,{"$f":"+MIN(Contributo_cer[[#This Row],[Totale Immissione in rete]:[Totale Consumi rimanenti]])","v":0},"HPB",null,null,null,0]
["070318",7,{"$f":"+MIN(Contributo_cer[[#This Row],[Totale Immissione in rete]:[Totale Consumi rimanenti]])","v":0},"HPB",null,null,null,0]
["070319",7,{"$f":"+MIN(Contributo_cer[[#This Row],[Totale Immissione in rete]:[Totale Consumi rimanenti]])","v":0},"HPB",null,null,null,0]
["070320",7,{"$f":"+MIN(Contributo_cer[[#This Row],[Totale Immissione in rete]:[Totale Consumi rimanenti]])","v":0},"HPB",null,null,null,0]
["070321",7,{"$f":"+MIN(Contributo_cer[[#This Row],[Totale Immissione in rete]:[Totale Consumi rimanenti]])","v":0},"HPB",null,null,null,0]
["070322",7,{"$f":"+MIN(Contributo_cer[[#This Row],[Totale Immissione in rete]:[Totale Consumi rimanenti]])","v":0},"HCB",null,null,null,0]
["070323",7,{"$f":"+MIN(Contributo_cer[[#This Row],[Totale Immissione in rete]:[Totale Consumi rimanenti]])","v":0},"HCB",null,null,null,0]
["070400",7,{"$f":"+MIN(Contributo_cer[[#This Row],[Totale Immissione in rete]:[Totale Consumi rimanenti]])","v":0},"HCB",null,null,null,0]
["070401",7,{"$f":"+MIN(Contributo_cer[[#This Row],[Totale Immissione in rete]:[Totale Consumi rimanenti]])","v":0},"HCB",null,null,null,0]
["070402",7,{"$f":"+MIN(Contributo_cer[[#This Row],[Totale Immissione in rete]:[Totale Consumi rimanenti]])","v":0},"HCB",null,null,null,0]
["070403",7,{"$f":"+MIN(Contributo_cer[[#This Row],[Totale Immissione in rete]:[Totale Consumi rimanenti]])","v":0},"HCB",null,null,null,0]
["070404",7,{"$f":"+MIN(Contributo_cer[[#This Row],[Totale Immissione in rete]:[Totale Consumi rimanenti]])","v":0},"HCB",null,null,null,0]
["070405",7,{"$f":"+MIN(Contributo_cer[[#This Row],[Totale Immissione in rete]:[Totale Consumi rimanenti]])","v":0},"HCB",null,null,null,0]
["070406",7,{"$f":"+MIN(Contributo_cer[[#This Row],[Totale Immissione in rete]:[Totale Consumi rimanenti]])","v":0},"HPB",null,null,null,0]
["070407",7,{"$f":"+MIN(Contributo_cer[[#This Row],[Totale Immissione in rete]:[Totale Consumi rimanenti]])","v":0},"HPB",null,null,null,0]
["070408",7,{"$f":"+MIN(Contributo_cer[[#This Row],[Totale Immissione in rete]:[Totale Consumi rimanenti]])","v":0},"HPB",null,null,null,0]
["070409",7,{"$f":"+MIN(Contributo_cer[[#This Row],[Totale Immissione in rete]:[Totale Consumi rimanenti]])","v":0},"HPB",null,null,null,0]
["070410",7,{"$f":"+MIN(Contributo_cer[[#This Row],[Totale Immissione in rete]:[Totale Consumi rimanenti]])","v":0},"HPB",null,null,null,0]
["070411",7,{"$f":"+MIN(Contributo_cer[[#This Row],[Totale Immissione in rete]:[Totale Consumi rimanenti]])","v":0},"HPB",null,null,null,0]
["070412",7,{"$f":"+MIN(Contributo_cer[[#This Row],[Totale Immissione in rete]:[Totale Consumi rimanenti]])","v":0},"HPB",null,null,null,0]
["070413",7,{"$f":"+MIN(Contributo_cer[[#This Row],[Totale Immissione in rete]:[Totale Consumi rimanenti]])","v":0},"HPB",null,null,null,0]
["070414",7,{"$f":"+MIN(Contributo_cer[[#This Row],[Totale Immissione in rete]:[Totale Consumi rimanenti]])","v":0},"HPB",null,null,null,0]
["070415",7,{"$f":"+MIN(Contributo_cer[[#This Row],[Totale Immissione in rete]:[Totale Consumi rimanenti]])","v":0},"HPB",null,null,null,0]
["070416",7,{"$f":"+MIN(Contributo_cer[[#This Row],[Totale Immissione in rete]:[Totale Consumi rimanenti]])","v":0},"HPB",null,null,null,0]
["070417",7,{"$f":"+MIN(Contributo_cer[[#This Row],[Totale Immissione in rete]:[Totale Consumi rimanenti]])","v":0},"HPB",null,null,null,0]
["070418",7,{"$f":"+MIN(Contributo_cer[[#This Row],[Totale Immissione in rete]:[Totale Consumi rimanenti]])","v":0},"HPB",null,null,null,0]
["070419",7,{"$f":"+MIN(Contributo_cer[[#This Row],[Totale Immissione in rete]:[Totale Consumi rimanenti]])","v":0},"HPB",null,null,null,0]
["070420",7,{"$f":"+MIN(Contributo_cer[[#This Row],[Totale Immissione in rete]:[Totale Consumi rimanenti]])","v":0},"HPB",null,null,null,0]
["070421",7,{"$f":"+MIN(Contributo_cer[[#This Row],[Totale Immissione in rete]:[Totale Consumi rimanenti]])","v":0},"HPB",null,null,null,0]
["070422",7,{"$f":"+MIN(Contributo_cer[[#This Row],[Totale Immissione in rete]:[Totale Consumi rimanenti]])","v":0},"HCB",null,null,null,0]
["070423",7,{"$f":"+MIN(Contributo_cer[[#This Row],[Totale Immissione in rete]:[Totale Consumi rimanenti]])","v":0},"HCB",null,null,null,0]
["070500",7,{"$f":"+MIN(Contributo_cer[[#This Row],[Totale Immissione in rete]:[Totale Consumi rimanenti]])","v":0},"HCB",null,null,null,0]
["070501",7,{"$f":"+MIN(Contributo_cer[[#This Row],[Totale Immissione in rete]:[Totale Consumi rimanenti]])","v":0},"HCB",null,null,null,0]
["070502",7,{"$f":"+MIN(Contributo_cer[[#This Row],[Totale Immissione in rete]:[Totale Consumi rimanenti]])","v":0},"HCB",null,null,null,0]
["070503",7,{"$f":"+MIN(Contributo_cer[[#This Row],[Totale Immissione in rete]:[Totale Consumi rimanenti]])","v":0},"HCB",null,null,null,0]
["070504",7,{"$f":"+MIN(Contributo_cer[[#This Row],[Totale Immissione in rete]:[Totale Consumi rimanenti]])","v":0},"HCB",null,null,null,0]
["070505",7,{"$f":"+MIN(Contributo_cer[[#This Row],[Totale Immissione in rete]:[Totale Consumi rimanenti]])","v":0},"HCB",null,null,null,0]
["070506",7,{"$f":"+MIN(Contributo_cer[[#This Row],[Totale Immissione in rete]:[Totale Consumi rimanenti]])","v":0},"HPB",null,null,null,0]
["070507",7,{"$f":"+MIN(Contributo_cer[[#This Row],[Totale Immissione in rete]:[Totale Consumi rimanenti]])","v":0},"HPB",null,null,null,0]
["070508",7,{"$f":"+MIN(Contributo_cer[[#This Row],[Totale Immissione in rete]:[Totale Consumi rimanenti]])","v":0},"HPB",null,null,null,0]
["070509",7,{"$f":"+MIN(Contributo_cer[[#This Row],[Totale Immissione in rete]:[Totale Consumi rimanenti]])","v":0},"HPB",null,null,null,0]
["070510",7,{"$f":"+MIN(Contributo_cer[[#This Row],[Totale Immissione in rete]:[Totale Consumi rimanenti]])","v":0},"HPB",null,null,null,0]
["070511",7,{"$f":"+MIN(Contributo_cer[[#This Row],[Totale Immissione in rete]:[Totale Consumi rimanenti]])","v":0},"HPB",null,null,null,0]
["070512",7,{"$f":"+MIN(Contributo_cer[[#This Row],[Totale Immissione in rete]:[Totale Consumi rimanenti]])","v":0},"HPB",null,null,null,0]
["070513",7,{"$f":"+MIN(Contributo_cer[[#This Row],[Totale Immissione in rete]:[Totale Consumi rimanenti]])","v":0},"HPB",null,null,null,0]
["070514",7,{"$f":"+MIN(Contributo_cer[[#This Row],[Totale Immissione in rete]:[Totale Consumi rimanenti]])","v":0},"HPB",null,null,null,0]
["070515",7,{"$f":"+MIN(Contributo_cer[[#This Row],[Totale Immissione in rete]:[Totale Consumi rimanenti]])","v":0},"HPB",null,null,null,0]
["070516",7,{"$f":"+MIN(Contributo_cer[[#This Row],[Totale Immissione in rete]:[Totale Consumi rimanenti]])","v":0},"HPB",null,null,null,0]
["070517",7,{"$f":"+MIN(Contributo_cer[[#This Row],[Totale Immissione in rete]:[Totale Consumi rimanenti]])","v":0},"HPB",null,null,null,0]
["070518",7,{"$f":"+MIN(Contributo_cer[[#This Row],[Totale Immissione in rete]:[Totale Consumi rimanenti]])","v":0},"HPB",null,null,null,0]
["070519",7,{"$f":"+MIN(Contributo_cer[[#This Row],[Totale Immissione in rete]:[Totale Consumi rimanenti]])","v":0},"HPB",null,null,null,0]
["070520",7,{"$f":"+MIN(Contributo_cer[[#This Row],[Totale Immissione in rete]:[Totale Consumi rimanenti]])","v":0},"HPB",null,null,null,0]
["070521",7,{"$f":"+MIN(Contributo_cer[[#This Row],[Totale Immissione in rete]:[Totale Consumi rimanenti]])","v":0},"HPB",null,null,null,0]
["070522",7,{"$f":"+MIN(Contributo_cer[[#This Row],[Totale Immissione in rete]:[Totale Consumi rimanenti]])","v":0},"HCB",null,null,null,0]
["070523",7,{"$f":"+MIN(Contributo_cer[[#This Row],[Totale Immissione in rete]:[Totale Consumi rimanenti]])","v":0},"HCB",null,null,null,0]
["070600",7,{"$f":"+MIN(Contributo_cer[[#This Row],[Totale Immissione in rete]:[Totale Consumi rimanenti]])","v":0},"HCB",null,null,null,0]
["070601",7,{"$f":"+MIN(Contributo_cer[[#This Row],[Totale Immissione in rete]:[Totale Consumi rimanenti]])","v":0},"HCB",null,null,null,0]
["070602",7,{"$f":"+MIN(Contributo_cer[[#This Row],[Totale Immissione in rete]:[Totale Consumi rimanenti]])","v":0},"HCB",null,null,null,0]
["070603",7,{"$f":"+MIN(Contributo_cer[[#This Row],[Totale Immissione in rete]:[Totale Consumi rimanenti]])","v":0},"HCB",null,null,null,0]
["070604",7,{"$f":"+MIN(Contributo_cer[[#This Row],[Totale Immissione in rete]:[Totale Consumi rimanenti]])","v":0},"HCB",null,null,null,0]
["070605",7,{"$f":"+MIN(Contributo_cer[[#This Row],[Totale Immissione in rete]:[Totale Consumi rimanenti]])","v":0},"HCB",null,null,null,0]
["070606",7,{"$f":"+MIN(Contributo_cer[[#This Row],[Totale Immissione in rete]:[Totale Consumi rimanenti]])","v":0},"HPB",null,null,null,0]
["070607",7,{"$f":"+MIN(Contributo_cer[[#This Row],[Totale Immissione in rete]:[Totale Consumi rimanenti]])","v":0},"HPB",null,null,null,0]
["070608",7,{"$f":"+MIN(Contributo_cer[[#This Row],[Totale Immissione in rete]:[Totale Consumi rimanenti]])","v":0},"HPB",null,null,null,0]
["070609",7,{"$f":"+MIN(Contributo_cer[[#This Row],[Totale Immissione in rete]:[Totale Consumi rimanenti]])","v":0},"HPB",null,null,null,0]
["070610",7,{"$f":"+MIN(Contributo_cer[[#This Row],[Totale Immissione in rete]:[Totale Consumi rimanenti]])","v":0},"HPB",null,null,null,0]
["070611",7,{"$f":"+MIN(Contributo_cer[[#This Row],[Totale Immissione in rete]:[Totale Consumi rimanenti]])","v":0},"HPB",null,null,null,0]
["070612",7,{"$f":"+MIN(Contributo_cer[[#This Row],[Totale Immissione in rete]:[Totale Consumi rimanenti]])","v":0},"HPB",null,null,null,0]
["070613",7,{"$f":"+MIN(Contributo_cer[[#This Row],[Totale Immissione in rete]:[Totale Consumi rimanenti]])","v":0},"HPB",null,null,null,0]
["070614",7,{"$f":"+MIN(Contributo_cer[[#This Row],[Totale Immissione in rete]:[Totale Consumi rimanenti]])","v":0},"HPB",null,null,null,0]
["070615",7,{"$f":"+MIN(Contributo_cer[[#This Row],[Totale Immissione in rete]:[Totale Consumi rimanenti]])","v":0},"HPB",null,null,null,0]
["070616",7,{"$f":"+MIN(Contributo_cer[[#This Row],[Totale Immissione in rete]:[Totale Consumi rimanenti]])","v":0},"HPB",null,null,null,0]
["070617",7,{"$f":"+MIN(Contributo_cer[[#This Row],[Totale Immissione in rete]:[Totale Consumi rimanenti]])","v":0},"HPB",null,null,null,0]
["070618",7,{"$f":"+MIN(Contributo_cer[[#This Row],[Totale Immissione in rete]:[Totale Consumi rimanenti]])","v":0},"HPB",null,null,null,0]
["070619",7,{"$f":"+MIN(Contributo_cer[[#This Row],[Totale Immissione in rete]:[Totale Consumi rimanenti]])","v":0},"HPB",null,null,null,0]
["070620",7,{"$f":"+MIN(Contributo_cer[[#This Row],[Totale Immissione in rete]:[Totale Consumi rimanenti]])","v":0},"HPB",null,null,null,0]
["070621",7,{"$f":"+MIN(Contributo_cer[[#This Row],[Totale Immissione in rete]:[Totale Consumi rimanenti]])","v":0},"HPB",null,null,null,0]
["070622",7,{"$f":"+MIN(Contributo_cer[[#This Row],[Totale Immissione in rete]:[Totale Consumi rimanenti]])","v":0},"HCB",null,null,null,0]
["070623",7,{"$f":"+MIN(Contributo_cer[[#This Row],[Totale Immissione in rete]:[Totale Consumi rimanenti]])","v":0},"HCB",null,null,null,0]
["070700",7,{"$f":"+MIN(Contributo_cer[[#This Row],[Totale Immissione in rete]:[Totale Consumi rimanenti]])","v":0},"HCB",null,null,null,0]
["070701",7,{"$f":"+MIN(Contributo_cer[[#This Row],[Totale Immissione in rete]:[Totale Consumi rimanenti]])","v":0},"HCB",null,null,null,0]
["070702",7,{"$f":"+MIN(Contributo_cer[[#This Row],[Totale Immissione in rete]:[Totale Consumi rimanenti]])","v":0},"HCB",null,null,null,0]
["070703",7,{"$f":"+MIN(Contributo_cer[[#This Row],[Totale Immissione in rete]:[Totale Consumi rimanenti]])","v":0},"HCB",null,null,null,0]
["070704",7,{"$f":"+MIN(Contributo_cer[[#This Row],[Totale Immissione in rete]:[Totale Consumi rimanenti]])","v":0},"HCB",null,null,null,0]
["070705",7,{"$f":"+MIN(Contributo_cer[[#This Row],[Totale Immissione in rete]:[Totale Consumi rimanenti]])","v":0},"HCB",null,null,null,0]
["070706",7,{"$f":"+MIN(Contributo_cer[[#This Row],[Totale Immissione in rete]:[Totale Consumi rimanenti]])","v":0},"HPB",null,null,null,0]
["070707",7,{"$f":"+MIN(Contributo_cer[[#This Row],[Totale Immissione in rete]:[Totale Consumi rimanenti]])","v":0},"HPB",null,null,null,0]
["070708",7,{"$f":"+MIN(Contributo_cer[[#This Row],[Totale Immissione in rete]:[Totale Consumi rimanenti]])","v":0},"HPB",null,null,null,0]
["070709",7,{"$f":"+MIN(Contributo_cer[[#This Row],[Totale Immissione in rete]:[Totale Consumi rimanenti]])","v":0},"HPB",null,null,null,0]
["070710",7,{"$f":"+MIN(Contributo_cer[[#This Row],[Totale Immissione in rete]:[Totale Consumi rimanenti]])","v":0},"HPB",null,null,null,0]
["070711",7,{"$f":"+MIN(Contributo_cer[[#This Row],[Totale Immissione in rete]:[Totale Consumi rimanenti]])","v":0},"HPB",null,null,null,0]
["070712",7,{"$f":"+MIN(Contributo_cer[[#This Row],[Totale Immissione in rete]:[Totale Consumi rimanenti]])","v":0},"HPB",null,null,null,0]
["070713",7,{"$f":"+MIN(Contributo_cer[[#This Row],[Totale Immissione in rete]:[Totale Consumi rimanenti]])","v":0},"HPB",null,null,null,0]
["070714",7,{"$f":"+MIN(Contributo_cer[[#This Row],[Totale Immissione in rete]:[Totale Consumi rimanenti]])","v":0},"HPB",null,null,null,0]
["070715",7,{"$f":"+MIN(Contributo_cer[[#This Row],[Totale Immissione in rete]:[Totale Consumi rimanenti]])","v":0},"HPB",null,null,null,0]
["070716",7,{"$f":"+MIN(Contributo_cer[[#This Row],[Totale Immissione in rete]:[Totale Consumi rimanenti]])","v":0},"HPB",null,null,null,0]
["070717",7,{"$f":"+MIN(Contributo_cer[[#This Row],[Totale Immissione in rete]:[Totale Consumi rimanenti]])","v":0},"HPB",null,null,null,0]
["070718",7,{"$f":"+MIN(Contributo_cer[[#This Row],[Totale Immissione in rete]:[Totale Consumi rimanenti]])","v":0},"HPB",null,null,null,0]
["070719",7,{"$f":"+MIN(Contributo_cer[[#This Row],[Totale Immissione in rete]:[Totale Consumi rimanenti]])","v":0},"HPB",null,null,null,0]
["070720",7,{"$f":"+MIN(Contributo_cer[[#This Row],[Totale Immissione in rete]:[Totale Consumi rimanenti]])","v":0},"HPB",null,null,null,0]
["070721",7,{"$f":"+MIN(Contributo_cer[[#This Row],[Totale Immissione in rete]:[Totale Consumi rimanenti]])","v":0},"HPB",null,null,null,0]
["070722",7,{"$f":"+MIN(Contributo_cer[[#This Row],[Totale Immissione in rete]:[Totale Consumi rimanenti]])","v":0},"HCB",null,null,null,0]
["070723",7,{"$f":"+MIN(Contributo_cer[[#This Row],[Totale Immissione in rete]:[Totale Consumi rimanenti]])","v":0},"HCB",null,null,null,0]
["070800",7,{"$f":"+MIN(Contributo_cer[[#This Row],[Totale Immissione in rete]:[Totale Consumi rimanenti]])","v":0},"HCB",null,null,null,0]
["070801",7,{"$f":"+MIN(Contributo_cer[[#This Row],[Totale Immissione in rete]:[Totale Consumi rimanenti]])","v":0},"HCB",null,null,null,0]
["070802",7,{"$f":"+MIN(Contributo_cer[[#This Row],[Totale Immissione in rete]:[Totale Consumi rimanenti]])","v":0},"HCB",null,null,null,0]
["070803",7,{"$f":"+MIN(Contributo_cer[[#This Row],[Totale Immissione in rete]:[Totale Consumi rimanenti]])","v":0},"HCB",null,null,null,0]
["070804",7,{"$f":"+MIN(Contributo_cer[[#This Row],[Totale Immissione in rete]:[Totale Consumi rimanenti]])","v":0},"HCB",null,null,null,0]
["070805",7,{"$f":"+MIN(Contributo_cer[[#This Row],[Totale Immissione in rete]:[Totale Consumi rimanenti]])","v":0},"HCB",null,null,null,0]
["070806",7,{"$f":"+MIN(Contributo_cer[[#This Row],[Totale Immissione in rete]:[Totale Consumi rimanenti]])","v":0},"HPB",null,null,null,0]
["070807",7,{"$f":"+MIN(Contributo_cer[[#This Row],[Totale Immissione in rete]:[Totale Consumi rimanenti]])","v":0},"HPB",null,null,null,0]
["070808",7,{"$f":"+MIN(Contributo_cer[[#This Row],[Totale Immissione in rete]:[Totale Consumi rimanenti]])","v":0},"HPB",null,null,null,0]
["070809",7,{"$f":"+MIN(Contributo_cer[[#This Row],[Totale Immissione in rete]:[Totale Consumi rimanenti]])","v":0},"HPB",null,null,null,0]
["070810",7,{"$f":"+MIN(Contributo_cer[[#This Row],[Totale Immissione in rete]:[Totale Consumi rimanenti]])","v":0},"HPB",null,null,null,0]
["070811",7,{"$f":"+MIN(Contributo_cer[[#This Row],[Totale Immissione in rete]:[Totale Consumi rimanenti]])","v":0},"HPB",null,null,null,0]
["070812",7,{"$f":"+MIN(Contributo_cer[[#This Row],[Totale Immissione in rete]:[Totale Consumi rimanenti]])","v":0},"HPB",null,null,null,0]
["070813",7,{"$f":"+MIN(Contributo_cer[[#This Row],[Totale Immissione in rete]:[Totale Consumi rimanenti]])","v":0},"HPB",null,null,null,0]
["070814",7,{"$f":"+MIN(Contributo_cer[[#This Row],[Totale Immissione in rete]:[Totale Consumi rimanenti]])","v":0},"HPB",null,null,null,0]
["070815",7,{"$f":"+MIN(Contributo_cer[[#This Row],[Totale Immissione in rete]:[Totale Consumi rimanenti]])","v":0},"HPB",null,null,null,0]
["070816",7,{"$f":"+MIN(Contributo_cer[[#This Row],[Totale Immissione in rete]:[Totale Consumi rimanenti]])","v":0},"HPB",null,null,null,0]
["070817",7,{"$f":"+MIN(Contributo_cer[[#This Row],[Totale Immissione in rete]:[Totale Consumi rimanenti]])","v":0},"HPB",null,null,null,0]
["070818",7,{"$f":"+MIN(Contributo_cer[[#This Row],[Totale Immissione in rete]:[Totale Consumi rimanenti]])","v":0},"HPB",null,null,null,0]
["070819",7,{"$f":"+MIN(Contributo_cer[[#This Row],[Totale Immissione in rete]:[Totale Consumi rimanenti]])","v":0},"HPB",null,null,null,0]
["070820",7,{"$f":"+MIN(Contributo_cer[[#This Row],[Totale Immissione in rete]:[Totale Consumi rimanenti]])","v":0},"HPB",null,null,null,0]
["070821",7,{"$f":"+MIN(Contributo_cer[[#This Row],[Totale Immissione in rete]:[Totale Consumi rimanenti]])","v":0},"HPB",null,null,null,0]
["070822",7,{"$f":"+MIN(Contributo_cer[[#This Row],[Totale Immissione in rete]:[Totale Consumi rimanenti]])","v":0},"HCB",null,null,null,0]
["070823",7,{"$f":"+MIN(Contributo_cer[[#This Row],[Totale Immissione in rete]:[Totale Consumi rimanenti]])","v":0},"HCB",null,null,null,0]
["070900",7,{"$f":"+MIN(Contributo_cer[[#This Row],[Totale Immissione in rete]:[Totale Consumi rimanenti]])","v":0},"HCB",null,null,null,0]
["070901",7,{"$f":"+MIN(Contributo_cer[[#This Row],[Totale Immissione in rete]:[Totale Consumi rimanenti]])","v":0},"HCB",null,null,null,0]
["070902",7,{"$f":"+MIN(Contributo_cer[[#This Row],[Totale Immissione in rete]:[Totale Consumi rimanenti]])","v":0},"HCB",null,null,null,0]
["070903",7,{"$f":"+MIN(Contributo_cer[[#This Row],[Totale Immissione in rete]:[Totale Consumi rimanenti]])","v":0},"HCB",null,null,null,0]
["070904",7,{"$f":"+MIN(Contributo_cer[[#This Row],[Totale Immissione in rete]:[Totale Consumi rimanenti]])","v":0},"HCB",null,null,null,0]
["070905",7,{"$f":"+MIN(Contributo_cer[[#This Row],[Totale Immissione in rete]:[Totale Consumi rimanenti]])","v":0},"HCB",null,null,null,0]
["070906",7,{"$f":"+MIN(Contributo_cer[[#This Row],[Totale Immissione in rete]:[Totale Consumi rimanenti]])","v":0},"HPB",null,null,null,0]
["070907",7,{"$f":"+MIN(Contributo_cer[[#This Row],[Totale Immissione in rete]:[Totale Consumi rimanenti]])","v":0},"HPB",null,null,null,0]
["070908",7,{"$f":"+MIN(Contributo_cer[[#This Row],[Totale Immissione in rete]:[Totale Consumi rimanenti]])","v":0},"HPB",null,null,null,0]
["070909",7,{"$f":"+MIN(Contributo_cer[[#This Row],[Totale Immissione in rete]:[Totale Consumi rimanenti]])","v":0},"HPB",null,null,null,0]
["070910",7,{"$f":"+MIN(Contributo_cer[[#This Row],[Totale Immissione in rete]:[Totale Consumi rimanenti]])","v":0},"HPB",null,null,null,0]
["070911",7,{"$f":"+MIN(Contributo_cer[[#This Row],[Totale Immissione in rete]:[Totale Consumi rimanenti]])","v":0},"HPB",null,null,null,0]
["070912",7,{"$f":"+MIN(Contributo_cer[[#This Row],[Totale Immissione in rete]:[Totale Consumi rimanenti]])","v":0},"HPB",null,null,null,0]
["070913",7,{"$f":"+MIN(Contributo_cer[[#This Row],[Totale Immissione in rete]:[Totale Consumi rimanenti]])","v":0},"HPB",null,null,null,0]
["070914",7,{"$f":"+MIN(Contributo_cer[[#This Row],[Totale Immissione in rete]:[Totale Consumi rimanenti]])","v":0},"HPB",null,null,null,0]
["070915",7,{"$f":"+MIN(Contributo_cer[[#This Row],[Totale Immissione in rete]:[Totale Consumi rimanenti]])","v":0},"HPB",null,null,null,0]
["070916",7,{"$f":"+MIN(Contributo_cer[[#This Row],[Totale Immissione in rete]:[Totale Consumi rimanenti]])","v":0},"HPB",null,null,null,0]
["070917",7,{"$f":"+MIN(Contributo_cer[[#This Row],[Totale Immissione in rete]:[Totale Consumi rimanenti]])","v":0},"HPB",null,null,null,0]
["070918",7,{"$f":"+MIN(Contributo_cer[[#This Row],[Totale Immissione in rete]:[Totale Consumi rimanenti]])","v":0},"HPB",null,null,null,0]
["070919",7,{"$f":"+MIN(Contributo_cer[[#This Row],[Totale Immissione in rete]:[Totale Consumi rimanenti]])","v":0},"HPB",null,null,null,0]
["070920",7,{"$f":"+MIN(Contributo_cer[[#This Row],[Totale Immissione in rete]:[Totale Consumi rimanenti]])","v":0},"HPB",null,null,null,0]
["070921",7,{"$f":"+MIN(Contributo_cer[[#This Row],[Totale Immissione in rete]:[Totale Consumi rimanenti]])","v":0},"HPB",null,null,null,0]
["070922",7,{"$f":"+MIN(Contributo_cer[[#This Row],[Totale Immissione in rete]:[Totale Consumi rimanenti]])","v":0},"HCB",null,null,null,0]
["070923",7,{"$f":"+MIN(Contributo_cer[[#This Row],[Totale Immissione in rete]:[Totale Consumi rimanenti]])","v":0},"HCB",null,null,null,0]
["071000",7,{"$f":"+MIN(Contributo_cer[[#This Row],[Totale Immissione in rete]:[Totale Consumi rimanenti]])","v":0},"HCB",null,null,null,0]
["071001",7,{"$f":"+MIN(Contributo_cer[[#This Row],[Totale Immissione in rete]:[Totale Consumi rimanenti]])","v":0},"HCB",null,null,null,0]
["071002",7,{"$f":"+MIN(Contributo_cer[[#This Row],[Totale Immissione in rete]:[Totale Consumi rimanenti]])","v":0},"HCB",null,null,null,0]
["071003",7,{"$f":"+MIN(Contributo_cer[[#This Row],[Totale Immissione in rete]:[Totale Consumi rimanenti]])","v":0},"HCB",null,null,null,0]
["071004",7,{"$f":"+MIN(Contributo_cer[[#This Row],[Totale Immissione in rete]:[Totale Consumi rimanenti]])","v":0},"HCB",null,null,null,0]
["071005",7,{"$f":"+MIN(Contributo_cer[[#This Row],[Totale Immissione in rete]:[Totale Consumi rimanenti]])","v":0},"HCB",null,null,null,0]
["071006",7,{"$f":"+MIN(Contributo_cer[[#This Row],[Totale Immissione in rete]:[Totale Consumi rimanenti]])","v":0},"HPB",null,null,null,0]
["071007",7,{"$f":"+MIN(Contributo_cer[[#This Row],[Totale Immissione in rete]:[Totale Consumi rimanenti]])","v":0},"HPB",null,null,null,0]
["071008",7,{"$f":"+MIN(Contributo_cer[[#This Row],[Totale Immissione in rete]:[Totale Consumi rimanenti]])","v":0},"HPB",null,null,null,0]
["071009",7,{"$f":"+MIN(Contributo_cer[[#This Row],[Totale Immissione in rete]:[Totale Consumi rimanenti]])","v":0},"HPB",null,null,null,0]
["071010",7,{"$f":"+MIN(Contributo_cer[[#This Row],[Totale Immissione in rete]:[Totale Consumi rimanenti]])","v":0},"HPB",null,null,null,0]
["071011",7,{"$f":"+MIN(Contributo_cer[[#This Row],[Totale Immissione in rete]:[Totale Consumi rimanenti]])","v":0},"HPB",null,null,null,0]
["071012",7,{"$f":"+MIN(Contributo_cer[[#This Row],[Totale Immissione in rete]:[Totale Consumi rimanenti]])","v":0},"HPB",null,null,null,0]
["071013",7,{"$f":"+MIN(Contributo_cer[[#This Row],[Totale Immissione in rete]:[Totale Consumi rimanenti]])","v":0},"HPB",null,null,null,0]
["071014",7,{"$f":"+MIN(Contributo_cer[[#This Row],[Totale Immissione in rete]:[Totale Consumi rimanenti]])","v":0},"HPB",null,null,null,0]
["071015",7,{"$f":"+MIN(Contributo_cer[[#This Row],[Totale Immissione in rete]:[Totale Consumi rimanenti]])","v":0},"HPB",null,null,null,0]
["071016",7,{"$f":"+MIN(Contributo_cer[[#This Row],[Totale Immissione in rete]:[Totale Consumi rimanenti]])","v":0},"HPB",null,null,null,0]
["071017",7,{"$f":"+MIN(Contributo_cer[[#This Row],[Totale Immissione in rete]:[Totale Consumi rimanenti]])","v":0},"HPB",null,null,null,0]
["071018",7,{"$f":"+MIN(Contributo_cer[[#This Row],[Totale Immissione in rete]:[Totale Consumi rimanenti]])","v":0},"HPB",null,null,null,0]
["071019",7,{"$f":"+MIN(Contributo_cer[[#This Row],[Totale Immissione in rete]:[Totale Consumi rimanenti]])","v":0},"HPB",null,null,null,0]
["071020",7,{"$f":"+MIN(Contributo_cer[[#This Row],[Totale Immissione in rete]:[Totale Consumi rimanenti]])","v":0},"HPB",null,null,null,0]
["071021",7,{"$f":"+MIN(Contributo_cer[[#This Row],[Totale Immissione in rete]:[Totale Consumi rimanenti]])","v":0},"HPB",null,null,null,0]
["071022",7,{"$f":"+MIN(Contributo_cer[[#This Row],[Totale Immissione in rete]:[Totale Consumi rimanenti]])","v":0},"HCB",null,null,null,0]
["071023",7,{"$f":"+MIN(Contributo_cer[[#This Row],[Totale Immissione in rete]:[Totale Consumi rimanenti]])","v":0},"HCB",null,null,null,0]
["071100",7,{"$f":"+MIN(Contributo_cer[[#This Row],[Totale Immissione in rete]:[Totale Consumi rimanenti]])","v":0},"HCB",null,null,null,0]
["071101",7,{"$f":"+MIN(Contributo_cer[[#This Row],[Totale Immissione in rete]:[Totale Consumi rimanenti]])","v":0},"HCB",null,null,null,0]
["071102",7,{"$f":"+MIN(Contributo_cer[[#This Row],[Totale Immissione in rete]:[Totale Consumi rimanenti]])","v":0},"HCB",null,null,null,0]
["071103",7,{"$f":"+MIN(Contributo_cer[[#This Row],[Totale Immissione in rete]:[Totale Consumi rimanenti]])","v":0},"HCB",null,null,null,0]
["071104",7,{"$f":"+MIN(Contributo_cer[[#This Row],[Totale Immissione in rete]:[Totale Consumi rimanenti]])","v":0},"HCB",null,null,null,0]
["071105",7,{"$f":"+MIN(Contributo_cer[[#This Row],[Totale Immissione in rete]:[Totale Consumi rimanenti]])","v":0},"HCB",null,null,null,0]
["071106",7,{"$f":"+MIN(Contributo_cer[[#This Row],[Totale Immissione in rete]:[Totale Consumi rimanenti]])","v":0},"HPB",null,null,null,0]
["071107",7,{"$f":"+MIN(Contributo_cer[[#This Row],[Totale Immissione in rete]:[Totale Consumi rimanenti]])","v":0},"HPB",null,null,null,0]
["071108",7,{"$f":"+MIN(Contributo_cer[[#This Row],[Totale Immissione in rete]:[Totale Consumi rimanenti]])","v":0},"HPB",null,null,null,0]
["071109",7,{"$f":"+MIN(Contributo_cer[[#This Row],[Totale Immissione in rete]:[Totale Consumi rimanenti]])","v":0},"HPB",null,null,null,0]
["071110",7,{"$f":"+MIN(Contributo_cer[[#This Row],[Totale Immissione in rete]:[Totale Consumi rimanenti]])","v":0},"HPB",null,null,null,0]
["071111",7,{"$f":"+MIN(Contributo_cer[[#This Row],[Totale Immissione in rete]:[Totale Consumi rimanenti]])","v":0},"HPB",null,null,null,0]
["071112",7,{"$f":"+MIN(Contributo_cer[[#This Row],[Totale Immissione in rete]:[Totale Consumi rimanenti]])","v":0},"HPB",null,null,null,0]
["071113",7,{"$f":"+MIN(Contributo_cer[[#This Row],[Totale Immissione in rete]:[Totale Consumi rimanenti]])","v":0},"HPB",null,null,null,0]
["071114",7,{"$f":"+MIN(Contributo_cer[[#This Row],[Totale Immissione in rete]:[Totale Consumi rimanenti]])","v":0},"HPB",null,null,null,0]
["071115",7,{"$f":"+MIN(Contributo_cer[[#This Row],[Totale Immissione in rete]:[Totale Consumi rimanenti]])","v":0},"HPB",null,null,null,0]
["071116",7,{"$f":"+MIN(Contributo_cer[[#This Row],[Totale Immissione in rete]:[Totale Consumi rimanenti]])","v":0},"HPB",null,null,null,0]
["071117",7,{"$f":"+MIN(Contributo_cer[[#This Row],[Totale Immissione in rete]:[Totale Consumi rimanenti]])","v":0},"HPB",null,null,null,0]
["071118",7,{"$f":"+MIN(Contributo_cer[[#This Row],[Totale Immissione in rete]:[Totale Consumi rimanenti]])","v":0},"HPB",null,null,null,0]
["071119",7,{"$f":"+MIN(Contributo_cer[[#This Row],[Totale Immissione in rete]:[Totale Consumi rimanenti]])","v":0},"HPB",null,null,null,0]
["071120",7,{"$f":"+MIN(Contributo_cer[[#This Row],[Totale Immissione in rete]:[Totale Consumi rimanenti]])","v":0},"HPB",null,null,null,0]
["071121",7,{"$f":"+MIN(Contributo_cer[[#This Row],[Totale Immissione in rete]:[Totale Consumi rimanenti]])","v":0},"HPB",null,null,null,0]
["071122",7,{"$f":"+MIN(Contributo_cer[[#This Row],[Totale Immissione in rete]:[Totale Consumi rimanenti]])","v":0},"HCB",null,null,null,0]
["071123",7,{"$f":"+MIN(Contributo_cer[[#This Row],[Totale Immissione in rete]:[Totale Consumi rimanenti]])","v":0},"HCB",null,null,null,0]
["071200",7,{"$f":"+MIN(Contributo_cer[[#This Row],[Totale Immissione in rete]:[Totale Consumi rimanenti]])","v":0},"HCB",null,null,null,0]
["071201",7,{"$f":"+MIN(Contributo_cer[[#This Row],[Totale Immissione in rete]:[Totale Consumi rimanenti]])","v":0},"HCB",null,null,null,0]
["071202",7,{"$f":"+MIN(Contributo_cer[[#This Row],[Totale Immissione in rete]:[Totale Consumi rimanenti]])","v":0},"HCB",null,null,null,0]
["071203",7,{"$f":"+MIN(Contributo_cer[[#This Row],[Totale Immissione in rete]:[Totale Consumi rimanenti]])","v":0},"HCB",null,null,null,0]
["071204",7,{"$f":"+MIN(Contributo_cer[[#This Row],[Totale Immissione in rete]:[Totale Consumi rimanenti]])","v":0},"HCB",null,null,null,0]
["071205",7,{"$f":"+MIN(Contributo_cer[[#This Row],[Totale Immissione in rete]:[Totale Consumi rimanenti]])","v":0},"HCB",null,null,null,0]
["071206",7,{"$f":"+MIN(Contributo_cer[[#This Row],[Totale Immissione in rete]:[Totale Consumi rimanenti]])","v":0},"HPB",null,null,null,0]
["071207",7,{"$f":"+MIN(Contributo_cer[[#This Row],[Totale Immissione in rete]:[Totale Consumi rimanenti]])","v":0},"HPB",null,null,null,0]
["071208",7,{"$f":"+MIN(Contributo_cer[[#This Row],[Totale Immissione in rete]:[Totale Consumi rimanenti]])","v":0},"HPB",null,null,null,0]
["071209",7,{"$f":"+MIN(Contributo_cer[[#This Row],[Totale Immissione in rete]:[Totale Consumi rimanenti]])","v":0},"HPB",null,null,null,0]
["071210",7,{"$f":"+MIN(Contributo_cer[[#This Row],[Totale Immissione in rete]:[Totale Consumi rimanenti]])","v":0},"HPB",null,null,null,0]
["071211",7,{"$f":"+MIN(Contributo_cer[[#This Row],[Totale Immissione in rete]:[Totale Consumi rimanenti]])","v":0},"HPB",null,null,null,0]
["071212",7,{"$f":"+MIN(Contributo_cer[[#This Row],[Totale Immissione in rete]:[Totale Consumi rimanenti]])","v":0},"HPB",null,null,null,0]
["071213",7,{"$f":"+MIN(Contributo_cer[[#This Row],[Totale Immissione in rete]:[Totale Consumi rimanenti]])","v":0},"HPB",null,null,null,0]
["071214",7,{"$f":"+MIN(Contributo_cer[[#This Row],[Totale Immissione in rete]:[Totale Consumi rimanenti]])","v":0},"HPB",null,null,null,0]
["071215",7,{"$f":"+MIN(Contributo_cer[[#This Row],[Totale Immissione in rete]:[Totale Consumi rimanenti]])","v":0},"HPB",null,null,null,0]
["071216",7,{"$f":"+MIN(Contributo_cer[[#This Row],[Totale Immissione in rete]:[Totale Consumi rimanenti]])","v":0},"HPB",null,null,null,0]
["071217",7,{"$f":"+MIN(Contributo_cer[[#This Row],[Totale Immissione in rete]:[Totale Consumi rimanenti]])","v":0},"HPB",null,null,null,0]
["071218",7,{"$f":"+MIN(Contributo_cer[[#This Row],[Totale Immissione in rete]:[Totale Consumi rimanenti]])","v":0},"HPB",null,null,null,0]
["071219",7,{"$f":"+MIN(Contributo_cer[[#This Row],[Totale Immissione in rete]:[Totale Consumi rimanenti]])","v":0},"HPB",null,null,null,0]
["071220",7,{"$f":"+MIN(Contributo_cer[[#This Row],[Totale Immissione in rete]:[Totale Consumi rimanenti]])","v":0},"HPB",null,null,null,0]
["071221",7,{"$f":"+MIN(Contributo_cer[[#This Row],[Totale Immissione in rete]:[Totale Consumi rimanenti]])","v":0},"HPB",null,null,null,0]
["071222",7,{"$f":"+MIN(Contributo_cer[[#This Row],[Totale Immissione in rete]:[Totale Consumi rimanenti]])","v":0},"HCB",null,null,null,0]
["071223",7,{"$f":"+MIN(Contributo_cer[[#This Row],[Totale Immissione in rete]:[Totale Consumi rimanenti]])","v":0},"HCB",null,null,null,0]
["071300",7,{"$f":"+MIN(Contributo_cer[[#This Row],[Totale Immissione in rete]:[Totale Consumi rimanenti]])","v":0},"HCB",null,null,null,0]
["071301",7,{"$f":"+MIN(Contributo_cer[[#This Row],[Totale Immissione in rete]:[Totale Consumi rimanenti]])","v":0},"HCB",null,null,null,0]
["071302",7,{"$f":"+MIN(Contributo_cer[[#This Row],[Totale Immissione in rete]:[Totale Consumi rimanenti]])","v":0},"HCB",null,null,null,0]
["071303",7,{"$f":"+MIN(Contributo_cer[[#This Row],[Totale Immissione in rete]:[Totale Consumi rimanenti]])","v":0},"HCB",null,null,null,0]
["071304",7,{"$f":"+MIN(Contributo_cer[[#This Row],[Totale Immissione in rete]:[Totale Consumi rimanenti]])","v":0},"HCB",null,null,null,0]
["071305",7,{"$f":"+MIN(Contributo_cer[[#This Row],[Totale Immissione in rete]:[Totale Consumi rimanenti]])","v":0},"HCB",null,null,null,0]
["071306",7,{"$f":"+MIN(Contributo_cer[[#This Row],[Totale Immissione in rete]:[Totale Consumi rimanenti]])","v":0},"HPB",null,null,null,0]
["071307",7,{"$f":"+MIN(Contributo_cer[[#This Row],[Totale Immissione in rete]:[Totale Consumi rimanenti]])","v":0},"HPB",null,null,null,0]
["071308",7,{"$f":"+MIN(Contributo_cer[[#This Row],[Totale Immissione in rete]:[Totale Consumi rimanenti]])","v":0},"HPB",null,null,null,0]
["071309",7,{"$f":"+MIN(Contributo_cer[[#This Row],[Totale Immissione in rete]:[Totale Consumi rimanenti]])","v":0},"HPB",null,null,null,0]
["071310",7,{"$f":"+MIN(Contributo_cer[[#This Row],[Totale Immissione in rete]:[Totale Consumi rimanenti]])","v":0},"HPB",null,null,null,0]
["071311",7,{"$f":"+MIN(Contributo_cer[[#This Row],[Totale Immissione in rete]:[Totale Consumi rimanenti]])","v":0},"HPB",null,null,null,0]
["071312",7,{"$f":"+MIN(Contributo_cer[[#This Row],[Totale Immissione in rete]:[Totale Consumi rimanenti]])","v":0},"HPB",null,null,null,0]
["071313",7,{"$f":"+MIN(Contributo_cer[[#This Row],[Totale Immissione in rete]:[Totale Consumi rimanenti]])","v":0},"HPB",null,null,null,0]
["071314",7,{"$f":"+MIN(Contributo_cer[[#This Row],[Totale Immissione in rete]:[Totale Consumi rimanenti]])","v":0},"HPB",null,null,null,0]
["071315",7,{"$f":"+MIN(Contributo_cer[[#This Row],[Totale Immissione in rete]:[Totale Consumi rimanenti]])","v":0},"HPB",null,null,null,0]
["071316",7,{"$f":"+MIN(Contributo_cer[[#This Row],[Totale Immissione in rete]:[Totale Consumi rimanenti]])","v":0},"HPB",null,null,null,0]
["071317",7,{"$f":"+MIN(Contributo_cer[[#This Row],[Totale Immissione in rete]:[Totale Consumi rimanenti]])","v":0},"HPB",null,null,null,0]
["071318",7,{"$f":"+MIN(Contributo_cer[[#This Row],[Totale Immissione in rete]:[Totale Consumi rimanenti]])","v":0},"HPB",null,null,null,0]
["071319",7,{"$f":"+MIN(Contributo_cer[[#This Row],[Totale Immissione in rete]:[Totale Consumi rimanenti]])","v":0},"HPB",null,null,null,0]
["071320",7,{"$f":"+MIN(Contributo_cer[[#This Row],[Totale Immissione in rete]:[Totale Consumi rimanenti]])","v":0},"HPB",null,null,null,0]
["071321",7,{"$f":"+MIN(Contributo_cer[[#This Row],[Totale Immissione in rete]:[Totale Consumi rimanenti]])","v":0},"HPB",null,null,null,0]
["071322",7,{"$f":"+MIN(Contributo_cer[[#This Row],[Totale Immissione in rete]:[Totale Consumi rimanenti]])","v":0},"HCB",null,null,null,0]
["071323",7,{"$f":"+MIN(Contributo_cer[[#This Row],[Totale Immissione in rete]:[Totale Consumi rimanenti]])","v":0},"HCB",null,null,null,0]
["071400",7,{"$f":"+MIN(Contributo_cer[[#This Row],[Totale Immissione in rete]:[Totale Consumi rimanenti]])","v":0},"HCB",null,null,null,0]
["071401",7,{"$f":"+MIN(Contributo_cer[[#This Row],[Totale Immissione in rete]:[Totale Consumi rimanenti]])","v":0},"HCB",null,null,null,0]
["071402",7,{"$f":"+MIN(Contributo_cer[[#This Row],[Totale Immissione in rete]:[Totale Consumi rimanenti]])","v":0},"HCB",null,null,null,0]
["071403",7,{"$f":"+MIN(Contributo_cer[[#This Row],[Totale Immissione in rete]:[Totale Consumi rimanenti]])","v":0},"HCB",null,null,null,0]
["071404",7,{"$f":"+MIN(Contributo_cer[[#This Row],[Totale Immissione in rete]:[Totale Consumi rimanenti]])","v":0},"HCB",null,null,null,0]
["071405",7,{"$f":"+MIN(Contributo_cer[[#This Row],[Totale Immissione in rete]:[Totale Consumi rimanenti]])","v":0},"HCB",null,null,null,0]
["071406",7,{"$f":"+MIN(Contributo_cer[[#This Row],[Totale Immissione in rete]:[Totale Consumi rimanenti]])","v":0},"HPB",null,null,null,0]
["071407",7,{"$f":"+MIN(Contributo_cer[[#This Row],[Totale Immissione in rete]:[Totale Consumi rimanenti]])","v":0},"HPB",null,null,null,0]
["071408",7,{"$f":"+MIN(Contributo_cer[[#This Row],[Totale Immissione in rete]:[Totale Consumi rimanenti]])","v":0},"HPB",null,null,null,0]
["071409",7,{"$f":"+MIN(Contributo_cer[[#This Row],[Totale Immissione in rete]:[Totale Consumi rimanenti]])","v":0},"HPB",null,null,null,0]
["071410",7,{"$f":"+MIN(Contributo_cer[[#This Row],[Totale Immissione in rete]:[Totale Consumi rimanenti]])","v":0},"HPB",null,null,null,0]
["071411",7,{"$f":"+MIN(Contributo_cer[[#This Row],[Totale Immissione in rete]:[Totale Consumi rimanenti]])","v":0},"HPB",null,null,null,0]
["071412",7,{"$f":"+MIN(Contributo_cer[[#This Row],[Totale Immissione in rete]:[Totale Consumi rimanenti]])","v":0},"HPB",null,null,null,0]
["071413",7,{"$f":"+MIN(Contributo_cer[[#This Row],[Totale Immissione in rete]:[Totale Consumi rimanenti]])","v":0},"HPB",null,null,null,0]
["071414",7,{"$f":"+MIN(Contributo_cer[[#This Row],[Totale Immissione in rete]:[Totale Consumi rimanenti]])","v":0},"HPB",null,null,null,0]
["071415",7,{"$f":"+MIN(Contributo_cer[[#This Row],[Totale Immissione in rete]:[Totale Consumi rimanenti]])","v":0},"HPB",null,null,null,0]
["071416",7,{"$f":"+MIN(Contributo_cer[[#This Row],[Totale Immissione in rete]:[Totale Consumi rimanenti]])","v":0},"HPB",null,null,null,0]
["071417",7,{"$f":"+MIN(Contributo_cer[[#This Row],[Totale Immissione in rete]:[Totale Consumi rimanenti]])","v":0},"HPB",null,null,null,0]
["071418",7,{"$f":"+MIN(Contributo_cer[[#This Row],[Totale Immissione in rete]:[Totale Consumi rimanenti]])","v":0},"HPB",null,null,null,0]
["071419",7,{"$f":"+MIN(Contributo_cer[[#This Row],[Totale Immissione in rete]:[Totale Consumi rimanenti]])","v":0},"HPB",null,null,null,0]
["071420",7,{"$f":"+MIN(Contributo_cer[[#This Row],[Totale Immissione in rete]:[Totale Consumi rimanenti]])","v":0},"HPB",null,null,null,0]
["071421",7,{"$f":"+MIN(Contributo_cer[[#This Row],[Totale Immissione in rete]:[Totale Consumi rimanenti]])","v":0},"HPB",null,null,null,0]
["071422",7,{"$f":"+MIN(Contributo_cer[[#This Row],[Totale Immissione in rete]:[Totale Consumi rimanenti]])","v":0},"HCB",null,null,null,0]
["071423",7,{"$f":"+MIN(Contributo_cer[[#This Row],[Totale Immissione in rete]:[Totale Consumi rimanenti]])","v":0},"HCB",null,null,null,0]
["071500",7,{"$f":"+MIN(Contributo_cer[[#This Row],[Totale Immissione in rete]:[Totale Consumi rimanenti]])","v":0},"HCB",null,null,null,0]
["071501",7,{"$f":"+MIN(Contributo_cer[[#This Row],[Totale Immissione in rete]:[Totale Consumi rimanenti]])","v":0},"HCB",null,null,null,0]
["071502",7,{"$f":"+MIN(Contributo_cer[[#This Row],[Totale Immissione in rete]:[Totale Consumi rimanenti]])","v":0},"HCB",null,null,null,0]
["071503",7,{"$f":"+MIN(Contributo_cer[[#This Row],[Totale Immissione in rete]:[Totale Consumi rimanenti]])","v":0},"HCB",null,null,null,0]
["071504",7,{"$f":"+MIN(Contributo_cer[[#This Row],[Totale Immissione in rete]:[Totale Consumi rimanenti]])","v":0},"HCB",null,null,null,0]
["071505",7,{"$f":"+MIN(Contributo_cer[[#This Row],[Totale Immissione in rete]:[Totale Consumi rimanenti]])","v":0},"HCB",null,null,null,0]
["071506",7,{"$f":"+MIN(Contributo_cer[[#This Row],[Totale Immissione in rete]:[Totale Consumi rimanenti]])","v":0},"HPB",null,null,null,0]
["071507",7,{"$f":"+MIN(Contributo_cer[[#This Row],[Totale Immissione in rete]:[Totale Consumi rimanenti]])","v":0},"HPB",null,null,null,0]
["071508",7,{"$f":"+MIN(Contributo_cer[[#This Row],[Totale Immissione in rete]:[Totale Consumi rimanenti]])","v":0},"HPB",null,null,null,0]
["071509",7,{"$f":"+MIN(Contributo_cer[[#This Row],[Totale Immissione in rete]:[Totale Consumi rimanenti]])","v":0},"HPB",null,null,null,0]
["071510",7,{"$f":"+MIN(Contributo_cer[[#This Row],[Totale Immissione in rete]:[Totale Consumi rimanenti]])","v":0},"HPB",null,null,null,0]
["071511",7,{"$f":"+MIN(Contributo_cer[[#This Row],[Totale Immissione in rete]:[Totale Consumi rimanenti]])","v":0},"HPB",null,null,null,0]
["071512",7,{"$f":"+MIN(Contributo_cer[[#This Row],[Totale Immissione in rete]:[Totale Consumi rimanenti]])","v":0},"HPB",null,null,null,0]
["071513",7,{"$f":"+MIN(Contributo_cer[[#This Row],[Totale Immissione in rete]:[Totale Consumi rimanenti]])","v":0},"HPB",null,null,null,0]
["071514",7,{"$f":"+MIN(Contributo_cer[[#This Row],[Totale Immissione in rete]:[Totale Consumi rimanenti]])","v":0},"HPB",null,null,null,0]
["071515",7,{"$f":"+MIN(Contributo_cer[[#This Row],[Totale Immissione in rete]:[Totale Consumi rimanenti]])","v":0},"HPB",null,null,null,0]
["071516",7,{"$f":"+MIN(Contributo_cer[[#This Row],[Totale Immissione in rete]:[Totale Consumi rimanenti]])","v":0},"HPB",null,null,null,0]
["071517",7,{"$f":"+MIN(Contributo_cer[[#This Row],[Totale Immissione in rete]:[Totale Consumi rimanenti]])","v":0},"HPB",null,null,null,0]
["071518",7,{"$f":"+MIN(Contributo_cer[[#This Row],[Totale Immissione in rete]:[Totale Consumi rimanenti]])","v":0},"HPB",null,null,null,0]
["071519",7,{"$f":"+MIN(Contributo_cer[[#This Row],[Totale Immissione in rete]:[Totale Consumi rimanenti]])","v":0},"HPB",null,null,null,0]
["071520",7,{"$f":"+MIN(Contributo_cer[[#This Row],[Totale Immissione in rete]:[Totale Consumi rimanenti]])","v":0},"HPB",null,null,null,0]
["071521",7,{"$f":"+MIN(Contributo_cer[[#This Row],[Totale Immissione in rete]:[Totale Consumi rimanenti]])","v":0},"HPB",null,null,null,0]
["071522",7,{"$f":"+MIN(Contributo_cer[[#This Row],[Totale Immissione in rete]:[Totale Consumi rimanenti]])","v":0},"HCB",null,null,null,0]
["071523",7,{"$f":"+MIN(Contributo_cer[[#This Row],[Totale Immissione in rete]:[Totale Consumi rimanenti]])","v":0},"HCB",null,null,null,0]
["071600",7,{"$f":"+MIN(Contributo_cer[[#This Row],[Totale Immissione in rete]:[Totale Consumi rimanenti]])","v":0},"HCB",null,null,null,0]
["071601",7,{"$f":"+MIN(Contributo_cer[[#This Row],[Totale Immissione in rete]:[Totale Consumi rimanenti]])","v":0},"HCB",null,null,null,0]
["071602",7,{"$f":"+MIN(Contributo_cer[[#This Row],[Totale Immissione in rete]:[Totale Consumi rimanenti]])","v":0},"HCB",null,null,null,0]
["071603",7,{"$f":"+MIN(Contributo_cer[[#This Row],[Totale Immissione in rete]:[Totale Consumi rimanenti]])","v":0},"HCB",null,null,null,0]
["071604",7,{"$f":"+MIN(Contributo_cer[[#This Row],[Totale Immissione in rete]:[Totale Consumi rimanenti]])","v":0},"HCB",null,null,null,0]
["071605",7,{"$f":"+MIN(Contributo_cer[[#This Row],[Totale Immissione in rete]:[Totale Consumi rimanenti]])","v":0},"HCB",null,null,null,0]
["071606",7,{"$f":"+MIN(Contributo_cer[[#This Row],[Totale Immissione in rete]:[Totale Consumi rimanenti]])","v":0},"HPB",null,null,null,0]
["071607",7,{"$f":"+MIN(Contributo_cer[[#This Row],[Totale Immissione in rete]:[Totale Consumi rimanenti]])","v":0},"HPB",null,null,null,0]
["071608",7,{"$f":"+MIN(Contributo_cer[[#This Row],[Totale Immissione in rete]:[Totale Consumi rimanenti]])","v":0},"HPB",null,null,null,0]
["071609",7,{"$f":"+MIN(Contributo_cer[[#This Row],[Totale Immissione in rete]:[Totale Consumi rimanenti]])","v":0},"HPB",null,null,null,0]
["071610",7,{"$f":"+MIN(Contributo_cer[[#This Row],[Totale Immissione in rete]:[Totale Consumi rimanenti]])","v":0},"HPB",null,null,null,0]
["071611",7,{"$f":"+MIN(Contributo_cer[[#This Row],[Totale Immissione in rete]:[Totale Consumi rimanenti]])","v":0},"HPB",null,null,null,0]
["071612",7,{"$f":"+MIN(Contributo_cer[[#This Row],[Totale Immissione in rete]:[Totale Consumi rimanenti]])","v":0},"HPB",null,null,null,0]
["071613",7,{"$f":"+MIN(Contributo_cer[[#This Row],[Totale Immissione in rete]:[Totale Consumi rimanenti]])","v":0},"HPB",null,null,null,0]
["071614",7,{"$f":"+MIN(Contributo_cer[[#This Row],[Totale Immissione in rete]:[Totale Consumi rimanenti]])","v":0},"HPB",null,null,null,0]
["071615",7,{"$f":"+MIN(Contributo_cer[[#This Row],[Totale Immissione in rete]:[Totale Consumi rimanenti]])","v":0},"HPB",null,null,null,0]
["071616",7,{"$f":"+MIN(Contributo_cer[[#This Row],[Totale Immissione in rete]:[Totale Consumi rimanenti]])","v":0},"HPB",null,null,null,0]
["071617",7,{"$f":"+MIN(Contributo_cer[[#This Row],[Totale Immissione in rete]:[Totale Consumi rimanenti]])","v":0},"HPB",null,null,null,0]
["071618",7,{"$f":"+MIN(Contributo_cer[[#This Row],[Totale Immissione in rete]:[Totale Consumi rimanenti]])","v":0},"HPB",null,null,null,0]
["071619",7,{"$f":"+MIN(Contributo_cer[[#This Row],[Totale Immissione in rete]:[Totale Consumi rimanenti]])","v":0},"HPB",null,null,null,0]
["071620",7,{"$f":"+MIN(Contributo_cer[[#This Row],[Totale Immissione in rete]:[Totale Consumi rimanenti]])","v":0},"HPB",null,null,null,0]
["071621",7,{"$f":"+MIN(Contributo_cer[[#This Row],[Totale Immissione in rete]:[Totale Consumi rimanenti]])","v":0},"HPB",null,null,null,0]
["071622",7,{"$f":"+MIN(Contributo_cer[[#This Row],[Totale Immissione in rete]:[Totale Consumi rimanenti]])","v":0},"HCB",null,null,null,0]
["071623",7,{"$f":"+MIN(Contributo_cer[[#This Row],[Totale Immissione in rete]:[Totale Consumi rimanenti]])","v":0},"HCB",null,null,null,0]
["071700",7,{"$f":"+MIN(Contributo_cer[[#This Row],[Totale Immissione in rete]:[Totale Consumi rimanenti]])","v":0},"HCB",null,null,null,0]
["071701",7,{"$f":"+MIN(Contributo_cer[[#This Row],[Totale Immissione in rete]:[Totale Consumi rimanenti]])","v":0},"HCB",null,null,null,0]
["071702",7,{"$f":"+MIN(Contributo_cer[[#This Row],[Totale Immissione in rete]:[Totale Consumi rimanenti]])","v":0},"HCB",null,null,null,0]
["071703",7,{"$f":"+MIN(Contributo_cer[[#This Row],[Totale Immissione in rete]:[Totale Consumi rimanenti]])","v":0},"HCB",null,null,null,0]
["071704",7,{"$f":"+MIN(Contributo_cer[[#This Row],[Totale Immissione in rete]:[Totale Consumi rimanenti]])","v":0},"HCB",null,null,null,0]
["071705",7,{"$f":"+MIN(Contributo_cer[[#This Row],[Totale Immissione in rete]:[Totale Consumi rimanenti]])","v":0},"HCB",null,null,null,0]
["071706",7,{"$f":"+MIN(Contributo_cer[[#This Row],[Totale Immissione in rete]:[Totale Consumi rimanenti]])","v":0},"HPB",null,null,null,0]
["071707",7,{"$f":"+MIN(Contributo_cer[[#This Row],[Totale Immissione in rete]:[Totale Consumi rimanenti]])","v":0},"HPB",null,null,null,0]
["071708",7,{"$f":"+MIN(Contributo_cer[[#This Row],[Totale Immissione in rete]:[Totale Consumi rimanenti]])","v":0},"HPB",null,null,null,0]
["071709",7,{"$f":"+MIN(Contributo_cer[[#This Row],[Totale Immissione in rete]:[Totale Consumi rimanenti]])","v":0},"HPB",null,null,null,0]
["071710",7,{"$f":"+MIN(Contributo_cer[[#This Row],[Totale Immissione in rete]:[Totale Consumi rimanenti]])","v":0},"HPB",null,null,null,0]
["071711",7,{"$f":"+MIN(Contributo_cer[[#This Row],[Totale Immissione in rete]:[Totale Consumi rimanenti]])","v":0},"HPB",null,null,null,0]
["071712",7,{"$f":"+MIN(Contributo_cer[[#This Row],[Totale Immissione in rete]:[Totale Consumi rimanenti]])","v":0},"HPB",null,null,null,0]
["071713",7,{"$f":"+MIN(Contributo_cer[[#This Row],[Totale Immissione in rete]:[Totale Consumi rimanenti]])","v":0},"HPB",null,null,null,0]
["071714",7,{"$f":"+MIN(Contributo_cer[[#This Row],[Totale Immissione in rete]:[Totale Consumi rimanenti]])","v":0},"HPB",null,null,null,0]
["071715",7,{"$f":"+MIN(Contributo_cer[[#This Row],[Totale Immissione in rete]:[Totale Consumi rimanenti]])","v":0},"HPB",null,null,null,0]
["071716",7,{"$f":"+MIN(Contributo_cer[[#This Row],[Totale Immissione in rete]:[Totale Consumi rimanenti]])","v":0},"HPB",null,null,null,0]
["071717",7,{"$f":"+MIN(Contributo_cer[[#This Row],[Totale Immissione in rete]:[Totale Consumi rimanenti]])","v":0},"HPB",null,null,null,0]
["071718",7,{"$f":"+MIN(Contributo_cer[[#This Row],[Totale Immissione in rete]:[Totale Consumi rimanenti]])","v":0},"HPB",null,null,null,0]
["071719",7,{"$f":"+MIN(Contributo_cer[[#This Row],[Totale Immissione in rete]:[Totale Consumi rimanenti]])","v":0},"HPB",null,null,null,0]
["071720",7,{"$f":"+MIN(Contributo_cer[[#This Row],[Totale Immissione in rete]:[Totale Consumi rimanenti]])","v":0},"HPB",null,null,null,0]
["071721",7,{"$f":"+MIN(Contributo_cer[[#This Row],[Totale Immissione in rete]:[Totale Consumi rimanenti]])","v":0},"HPB",null,null,null,0]
["071722",7,{"$f":"+MIN(Contributo_cer[[#This Row],[Totale Immissione in rete]:[Totale Consumi rimanenti]])","v":0},"HCB",null,null,null,0]
["071723",7,{"$f":"+MIN(Contributo_cer[[#This Row],[Totale Immissione in rete]:[Totale Consumi rimanenti]])","v":0},"HCB",null,null,null,0]
["071800",7,{"$f":"+MIN(Contributo_cer[[#This Row],[Totale Immissione in rete]:[Totale Consumi rimanenti]])","v":0},"HCB",null,null,null,0]
["071801",7,{"$f":"+MIN(Contributo_cer[[#This Row],[Totale Immissione in rete]:[Totale Consumi rimanenti]])","v":0},"HCB",null,null,null,0]
["071802",7,{"$f":"+MIN(Contributo_cer[[#This Row],[Totale Immissione in rete]:[Totale Consumi rimanenti]])","v":0},"HCB",null,null,null,0]
["071803",7,{"$f":"+MIN(Contributo_cer[[#This Row],[Totale Immissione in rete]:[Totale Consumi rimanenti]])","v":0},"HCB",null,null,null,0]
["071804",7,{"$f":"+MIN(Contributo_cer[[#This Row],[Totale Immissione in rete]:[Totale Consumi rimanenti]])","v":0},"HCB",null,null,null,0]
["071805",7,{"$f":"+MIN(Contributo_cer[[#This Row],[Totale Immissione in rete]:[Totale Consumi rimanenti]])","v":0},"HCB",null,null,null,0]
["071806",7,{"$f":"+MIN(Contributo_cer[[#This Row],[Totale Immissione in rete]:[Totale Consumi rimanenti]])","v":0},"HPB",null,null,null,0]
["071807",7,{"$f":"+MIN(Contributo_cer[[#This Row],[Totale Immissione in rete]:[Totale Consumi rimanenti]])","v":0},"HPB",null,null,null,0]
["071808",7,{"$f":"+MIN(Contributo_cer[[#This Row],[Totale Immissione in rete]:[Totale Consumi rimanenti]])","v":0},"HPB",null,null,null,0]
["071809",7,{"$f":"+MIN(Contributo_cer[[#This Row],[Totale Immissione in rete]:[Totale Consumi rimanenti]])","v":0},"HPB",null,null,null,0]
["071810",7,{"$f":"+MIN(Contributo_cer[[#This Row],[Totale Immissione in rete]:[Totale Consumi rimanenti]])","v":0},"HPB",null,null,null,0]
["071811",7,{"$f":"+MIN(Contributo_cer[[#This Row],[Totale Immissione in rete]:[Totale Consumi rimanenti]])","v":0},"HPB",null,null,null,0]
["071812",7,{"$f":"+MIN(Contributo_cer[[#This Row],[Totale Immissione in rete]:[Totale Consumi rimanenti]])","v":0},"HPB",null,null,null,0]
["071813",7,{"$f":"+MIN(Contributo_cer[[#This Row],[Totale Immissione in rete]:[Totale Consumi rimanenti]])","v":0},"HPB",null,null,null,0]
["071814",7,{"$f":"+MIN(Contributo_cer[[#This Row],[Totale Immissione in rete]:[Totale Consumi rimanenti]])","v":0},"HPB",null,null,null,0]
["071815",7,{"$f":"+MIN(Contributo_cer[[#This Row],[Totale Immissione in rete]:[Totale Consumi rimanenti]])","v":0},"HPB",null,null,null,0]
["071816",7,{"$f":"+MIN(Contributo_cer[[#This Row],[Totale Immissione in rete]:[Totale Consumi rimanenti]])","v":0},"HPB",null,null,null,0]
["071817",7,{"$f":"+MIN(Contributo_cer[[#This Row],[Totale Immissione in rete]:[Totale Consumi rimanenti]])","v":0},"HPB",null,null,null,0]
["071818",7,{"$f":"+MIN(Contributo_cer[[#This Row],[Totale Immissione in rete]:[Totale Consumi rimanenti]])","v":0},"HPB",null,null,null,0]
["071819",7,{"$f":"+MIN(Contributo_cer[[#This Row],[Totale Immissione in rete]:[Totale Consumi rimanenti]])","v":0},"HPB",null,null,null,0]
["071820",7,{"$f":"+MIN(Contributo_cer[[#This Row],[Totale Immissione in rete]:[Totale Consumi rimanenti]])","v":0},"HPB",null,null,null,0]
["071821",7,{"$f":"+MIN(Contributo_cer[[#This Row],[Totale Immissione in rete]:[Totale Consumi rimanenti]])","v":0},"HPB",null,null,null,0]
["071822",7,{"$f":"+MIN(Contributo_cer[[#This Row],[Totale Immissione in rete]:[Totale Consumi rimanenti]])","v":0},"HCB",null,null,null,0]
["071823",7,{"$f":"+MIN(Contributo_cer[[#This Row],[Totale Immissione in rete]:[Totale Consumi rimanenti]])","v":0},"HCB",null,null,null,0]
["071900",7,{"$f":"+MIN(Contributo_cer[[#This Row],[Totale Immissione in rete]:[Totale Consumi rimanenti]])","v":0},"HCB",null,null,null,0]
["071901",7,{"$f":"+MIN(Contributo_cer[[#This Row],[Totale Immissione in rete]:[Totale Consumi rimanenti]])","v":0},"HCB",null,null,null,0]
["071902",7,{"$f":"+MIN(Contributo_cer[[#This Row],[Totale Immissione in rete]:[Totale Consumi rimanenti]])","v":0},"HCB",null,null,null,0]
["071903",7,{"$f":"+MIN(Contributo_cer[[#This Row],[Totale Immissione in rete]:[Totale Consumi rimanenti]])","v":0},"HCB",null,null,null,0]
["071904",7,{"$f":"+MIN(Contributo_cer[[#This Row],[Totale Immissione in rete]:[Totale Consumi rimanenti]])","v":0},"HCB",null,null,null,0]
["071905",7,{"$f":"+MIN(Contributo_cer[[#This Row],[Totale Immissione in rete]:[Totale Consumi rimanenti]])","v":0},"HCB",null,null,null,0]
["071906",7,{"$f":"+MIN(Contributo_cer[[#This Row],[Totale Immissione in rete]:[Totale Consumi rimanenti]])","v":0},"HPB",null,null,null,0]
["071907",7,{"$f":"+MIN(Contributo_cer[[#This Row],[Totale Immissione in rete]:[Totale Consumi rimanenti]])","v":0},"HPB",null,null,null,0]
["071908",7,{"$f":"+MIN(Contributo_cer[[#This Row],[Totale Immissione in rete]:[Totale Consumi rimanenti]])","v":0},"HPB",null,null,null,0]
["071909",7,{"$f":"+MIN(Contributo_cer[[#This Row],[Totale Immissione in rete]:[Totale Consumi rimanenti]])","v":0},"HPB",null,null,null,0]
["071910",7,{"$f":"+MIN(Contributo_cer[[#This Row],[Totale Immissione in rete]:[Totale Consumi rimanenti]])","v":0},"HPB",null,null,null,0]
["071911",7,{"$f":"+MIN(Contributo_cer[[#This Row],[Totale Immissione in rete]:[Totale Consumi rimanenti]])","v":0},"HPB",null,null,null,0]
["071912",7,{"$f":"+MIN(Contributo_cer[[#This Row],[Totale Immissione in rete]:[Totale Consumi rimanenti]])","v":0},"HPB",null,null,null,0]
["071913",7,{"$f":"+MIN(Contributo_cer[[#This Row],[Totale Immissione in rete]:[Totale Consumi rimanenti]])","v":0},"HPB",null,null,null,0]
["071914",7,{"$f":"+MIN(Contributo_cer[[#This Row],[Totale Immissione in rete]:[Totale Consumi rimanenti]])","v":0},"HPB",null,null,null,0]
["071915",7,{"$f":"+MIN(Contributo_cer[[#This Row],[Totale Immissione in rete]:[Totale Consumi rimanenti]])","v":0},"HPB",null,null,null,0]
["071916",7,{"$f":"+MIN(Contributo_cer[[#This Row],[Totale Immissione in rete]:[Totale Consumi rimanenti]])","v":0},"HPB",null,null,null,0]
["071917",7,{"$f":"+MIN(Contributo_cer[[#This Row],[Totale Immissione in rete]:[Totale Consumi rimanenti]])","v":0},"HPB",null,null,null,0]
["071918",7,{"$f":"+MIN(Contributo_cer[[#This Row],[Totale Immissione in rete]:[Totale Consumi rimanenti]])","v":0},"HPB",null,null,null,0]
["071919",7,{"$f":"+MIN(Contributo_cer[[#This Row],[Totale Immissione in rete]:[Totale Consumi rimanenti]])","v":0},"HPB",null,null,null,0]
["071920",7,{"$f":"+MIN(Contributo_cer[[#This Row],[Totale Immissione in rete]:[Totale Consumi rimanenti]])","v":0},"HPB",null,null,null,0]
["071921",7,{"$f":"+MIN(Contributo_cer[[#This Row],[Totale Immissione in rete]:[Totale Consumi rimanenti]])","v":0},"HPB",null,null,null,0]
["071922",7,{"$f":"+MIN(Contributo_cer[[#This Row],[Totale Immissione in rete]:[Totale Consumi rimanenti]])","v":0},"HCB",null,null,null,0]
["071923",7,{"$f":"+MIN(Contributo_cer[[#This Row],[Totale Immissione in rete]:[Totale Consumi rimanenti]])","v":0},"HCB",null,null,null,0]
["072000",7,{"$f":"+MIN(Contributo_cer[[#This Row],[Totale Immissione in rete]:[Totale Consumi rimanenti]])","v":0},"HCB",null,null,null,0]
["072001",7,{"$f":"+MIN(Contributo_cer[[#This Row],[Totale Immissione in rete]:[Totale Consumi rimanenti]])","v":0},"HCB",null,null,null,0]
["072002",7,{"$f":"+MIN(Contributo_cer[[#This Row],[Totale Immissione in rete]:[Totale Consumi rimanenti]])","v":0},"HCB",null,null,null,0]
["072003",7,{"$f":"+MIN(Contributo_cer[[#This Row],[Totale Immissione in rete]:[Totale Consumi rimanenti]])","v":0},"HCB",null,null,null,0]
["072004",7,{"$f":"+MIN(Contributo_cer[[#This Row],[Totale Immissione in rete]:[Totale Consumi rimanenti]])","v":0},"HCB",null,null,null,0]
["072005",7,{"$f":"+MIN(Contributo_cer[[#This Row],[Totale Immissione in rete]:[Totale Consumi rimanenti]])","v":0},"HCB",null,null,null,0]
["072006",7,{"$f":"+MIN(Contributo_cer[[#This Row],[Totale Immissione in rete]:[Totale Consumi rimanenti]])","v":0},"HPB",null,null,null,0]
["072007",7,{"$f":"+MIN(Contributo_cer[[#This Row],[Totale Immissione in rete]:[Totale Consumi rimanenti]])","v":0},"HPB",null,null,null,0]
["072008",7,{"$f":"+MIN(Contributo_cer[[#This Row],[Totale Immissione in rete]:[Totale Consumi rimanenti]])","v":0},"HPB",null,null,null,0]
["072009",7,{"$f":"+MIN(Contributo_cer[[#This Row],[Totale Immissione in rete]:[Totale Consumi rimanenti]])","v":0},"HPB",null,null,null,0]
["072010",7,{"$f":"+MIN(Contributo_cer[[#This Row],[Totale Immissione in rete]:[Totale Consumi rimanenti]])","v":0},"HPB",null,null,null,0]
["072011",7,{"$f":"+MIN(Contributo_cer[[#This Row],[Totale Immissione in rete]:[Totale Consumi rimanenti]])","v":0},"HPB",null,null,null,0]
["072012",7,{"$f":"+MIN(Contributo_cer[[#This Row],[Totale Immissione in rete]:[Totale Consumi rimanenti]])","v":0},"HPB",null,null,null,0]
["072013",7,{"$f":"+MIN(Contributo_cer[[#This Row],[Totale Immissione in rete]:[Totale Consumi rimanenti]])","v":0},"HPB",null,null,null,0]
["072014",7,{"$f":"+MIN(Contributo_cer[[#This Row],[Totale Immissione in rete]:[Totale Consumi rimanenti]])","v":0},"HPB",null,null,null,0]
["072015",7,{"$f":"+MIN(Contributo_cer[[#This Row],[Totale Immissione in rete]:[Totale Consumi rimanenti]])","v":0},"HPB",null,null,null,0]
["072016",7,{"$f":"+MIN(Contributo_cer[[#This Row],[Totale Immissione in rete]:[Totale Consumi rimanenti]])","v":0},"HPB",null,null,null,0]
["072017",7,{"$f":"+MIN(Contributo_cer[[#This Row],[Totale Immissione in rete]:[Totale Consumi rimanenti]])","v":0},"HPB",null,null,null,0]
["072018",7,{"$f":"+MIN(Contributo_cer[[#This Row],[Totale Immissione in rete]:[Totale Consumi rimanenti]])","v":0},"HPB",null,null,null,0]
["072019",7,{"$f":"+MIN(Contributo_cer[[#This Row],[Totale Immissione in rete]:[Totale Consumi rimanenti]])","v":0},"HPB",null,null,null,0]
["072020",7,{"$f":"+MIN(Contributo_cer[[#This Row],[Totale Immissione in rete]:[Totale Consumi rimanenti]])","v":0},"HPB",null,null,null,0]
["072021",7,{"$f":"+MIN(Contributo_cer[[#This Row],[Totale Immissione in rete]:[Totale Consumi rimanenti]])","v":0},"HPB",null,null,null,0]
["072022",7,{"$f":"+MIN(Contributo_cer[[#This Row],[Totale Immissione in rete]:[Totale Consumi rimanenti]])","v":0},"HCB",null,null,null,0]
["072023",7,{"$f":"+MIN(Contributo_cer[[#This Row],[Totale Immissione in rete]:[Totale Consumi rimanenti]])","v":0},"HCB",null,null,null,0]
["072100",7,{"$f":"+MIN(Contributo_cer[[#This Row],[Totale Immissione in rete]:[Totale Consumi rimanenti]])","v":0},"HCB",null,null,null,0]
["072101",7,{"$f":"+MIN(Contributo_cer[[#This Row],[Totale Immissione in rete]:[Totale Consumi rimanenti]])","v":0},"HCB",null,null,null,0]
["072102",7,{"$f":"+MIN(Contributo_cer[[#This Row],[Totale Immissione in rete]:[Totale Consumi rimanenti]])","v":0},"HCB",null,null,null,0]
["072103",7,{"$f":"+MIN(Contributo_cer[[#This Row],[Totale Immissione in rete]:[Totale Consumi rimanenti]])","v":0},"HCB",null,null,null,0]
["072104",7,{"$f":"+MIN(Contributo_cer[[#This Row],[Totale Immissione in rete]:[Totale Consumi rimanenti]])","v":0},"HCB",null,null,null,0]
["072105",7,{"$f":"+MIN(Contributo_cer[[#This Row],[Totale Immissione in rete]:[Totale Consumi rimanenti]])","v":0},"HCB",null,null,null,0]
["072106",7,{"$f":"+MIN(Contributo_cer[[#This Row],[Totale Immissione in rete]:[Totale Consumi rimanenti]])","v":0},"HPB",null,null,null,0]
["072107",7,{"$f":"+MIN(Contributo_cer[[#This Row],[Totale Immissione in rete]:[Totale Consumi rimanenti]])","v":0},"HPB",null,null,null,0]
["072108",7,{"$f":"+MIN(Contributo_cer[[#This Row],[Totale Immissione in rete]:[Totale Consumi rimanenti]])","v":0},"HPB",null,null,null,0]
["072109",7,{"$f":"+MIN(Contributo_cer[[#This Row],[Totale Immissione in rete]:[Totale Consumi rimanenti]])","v":0},"HPB",null,null,null,0]
["072110",7,{"$f":"+MIN(Contributo_cer[[#This Row],[Totale Immissione in rete]:[Totale Consumi rimanenti]])","v":0},"HPB",null,null,null,0]
["072111",7,{"$f":"+MIN(Contributo_cer[[#This Row],[Totale Immissione in rete]:[Totale Consumi rimanenti]])","v":0},"HPB",null,null,null,0]
["072112",7,{"$f":"+MIN(Contributo_cer[[#This Row],[Totale Immissione in rete]:[Totale Consumi rimanenti]])","v":0},"HPB",null,null,null,0]
["072113",7,{"$f":"+MIN(Contributo_cer[[#This Row],[Totale Immissione in rete]:[Totale Consumi rimanenti]])","v":0},"HPB",null,null,null,0]
["072114",7,{"$f":"+MIN(Contributo_cer[[#This Row],[Totale Immissione in rete]:[Totale Consumi rimanenti]])","v":0},"HPB",null,null,null,0]
["072115",7,{"$f":"+MIN(Contributo_cer[[#This Row],[Totale Immissione in rete]:[Totale Consumi rimanenti]])","v":0},"HPB",null,null,null,0]
["072116",7,{"$f":"+MIN(Contributo_cer[[#This Row],[Totale Immissione in rete]:[Totale Consumi rimanenti]])","v":0},"HPB",null,null,null,0]
["072117",7,{"$f":"+MIN(Contributo_cer[[#This Row],[Totale Immissione in rete]:[Totale Consumi rimanenti]])","v":0},"HPB",null,null,null,0]
["072118",7,{"$f":"+MIN(Contributo_cer[[#This Row],[Totale Immissione in rete]:[Totale Consumi rimanenti]])","v":0},"HPB",null,null,null,0]
["072119",7,{"$f":"+MIN(Contributo_cer[[#This Row],[Totale Immissione in rete]:[Totale Consumi rimanenti]])","v":0},"HPB",null,null,null,0]
["072120",7,{"$f":"+MIN(Contributo_cer[[#This Row],[Totale Immissione in rete]:[Totale Consumi rimanenti]])","v":0},"HPB",null,null,null,0]
["072121",7,{"$f":"+MIN(Contributo_cer[[#This Row],[Totale Immissione in rete]:[Totale Consumi rimanenti]])","v":0},"HPB",null,null,null,0]
["072122",7,{"$f":"+MIN(Contributo_cer[[#This Row],[Totale Immissione in rete]:[Totale Consumi rimanenti]])","v":0},"HCB",null,null,null,0]
["072123",7,{"$f":"+MIN(Contributo_cer[[#This Row],[Totale Immissione in rete]:[Totale Consumi rimanenti]])","v":0},"HCB",null,null,null,0]
["072200",7,{"$f":"+MIN(Contributo_cer[[#This Row],[Totale Immissione in rete]:[Totale Consumi rimanenti]])","v":0},"HCB",null,null,null,0]
["072201",7,{"$f":"+MIN(Contributo_cer[[#This Row],[Totale Immissione in rete]:[Totale Consumi rimanenti]])","v":0},"HCB",null,null,null,0]
["072202",7,{"$f":"+MIN(Contributo_cer[[#This Row],[Totale Immissione in rete]:[Totale Consumi rimanenti]])","v":0},"HCB",null,null,null,0]
["072203",7,{"$f":"+MIN(Contributo_cer[[#This Row],[Totale Immissione in rete]:[Totale Consumi rimanenti]])","v":0},"HCB",null,null,null,0]
["072204",7,{"$f":"+MIN(Contributo_cer[[#This Row],[Totale Immissione in rete]:[Totale Consumi rimanenti]])","v":0},"HCB",null,null,null,0]
["072205",7,{"$f":"+MIN(Contributo_cer[[#This Row],[Totale Immissione in rete]:[Totale Consumi rimanenti]])","v":0},"HCB",null,null,null,0]
["072206",7,{"$f":"+MIN(Contributo_cer[[#This Row],[Totale Immissione in rete]:[Totale Consumi rimanenti]])","v":0},"HPB",null,null,null,0]
["072207",7,{"$f":"+MIN(Contributo_cer[[#This Row],[Totale Immissione in rete]:[Totale Consumi rimanenti]])","v":0},"HPB",null,null,null,0]
["072208",7,{"$f":"+MIN(Contributo_cer[[#This Row],[Totale Immissione in rete]:[Totale Consumi rimanenti]])","v":0},"HPB",null,null,null,0]
["072209",7,{"$f":"+MIN(Contributo_cer[[#This Row],[Totale Immissione in rete]:[Totale Consumi rimanenti]])","v":0},"HPB",null,null,null,0]
["072210",7,{"$f":"+MIN(Contributo_cer[[#This Row],[Totale Immissione in rete]:[Totale Consumi rimanenti]])","v":0},"HPB",null,null,null,0]
["072211",7,{"$f":"+MIN(Contributo_cer[[#This Row],[Totale Immissione in rete]:[Totale Consumi rimanenti]])","v":0},"HPB",null,null,null,0]
["072212",7,{"$f":"+MIN(Contributo_cer[[#This Row],[Totale Immissione in rete]:[Totale Consumi rimanenti]])","v":0},"HPB",null,null,null,0]
["072213",7,{"$f":"+MIN(Contributo_cer[[#This Row],[Totale Immissione in rete]:[Totale Consumi rimanenti]])","v":0},"HPB",null,null,null,0]
["072214",7,{"$f":"+MIN(Contributo_cer[[#This Row],[Totale Immissione in rete]:[Totale Consumi rimanenti]])","v":0},"HPB",null,null,null,0]
["072215",7,{"$f":"+MIN(Contributo_cer[[#This Row],[Totale Immissione in rete]:[Totale Consumi rimanenti]])","v":0},"HPB",null,null,null,0]
["072216",7,{"$f":"+MIN(Contributo_cer[[#This Row],[Totale Immissione in rete]:[Totale Consumi rimanenti]])","v":0},"HPB",null,null,null,0]
["072217",7,{"$f":"+MIN(Contributo_cer[[#This Row],[Totale Immissione in rete]:[Totale Consumi rimanenti]])","v":0},"HPB",null,null,null,0]
["072218",7,{"$f":"+MIN(Contributo_cer[[#This Row],[Totale Immissione in rete]:[Totale Consumi rimanenti]])","v":0},"HPB",null,null,null,0]
["072219",7,{"$f":"+MIN(Contributo_cer[[#This Row],[Totale Immissione in rete]:[Totale Consumi rimanenti]])","v":0},"HPB",null,null,null,0]
["072220",7,{"$f":"+MIN(Contributo_cer[[#This Row],[Totale Immissione in rete]:[Totale Consumi rimanenti]])","v":0},"HPB",null,null,null,0]
["072221",7,{"$f":"+MIN(Contributo_cer[[#This Row],[Totale Immissione in rete]:[Totale Consumi rimanenti]])","v":0},"HPB",null,null,null,0]
["072222",7,{"$f":"+MIN(Contributo_cer[[#This Row],[Totale Immissione in rete]:[Totale Consumi rimanenti]])","v":0},"HCB",null,null,null,0]
["072223",7,{"$f":"+MIN(Contributo_cer[[#This Row],[Totale Immissione in rete]:[Totale Consumi rimanenti]])","v":0},"HCB",null,null,null,0]
["072300",7,{"$f":"+MIN(Contributo_cer[[#This Row],[Totale Immissione in rete]:[Totale Consumi rimanenti]])","v":0},"HCB",null,null,null,0]
["072301",7,{"$f":"+MIN(Contributo_cer[[#This Row],[Totale Immissione in rete]:[Totale Consumi rimanenti]])","v":0},"HCB",null,null,null,0]
["072302",7,{"$f":"+MIN(Contributo_cer[[#This Row],[Totale Immissione in rete]:[Totale Consumi rimanenti]])","v":0},"HCB",null,null,null,0]
["072303",7,{"$f":"+MIN(Contributo_cer[[#This Row],[Totale Immissione in rete]:[Totale Consumi rimanenti]])","v":0},"HCB",null,null,null,0]
["072304",7,{"$f":"+MIN(Contributo_cer[[#This Row],[Totale Immissione in rete]:[Totale Consumi rimanenti]])","v":0},"HCB",null,null,null,0]
["072305",7,{"$f":"+MIN(Contributo_cer[[#This Row],[Totale Immissione in rete]:[Totale Consumi rimanenti]])","v":0},"HCB",null,null,null,0]
["072306",7,{"$f":"+MIN(Contributo_cer[[#This Row],[Totale Immissione in rete]:[Totale Consumi rimanenti]])","v":0},"HPB",null,null,null,0]
["072307",7,{"$f":"+MIN(Contributo_cer[[#This Row],[Totale Immissione in rete]:[Totale Consumi rimanenti]])","v":0},"HPB",null,null,null,0]
["072308",7,{"$f":"+MIN(Contributo_cer[[#This Row],[Totale Immissione in rete]:[Totale Consumi rimanenti]])","v":0},"HPB",null,null,null,0]
["072309",7,{"$f":"+MIN(Contributo_cer[[#This Row],[Totale Immissione in rete]:[Totale Consumi rimanenti]])","v":0},"HPB",null,null,null,0]
["072310",7,{"$f":"+MIN(Contributo_cer[[#This Row],[Totale Immissione in rete]:[Totale Consumi rimanenti]])","v":0},"HPB",null,null,null,0]
["072311",7,{"$f":"+MIN(Contributo_cer[[#This Row],[Totale Immissione in rete]:[Totale Consumi rimanenti]])","v":0},"HPB",null,null,null,0]
["072312",7,{"$f":"+MIN(Contributo_cer[[#This Row],[Totale Immissione in rete]:[Totale Consumi rimanenti]])","v":0},"HPB",null,null,null,0]
["072313",7,{"$f":"+MIN(Contributo_cer[[#This Row],[Totale Immissione in rete]:[Totale Consumi rimanenti]])","v":0},"HPB",null,null,null,0]
["072314",7,{"$f":"+MIN(Contributo_cer[[#This Row],[Totale Immissione in rete]:[Totale Consumi rimanenti]])","v":0},"HPB",null,null,null,0]
["072315",7,{"$f":"+MIN(Contributo_cer[[#This Row],[Totale Immissione in rete]:[Totale Consumi rimanenti]])","v":0},"HPB",null,null,null,0]
["072316",7,{"$f":"+MIN(Contributo_cer[[#This Row],[Totale Immissione in rete]:[Totale Consumi rimanenti]])","v":0},"HPB",null,null,null,0]
["072317",7,{"$f":"+MIN(Contributo_cer[[#This Row],[Totale Immissione in rete]:[Totale Consumi rimanenti]])","v":0},"HPB",null,null,null,0]
["072318",7,{"$f":"+MIN(Contributo_cer[[#This Row],[Totale Immissione in rete]:[Totale Consumi rimanenti]])","v":0},"HPB",null,null,null,0]
["072319",7,{"$f":"+MIN(Contributo_cer[[#This Row],[Totale Immissione in rete]:[Totale Consumi rimanenti]])","v":0},"HPB",null,null,null,0]
["072320",7,{"$f":"+MIN(Contributo_cer[[#This Row],[Totale Immissione in rete]:[Totale Consumi rimanenti]])","v":0},"HPB",null,null,null,0]
["072321",7,{"$f":"+MIN(Contributo_cer[[#This Row],[Totale Immissione in rete]:[Totale Consumi rimanenti]])","v":0},"HPB",null,null,null,0]
["072322",7,{"$f":"+MIN(Contributo_cer[[#This Row],[Totale Immissione in rete]:[Totale Consumi rimanenti]])","v":0},"HCB",null,null,null,0]
["072323",7,{"$f":"+MIN(Contributo_cer[[#This Row],[Totale Immissione in rete]:[Totale Consumi rimanenti]])","v":0},"HCB",null,null,null,0]
["072400",7,{"$f":"+MIN(Contributo_cer[[#This Row],[Totale Immissione in rete]:[Totale Consumi rimanenti]])","v":0},"HCB",null,null,null,0]
["072401",7,{"$f":"+MIN(Contributo_cer[[#This Row],[Totale Immissione in rete]:[Totale Consumi rimanenti]])","v":0},"HCB",null,null,null,0]
["072402",7,{"$f":"+MIN(Contributo_cer[[#This Row],[Totale Immissione in rete]:[Totale Consumi rimanenti]])","v":0},"HCB",null,null,null,0]
["072403",7,{"$f":"+MIN(Contributo_cer[[#This Row],[Totale Immissione in rete]:[Totale Consumi rimanenti]])","v":0},"HCB",null,null,null,0]
["072404",7,{"$f":"+MIN(Contributo_cer[[#This Row],[Totale Immissione in rete]:[Totale Consumi rimanenti]])","v":0},"HCB",null,null,null,0]
["072405",7,{"$f":"+MIN(Contributo_cer[[#This Row],[Totale Immissione in rete]:[Totale Consumi rimanenti]])","v":0},"HCB",null,null,null,0]
["072406",7,{"$f":"+MIN(Contributo_cer[[#This Row],[Totale Immissione in rete]:[Totale Consumi rimanenti]])","v":0},"HPB",null,null,null,0]
["072407",7,{"$f":"+MIN(Contributo_cer[[#This Row],[Totale Immissione in rete]:[Totale Consumi rimanenti]])","v":0},"HPB",null,null,null,0]
["072408",7,{"$f":"+MIN(Contributo_cer[[#This Row],[Totale Immissione in rete]:[Totale Consumi rimanenti]])","v":0},"HPB",null,null,null,0]
["072409",7,{"$f":"+MIN(Contributo_cer[[#This Row],[Totale Immissione in rete]:[Totale Consumi rimanenti]])","v":0},"HPB",null,null,null,0]
["072410",7,{"$f":"+MIN(Contributo_cer[[#This Row],[Totale Immissione in rete]:[Totale Consumi rimanenti]])","v":0},"HPB",null,null,null,0]
["072411",7,{"$f":"+MIN(Contributo_cer[[#This Row],[Totale Immissione in rete]:[Totale Consumi rimanenti]])","v":0},"HPB",null,null,null,0]
["072412",7,{"$f":"+MIN(Contributo_cer[[#This Row],[Totale Immissione in rete]:[Totale Consumi rimanenti]])","v":0},"HPB",null,null,null,0]
["072413",7,{"$f":"+MIN(Contributo_cer[[#This Row],[Totale Immissione in rete]:[Totale Consumi rimanenti]])","v":0},"HPB",null,null,null,0]
["072414",7,{"$f":"+MIN(Contributo_cer[[#This Row],[Totale Immissione in rete]:[Totale Consumi rimanenti]])","v":0},"HPB",null,null,null,0]
["072415",7,{"$f":"+MIN(Contributo_cer[[#This Row],[Totale Immissione in rete]:[Totale Consumi rimanenti]])","v":0},"HPB",null,null,null,0]
["072416",7,{"$f":"+MIN(Contributo_cer[[#This Row],[Totale Immissione in rete]:[Totale Consumi rimanenti]])","v":0},"HPB",null,null,null,0]
["072417",7,{"$f":"+MIN(Contributo_cer[[#This Row],[Totale Immissione in rete]:[Totale Consumi rimanenti]])","v":0},"HPB",null,null,null,0]
["072418",7,{"$f":"+MIN(Contributo_cer[[#This Row],[Totale Immissione in rete]:[Totale Consumi rimanenti]])","v":0},"HPB",null,null,null,0]
["072419",7,{"$f":"+MIN(Contributo_cer[[#This Row],[Totale Immissione in rete]:[Totale Consumi rimanenti]])","v":0},"HPB",null,null,null,0]
["072420",7,{"$f":"+MIN(Contributo_cer[[#This Row],[Totale Immissione in rete]:[Totale Consumi rimanenti]])","v":0},"HPB",null,null,null,0]
["072421",7,{"$f":"+MIN(Contributo_cer[[#This Row],[Totale Immissione in rete]:[Totale Consumi rimanenti]])","v":0},"HPB",null,null,null,0]
["072422",7,{"$f":"+MIN(Contributo_cer[[#This Row],[Totale Immissione in rete]:[Totale Consumi rimanenti]])","v":0},"HCB",null,null,null,0]
["072423",7,{"$f":"+MIN(Contributo_cer[[#This Row],[Totale Immissione in rete]:[Totale Consumi rimanenti]])","v":0},"HCB",null,null,null,0]
["072500",7,{"$f":"+MIN(Contributo_cer[[#This Row],[Totale Immissione in rete]:[Totale Consumi rimanenti]])","v":0},"HCB",null,null,null,0]
["072501",7,{"$f":"+MIN(Contributo_cer[[#This Row],[Totale Immissione in rete]:[Totale Consumi rimanenti]])","v":0},"HCB",null,null,null,0]
["072502",7,{"$f":"+MIN(Contributo_cer[[#This Row],[Totale Immissione in rete]:[Totale Consumi rimanenti]])","v":0},"HCB",null,null,null,0]
["072503",7,{"$f":"+MIN(Contributo_cer[[#This Row],[Totale Immissione in rete]:[Totale Consumi rimanenti]])","v":0},"HCB",null,null,null,0]
["072504",7,{"$f":"+MIN(Contributo_cer[[#This Row],[Totale Immissione in rete]:[Totale Consumi rimanenti]])","v":0},"HCB",null,null,null,0]
["072505",7,{"$f":"+MIN(Contributo_cer[[#This Row],[Totale Immissione in rete]:[Totale Consumi rimanenti]])","v":0},"HCB",null,null,null,0]
["072506",7,{"$f":"+MIN(Contributo_cer[[#This Row],[Totale Immissione in rete]:[Totale Consumi rimanenti]])","v":0},"HPB",null,null,null,0]
["072507",7,{"$f":"+MIN(Contributo_cer[[#This Row],[Totale Immissione in rete]:[Totale Consumi rimanenti]])","v":0},"HPB",null,null,null,0]
["072508",7,{"$f":"+MIN(Contributo_cer[[#This Row],[Totale Immissione in rete]:[Totale Consumi rimanenti]])","v":0},"HPB",null,null,null,0]
["072509",7,{"$f":"+MIN(Contributo_cer[[#This Row],[Totale Immissione in rete]:[Totale Consumi rimanenti]])","v":0},"HPB",null,null,null,0]
["072510",7,{"$f":"+MIN(Contributo_cer[[#This Row],[Totale Immissione in rete]:[Totale Consumi rimanenti]])","v":0},"HPB",null,null,null,0]
["072511",7,{"$f":"+MIN(Contributo_cer[[#This Row],[Totale Immissione in rete]:[Totale Consumi rimanenti]])","v":0},"HPB",null,null,null,0]
["072512",7,{"$f":"+MIN(Contributo_cer[[#This Row],[Totale Immissione in rete]:[Totale Consumi rimanenti]])","v":0},"HPB",null,null,null,0]
["072513",7,{"$f":"+MIN(Contributo_cer[[#This Row],[Totale Immissione in rete]:[Totale Consumi rimanenti]])","v":0},"HPB",null,null,null,0]
["072514",7,{"$f":"+MIN(Contributo_cer[[#This Row],[Totale Immissione in rete]:[Totale Consumi rimanenti]])","v":0},"HPB",null,null,null,0]
["072515",7,{"$f":"+MIN(Contributo_cer[[#This Row],[Totale Immissione in rete]:[Totale Consumi rimanenti]])","v":0},"HPB",null,null,null,0]
["072516",7,{"$f":"+MIN(Contributo_cer[[#This Row],[Totale Immissione in rete]:[Totale Consumi rimanenti]])","v":0},"HPB",null,null,null,0]
["072517",7,{"$f":"+MIN(Contributo_cer[[#This Row],[Totale Immissione in rete]:[Totale Consumi rimanenti]])","v":0},"HPB",null,null,null,0]
["072518",7,{"$f":"+MIN(Contributo_cer[[#This Row],[Totale Immissione in rete]:[Totale Consumi rimanenti]])","v":0},"HPB",null,null,null,0]
["072519",7,{"$f":"+MIN(Contributo_cer[[#This Row],[Totale Immissione in rete]:[Totale Consumi rimanenti]])","v":0},"HPB",null,null,null,0]
["072520",7,{"$f":"+MIN(Contributo_cer[[#This Row],[Totale Immissione in rete]:[Totale Consumi rimanenti]])","v":0},"HPB",null,null,null,0]
["072521",7,{"$f":"+MIN(Contributo_cer[[#This Row],[Totale Immissione in rete]:[Totale Consumi rimanenti]])","v":0},"HPB",null,null,null,0]
["072522",7,{"$f":"+MIN(Contributo_cer[[#This Row],[Totale Immissione in rete]:[Totale Consumi rimanenti]])","v":0},"HCB",null,null,null,0]
["072523",7,{"$f":"+MIN(Contributo_cer[[#This Row],[Totale Immissione in rete]:[Totale Consumi rimanenti]])","v":0},"HCB",null,null,null,0]
["072600",7,{"$f":"+MIN(Contributo_cer[[#This Row],[Totale Immissione in rete]:[Totale Consumi rimanenti]])","v":0},"HCB",null,null,null,0]
["072601",7,{"$f":"+MIN(Contributo_cer[[#This Row],[Totale Immissione in rete]:[Totale Consumi rimanenti]])","v":0},"HCB",null,null,null,0]
["072602",7,{"$f":"+MIN(Contributo_cer[[#This Row],[Totale Immissione in rete]:[Totale Consumi rimanenti]])","v":0},"HCB",null,null,null,0]
["072603",7,{"$f":"+MIN(Contributo_cer[[#This Row],[Totale Immissione in rete]:[Totale Consumi rimanenti]])","v":0},"HCB",null,null,null,0]
["072604",7,{"$f":"+MIN(Contributo_cer[[#This Row],[Totale Immissione in rete]:[Totale Consumi rimanenti]])","v":0},"HCB",null,null,null,0]
["072605",7,{"$f":"+MIN(Contributo_cer[[#This Row],[Totale Immissione in rete]:[Totale Consumi rimanenti]])","v":0},"HCB",null,null,null,0]
["072606",7,{"$f":"+MIN(Contributo_cer[[#This Row],[Totale Immissione in rete]:[Totale Consumi rimanenti]])","v":0},"HPB",null,null,null,0]
["072607",7,{"$f":"+MIN(Contributo_cer[[#This Row],[Totale Immissione in rete]:[Totale Consumi rimanenti]])","v":0},"HPB",null,null,null,0]
["072608",7,{"$f":"+MIN(Contributo_cer[[#This Row],[Totale Immissione in rete]:[Totale Consumi rimanenti]])","v":0},"HPB",null,null,null,0]
["072609",7,{"$f":"+MIN(Contributo_cer[[#This Row],[Totale Immissione in rete]:[Totale Consumi rimanenti]])","v":0},"HPB",null,null,null,0]
["072610",7,{"$f":"+MIN(Contributo_cer[[#This Row],[Totale Immissione in rete]:[Totale Consumi rimanenti]])","v":0},"HPB",null,null,null,0]
["072611",7,{"$f":"+MIN(Contributo_cer[[#This Row],[Totale Immissione in rete]:[Totale Consumi rimanenti]])","v":0},"HPB",null,null,null,0]
["072612",7,{"$f":"+MIN(Contributo_cer[[#This Row],[Totale Immissione in rete]:[Totale Consumi rimanenti]])","v":0},"HPB",null,null,null,0]
["072613",7,{"$f":"+MIN(Contributo_cer[[#This Row],[Totale Immissione in rete]:[Totale Consumi rimanenti]])","v":0},"HPB",null,null,null,0]
["072614",7,{"$f":"+MIN(Contributo_cer[[#This Row],[Totale Immissione in rete]:[Totale Consumi rimanenti]])","v":0},"HPB",null,null,null,0]
["072615",7,{"$f":"+MIN(Contributo_cer[[#This Row],[Totale Immissione in rete]:[Totale Consumi rimanenti]])","v":0},"HPB",null,null,null,0]
["072616",7,{"$f":"+MIN(Contributo_cer[[#This Row],[Totale Immissione in rete]:[Totale Consumi rimanenti]])","v":0},"HPB",null,null,null,0]
["072617",7,{"$f":"+MIN(Contributo_cer[[#This Row],[Totale Immissione in rete]:[Totale Consumi rimanenti]])","v":0},"HPB",null,null,null,0]
["072618",7,{"$f":"+MIN(Contributo_cer[[#This Row],[Totale Immissione in rete]:[Totale Consumi rimanenti]])","v":0},"HPB",null,null,null,0]
["072619",7,{"$f":"+MIN(Contributo_cer[[#This Row],[Totale Immissione in rete]:[Totale Consumi rimanenti]])","v":0},"HPB",null,null,null,0]
["072620",7,{"$f":"+MIN(Contributo_cer[[#This Row],[Totale Immissione in rete]:[Totale Consumi rimanenti]])","v":0},"HPB",null,null,null,0]
["072621",7,{"$f":"+MIN(Contributo_cer[[#This Row],[Totale Immissione in rete]:[Totale Consumi rimanenti]])","v":0},"HPB",null,null,null,0]
["072622",7,{"$f":"+MIN(Contributo_cer[[#This Row],[Totale Immissione in rete]:[Totale Consumi rimanenti]])","v":0},"HCB",null,null,null,0]
["072623",7,{"$f":"+MIN(Contributo_cer[[#This Row],[Totale Immissione in rete]:[Totale Consumi rimanenti]])","v":0},"HCB",null,null,null,0]
["072700",7,{"$f":"+MIN(Contributo_cer[[#This Row],[Totale Immissione in rete]:[Totale Consumi rimanenti]])","v":0},"HCB",null,null,null,0]
["072701",7,{"$f":"+MIN(Contributo_cer[[#This Row],[Totale Immissione in rete]:[Totale Consumi rimanenti]])","v":0},"HCB",null,null,null,0]
["072702",7,{"$f":"+MIN(Contributo_cer[[#This Row],[Totale Immissione in rete]:[Totale Consumi rimanenti]])","v":0},"HCB",null,null,null,0]
["072703",7,{"$f":"+MIN(Contributo_cer[[#This Row],[Totale Immissione in rete]:[Totale Consumi rimanenti]])","v":0},"HCB",null,null,null,0]
["072704",7,{"$f":"+MIN(Contributo_cer[[#This Row],[Totale Immissione in rete]:[Totale Consumi rimanenti]])","v":0},"HCB",null,null,null,0]
["072705",7,{"$f":"+MIN(Contributo_cer[[#This Row],[Totale Immissione in rete]:[Totale Consumi rimanenti]])","v":0},"HCB",null,null,null,0]
["072706",7,{"$f":"+MIN(Contributo_cer[[#This Row],[Totale Immissione in rete]:[Totale Consumi rimanenti]])","v":0},"HPB",null,null,null,0]
["072707",7,{"$f":"+MIN(Contributo_cer[[#This Row],[Totale Immissione in rete]:[Totale Consumi rimanenti]])","v":0},"HPB",null,null,null,0]
["072708",7,{"$f":"+MIN(Contributo_cer[[#This Row],[Totale Immissione in rete]:[Totale Consumi rimanenti]])","v":0},"HPB",null,null,null,0]
["072709",7,{"$f":"+MIN(Contributo_cer[[#This Row],[Totale Immissione in rete]:[Totale Consumi rimanenti]])","v":0},"HPB",null,null,null,0]
["072710",7,{"$f":"+MIN(Contributo_cer[[#This Row],[Totale Immissione in rete]:[Totale Consumi rimanenti]])","v":0},"HPB",null,null,null,0]
["072711",7,{"$f":"+MIN(Contributo_cer[[#This Row],[Totale Immissione in rete]:[Totale Consumi rimanenti]])","v":0},"HPB",null,null,null,0]
["072712",7,{"$f":"+MIN(Contributo_cer[[#This Row],[Totale Immissione in rete]:[Totale Consumi rimanenti]])","v":0},"HPB",null,null,null,0]
["072713",7,{"$f":"+MIN(Contributo_cer[[#This Row],[Totale Immissione in rete]:[Totale Consumi rimanenti]])","v":0},"HPB",null,null,null,0]
["072714",7,{"$f":"+MIN(Contributo_cer[[#This Row],[Totale Immissione in rete]:[Totale Consumi rimanenti]])","v":0},"HPB",null,null,null,0]
["072715",7,{"$f":"+MIN(Contributo_cer[[#This Row],[Totale Immissione in rete]:[Totale Consumi rimanenti]])","v":0},"HPB",null,null,null,0]
["072716",7,{"$f":"+MIN(Contributo_cer[[#This Row],[Totale Immissione in rete]:[Totale Consumi rimanenti]])","v":0},"HPB",null,null,null,0]
["072717",7,{"$f":"+MIN(Contributo_cer[[#This Row],[Totale Immissione in rete]:[Totale Consumi rimanenti]])","v":0},"HPB",null,null,null,0]
["072718",7,{"$f":"+MIN(Contributo_cer[[#This Row],[Totale Immissione in rete]:[Totale Consumi rimanenti]])","v":0},"HPB",null,null,null,0]
["072719",7,{"$f":"+MIN(Contributo_cer[[#This Row],[Totale Immissione in rete]:[Totale Consumi rimanenti]])","v":0},"HPB",null,null,null,0]
["072720",7,{"$f":"+MIN(Contributo_cer[[#This Row],[Totale Immissione in rete]:[Totale Consumi rimanenti]])","v":0},"HPB",null,null,null,0]
["072721",7,{"$f":"+MIN(Contributo_cer[[#This Row],[Totale Immissione in rete]:[Totale Consumi rimanenti]])","v":0},"HPB",null,null,null,0]
["072722",7,{"$f":"+MIN(Contributo_cer[[#This Row],[Totale Immissione in rete]:[Totale Consumi rimanenti]])","v":0},"HCB",null,null,null,0]
["072723",7,{"$f":"+MIN(Contributo_cer[[#This Row],[Totale Immissione in rete]:[Totale Consumi rimanenti]])","v":0},"HCB",null,null,null,0]
["072800",7,{"$f":"+MIN(Contributo_cer[[#This Row],[Totale Immissione in rete]:[Totale Consumi rimanenti]])","v":0},"HCB",null,null,null,0]
["072801",7,{"$f":"+MIN(Contributo_cer[[#This Row],[Totale Immissione in rete]:[Totale Consumi rimanenti]])","v":0},"HCB",null,null,null,0]
["072802",7,{"$f":"+MIN(Contributo_cer[[#This Row],[Totale Immissione in rete]:[Totale Consumi rimanenti]])","v":0},"HCB",null,null,null,0]
["072803",7,{"$f":"+MIN(Contributo_cer[[#This Row],[Totale Immissione in rete]:[Totale Consumi rimanenti]])","v":0},"HCB",null,null,null,0]
["072804",7,{"$f":"+MIN(Contributo_cer[[#This Row],[Totale Immissione in rete]:[Totale Consumi rimanenti]])","v":0},"HCB",null,null,null,0]
["072805",7,{"$f":"+MIN(Contributo_cer[[#This Row],[Totale Immissione in rete]:[Totale Consumi rimanenti]])","v":0},"HCB",null,null,null,0]
["072806",7,{"$f":"+MIN(Contributo_cer[[#This Row],[Totale Immissione in rete]:[Totale Consumi rimanenti]])","v":0},"HPB",null,null,null,0]
["072807",7,{"$f":"+MIN(Contributo_cer[[#This Row],[Totale Immissione in rete]:[Totale Consumi rimanenti]])","v":0},"HPB",null,null,null,0]
["072808",7,{"$f":"+MIN(Contributo_cer[[#This Row],[Totale Immissione in rete]:[Totale Consumi rimanenti]])","v":0},"HPB",null,null,null,0]
["072809",7,{"$f":"+MIN(Contributo_cer[[#This Row],[Totale Immissione in rete]:[Totale Consumi rimanenti]])","v":0},"HPB",null,null,null,0]
["072810",7,{"$f":"+MIN(Contributo_cer[[#This Row],[Totale Immissione in rete]:[Totale Consumi rimanenti]])","v":0},"HPB",null,null,null,0]
["072811",7,{"$f":"+MIN(Contributo_cer[[#This Row],[Totale Immissione in rete]:[Totale Consumi rimanenti]])","v":0},"HPB",null,null,null,0]
["072812",7,{"$f":"+MIN(Contributo_cer[[#This Row],[Totale Immissione in rete]:[Totale Consumi rimanenti]])","v":0},"HPB",null,null,null,0]
["072813",7,{"$f":"+MIN(Contributo_cer[[#This Row],[Totale Immissione in rete]:[Totale Consumi rimanenti]])","v":0},"HPB",null,null,null,0]
["072814",7,{"$f":"+MIN(Contributo_cer[[#This Row],[Totale Immissione in rete]:[Totale Consumi rimanenti]])","v":0},"HPB",null,null,null,0]
["072815",7,{"$f":"+MIN(Contributo_cer[[#This Row],[Totale Immissione in rete]:[Totale Consumi rimanenti]])","v":0},"HPB",null,null,null,0]
["072816",7,{"$f":"+MIN(Contributo_cer[[#This Row],[Totale Immissione in rete]:[Totale Consumi rimanenti]])","v":0},"HPB",null,null,null,0]
["072817",7,{"$f":"+MIN(Contributo_cer[[#This Row],[Totale Immissione in rete]:[Totale Consumi rimanenti]])","v":0},"HPB",null,null,null,0]
["072818",7,{"$f":"+MIN(Contributo_cer[[#This Row],[Totale Immissione in rete]:[Totale Consumi rimanenti]])","v":0},"HPB",null,null,null,0]
["072819",7,{"$f":"+MIN(Contributo_cer[[#This Row],[Totale Immissione in rete]:[Totale Consumi rimanenti]])","v":0},"HPB",null,null,null,0]
["072820",7,{"$f":"+MIN(Contributo_cer[[#This Row],[Totale Immissione in rete]:[Totale Consumi rimanenti]])","v":0},"HPB",null,null,null,0]
["072821",7,{"$f":"+MIN(Contributo_cer[[#This Row],[Totale Immissione in rete]:[Totale Consumi rimanenti]])","v":0},"HPB",null,null,null,0]
["072822",7,{"$f":"+MIN(Contributo_cer[[#This Row],[Totale Immissione in rete]:[Totale Consumi rimanenti]])","v":0},"HCB",null,null,null,0]
["072823",7,{"$f":"+MIN(Contributo_cer[[#This Row],[Totale Immissione in rete]:[Totale Consumi rimanenti]])","v":0},"HCB",null,null,null,0]
["072900",7,{"$f":"+MIN(Contributo_cer[[#This Row],[Totale Immissione in rete]:[Totale Consumi rimanenti]])","v":0},"HCB",null,null,null,0]
["072901",7,{"$f":"+MIN(Contributo_cer[[#This Row],[Totale Immissione in rete]:[Totale Consumi rimanenti]])","v":0},"HCB",null,null,null,0]
["072902",7,{"$f":"+MIN(Contributo_cer[[#This Row],[Totale Immissione in rete]:[Totale Consumi rimanenti]])","v":0},"HCB",null,null,null,0]
["072903",7,{"$f":"+MIN(Contributo_cer[[#This Row],[Totale Immissione in rete]:[Totale Consumi rimanenti]])","v":0},"HCB",null,null,null,0]
["072904",7,{"$f":"+MIN(Contributo_cer[[#This Row],[Totale Immissione in rete]:[Totale Consumi rimanenti]])","v":0},"HCB",null,null,null,0]
["072905",7,{"$f":"+MIN(Contributo_cer[[#This Row],[Totale Immissione in rete]:[Totale Consumi rimanenti]])","v":0},"HCB",null,null,null,0]
["072906",7,{"$f":"+MIN(Contributo_cer[[#This Row],[Totale Immissione in rete]:[Totale Consumi rimanenti]])","v":0},"HPB",null,null,null,0]
["072907",7,{"$f":"+MIN(Contributo_cer[[#This Row],[Totale Immissione in rete]:[Totale Consumi rimanenti]])","v":0},"HPB",null,null,null,0]
["072908",7,{"$f":"+MIN(Contributo_cer[[#This Row],[Totale Immissione in rete]:[Totale Consumi rimanenti]])","v":0},"HPB",null,null,null,0]
["072909",7,{"$f":"+MIN(Contributo_cer[[#This Row],[Totale Immissione in rete]:[Totale Consumi rimanenti]])","v":0},"HPB",null,null,null,0]
["072910",7,{"$f":"+MIN(Contributo_cer[[#This Row],[Totale Immissione in rete]:[Totale Consumi rimanenti]])","v":0},"HPB",null,null,null,0]
["072911",7,{"$f":"+MIN(Contributo_cer[[#This Row],[Totale Immissione in rete]:[Totale Consumi rimanenti]])","v":0},"HPB",null,null,null,0]
["072912",7,{"$f":"+MIN(Contributo_cer[[#This Row],[Totale Immissione in rete]:[Totale Consumi rimanenti]])","v":0},"HPB",null,null,null,0]
["072913",7,{"$f":"+MIN(Contributo_cer[[#This Row],[Totale Immissione in rete]:[Totale Consumi rimanenti]])","v":0},"HPB",null,null,null,0]
["072914",7,{"$f":"+MIN(Contributo_cer[[#This Row],[Totale Immissione in rete]:[Totale Consumi rimanenti]])","v":0},"HPB",null,null,null,0]
["072915",7,{"$f":"+MIN(Contributo_cer[[#This Row],[Totale Immissione in rete]:[Totale Consumi rimanenti]])","v":0},"HPB",null,null,null,0]
["072916",7,{"$f":"+MIN(Contributo_cer[[#This Row],[Totale Immissione in rete]:[Totale Consumi rimanenti]])","v":0},"HPB",null,null,null,0]
["072917",7,{"$f":"+MIN(Contributo_cer[[#This Row],[Totale Immissione in rete]:[Totale Consumi rimanenti]])","v":0},"HPB",null,null,null,0]
["072918",7,{"$f":"+MIN(Contributo_cer[[#This Row],[Totale Immissione in rete]:[Totale Consumi rimanenti]])","v":0},"HPB",null,null,null,0]
["072919",7,{"$f":"+MIN(Contributo_cer[[#This Row],[Totale Immissione in rete]:[Totale Consumi rimanenti]])","v":0},"HPB",null,null,null,0]
["072920",7,{"$f":"+MIN(Contributo_cer[[#This Row],[Totale Immissione in rete]:[Totale Consumi rimanenti]])","v":0},"HPB",null,null,null,0]
["072921",7,{"$f":"+MIN(Contributo_cer[[#This Row],[Totale Immissione in rete]:[Totale Consumi rimanenti]])","v":0},"HPB",null,null,null,0]
["072922",7,{"$f":"+MIN(Contributo_cer[[#This Row],[Totale Immissione in rete]:[Totale Consumi rimanenti]])","v":0},"HCB",null,null,null,0]
["072923",7,{"$f":"+MIN(Contributo_cer[[#This Row],[Totale Immissione in rete]:[Totale Consumi rimanenti]])","v":0},"HCB",null,null,null,0]
["073000",7,{"$f":"+MIN(Contributo_cer[[#This Row],[Totale Immissione in rete]:[Totale Consumi rimanenti]])","v":0},"HCB",null,null,null,0]
["073001",7,{"$f":"+MIN(Contributo_cer[[#This Row],[Totale Immissione in rete]:[Totale Consumi rimanenti]])","v":0},"HCB",null,null,null,0]
["073002",7,{"$f":"+MIN(Contributo_cer[[#This Row],[Totale Immissione in rete]:[Totale Consumi rimanenti]])","v":0},"HCB",null,null,null,0]
["073003",7,{"$f":"+MIN(Contributo_cer[[#This Row],[Totale Immissione in rete]:[Totale Consumi rimanenti]])","v":0},"HCB",null,null,null,0]
["073004",7,{"$f":"+MIN(Contributo_cer[[#This Row],[Totale Immissione in rete]:[Totale Consumi rimanenti]])","v":0},"HCB",null,null,null,0]
["073005",7,{"$f":"+MIN(Contributo_cer[[#This Row],[Totale Immissione in rete]:[Totale Consumi rimanenti]])","v":0},"HCB",null,null,null,0]
["073006",7,{"$f":"+MIN(Contributo_cer[[#This Row],[Totale Immissione in rete]:[Totale Consumi rimanenti]])","v":0},"HPB",null,null,null,0]
["073007",7,{"$f":"+MIN(Contributo_cer[[#This Row],[Totale Immissione in rete]:[Totale Consumi rimanenti]])","v":0},"HPB",null,null,null,0]
["073008",7,{"$f":"+MIN(Contributo_cer[[#This Row],[Totale Immissione in rete]:[Totale Consumi rimanenti]])","v":0},"HPB",null,null,null,0]
["073009",7,{"$f":"+MIN(Contributo_cer[[#This Row],[Totale Immissione in rete]:[Totale Consumi rimanenti]])","v":0},"HPB",null,null,null,0]
["073010",7,{"$f":"+MIN(Contributo_cer[[#This Row],[Totale Immissione in rete]:[Totale Consumi rimanenti]])","v":0},"HPB",null,null,null,0]
["073011",7,{"$f":"+MIN(Contributo_cer[[#This Row],[Totale Immissione in rete]:[Totale Consumi rimanenti]])","v":0},"HPB",null,null,null,0]
["073012",7,{"$f":"+MIN(Contributo_cer[[#This Row],[Totale Immissione in rete]:[Totale Consumi rimanenti]])","v":0},"HPB",null,null,null,0]
["073013",7,{"$f":"+MIN(Contributo_cer[[#This Row],[Totale Immissione in rete]:[Totale Consumi rimanenti]])","v":0},"HPB",null,null,null,0]
["073014",7,{"$f":"+MIN(Contributo_cer[[#This Row],[Totale Immissione in rete]:[Totale Consumi rimanenti]])","v":0},"HPB",null,null,null,0]
["073015",7,{"$f":"+MIN(Contributo_cer[[#This Row],[Totale Immissione in rete]:[Totale Consumi rimanenti]])","v":0},"HPB",null,null,null,0]
["073016",7,{"$f":"+MIN(Contributo_cer[[#This Row],[Totale Immissione in rete]:[Totale Consumi rimanenti]])","v":0},"HPB",null,null,null,0]
["073017",7,{"$f":"+MIN(Contributo_cer[[#This Row],[Totale Immissione in rete]:[Totale Consumi rimanenti]])","v":0},"HPB",null,null,null,0]
["073018",7,{"$f":"+MIN(Contributo_cer[[#This Row],[Totale Immissione in rete]:[Totale Consumi rimanenti]])","v":0},"HPB",null,null,null,0]
["073019",7,{"$f":"+MIN(Contributo_cer[[#This Row],[Totale Immissione in rete]:[Totale Consumi rimanenti]])","v":0},"HPB",null,null,null,0]
["073020",7,{"$f":"+MIN(Contributo_cer[[#This Row],[Totale Immissione in rete]:[Totale Consumi rimanenti]])","v":0},"HPB",null,null,null,0]
["073021",7,{"$f":"+MIN(Contributo_cer[[#This Row],[Totale Immissione in rete]:[Totale Consumi rimanenti]])","v":0},"HPB",null,null,null,0]
["073022",7,{"$f":"+MIN(Contributo_cer[[#This Row],[Totale Immissione in rete]:[Totale Consumi rimanenti]])","v":0},"HCB",null,null,null,0]
["073023",7,{"$f":"+MIN(Contributo_cer[[#This Row],[Totale Immissione in rete]:[Totale Consumi rimanenti]])","v":0},"HCB",null,null,null,0]
["073100",7,{"$f":"+MIN(Contributo_cer[[#This Row],[Totale Immissione in rete]:[Totale Consumi rimanenti]])","v":0},"HCB",null,null,null,0]
["073101",7,{"$f":"+MIN(Contributo_cer[[#This Row],[Totale Immissione in rete]:[Totale Consumi rimanenti]])","v":0},"HCB",null,null,null,0]
["073102",7,{"$f":"+MIN(Contributo_cer[[#This Row],[Totale Immissione in rete]:[Totale Consumi rimanenti]])","v":0},"HCB",null,null,null,0]
["073103",7,{"$f":"+MIN(Contributo_cer[[#This Row],[Totale Immissione in rete]:[Totale Consumi rimanenti]])","v":0},"HCB",null,null,null,0]
["073104",7,{"$f":"+MIN(Contributo_cer[[#This Row],[Totale Immissione in rete]:[Totale Consumi rimanenti]])","v":0},"HCB",null,null,null,0]
["073105",7,{"$f":"+MIN(Contributo_cer[[#This Row],[Totale Immissione in rete]:[Totale Consumi rimanenti]])","v":0},"HCB",null,null,null,0]
["073106",7,{"$f":"+MIN(Contributo_cer[[#This Row],[Totale Immissione in rete]:[Totale Consumi rimanenti]])","v":0},"HPB",null,null,null,0]
["073107",7,{"$f":"+MIN(Contributo_cer[[#This Row],[Totale Immissione in rete]:[Totale Consumi rimanenti]])","v":0},"HPB",null,null,null,0]
["073108",7,{"$f":"+MIN(Contributo_cer[[#This Row],[Totale Immissione in rete]:[Totale Consumi rimanenti]])","v":0},"HPB",null,null,null,0]
["073109",7,{"$f":"+MIN(Contributo_cer[[#This Row],[Totale Immissione in rete]:[Totale Consumi rimanenti]])","v":0},"HPB",null,null,null,0]
["073110",7,{"$f":"+MIN(Contributo_cer[[#This Row],[Totale Immissione in rete]:[Totale Consumi rimanenti]])","v":0},"HPB",null,null,null,0]
["073111",7,{"$f":"+MIN(Contributo_cer[[#This Row],[Totale Immissione in rete]:[Totale Consumi rimanenti]])","v":0},"HPB",null,null,null,0]
["073112",7,{"$f":"+MIN(Contributo_cer[[#This Row],[Totale Immissione in rete]:[Totale Consumi rimanenti]])","v":0},"HPB",null,null,null,0]
["073113",7,{"$f":"+MIN(Contributo_cer[[#This Row],[Totale Immissione in rete]:[Totale Consumi rimanenti]])","v":0},"HPB",null,null,null,0]
["073114",7,{"$f":"+MIN(Contributo_cer[[#This Row],[Totale Immissione in rete]:[Totale Consumi rimanenti]])","v":0},"HPB",null,null,null,0]
["073115",7,{"$f":"+MIN(Contributo_cer[[#This Row],[Totale Immissione in rete]:[Totale Consumi rimanenti]])","v":0},"HPB",null,null,null,0]
["073116",7,{"$f":"+MIN(Contributo_cer[[#This Row],[Totale Immissione in rete]:[Totale Consumi rimanenti]])","v":0},"HPB",null,null,null,0]
["073117",7,{"$f":"+MIN(Contributo_cer[[#This Row],[Totale Immissione in rete]:[Totale Consumi rimanenti]])","v":0},"HPB",null,null,null,0]
["073118",7,{"$f":"+MIN(Contributo_cer[[#This Row],[Totale Immissione in rete]:[Totale Consumi rimanenti]])","v":0},"HPB",null,null,null,0]
["073119",7,{"$f":"+MIN(Contributo_cer[[#This Row],[Totale Immissione in rete]:[Totale Consumi rimanenti]])","v":0},"HPB",null,null,null,0]
["073120",7,{"$f":"+MIN(Contributo_cer[[#This Row],[Totale Immissione in rete]:[Totale Consumi rimanenti]])","v":0},"HPB",null,null,null,0]
["073121",7,{"$f":"+MIN(Contributo_cer[[#This Row],[Totale Immissione in rete]:[Totale Consumi rimanenti]])","v":0},"HPB",null,null,null,0]
["073122",7,{"$f":"+MIN(Contributo_cer[[#This Row],[Totale Immissione in rete]:[Totale Consumi rimanenti]])","v":0},"HCB",null,null,null,0]
["073123",7,{"$f":"+MIN(Contributo_cer[[#This Row],[Totale Immissione in rete]:[Totale Consumi rimanenti]])","v":0},"HCB",null,null,null,0]
["080100",8,{"$f":"+MIN(Contributo_cer[[#This Row],[Totale Immissione in rete]:[Totale Consumi rimanenti]])","v":0},"HCB",null,null,null,0]
["080101",8,{"$f":"+MIN(Contributo_cer[[#This Row],[Totale Immissione in rete]:[Totale Consumi rimanenti]])","v":0},"HCB",null,null,null,0]
["080102",8,{"$f":"+MIN(Contributo_cer[[#This Row],[Totale Immissione in rete]:[Totale Consumi rimanenti]])","v":0},"HCB",null,null,null,0]
["080103",8,{"$f":"+MIN(Contributo_cer[[#This Row],[Totale Immissione in rete]:[Totale Consumi rimanenti]])","v":0},"HCB",null,null,null,0]
["080104",8,{"$f":"+MIN(Contributo_cer[[#This Row],[Totale Immissione in rete]:[Totale Consumi rimanenti]])","v":0},"HCB",null,null,null,0]
["080105",8,{"$f":"+MIN(Contributo_cer[[#This Row],[Totale Immissione in rete]:[Totale Consumi rimanenti]])","v":0},"HCB",null,null,null,0]
["080106",8,{"$f":"+MIN(Contributo_cer[[#This Row],[Totale Immissione in rete]:[Totale Consumi rimanenti]])","v":0},"HPB",null,null,null,0]
["080107",8,{"$f":"+MIN(Contributo_cer[[#This Row],[Totale Immissione in rete]:[Totale Consumi rimanenti]])","v":0},"HPB",null,null,null,0]
["080108",8,{"$f":"+MIN(Contributo_cer[[#This Row],[Totale Immissione in rete]:[Totale Consumi rimanenti]])","v":0},"HPB",null,null,null,0]
["080109",8,{"$f":"+MIN(Contributo_cer[[#This Row],[Totale Immissione in rete]:[Totale Consumi rimanenti]])","v":0},"HPB",null,null,null,0]
["080110",8,{"$f":"+MIN(Contributo_cer[[#This Row],[Totale Immissione in rete]:[Totale Consumi rimanenti]])","v":0},"HPB",null,null,null,0]
["080111",8,{"$f":"+MIN(Contributo_cer[[#This Row],[Totale Immissione in rete]:[Totale Consumi rimanenti]])","v":0},"HPB",null,null,null,0]
["080112",8,{"$f":"+MIN(Contributo_cer[[#This Row],[Totale Immissione in rete]:[Totale Consumi rimanenti]])","v":0},"HPB",null,null,null,0]
["080113",8,{"$f":"+MIN(Contributo_cer[[#This Row],[Totale Immissione in rete]:[Totale Consumi rimanenti]])","v":0},"HPB",null,null,null,0]
["080114",8,{"$f":"+MIN(Contributo_cer[[#This Row],[Totale Immissione in rete]:[Totale Consumi rimanenti]])","v":0},"HPB",null,null,null,0]
["080115",8,{"$f":"+MIN(Contributo_cer[[#This Row],[Totale Immissione in rete]:[Totale Consumi rimanenti]])","v":0},"HPB",null,null,null,0]
["080116",8,{"$f":"+MIN(Contributo_cer[[#This Row],[Totale Immissione in rete]:[Totale Consumi rimanenti]])","v":0},"HPB",null,null,null,0]
["080117",8,{"$f":"+MIN(Contributo_cer[[#This Row],[Totale Immissione in rete]:[Totale Consumi rimanenti]])","v":0},"HPB",null,null,null,0]
["080118",8,{"$f":"+MIN(Contributo_cer[[#This Row],[Totale Immissione in rete]:[Totale Consumi rimanenti]])","v":0},"HPB",null,null,null,0]
["080119",8,{"$f":"+MIN(Contributo_cer[[#This Row],[Totale Immissione in rete]:[Totale Consumi rimanenti]])","v":0},"HPB",null,null,null,0]
["080120",8,{"$f":"+MIN(Contributo_cer[[#This Row],[Totale Immissione in rete]:[Totale Consumi rimanenti]])","v":0},"HPB",null,null,null,0]
["080121",8,{"$f":"+MIN(Contributo_cer[[#This Row],[Totale Immissione in rete]:[Totale Consumi rimanenti]])","v":0},"HPB",null,null,null,0]
["080122",8,{"$f":"+MIN(Contributo_cer[[#This Row],[Totale Immissione in rete]:[Totale Consumi rimanenti]])","v":0},"HCB",null,null,null,0]
["080123",8,{"$f":"+MIN(Contributo_cer[[#This Row],[Totale Immissione in rete]:[Totale Consumi rimanenti]])","v":0},"HCB",null,null,null,0]
["080200",8,{"$f":"+MIN(Contributo_cer[[#This Row],[Totale Immissione in rete]:[Totale Consumi rimanenti]])","v":0},"HCB",null,null,null,0]
["080201",8,{"$f":"+MIN(Contributo_cer[[#This Row],[Totale Immissione in rete]:[Totale Consumi rimanenti]])","v":0},"HCB",null,null,null,0]
["080202",8,{"$f":"+MIN(Contributo_cer[[#This Row],[Totale Immissione in rete]:[Totale Consumi rimanenti]])","v":0},"HCB",null,null,null,0]
["080203",8,{"$f":"+MIN(Contributo_cer[[#This Row],[Totale Immissione in rete]:[Totale Consumi rimanenti]])","v":0},"HCB",null,null,null,0]
["080204",8,{"$f":"+MIN(Contributo_cer[[#This Row],[Totale Immissione in rete]:[Totale Consumi rimanenti]])","v":0},"HCB",null,null,null,0]
["080205",8,{"$f":"+MIN(Contributo_cer[[#This Row],[Totale Immissione in rete]:[Totale Consumi rimanenti]])","v":0},"HCB",null,null,null,0]
["080206",8,{"$f":"+MIN(Contributo_cer[[#This Row],[Totale Immissione in rete]:[Totale Consumi rimanenti]])","v":0},"HPB",null,null,null,0]
["080207",8,{"$f":"+MIN(Contributo_cer[[#This Row],[Totale Immissione in rete]:[Totale Consumi rimanenti]])","v":0},"HPB",null,null,null,0]
["080208",8,{"$f":"+MIN(Contributo_cer[[#This Row],[Totale Immissione in rete]:[Totale Consumi rimanenti]])","v":0},"HPB",null,null,null,0]
["080209",8,{"$f":"+MIN(Contributo_cer[[#This Row],[Totale Immissione in rete]:[Totale Consumi rimanenti]])","v":0},"HPB",null,null,null,0]
["080210",8,{"$f":"+MIN(Contributo_cer[[#This Row],[Totale Immissione in rete]:[Totale Consumi rimanenti]])","v":0},"HPB",null,null,null,0]
["080211",8,{"$f":"+MIN(Contributo_cer[[#This Row],[Totale Immissione in rete]:[Totale Consumi rimanenti]])","v":0},"HPB",null,null,null,0]
["080212",8,{"$f":"+MIN(Contributo_cer[[#This Row],[Totale Immissione in rete]:[Totale Consumi rimanenti]])","v":0},"HPB",null,null,null,0]
["080213",8,{"$f":"+MIN(Contributo_cer[[#This Row],[Totale Immissione in rete]:[Totale Consumi rimanenti]])","v":0},"HPB",null,null,null,0]
["080214",8,{"$f":"+MIN(Contributo_cer[[#This Row],[Totale Immissione in rete]:[Totale Consumi rimanenti]])","v":0},"HPB",null,null,null,0]
["080215",8,{"$f":"+MIN(Contributo_cer[[#This Row],[Totale Immissione in rete]:[Totale Consumi rimanenti]])","v":0},"HPB",null,null,null,0]
["080216",8,{"$f":"+MIN(Contributo_cer[[#This Row],[Totale Immissione in rete]:[Totale Consumi rimanenti]])","v":0},"HPB",null,null,null,0]
["080217",8,{"$f":"+MIN(Contributo_cer[[#This Row],[Totale Immissione in rete]:[Totale Consumi rimanenti]])","v":0},"HPB",null,null,null,0]
["080218",8,{"$f":"+MIN(Contributo_cer[[#This Row],[Totale Immissione in rete]:[Totale Consumi rimanenti]])","v":0},"HPB",null,null,null,0]
["080219",8,{"$f":"+MIN(Contributo_cer[[#This Row],[Totale Immissione in rete]:[Totale Consumi rimanenti]])","v":0},"HPB",null,null,null,0]
["080220",8,{"$f":"+MIN(Contributo_cer[[#This Row],[Totale Immissione in rete]:[Totale Consumi rimanenti]])","v":0},"HPB",null,null,null,0]
["080221",8,{"$f":"+MIN(Contributo_cer[[#This Row],[Totale Immissione in rete]:[Totale Consumi rimanenti]])","v":0},"HPB",null,null,null,0]
["080222",8,{"$f":"+MIN(Contributo_cer[[#This Row],[Totale Immissione in rete]:[Totale Consumi rimanenti]])","v":0},"HCB",null,null,null,0]
["080223",8,{"$f":"+MIN(Contributo_cer[[#This Row],[Totale Immissione in rete]:[Totale Consumi rimanenti]])","v":0},"HCB",null,null,null,0]
["080300",8,{"$f":"+MIN(Contributo_cer[[#This Row],[Totale Immissione in rete]:[Totale Consumi rimanenti]])","v":0},"HCB",null,null,null,0]
["080301",8,{"$f":"+MIN(Contributo_cer[[#This Row],[Totale Immissione in rete]:[Totale Consumi rimanenti]])","v":0},"HCB",null,null,null,0]
["080302",8,{"$f":"+MIN(Contributo_cer[[#This Row],[Totale Immissione in rete]:[Totale Consumi rimanenti]])","v":0},"HCB",null,null,null,0]
["080303",8,{"$f":"+MIN(Contributo_cer[[#This Row],[Totale Immissione in rete]:[Totale Consumi rimanenti]])","v":0},"HCB",null,null,null,0]
["080304",8,{"$f":"+MIN(Contributo_cer[[#This Row],[Totale Immissione in rete]:[Totale Consumi rimanenti]])","v":0},"HCB",null,null,null,0]
["080305",8,{"$f":"+MIN(Contributo_cer[[#This Row],[Totale Immissione in rete]:[Totale Consumi rimanenti]])","v":0},"HCB",null,null,null,0]
["080306",8,{"$f":"+MIN(Contributo_cer[[#This Row],[Totale Immissione in rete]:[Totale Consumi rimanenti]])","v":0},"HPB",null,null,null,0]
["080307",8,{"$f":"+MIN(Contributo_cer[[#This Row],[Totale Immissione in rete]:[Totale Consumi rimanenti]])","v":0},"HPB",null,null,null,0]
["080308",8,{"$f":"+MIN(Contributo_cer[[#This Row],[Totale Immissione in rete]:[Totale Consumi rimanenti]])","v":0},"HPB",null,null,null,0]
["080309",8,{"$f":"+MIN(Contributo_cer[[#This Row],[Totale Immissione in rete]:[Totale Consumi rimanenti]])","v":0},"HPB",null,null,null,0]
["080310",8,{"$f":"+MIN(Contributo_cer[[#This Row],[Totale Immissione in rete]:[Totale Consumi rimanenti]])","v":0},"HPB",null,null,null,0]
["080311",8,{"$f":"+MIN(Contributo_cer[[#This Row],[Totale Immissione in rete]:[Totale Consumi rimanenti]])","v":0},"HPB",null,null,null,0]
["080312",8,{"$f":"+MIN(Contributo_cer[[#This Row],[Totale Immissione in rete]:[Totale Consumi rimanenti]])","v":0},"HPB",null,null,null,0]
["080313",8,{"$f":"+MIN(Contributo_cer[[#This Row],[Totale Immissione in rete]:[Totale Consumi rimanenti]])","v":0},"HPB",null,null,null,0]
["080314",8,{"$f":"+MIN(Contributo_cer[[#This Row],[Totale Immissione in rete]:[Totale Consumi rimanenti]])","v":0},"HPB",null,null,null,0]
["080315",8,{"$f":"+MIN(Contributo_cer[[#This Row],[Totale Immissione in rete]:[Totale Consumi rimanenti]])","v":0},"HPB",null,null,null,0]
["080316",8,{"$f":"+MIN(Contributo_cer[[#This Row],[Totale Immissione in rete]:[Totale Consumi rimanenti]])","v":0},"HPB",null,null,null,0]
["080317",8,{"$f":"+MIN(Contributo_cer[[#This Row],[Totale Immissione in rete]:[Totale Consumi rimanenti]])","v":0},"HPB",null,null,null,0]
["080318",8,{"$f":"+MIN(Contributo_cer[[#This Row],[Totale Immissione in rete]:[Totale Consumi rimanenti]])","v":0},"HPB",null,null,null,0]
["080319",8,{"$f":"+MIN(Contributo_cer[[#This Row],[Totale Immissione in rete]:[Totale Consumi rimanenti]])","v":0},"HPB",null,null,null,0]
["080320",8,{"$f":"+MIN(Contributo_cer[[#This Row],[Totale Immissione in rete]:[Totale Consumi rimanenti]])","v":0},"HPB",null,null,null,0]
["080321",8,{"$f":"+MIN(Contributo_cer[[#This Row],[Totale Immissione in rete]:[Totale Consumi rimanenti]])","v":0},"HPB",null,null,null,0]
["080322",8,{"$f":"+MIN(Contributo_cer[[#This Row],[Totale Immissione in rete]:[Totale Consumi rimanenti]])","v":0},"HCB",null,null,null,0]
["080323",8,{"$f":"+MIN(Contributo_cer[[#This Row],[Totale Immissione in rete]:[Totale Consumi rimanenti]])","v":0},"HCB",null,null,null,0]
["080400",8,{"$f":"+MIN(Contributo_cer[[#This Row],[Totale Immissione in rete]:[Totale Consumi rimanenti]])","v":0},"HCB",null,null,null,0]
["080401",8,{"$f":"+MIN(Contributo_cer[[#This Row],[Totale Immissione in rete]:[Totale Consumi rimanenti]])","v":0},"HCB",null,null,null,0]
["080402",8,{"$f":"+MIN(Contributo_cer[[#This Row],[Totale Immissione in rete]:[Totale Consumi rimanenti]])","v":0},"HCB",null,null,null,0]
["080403",8,{"$f":"+MIN(Contributo_cer[[#This Row],[Totale Immissione in rete]:[Totale Consumi rimanenti]])","v":0},"HCB",null,null,null,0]
["080404",8,{"$f":"+MIN(Contributo_cer[[#This Row],[Totale Immissione in rete]:[Totale Consumi rimanenti]])","v":0},"HCB",null,null,null,0]
["080405",8,{"$f":"+MIN(Contributo_cer[[#This Row],[Totale Immissione in rete]:[Totale Consumi rimanenti]])","v":0},"HCB",null,null,null,0]
["080406",8,{"$f":"+MIN(Contributo_cer[[#This Row],[Totale Immissione in rete]:[Totale Consumi rimanenti]])","v":0},"HPB",null,null,null,0]
["080407",8,{"$f":"+MIN(Contributo_cer[[#This Row],[Totale Immissione in rete]:[Totale Consumi rimanenti]])","v":0},"HPB",null,null,null,0]
["080408",8,{"$f":"+MIN(Contributo_cer[[#This Row],[Totale Immissione in rete]:[Totale Consumi rimanenti]])","v":0},"HPB",null,null,null,0]
["080409",8,{"$f":"+MIN(Contributo_cer[[#This Row],[Totale Immissione in rete]:[Totale Consumi rimanenti]])","v":0},"HPB",null,null,null,0]
["080410",8,{"$f":"+MIN(Contributo_cer[[#This Row],[Totale Immissione in rete]:[Totale Consumi rimanenti]])","v":0},"HPB",null,null,null,0]
["080411",8,{"$f":"+MIN(Contributo_cer[[#This Row],[Totale Immissione in rete]:[Totale Consumi rimanenti]])","v":0},"HPB",null,null,null,0]
["080412",8,{"$f":"+MIN(Contributo_cer[[#This Row],[Totale Immissione in rete]:[Totale Consumi rimanenti]])","v":0},"HPB",null,null,null,0]
["080413",8,{"$f":"+MIN(Contributo_cer[[#This Row],[Totale Immissione in rete]:[Totale Consumi rimanenti]])","v":0},"HPB",null,null,null,0]
["080414",8,{"$f":"+MIN(Contributo_cer[[#This Row],[Totale Immissione in rete]:[Totale Consumi rimanenti]])","v":0},"HPB",null,null,null,0]
["080415",8,{"$f":"+MIN(Contributo_cer[[#This Row],[Totale Immissione in rete]:[Totale Consumi rimanenti]])","v":0},"HPB",null,null,null,0]
["080416",8,{"$f":"+MIN(Contributo_cer[[#This Row],[Totale Immissione in rete]:[Totale Consumi rimanenti]])","v":0},"HPB",null,null,null,0]
["080417",8,{"$f":"+MIN(Contributo_cer[[#This Row],[Totale Immissione in rete]:[Totale Consumi rimanenti]])","v":0},"HPB",null,null,null,0]
["080418",8,{"$f":"+MIN(Contributo_cer[[#This Row],[Totale Immissione in rete]:[Totale Consumi rimanenti]])","v":0},"HPB",null,null,null,0]
["080419",8,{"$f":"+MIN(Contributo_cer[[#This Row],[Totale Immissione in rete]:[Totale Consumi rimanenti]])","v":0},"HPB",null,null,null,0]
["080420",8,{"$f":"+MIN(Contributo_cer[[#This Row],[Totale Immissione in rete]:[Totale Consumi rimanenti]])","v":0},"HPB",null,null,null,0]
["080421",8,{"$f":"+MIN(Contributo_cer[[#This Row],[Totale Immissione in rete]:[Totale Consumi rimanenti]])","v":0},"HPB",null,null,null,0]
["080422",8,{"$f":"+MIN(Contributo_cer[[#This Row],[Totale Immissione in rete]:[Totale Consumi rimanenti]])","v":0},"HCB",null,null,null,0]
["080423",8,{"$f":"+MIN(Contributo_cer[[#This Row],[Totale Immissione in rete]:[Totale Consumi rimanenti]])","v":0},"HCB",null,null,null,0]
["080500",8,{"$f":"+MIN(Contributo_cer[[#This Row],[Totale Immissione in rete]:[Totale Consumi rimanenti]])","v":0},"HCB",null,null,null,0]
["080501",8,{"$f":"+MIN(Contributo_cer[[#This Row],[Totale Immissione in rete]:[Totale Consumi rimanenti]])","v":0},"HCB",null,null,null,0]
["080502",8,{"$f":"+MIN(Contributo_cer[[#This Row],[Totale Immissione in rete]:[Totale Consumi rimanenti]])","v":0},"HCB",null,null,null,0]
["080503",8,{"$f":"+MIN(Contributo_cer[[#This Row],[Totale Immissione in rete]:[Totale Consumi rimanenti]])","v":0},"HCB",null,null,null,0]
["080504",8,{"$f":"+MIN(Contributo_cer[[#This Row],[Totale Immissione in rete]:[Totale Consumi rimanenti]])","v":0},"HCB",null,null,null,0]
["080505",8,{"$f":"+MIN(Contributo_cer[[#This Row],[Totale Immissione in rete]:[Totale Consumi rimanenti]])","v":0},"HCB",null,null,null,0]
["080506",8,{"$f":"+MIN(Contributo_cer[[#This Row],[Totale Immissione in rete]:[Totale Consumi rimanenti]])","v":0},"HPB",null,null,null,0]
["080507",8,{"$f":"+MIN(Contributo_cer[[#This Row],[Totale Immissione in rete]:[Totale Consumi rimanenti]])","v":0},"HPB",null,null,null,0]
["080508",8,{"$f":"+MIN(Contributo_cer[[#This Row],[Totale Immissione in rete]:[Totale Consumi rimanenti]])","v":0},"HPB",null,null,null,0]
["080509",8,{"$f":"+MIN(Contributo_cer[[#This Row],[Totale Immissione in rete]:[Totale Consumi rimanenti]])","v":0},"HPB",null,null,null,0]
["080510",8,{"$f":"+MIN(Contributo_cer[[#This Row],[Totale Immissione in rete]:[Totale Consumi rimanenti]])","v":0},"HPB",null,null,null,0]
["080511",8,{"$f":"+MIN(Contributo_cer[[#This Row],[Totale Immissione in rete]:[Totale Consumi rimanenti]])","v":0},"HPB",null,null,null,0]
["080512",8,{"$f":"+MIN(Contributo_cer[[#This Row],[Totale Immissione in rete]:[Totale Consumi rimanenti]])","v":0},"HPB",null,null,null,0]
["080513",8,{"$f":"+MIN(Contributo_cer[[#This Row],[Totale Immissione in rete]:[Totale Consumi rimanenti]])","v":0},"HPB",null,null,null,0]
["080514",8,{"$f":"+MIN(Contributo_cer[[#This Row],[Totale Immissione in rete]:[Totale Consumi rimanenti]])","v":0},"HPB",null,null,null,0]
["080515",8,{"$f":"+MIN(Contributo_cer[[#This Row],[Totale Immissione in rete]:[Totale Consumi rimanenti]])","v":0},"HPB",null,null,null,0]
["080516",8,{"$f":"+MIN(Contributo_cer[[#This Row],[Totale Immissione in rete]:[Totale Consumi rimanenti]])","v":0},"HPB",null,null,null,0]
["080517",8,{"$f":"+MIN(Contributo_cer[[#This Row],[Totale Immissione in rete]:[Totale Consumi rimanenti]])","v":0},"HPB",null,null,null,0]
["080518",8,{"$f":"+MIN(Contributo_cer[[#This Row],[Totale Immissione in rete]:[Totale Consumi rimanenti]])","v":0},"HPB",null,null,null,0]
["080519",8,{"$f":"+MIN(Contributo_cer[[#This Row],[Totale Immissione in rete]:[Totale Consumi rimanenti]])","v":0},"HPB",null,null,null,0]
["080520",8,{"$f":"+MIN(Contributo_cer[[#This Row],[Totale Immissione in rete]:[Totale Consumi rimanenti]])","v":0},"HPB",null,null,null,0]
["080521",8,{"$f":"+MIN(Contributo_cer[[#This Row],[Totale Immissione in rete]:[Totale Consumi rimanenti]])","v":0},"HPB",null,null,null,0]
["080522",8,{"$f":"+MIN(Contributo_cer[[#This Row],[Totale Immissione in rete]:[Totale Consumi rimanenti]])","v":0},"HCB",null,null,null,0]
["080523",8,{"$f":"+MIN(Contributo_cer[[#This Row],[Totale Immissione in rete]:[Totale Consumi rimanenti]])","v":0},"HCB",null,null,null,0]
["080600",8,{"$f":"+MIN(Contributo_cer[[#This Row],[Totale Immissione in rete]:[Totale Consumi rimanenti]])","v":0},"HCB",null,null,null,0]
["080601",8,{"$f":"+MIN(Contributo_cer[[#This Row],[Totale Immissione in rete]:[Totale Consumi rimanenti]])","v":0},"HCB",null,null,null,0]
["080602",8,{"$f":"+MIN(Contributo_cer[[#This Row],[Totale Immissione in rete]:[Totale Consumi rimanenti]])","v":0},"HCB",null,null,null,0]
["080603",8,{"$f":"+MIN(Contributo_cer[[#This Row],[Totale Immissione in rete]:[Totale Consumi rimanenti]])","v":0},"HCB",null,null,null,0]
["080604",8,{"$f":"+MIN(Contributo_cer[[#This Row],[Totale Immissione in rete]:[Totale Consumi rimanenti]])","v":0},"HCB",null,null,null,0]
["080605",8,{"$f":"+MIN(Contributo_cer[[#This Row],[Totale Immissione in rete]:[Totale Consumi rimanenti]])","v":0},"HCB",null,null,null,0]
["080606",8,{"$f":"+MIN(Contributo_cer[[#This Row],[Totale Immissione in rete]:[Totale Consumi rimanenti]])","v":0},"HPB",null,null,null,0]
["080607",8,{"$f":"+MIN(Contributo_cer[[#This Row],[Totale Immissione in rete]:[Totale Consumi rimanenti]])","v":0},"HPB",null,null,null,0]
["080608",8,{"$f":"+MIN(Contributo_cer[[#This Row],[Totale Immissione in rete]:[Totale Consumi rimanenti]])","v":0},"HPB",null,null,null,0]
["080609",8,{"$f":"+MIN(Contributo_cer[[#This Row],[Totale Immissione in rete]:[Totale Consumi rimanenti]])","v":0},"HPB",null,null,null,0]
["080610",8,{"$f":"+MIN(Contributo_cer[[#This Row],[Totale Immissione in rete]:[Totale Consumi rimanenti]])","v":0},"HPB",null,null,null,0]
["080611",8,{"$f":"+MIN(Contributo_cer[[#This Row],[Totale Immissione in rete]:[Totale Consumi rimanenti]])","v":0},"HPB",null,null,null,0]
["080612",8,{"$f":"+MIN(Contributo_cer[[#This Row],[Totale Immissione in rete]:[Totale Consumi rimanenti]])","v":0},"HPB",null,null,null,0]
["080613",8,{"$f":"+MIN(Contributo_cer[[#This Row],[Totale Immissione in rete]:[Totale Consumi rimanenti]])","v":0},"HPB",null,null,null,0]
["080614",8,{"$f":"+MIN(Contributo_cer[[#This Row],[Totale Immissione in rete]:[Totale Consumi rimanenti]])","v":0},"HPB",null,null,null,0]
["080615",8,{"$f":"+MIN(Contributo_cer[[#This Row],[Totale Immissione in rete]:[Totale Consumi rimanenti]])","v":0},"HPB",null,null,null,0]
["080616",8,{"$f":"+MIN(Contributo_cer[[#This Row],[Totale Immissione in rete]:[Totale Consumi rimanenti]])","v":0},"HPB",null,null,null,0]
["080617",8,{"$f":"+MIN(Contributo_cer[[#This Row],[Totale Immissione in rete]:[Totale Consumi rimanenti]])","v":0},"HPB",null,null,null,0]
["080618",8,{"$f":"+MIN(Contributo_cer[[#This Row],[Totale Immissione in rete]:[Totale Consumi rimanenti]])","v":0},"HPB",null,null,null,0]
["080619",8,{"$f":"+MIN(Contributo_cer[[#This Row],[Totale Immissione in rete]:[Totale Consumi rimanenti]])","v":0},"HPB",null,null,null,0]
["080620",8,{"$f":"+MIN(Contributo_cer[[#This Row],[Totale Immissione in rete]:[Totale Consumi rimanenti]])","v":0},"HPB",null,null,null,0]
["080621",8,{"$f":"+MIN(Contributo_cer[[#This Row],[Totale Immissione in rete]:[Totale Consumi rimanenti]])","v":0},"HPB",null,null,null,0]
["080622",8,{"$f":"+MIN(Contributo_cer[[#This Row],[Totale Immissione in rete]:[Totale Consumi rimanenti]])","v":0},"HCB",null,null,null,0]
["080623",8,{"$f":"+MIN(Contributo_cer[[#This Row],[Totale Immissione in rete]:[Totale Consumi rimanenti]])","v":0},"HCB",null,null,null,0]
["080700",8,{"$f":"+MIN(Contributo_cer[[#This Row],[Totale Immissione in rete]:[Totale Consumi rimanenti]])","v":0},"HCB",null,null,null,0]
["080701",8,{"$f":"+MIN(Contributo_cer[[#This Row],[Totale Immissione in rete]:[Totale Consumi rimanenti]])","v":0},"HCB",null,null,null,0]
["080702",8,{"$f":"+MIN(Contributo_cer[[#This Row],[Totale Immissione in rete]:[Totale Consumi rimanenti]])","v":0},"HCB",null,null,null,0]
["080703",8,{"$f":"+MIN(Contributo_cer[[#This Row],[Totale Immissione in rete]:[Totale Consumi rimanenti]])","v":0},"HCB",null,null,null,0]
["080704",8,{"$f":"+MIN(Contributo_cer[[#This Row],[Totale Immissione in rete]:[Totale Consumi rimanenti]])","v":0},"HCB",null,null,null,0]
["080705",8,{"$f":"+MIN(Contributo_cer[[#This Row],[Totale Immissione in rete]:[Totale Consumi rimanenti]])","v":0},"HCB",null,null,null,0]
["080706",8,{"$f":"+MIN(Contributo_cer[[#This Row],[Totale Immissione in rete]:[Totale Consumi rimanenti]])","v":0},"HPB",null,null,null,0]
["080707",8,{"$f":"+MIN(Contributo_cer[[#This Row],[Totale Immissione in rete]:[Totale Consumi rimanenti]])","v":0},"HPB",null,null,null,0]
["080708",8,{"$f":"+MIN(Contributo_cer[[#This Row],[Totale Immissione in rete]:[Totale Consumi rimanenti]])","v":0},"HPB",null,null,null,0]
["080709",8,{"$f":"+MIN(Contributo_cer[[#This Row],[Totale Immissione in rete]:[Totale Consumi rimanenti]])","v":0},"HPB",null,null,null,0]
["080710",8,{"$f":"+MIN(Contributo_cer[[#This Row],[Totale Immissione in rete]:[Totale Consumi rimanenti]])","v":0},"HPB",null,null,null,0]
["080711",8,{"$f":"+MIN(Contributo_cer[[#This Row],[Totale Immissione in rete]:[Totale Consumi rimanenti]])","v":0},"HPB",null,null,null,0]
["080712",8,{"$f":"+MIN(Contributo_cer[[#This Row],[Totale Immissione in rete]:[Totale Consumi rimanenti]])","v":0},"HPB",null,null,null,0]
["080713",8,{"$f":"+MIN(Contributo_cer[[#This Row],[Totale Immissione in rete]:[Totale Consumi rimanenti]])","v":0},"HPB",null,null,null,0]
["080714",8,{"$f":"+MIN(Contributo_cer[[#This Row],[Totale Immissione in rete]:[Totale Consumi rimanenti]])","v":0},"HPB",null,null,null,0]
["080715",8,{"$f":"+MIN(Contributo_cer[[#This Row],[Totale Immissione in rete]:[Totale Consumi rimanenti]])","v":0},"HPB",null,null,null,0]
["080716",8,{"$f":"+MIN(Contributo_cer[[#This Row],[Totale Immissione in rete]:[Totale Consumi rimanenti]])","v":0},"HPB",null,null,null,0]
["080717",8,{"$f":"+MIN(Contributo_cer[[#This Row],[Totale Immissione in rete]:[Totale Consumi rimanenti]])","v":0},"HPB",null,null,null,0]
["080718",8,{"$f":"+MIN(Contributo_cer[[#This Row],[Totale Immissione in rete]:[Totale Consumi rimanenti]])","v":0},"HPB",null,null,null,0]
["080719",8,{"$f":"+MIN(Contributo_cer[[#This Row],[Totale Immissione in rete]:[Totale Consumi rimanenti]])","v":0},"HPB",null,null,null,0]
["080720",8,{"$f":"+MIN(Contributo_cer[[#This Row],[Totale Immissione in rete]:[Totale Consumi rimanenti]])","v":0},"HPB",null,null,null,0]
["080721",8,{"$f":"+MIN(Contributo_cer[[#This Row],[Totale Immissione in rete]:[Totale Consumi rimanenti]])","v":0},"HPB",null,null,null,0]
["080722",8,{"$f":"+MIN(Contributo_cer[[#This Row],[Totale Immissione in rete]:[Totale Consumi rimanenti]])","v":0},"HCB",null,null,null,0]
["080723",8,{"$f":"+MIN(Contributo_cer[[#This Row],[Totale Immissione in rete]:[Totale Consumi rimanenti]])","v":0},"HCB",null,null,null,0]
["080800",8,{"$f":"+MIN(Contributo_cer[[#This Row],[Totale Immissione in rete]:[Totale Consumi rimanenti]])","v":0},"HCB",null,null,null,0]
["080801",8,{"$f":"+MIN(Contributo_cer[[#This Row],[Totale Immissione in rete]:[Totale Consumi rimanenti]])","v":0},"HCB",null,null,null,0]
["080802",8,{"$f":"+MIN(Contributo_cer[[#This Row],[Totale Immissione in rete]:[Totale Consumi rimanenti]])","v":0},"HCB",null,null,null,0]
["080803",8,{"$f":"+MIN(Contributo_cer[[#This Row],[Totale Immissione in rete]:[Totale Consumi rimanenti]])","v":0},"HCB",null,null,null,0]
["080804",8,{"$f":"+MIN(Contributo_cer[[#This Row],[Totale Immissione in rete]:[Totale Consumi rimanenti]])","v":0},"HCB",null,null,null,0]
["080805",8,{"$f":"+MIN(Contributo_cer[[#This Row],[Totale Immissione in rete]:[Totale Consumi rimanenti]])","v":0},"HCB",null,null,null,0]
["080806",8,{"$f":"+MIN(Contributo_cer[[#This Row],[Totale Immissione in rete]:[Totale Consumi rimanenti]])","v":0},"HPB",null,null,null,0]
["080807",8,{"$f":"+MIN(Contributo_cer[[#This Row],[Totale Immissione in rete]:[Totale Consumi rimanenti]])","v":0},"HPB",null,null,null,0]
["080808",8,{"$f":"+MIN(Contributo_cer[[#This Row],[Totale Immissione in rete]:[Totale Consumi rimanenti]])","v":0},"HPB",null,null,null,0]
["080809",8,{"$f":"+MIN(Contributo_cer[[#This Row],[Totale Immissione in rete]:[Totale Consumi rimanenti]])","v":0},"HPB",null,null,null,0]
["080810",8,{"$f":"+MIN(Contributo_cer[[#This Row],[Totale Immissione in rete]:[Totale Consumi rimanenti]])","v":0},"HPB",null,null,null,0]
["080811",8,{"$f":"+MIN(Contributo_cer[[#This Row],[Totale Immissione in rete]:[Totale Consumi rimanenti]])","v":0},"HPB",null,null,null,0]
["080812",8,{"$f":"+MIN(Contributo_cer[[#This Row],[Totale Immissione in rete]:[Totale Consumi rimanenti]])","v":0},"HPB",null,null,null,0]
["080813",8,{"$f":"+MIN(Contributo_cer[[#This Row],[Totale Immissione in rete]:[Totale Consumi rimanenti]])","v":0},"HPB",null,null,null,0]
["080814",8,{"$f":"+MIN(Contributo_cer[[#This Row],[Totale Immissione in rete]:[Totale Consumi rimanenti]])","v":0},"HPB",null,null,null,0]
["080815",8,{"$f":"+MIN(Contributo_cer[[#This Row],[Totale Immissione in rete]:[Totale Consumi rimanenti]])","v":0},"HPB",null,null,null,0]
["080816",8,{"$f":"+MIN(Contributo_cer[[#This Row],[Totale Immissione in rete]:[Totale Consumi rimanenti]])","v":0},"HPB",null,null,null,0]
["080817",8,{"$f":"+MIN(Contributo_cer[[#This Row],[Totale Immissione in rete]:[Totale Consumi rimanenti]])","v":0},"HPB",null,null,null,0]
["080818",8,{"$f":"+MIN(Contributo_cer[[#This Row],[Totale Immissione in rete]:[Totale Consumi rimanenti]])","v":0},"HPB",null,null,null,0]
["080819",8,{"$f":"+MIN(Contributo_cer[[#This Row],[Totale Immissione in rete]:[Totale Consumi rimanenti]])","v":0},"HPB",null,null,null,0]
["080820",8,{"$f":"+MIN(Contributo_cer[[#This Row],[Totale Immissione in rete]:[Totale Consumi rimanenti]])","v":0},"HPB",null,null,null,0]
["080821",8,{"$f":"+MIN(Contributo_cer[[#This Row],[Totale Immissione in rete]:[Totale Consumi rimanenti]])","v":0},"HPB",null,null,null,0]
["080822",8,{"$f":"+MIN(Contributo_cer[[#This Row],[Totale Immissione in rete]:[Totale Consumi rimanenti]])","v":0},"HCB",null,null,null,0]
["080823",8,{"$f":"+MIN(Contributo_cer[[#This Row],[Totale Immissione in rete]:[Totale Consumi rimanenti]])","v":0},"HCB",null,null,null,0]
["080900",8,{"$f":"+MIN(Contributo_cer[[#This Row],[Totale Immissione in rete]:[Totale Consumi rimanenti]])","v":0},"HCB",null,null,null,0]
["080901",8,{"$f":"+MIN(Contributo_cer[[#This Row],[Totale Immissione in rete]:[Totale Consumi rimanenti]])","v":0},"HCB",null,null,null,0]
["080902",8,{"$f":"+MIN(Contributo_cer[[#This Row],[Totale Immissione in rete]:[Totale Consumi rimanenti]])","v":0},"HCB",null,null,null,0]
["080903",8,{"$f":"+MIN(Contributo_cer[[#This Row],[Totale Immissione in rete]:[Totale Consumi rimanenti]])","v":0},"HCB",null,null,null,0]
["080904",8,{"$f":"+MIN(Contributo_cer[[#This Row],[Totale Immissione in rete]:[Totale Consumi rimanenti]])","v":0},"HCB",null,null,null,0]
["080905",8,{"$f":"+MIN(Contributo_cer[[#This Row],[Totale Immissione in rete]:[Totale Consumi rimanenti]])","v":0},"HCB",null,null,null,0]
["080906",8,{"$f":"+MIN(Contributo_cer[[#This Row],[Totale Immissione in rete]:[Totale Consumi rimanenti]])","v":0},"HPB",null,null,null,0]
["080907",8,{"$f":"+MIN(Contributo_cer[[#This Row],[Totale Immissione in rete]:[Totale Consumi rimanenti]])","v":0},"HPB",null,null,null,0]
["080908",8,{"$f":"+MIN(Contributo_cer[[#This Row],[Totale Immissione in rete]:[Totale Consumi rimanenti]])","v":0},"HPB",null,null,null,0]
["080909",8,{"$f":"+MIN(Contributo_cer[[#This Row],[Totale Immissione in rete]:[Totale Consumi rimanenti]])","v":0},"HPB",null,null,null,0]
["080910",8,{"$f":"+MIN(Contributo_cer[[#This Row],[Totale Immissione in rete]:[Totale Consumi rimanenti]])","v":0},"HPB",null,null,null,0]
["080911",8,{"$f":"+MIN(Contributo_cer[[#This Row],[Totale Immissione in rete]:[Totale Consumi rimanenti]])","v":0},"HPB",null,null,null,0]
["080912",8,{"$f":"+MIN(Contributo_cer[[#This Row],[Totale Immissione in rete]:[Totale Consumi rimanenti]])","v":0},"HPB",null,null,null,0]
["080913",8,{"$f":"+MIN(Contributo_cer[[#This Row],[Totale Immissione in rete]:[Totale Consumi rimanenti]])","v":0},"HPB",null,null,null,0]
["080914",8,{"$f":"+MIN(Contributo_cer[[#This Row],[Totale Immissione in rete]:[Totale Consumi rimanenti]])","v":0},"HPB",null,null,null,0]
["080915",8,{"$f":"+MIN(Contributo_cer[[#This Row],[Totale Immissione in rete]:[Totale Consumi rimanenti]])","v":0},"HPB",null,null,null,0]
["080916",8,{"$f":"+MIN(Contributo_cer[[#This Row],[Totale Immissione in rete]:[Totale Consumi rimanenti]])","v":0},"HPB",null,null,null,0]
["080917",8,{"$f":"+MIN(Contributo_cer[[#This Row],[Totale Immissione in rete]:[Totale Consumi rimanenti]])","v":0},"HPB",null,null,null,0]
["080918",8,{"$f":"+MIN(Contributo_cer[[#This Row],[Totale Immissione in rete]:[Totale Consumi rimanenti]])","v":0},"HPB",null,null,null,0]
["080919",8,{"$f":"+MIN(Contributo_cer[[#This Row],[Totale Immissione in rete]:[Totale Consumi rimanenti]])","v":0},"HPB",null,null,null,0]
["080920",8,{"$f":"+MIN(Contributo_cer[[#This Row],[Totale Immissione in rete]:[Totale Consumi rimanenti]])","v":0},"HPB",null,null,null,0]
["080921",8,{"$f":"+MIN(Contributo_cer[[#This Row],[Totale Immissione in rete]:[Totale Consumi rimanenti]])","v":0},"HPB",null,null,null,0]
["080922",8,{"$f":"+MIN(Contributo_cer[[#This Row],[Totale Immissione in rete]:[Totale Consumi rimanenti]])","v":0},"HCB",null,null,null,0]
["080923",8,{"$f":"+MIN(Contributo_cer[[#This Row],[Totale Immissione in rete]:[Totale Consumi rimanenti]])","v":0},"HCB",null,null,null,0]
["081000",8,{"$f":"+MIN(Contributo_cer[[#This Row],[Totale Immissione in rete]:[Totale Consumi rimanenti]])","v":0},"HCB",null,null,null,0]
["081001",8,{"$f":"+MIN(Contributo_cer[[#This Row],[Totale Immissione in rete]:[Totale Consumi rimanenti]])","v":0},"HCB",null,null,null,0]
["081002",8,{"$f":"+MIN(Contributo_cer[[#This Row],[Totale Immissione in rete]:[Totale Consumi rimanenti]])","v":0},"HCB",null,null,null,0]
["081003",8,{"$f":"+MIN(Contributo_cer[[#This Row],[Totale Immissione in rete]:[Totale Consumi rimanenti]])","v":0},"HCB",null,null,null,0]
["081004",8,{"$f":"+MIN(Contributo_cer[[#This Row],[Totale Immissione in rete]:[Totale Consumi rimanenti]])","v":0},"HCB",null,null,null,0]
["081005",8,{"$f":"+MIN(Contributo_cer[[#This Row],[Totale Immissione in rete]:[Totale Consumi rimanenti]])","v":0},"HCB",null,null,null,0]
["081006",8,{"$f":"+MIN(Contributo_cer[[#This Row],[Totale Immissione in rete]:[Totale Consumi rimanenti]])","v":0},"HPB",null,null,null,0]
["081007",8,{"$f":"+MIN(Contributo_cer[[#This Row],[Totale Immissione in rete]:[Totale Consumi rimanenti]])","v":0},"HPB",null,null,null,0]
["081008",8,{"$f":"+MIN(Contributo_cer[[#This Row],[Totale Immissione in rete]:[Totale Consumi rimanenti]])","v":0},"HPB",null,null,null,0]
["081009",8,{"$f":"+MIN(Contributo_cer[[#This Row],[Totale Immissione in rete]:[Totale Consumi rimanenti]])","v":0},"HPB",null,null,null,0]
["081010",8,{"$f":"+MIN(Contributo_cer[[#This Row],[Totale Immissione in rete]:[Totale Consumi rimanenti]])","v":0},"HPB",null,null,null,0]
["081011",8,{"$f":"+MIN(Contributo_cer[[#This Row],[Totale Immissione in rete]:[Totale Consumi rimanenti]])","v":0},"HPB",null,null,null,0]
["081012",8,{"$f":"+MIN(Contributo_cer[[#This Row],[Totale Immissione in rete]:[Totale Consumi rimanenti]])","v":0},"HPB",null,null,null,0]
["081013",8,{"$f":"+MIN(Contributo_cer[[#This Row],[Totale Immissione in rete]:[Totale Consumi rimanenti]])","v":0},"HPB",null,null,null,0]
["081014",8,{"$f":"+MIN(Contributo_cer[[#This Row],[Totale Immissione in rete]:[Totale Consumi rimanenti]])","v":0},"HPB",null,null,null,0]
["081015",8,{"$f":"+MIN(Contributo_cer[[#This Row],[Totale Immissione in rete]:[Totale Consumi rimanenti]])","v":0},"HPB",null,null,null,0]
["081016",8,{"$f":"+MIN(Contributo_cer[[#This Row],[Totale Immissione in rete]:[Totale Consumi rimanenti]])","v":0},"HPB",null,null,null,0]
["081017",8,{"$f":"+MIN(Contributo_cer[[#This Row],[Totale Immissione in rete]:[Totale Consumi rimanenti]])","v":0},"HPB",null,null,null,0]
["081018",8,{"$f":"+MIN(Contributo_cer[[#This Row],[Totale Immissione in rete]:[Totale Consumi rimanenti]])","v":0},"HPB",null,null,null,0]
["081019",8,{"$f":"+MIN(Contributo_cer[[#This Row],[Totale Immissione in rete]:[Totale Consumi rimanenti]])","v":0},"HPB",null,null,null,0]
["081020",8,{"$f":"+MIN(Contributo_cer[[#This Row],[Totale Immissione in rete]:[Totale Consumi rimanenti]])","v":0},"HPB",null,null,null,0]
["081021",8,{"$f":"+MIN(Contributo_cer[[#This Row],[Totale Immissione in rete]:[Totale Consumi rimanenti]])","v":0},"HPB",null,null,null,0]
["081022",8,{"$f":"+MIN(Contributo_cer[[#This Row],[Totale Immissione in rete]:[Totale Consumi rimanenti]])","v":0},"HCB",null,null,null,0]
["081023",8,{"$f":"+MIN(Contributo_cer[[#This Row],[Totale Immissione in rete]:[Totale Consumi rimanenti]])","v":0},"HCB",null,null,null,0]
["081100",8,{"$f":"+MIN(Contributo_cer[[#This Row],[Totale Immissione in rete]:[Totale Consumi rimanenti]])","v":0},"HCB",null,null,null,0]
["081101",8,{"$f":"+MIN(Contributo_cer[[#This Row],[Totale Immissione in rete]:[Totale Consumi rimanenti]])","v":0},"HCB",null,null,null,0]
["081102",8,{"$f":"+MIN(Contributo_cer[[#This Row],[Totale Immissione in rete]:[Totale Consumi rimanenti]])","v":0},"HCB",null,null,null,0]
["081103",8,{"$f":"+MIN(Contributo_cer[[#This Row],[Totale Immissione in rete]:[Totale Consumi rimanenti]])","v":0},"HCB",null,null,null,0]
["081104",8,{"$f":"+MIN(Contributo_cer[[#This Row],[Totale Immissione in rete]:[Totale Consumi rimanenti]])","v":0},"HCB",null,null,null,0]
["081105",8,{"$f":"+MIN(Contributo_cer[[#This Row],[Totale Immissione in rete]:[Totale Consumi rimanenti]])","v":0},"HCB",null,null,null,0]
["081106",8,{"$f":"+MIN(Contributo_cer[[#This Row],[Totale Immissione in rete]:[Totale Consumi rimanenti]])","v":0},"HPB",null,null,null,0]
["081107",8,{"$f":"+MIN(Contributo_cer[[#This Row],[Totale Immissione in rete]:[Totale Consumi rimanenti]])","v":0},"HPB",null,null,null,0]
["081108",8,{"$f":"+MIN(Contributo_cer[[#This Row],[Totale Immissione in rete]:[Totale Consumi rimanenti]])","v":0},"HPB",null,null,null,0]
["081109",8,{"$f":"+MIN(Contributo_cer[[#This Row],[Totale Immissione in rete]:[Totale Consumi rimanenti]])","v":0},"HPB",null,null,null,0]
["081110",8,{"$f":"+MIN(Contributo_cer[[#This Row],[Totale Immissione in rete]:[Totale Consumi rimanenti]])","v":0},"HPB",null,null,null,0]
["081111",8,{"$f":"+MIN(Contributo_cer[[#This Row],[Totale Immissione in rete]:[Totale Consumi rimanenti]])","v":0},"HPB",null,null,null,0]
["081112",8,{"$f":"+MIN(Contributo_cer[[#This Row],[Totale Immissione in rete]:[Totale Consumi rimanenti]])","v":0},"HPB",null,null,null,0]
["081113",8,{"$f":"+MIN(Contributo_cer[[#This Row],[Totale Immissione in rete]:[Totale Consumi rimanenti]])","v":0},"HPB",null,null,null,0]
["081114",8,{"$f":"+MIN(Contributo_cer[[#This Row],[Totale Immissione in rete]:[Totale Consumi rimanenti]])","v":0},"HPB",null,null,null,0]
["081115",8,{"$f":"+MIN(Contributo_cer[[#This Row],[Totale Immissione in rete]:[Totale Consumi rimanenti]])","v":0},"HPB",null,null,null,0]
["081116",8,{"$f":"+MIN(Contributo_cer[[#This Row],[Totale Immissione in rete]:[Totale Consumi rimanenti]])","v":0},"HPB",null,null,null,0]
["081117",8,{"$f":"+MIN(Contributo_cer[[#This Row],[Totale Immissione in rete]:[Totale Consumi rimanenti]])","v":0},"HPB",null,null,null,0]
["081118",8,{"$f":"+MIN(Contributo_cer[[#This Row],[Totale Immissione in rete]:[Totale Consumi rimanenti]])","v":0},"HPB",null,null,null,0]
["081119",8,{"$f":"+MIN(Contributo_cer[[#This Row],[Totale Immissione in rete]:[Totale Consumi rimanenti]])","v":0},"HPB",null,null,null,0]
["081120",8,{"$f":"+MIN(Contributo_cer[[#This Row],[Totale Immissione in rete]:[Totale Consumi rimanenti]])","v":0},"HPB",null,null,null,0]
["081121",8,{"$f":"+MIN(Contributo_cer[[#This Row],[Totale Immissione in rete]:[Totale Consumi rimanenti]])","v":0},"HPB",null,null,null,0]
["081122",8,{"$f":"+MIN(Contributo_cer[[#This Row],[Totale Immissione in rete]:[Totale Consumi rimanenti]])","v":0},"HCB",null,null,null,0]
["081123",8,{"$f":"+MIN(Contributo_cer[[#This Row],[Totale Immissione in rete]:[Totale Consumi rimanenti]])","v":0},"HCB",null,null,null,0]
["081200",8,{"$f":"+MIN(Contributo_cer[[#This Row],[Totale Immissione in rete]:[Totale Consumi rimanenti]])","v":0},"HCB",null,null,null,0]
["081201",8,{"$f":"+MIN(Contributo_cer[[#This Row],[Totale Immissione in rete]:[Totale Consumi rimanenti]])","v":0},"HCB",null,null,null,0]
["081202",8,{"$f":"+MIN(Contributo_cer[[#This Row],[Totale Immissione in rete]:[Totale Consumi rimanenti]])","v":0},"HCB",null,null,null,0]
["081203",8,{"$f":"+MIN(Contributo_cer[[#This Row],[Totale Immissione in rete]:[Totale Consumi rimanenti]])","v":0},"HCB",null,null,null,0]
["081204",8,{"$f":"+MIN(Contributo_cer[[#This Row],[Totale Immissione in rete]:[Totale Consumi rimanenti]])","v":0},"HCB",null,null,null,0]
["081205",8,{"$f":"+MIN(Contributo_cer[[#This Row],[Totale Immissione in rete]:[Totale Consumi rimanenti]])","v":0},"HCB",null,null,null,0]
["081206",8,{"$f":"+MIN(Contributo_cer[[#This Row],[Totale Immissione in rete]:[Totale Consumi rimanenti]])","v":0},"HPB",null,null,null,0]
["081207",8,{"$f":"+MIN(Contributo_cer[[#This Row],[Totale Immissione in rete]:[Totale Consumi rimanenti]])","v":0},"HPB",null,null,null,0]
["081208",8,{"$f":"+MIN(Contributo_cer[[#This Row],[Totale Immissione in rete]:[Totale Consumi rimanenti]])","v":0},"HPB",null,null,null,0]
["081209",8,{"$f":"+MIN(Contributo_cer[[#This Row],[Totale Immissione in rete]:[Totale Consumi rimanenti]])","v":0},"HPB",null,null,null,0]
["081210",8,{"$f":"+MIN(Contributo_cer[[#This Row],[Totale Immissione in rete]:[Totale Consumi rimanenti]])","v":0},"HPB",null,null,null,0]
["081211",8,{"$f":"+MIN(Contributo_cer[[#This Row],[Totale Immissione in rete]:[Totale Consumi rimanenti]])","v":0},"HPB",null,null,null,0]
["081212",8,{"$f":"+MIN(Contributo_cer[[#This Row],[Totale Immissione in rete]:[Totale Consumi rimanenti]])","v":0},"HPB",null,null,null,0]
["081213",8,{"$f":"+MIN(Contributo_cer[[#This Row],[Totale Immissione in rete]:[Totale Consumi rimanenti]])","v":0},"HPB",null,null,null,0]
["081214",8,{"$f":"+MIN(Contributo_cer[[#This Row],[Totale Immissione in rete]:[Totale Consumi rimanenti]])","v":0},"HPB",null,null,null,0]
["081215",8,{"$f":"+MIN(Contributo_cer[[#This Row],[Totale Immissione in rete]:[Totale Consumi rimanenti]])","v":0},"HPB",null,null,null,0]
["081216",8,{"$f":"+MIN(Contributo_cer[[#This Row],[Totale Immissione in rete]:[Totale Consumi rimanenti]])","v":0},"HPB",null,null,null,0]
["081217",8,{"$f":"+MIN(Contributo_cer[[#This Row],[Totale Immissione in rete]:[Totale Consumi rimanenti]])","v":0},"HPB",null,null,null,0]
["081218",8,{"$f":"+MIN(Contributo_cer[[#This Row],[Totale Immissione in rete]:[Totale Consumi rimanenti]])","v":0},"HPB",null,null,null,0]
["081219",8,{"$f":"+MIN(Contributo_cer[[#This Row],[Totale Immissione in rete]:[Totale Consumi rimanenti]])","v":0},"HPB",null,null,null,0]
["081220",8,{"$f":"+MIN(Contributo_cer[[#This Row],[Totale Immissione in rete]:[Totale Consumi rimanenti]])","v":0},"HPB",null,null,null,0]
["081221",8,{"$f":"+MIN(Contributo_cer[[#This Row],[Totale Immissione in rete]:[Totale Consumi rimanenti]])","v":0},"HPB",null,null,null,0]
["081222",8,{"$f":"+MIN(Contributo_cer[[#This Row],[Totale Immissione in rete]:[Totale Consumi rimanenti]])","v":0},"HCB",null,null,null,0]
["081223",8,{"$f":"+MIN(Contributo_cer[[#This Row],[Totale Immissione in rete]:[Totale Consumi rimanenti]])","v":0},"HCB",null,null,null,0]
["081300",8,{"$f":"+MIN(Contributo_cer[[#This Row],[Totale Immissione in rete]:[Totale Consumi rimanenti]])","v":0},"HCB",null,null,null,0]
["081301",8,{"$f":"+MIN(Contributo_cer[[#This Row],[Totale Immissione in rete]:[Totale Consumi rimanenti]])","v":0},"HCB",null,null,null,0]
["081302",8,{"$f":"+MIN(Contributo_cer[[#This Row],[Totale Immissione in rete]:[Totale Consumi rimanenti]])","v":0},"HCB",null,null,null,0]
["081303",8,{"$f":"+MIN(Contributo_cer[[#This Row],[Totale Immissione in rete]:[Totale Consumi rimanenti]])","v":0},"HCB",null,null,null,0]
["081304",8,{"$f":"+MIN(Contributo_cer[[#This Row],[Totale Immissione in rete]:[Totale Consumi rimanenti]])","v":0},"HCB",null,null,null,0]
["081305",8,{"$f":"+MIN(Contributo_cer[[#This Row],[Totale Immissione in rete]:[Totale Consumi rimanenti]])","v":0},"HCB",null,null,null,0]
["081306",8,{"$f":"+MIN(Contributo_cer[[#This Row],[Totale Immissione in rete]:[Totale Consumi rimanenti]])","v":0},"HPB",null,null,null,0]
["081307",8,{"$f":"+MIN(Contributo_cer[[#This Row],[Totale Immissione in rete]:[Totale Consumi rimanenti]])","v":0},"HPB",null,null,null,0]
["081308",8,{"$f":"+MIN(Contributo_cer[[#This Row],[Totale Immissione in rete]:[Totale Consumi rimanenti]])","v":0},"HPB",null,null,null,0]
["081309",8,{"$f":"+MIN(Contributo_cer[[#This Row],[Totale Immissione in rete]:[Totale Consumi rimanenti]])","v":0},"HPB",null,null,null,0]
["081310",8,{"$f":"+MIN(Contributo_cer[[#This Row],[Totale Immissione in rete]:[Totale Consumi rimanenti]])","v":0},"HPB",null,null,null,0]
["081311",8,{"$f":"+MIN(Contributo_cer[[#This Row],[Totale Immissione in rete]:[Totale Consumi rimanenti]])","v":0},"HPB",null,null,null,0]
["081312",8,{"$f":"+MIN(Contributo_cer[[#This Row],[Totale Immissione in rete]:[Totale Consumi rimanenti]])","v":0},"HPB",null,null,null,0]
["081313",8,{"$f":"+MIN(Contributo_cer[[#This Row],[Totale Immissione in rete]:[Totale Consumi rimanenti]])","v":0},"HPB",null,null,null,0]
["081314",8,{"$f":"+MIN(Contributo_cer[[#This Row],[Totale Immissione in rete]:[Totale Consumi rimanenti]])","v":0},"HPB",null,null,null,0]
["081315",8,{"$f":"+MIN(Contributo_cer[[#This Row],[Totale Immissione in rete]:[Totale Consumi rimanenti]])","v":0},"HPB",null,null,null,0]
["081316",8,{"$f":"+MIN(Contributo_cer[[#This Row],[Totale Immissione in rete]:[Totale Consumi rimanenti]])","v":0},"HPB",null,null,null,0]
["081317",8,{"$f":"+MIN(Contributo_cer[[#This Row],[Totale Immissione in rete]:[Totale Consumi rimanenti]])","v":0},"HPB",null,null,null,0]
["081318",8,{"$f":"+MIN(Contributo_cer[[#This Row],[Totale Immissione in rete]:[Totale Consumi rimanenti]])","v":0},"HPB",null,null,null,0]
["081319",8,{"$f":"+MIN(Contributo_cer[[#This Row],[Totale Immissione in rete]:[Totale Consumi rimanenti]])","v":0},"HPB",null,null,null,0]
["081320",8,{"$f":"+MIN(Contributo_cer[[#This Row],[Totale Immissione in rete]:[Totale Consumi rimanenti]])","v":0},"HPB",null,null,null,0]
["081321",8,{"$f":"+MIN(Contributo_cer[[#This Row],[Totale Immissione in rete]:[Totale Consumi rimanenti]])","v":0},"HPB",null,null,null,0]
["081322",8,{"$f":"+MIN(Contributo_cer[[#This Row],[Totale Immissione in rete]:[Totale Consumi rimanenti]])","v":0},"HCB",null,null,null,0]
["081323",8,{"$f":"+MIN(Contributo_cer[[#This Row],[Totale Immissione in rete]:[Totale Consumi rimanenti]])","v":0},"HCB",null,null,null,0]
["081400",8,{"$f":"+MIN(Contributo_cer[[#This Row],[Totale Immissione in rete]:[Totale Consumi rimanenti]])","v":0},"HCB",null,null,null,0]
["081401",8,{"$f":"+MIN(Contributo_cer[[#This Row],[Totale Immissione in rete]:[Totale Consumi rimanenti]])","v":0},"HCB",null,null,null,0]
["081402",8,{"$f":"+MIN(Contributo_cer[[#This Row],[Totale Immissione in rete]:[Totale Consumi rimanenti]])","v":0},"HCB",null,null,null,0]
["081403",8,{"$f":"+MIN(Contributo_cer[[#This Row],[Totale Immissione in rete]:[Totale Consumi rimanenti]])","v":0},"HCB",null,null,null,0]
["081404",8,{"$f":"+MIN(Contributo_cer[[#This Row],[Totale Immissione in rete]:[Totale Consumi rimanenti]])","v":0},"HCB",null,null,null,0]
["081405",8,{"$f":"+MIN(Contributo_cer[[#This Row],[Totale Immissione in rete]:[Totale Consumi rimanenti]])","v":0},"HCB",null,null,null,0]
["081406",8,{"$f":"+MIN(Contributo_cer[[#This Row],[Totale Immissione in rete]:[Totale Consumi rimanenti]])","v":0},"HPB",null,null,null,0]
["081407",8,{"$f":"+MIN(Contributo_cer[[#This Row],[Totale Immissione in rete]:[Totale Consumi rimanenti]])","v":0},"HPB",null,null,null,0]
["081408",8,{"$f":"+MIN(Contributo_cer[[#This Row],[Totale Immissione in rete]:[Totale Consumi rimanenti]])","v":0},"HPB",null,null,null,0]
["081409",8,{"$f":"+MIN(Contributo_cer[[#This Row],[Totale Immissione in rete]:[Totale Consumi rimanenti]])","v":0},"HPB",null,null,null,0]
["081410",8,{"$f":"+MIN(Contributo_cer[[#This Row],[Totale Immissione in rete]:[Totale Consumi rimanenti]])","v":0},"HPB",null,null,null,0]
["081411",8,{"$f":"+MIN(Contributo_cer[[#This Row],[Totale Immissione in rete]:[Totale Consumi rimanenti]])","v":0},"HPB",null,null,null,0]
["081412",8,{"$f":"+MIN(Contributo_cer[[#This Row],[Totale Immissione in rete]:[Totale Consumi rimanenti]])","v":0},"HPB",null,null,null,0]
["081413",8,{"$f":"+MIN(Contributo_cer[[#This Row],[Totale Immissione in rete]:[Totale Consumi rimanenti]])","v":0},"HPB",null,null,null,0]
["081414",8,{"$f":"+MIN(Contributo_cer[[#This Row],[Totale Immissione in rete]:[Totale Consumi rimanenti]])","v":0},"HPB",null,null,null,0]
["081415",8,{"$f":"+MIN(Contributo_cer[[#This Row],[Totale Immissione in rete]:[Totale Consumi rimanenti]])","v":0},"HPB",null,null,null,0]
["081416",8,{"$f":"+MIN(Contributo_cer[[#This Row],[Totale Immissione in rete]:[Totale Consumi rimanenti]])","v":0},"HPB",null,null,null,0]
["081417",8,{"$f":"+MIN(Contributo_cer[[#This Row],[Totale Immissione in rete]:[Totale Consumi rimanenti]])","v":0},"HPB",null,null,null,0]
["081418",8,{"$f":"+MIN(Contributo_cer[[#This Row],[Totale Immissione in rete]:[Totale Consumi rimanenti]])","v":0},"HPB",null,null,null,0]
["081419",8,{"$f":"+MIN(Contributo_cer[[#This Row],[Totale Immissione in rete]:[Totale Consumi rimanenti]])","v":0},"HPB",null,null,null,0]
["081420",8,{"$f":"+MIN(Contributo_cer[[#This Row],[Totale Immissione in rete]:[Totale Consumi rimanenti]])","v":0},"HPB",null,null,null,0]
["081421",8,{"$f":"+MIN(Contributo_cer[[#This Row],[Totale Immissione in rete]:[Totale Consumi rimanenti]])","v":0},"HPB",null,null,null,0]
["081422",8,{"$f":"+MIN(Contributo_cer[[#This Row],[Totale Immissione in rete]:[Totale Consumi rimanenti]])","v":0},"HCB",null,null,null,0]
["081423",8,{"$f":"+MIN(Contributo_cer[[#This Row],[Totale Immissione in rete]:[Totale Consumi rimanenti]])","v":0},"HCB",null,null,null,0]
["081500",8,{"$f":"+MIN(Contributo_cer[[#This Row],[Totale Immissione in rete]:[Totale Consumi rimanenti]])","v":0},"HCB",null,null,null,0]
["081501",8,{"$f":"+MIN(Contributo_cer[[#This Row],[Totale Immissione in rete]:[Totale Consumi rimanenti]])","v":0},"HCB",null,null,null,0]
["081502",8,{"$f":"+MIN(Contributo_cer[[#This Row],[Totale Immissione in rete]:[Totale Consumi rimanenti]])","v":0},"HCB",null,null,null,0]
["081503",8,{"$f":"+MIN(Contributo_cer[[#This Row],[Totale Immissione in rete]:[Totale Consumi rimanenti]])","v":0},"HCB",null,null,null,0]
["081504",8,{"$f":"+MIN(Contributo_cer[[#This Row],[Totale Immissione in rete]:[Totale Consumi rimanenti]])","v":0},"HCB",null,null,null,0]
["081505",8,{"$f":"+MIN(Contributo_cer[[#This Row],[Totale Immissione in rete]:[Totale Consumi rimanenti]])","v":0},"HCB",null,null,null,0]
["081506",8,{"$f":"+MIN(Contributo_cer[[#This Row],[Totale Immissione in rete]:[Totale Consumi rimanenti]])","v":0},"HPB",null,null,null,0]
["081507",8,{"$f":"+MIN(Contributo_cer[[#This Row],[Totale Immissione in rete]:[Totale Consumi rimanenti]])","v":0},"HPB",null,null,null,0]
["081508",8,{"$f":"+MIN(Contributo_cer[[#This Row],[Totale Immissione in rete]:[Totale Consumi rimanenti]])","v":0},"HPB",null,null,null,0]
["081509",8,{"$f":"+MIN(Contributo_cer[[#This Row],[Totale Immissione in rete]:[Totale Consumi rimanenti]])","v":0},"HPB",null,null,null,0]
["081510",8,{"$f":"+MIN(Contributo_cer[[#This Row],[Totale Immissione in rete]:[Totale Consumi rimanenti]])","v":0},"HPB",null,null,null,0]
["081511",8,{"$f":"+MIN(Contributo_cer[[#This Row],[Totale Immissione in rete]:[Totale Consumi rimanenti]])","v":0},"HPB",null,null,null,0]
["081512",8,{"$f":"+MIN(Contributo_cer[[#This Row],[Totale Immissione in rete]:[Totale Consumi rimanenti]])","v":0},"HPB",null,null,null,0]
["081513",8,{"$f":"+MIN(Contributo_cer[[#This Row],[Totale Immissione in rete]:[Totale Consumi rimanenti]])","v":0},"HPB",null,null,null,0]
["081514",8,{"$f":"+MIN(Contributo_cer[[#This Row],[Totale Immissione in rete]:[Totale Consumi rimanenti]])","v":0},"HPB",null,null,null,0]
["081515",8,{"$f":"+MIN(Contributo_cer[[#This Row],[Totale Immissione in rete]:[Totale Consumi rimanenti]])","v":0},"HPB",null,null,null,0]
["081516",8,{"$f":"+MIN(Contributo_cer[[#This Row],[Totale Immissione in rete]:[Totale Consumi rimanenti]])","v":0},"HPB",null,null,null,0]
["081517",8,{"$f":"+MIN(Contributo_cer[[#This Row],[Totale Immissione in rete]:[Totale Consumi rimanenti]])","v":0},"HPB",null,null,null,0]
["081518",8,{"$f":"+MIN(Contributo_cer[[#This Row],[Totale Immissione in rete]:[Totale Consumi rimanenti]])","v":0},"HPB",null,null,null,0]
["081519",8,{"$f":"+MIN(Contributo_cer[[#This Row],[Totale Immissione in rete]:[Totale Consumi rimanenti]])","v":0},"HPB",null,null,null,0]
["081520",8,{"$f":"+MIN(Contributo_cer[[#This Row],[Totale Immissione in rete]:[Totale Consumi rimanenti]])","v":0},"HPB",null,null,null,0]
["081521",8,{"$f":"+MIN(Contributo_cer[[#This Row],[Totale Immissione in rete]:[Totale Consumi rimanenti]])","v":0},"HPB",null,null,null,0]
["081522",8,{"$f":"+MIN(Contributo_cer[[#This Row],[Totale Immissione in rete]:[Totale Consumi rimanenti]])","v":0},"HCB",null,null,null,0]
["081523",8,{"$f":"+MIN(Contributo_cer[[#This Row],[Totale Immissione in rete]:[Totale Consumi rimanenti]])","v":0},"HCB",null,null,null,0]
["081600",8,{"$f":"+MIN(Contributo_cer[[#This Row],[Totale Immissione in rete]:[Totale Consumi rimanenti]])","v":0},"HCB",null,null,null,0]
["081601",8,{"$f":"+MIN(Contributo_cer[[#This Row],[Totale Immissione in rete]:[Totale Consumi rimanenti]])","v":0},"HCB",null,null,null,0]
["081602",8,{"$f":"+MIN(Contributo_cer[[#This Row],[Totale Immissione in rete]:[Totale Consumi rimanenti]])","v":0},"HCB",null,null,null,0]
["081603",8,{"$f":"+MIN(Contributo_cer[[#This Row],[Totale Immissione in rete]:[Totale Consumi rimanenti]])","v":0},"HCB",null,null,null,0]
["081604",8,{"$f":"+MIN(Contributo_cer[[#This Row],[Totale Immissione in rete]:[Totale Consumi rimanenti]])","v":0},"HCB",null,null,null,0]
["081605",8,{"$f":"+MIN(Contributo_cer[[#This Row],[Totale Immissione in rete]:[Totale Consumi rimanenti]])","v":0},"HCB",null,null,null,0]
["081606",8,{"$f":"+MIN(Contributo_cer[[#This Row],[Totale Immissione in rete]:[Totale Consumi rimanenti]])","v":0},"HPB",null,null,null,0]
["081607",8,{"$f":"+MIN(Contributo_cer[[#This Row],[Totale Immissione in rete]:[Totale Consumi rimanenti]])","v":0},"HPB",null,null,null,0]
["081608",8,{"$f":"+MIN(Contributo_cer[[#This Row],[Totale Immissione in rete]:[Totale Consumi rimanenti]])","v":0},"HPB",null,null,null,0]
["081609",8,{"$f":"+MIN(Contributo_cer[[#This Row],[Totale Immissione in rete]:[Totale Consumi rimanenti]])","v":0},"HPB",null,null,null,0]
["081610",8,{"$f":"+MIN(Contributo_cer[[#This Row],[Totale Immissione in rete]:[Totale Consumi rimanenti]])","v":0},"HPB",null,null,null,0]
["081611",8,{"$f":"+MIN(Contributo_cer[[#This Row],[Totale Immissione in rete]:[Totale Consumi rimanenti]])","v":0},"HPB",null,null,null,0]
["081612",8,{"$f":"+MIN(Contributo_cer[[#This Row],[Totale Immissione in rete]:[Totale Consumi rimanenti]])","v":0},"HPB",null,null,null,0]
["081613",8,{"$f":"+MIN(Contributo_cer[[#This Row],[Totale Immissione in rete]:[Totale Consumi rimanenti]])","v":0},"HPB",null,null,null,0]
["081614",8,{"$f":"+MIN(Contributo_cer[[#This Row],[Totale Immissione in rete]:[Totale Consumi rimanenti]])","v":0},"HPB",null,null,null,0]
["081615",8,{"$f":"+MIN(Contributo_cer[[#This Row],[Totale Immissione in rete]:[Totale Consumi rimanenti]])","v":0},"HPB",null,null,null,0]
["081616",8,{"$f":"+MIN(Contributo_cer[[#This Row],[Totale Immissione in rete]:[Totale Consumi rimanenti]])","v":0},"HPB",null,null,null,0]
["081617",8,{"$f":"+MIN(Contributo_cer[[#This Row],[Totale Immissione in rete]:[Totale Consumi rimanenti]])","v":0},"HPB",null,null,null,0]
["081618",8,{"$f":"+MIN(Contributo_cer[[#This Row],[Totale Immissione in rete]:[Totale Consumi rimanenti]])","v":0},"HPB",null,null,null,0]
["081619",8,{"$f":"+MIN(Contributo_cer[[#This Row],[Totale Immissione in rete]:[Totale Consumi rimanenti]])","v":0},"HPB",null,null,null,0]
["081620",8,{"$f":"+MIN(Contributo_cer[[#This Row],[Totale Immissione in rete]:[Totale Consumi rimanenti]])","v":0},"HPB",null,null,null,0]
["081621",8,{"$f":"+MIN(Contributo_cer[[#This Row],[Totale Immissione in rete]:[Totale Consumi rimanenti]])","v":0},"HPB",null,null,null,0]
["081622",8,{"$f":"+MIN(Contributo_cer[[#This Row],[Totale Immissione in rete]:[Totale Consumi rimanenti]])","v":0},"HCB",null,null,null,0]
["081623",8,{"$f":"+MIN(Contributo_cer[[#This Row],[Totale Immissione in rete]:[Totale Consumi rimanenti]])","v":0},"HCB",null,null,null,0]
["081700",8,{"$f":"+MIN(Contributo_cer[[#This Row],[Totale Immissione in rete]:[Totale Consumi rimanenti]])","v":0},"HCB",null,null,null,0]
["081701",8,{"$f":"+MIN(Contributo_cer[[#This Row],[Totale Immissione in rete]:[Totale Consumi rimanenti]])","v":0},"HCB",null,null,null,0]
["081702",8,{"$f":"+MIN(Contributo_cer[[#This Row],[Totale Immissione in rete]:[Totale Consumi rimanenti]])","v":0},"HCB",null,null,null,0]
["081703",8,{"$f":"+MIN(Contributo_cer[[#This Row],[Totale Immissione in rete]:[Totale Consumi rimanenti]])","v":0},"HCB",null,null,null,0]
["081704",8,{"$f":"+MIN(Contributo_cer[[#This Row],[Totale Immissione in rete]:[Totale Consumi rimanenti]])","v":0},"HCB",null,null,null,0]
["081705",8,{"$f":"+MIN(Contributo_cer[[#This Row],[Totale Immissione in rete]:[Totale Consumi rimanenti]])","v":0},"HCB",null,null,null,0]
["081706",8,{"$f":"+MIN(Contributo_cer[[#This Row],[Totale Immissione in rete]:[Totale Consumi rimanenti]])","v":0},"HPB",null,null,null,0]
["081707",8,{"$f":"+MIN(Contributo_cer[[#This Row],[Totale Immissione in rete]:[Totale Consumi rimanenti]])","v":0},"HPB",null,null,null,0]
["081708",8,{"$f":"+MIN(Contributo_cer[[#This Row],[Totale Immissione in rete]:[Totale Consumi rimanenti]])","v":0},"HPB",null,null,null,0]
["081709",8,{"$f":"+MIN(Contributo_cer[[#This Row],[Totale Immissione in rete]:[Totale Consumi rimanenti]])","v":0},"HPB",null,null,null,0]
["081710",8,{"$f":"+MIN(Contributo_cer[[#This Row],[Totale Immissione in rete]:[Totale Consumi rimanenti]])","v":0},"HPB",null,null,null,0]
["081711",8,{"$f":"+MIN(Contributo_cer[[#This Row],[Totale Immissione in rete]:[Totale Consumi rimanenti]])","v":0},"HPB",null,null,null,0]
["081712",8,{"$f":"+MIN(Contributo_cer[[#This Row],[Totale Immissione in rete]:[Totale Consumi rimanenti]])","v":0},"HPB",null,null,null,0]
["081713",8,{"$f":"+MIN(Contributo_cer[[#This Row],[Totale Immissione in rete]:[Totale Consumi rimanenti]])","v":0},"HPB",null,null,null,0]
["081714",8,{"$f":"+MIN(Contributo_cer[[#This Row],[Totale Immissione in rete]:[Totale Consumi rimanenti]])","v":0},"HPB",null,null,null,0]
["081715",8,{"$f":"+MIN(Contributo_cer[[#This Row],[Totale Immissione in rete]:[Totale Consumi rimanenti]])","v":0},"HPB",null,null,null,0]
["081716",8,{"$f":"+MIN(Contributo_cer[[#This Row],[Totale Immissione in rete]:[Totale Consumi rimanenti]])","v":0},"HPB",null,null,null,0]
["081717",8,{"$f":"+MIN(Contributo_cer[[#This Row],[Totale Immissione in rete]:[Totale Consumi rimanenti]])","v":0},"HPB",null,null,null,0]
["081718",8,{"$f":"+MIN(Contributo_cer[[#This Row],[Totale Immissione in rete]:[Totale Consumi rimanenti]])","v":0},"HPB",null,null,null,0]
["081719",8,{"$f":"+MIN(Contributo_cer[[#This Row],[Totale Immissione in rete]:[Totale Consumi rimanenti]])","v":0},"HPB",null,null,null,0]
["081720",8,{"$f":"+MIN(Contributo_cer[[#This Row],[Totale Immissione in rete]:[Totale Consumi rimanenti]])","v":0},"HPB",null,null,null,0]
["081721",8,{"$f":"+MIN(Contributo_cer[[#This Row],[Totale Immissione in rete]:[Totale Consumi rimanenti]])","v":0},"HPB",null,null,null,0]
["081722",8,{"$f":"+MIN(Contributo_cer[[#This Row],[Totale Immissione in rete]:[Totale Consumi rimanenti]])","v":0},"HCB",null,null,null,0]
["081723",8,{"$f":"+MIN(Contributo_cer[[#This Row],[Totale Immissione in rete]:[Totale Consumi rimanenti]])","v":0},"HCB",null,null,null,0]
["081800",8,{"$f":"+MIN(Contributo_cer[[#This Row],[Totale Immissione in rete]:[Totale Consumi rimanenti]])","v":0},"HCB",null,null,null,0]
["081801",8,{"$f":"+MIN(Contributo_cer[[#This Row],[Totale Immissione in rete]:[Totale Consumi rimanenti]])","v":0},"HCB",null,null,null,0]
["081802",8,{"$f":"+MIN(Contributo_cer[[#This Row],[Totale Immissione in rete]:[Totale Consumi rimanenti]])","v":0},"HCB",null,null,null,0]
["081803",8,{"$f":"+MIN(Contributo_cer[[#This Row],[Totale Immissione in rete]:[Totale Consumi rimanenti]])","v":0},"HCB",null,null,null,0]
["081804",8,{"$f":"+MIN(Contributo_cer[[#This Row],[Totale Immissione in rete]:[Totale Consumi rimanenti]])","v":0},"HCB",null,null,null,0]
["081805",8,{"$f":"+MIN(Contributo_cer[[#This Row],[Totale Immissione in rete]:[Totale Consumi rimanenti]])","v":0},"HCB",null,null,null,0]
["081806",8,{"$f":"+MIN(Contributo_cer[[#This Row],[Totale Immissione in rete]:[Totale Consumi rimanenti]])","v":0},"HPB",null,null,null,0]
["081807",8,{"$f":"+MIN(Contributo_cer[[#This Row],[Totale Immissione in rete]:[Totale Consumi rimanenti]])","v":0},"HPB",null,null,null,0]
["081808",8,{"$f":"+MIN(Contributo_cer[[#This Row],[Totale Immissione in rete]:[Totale Consumi rimanenti]])","v":0},"HPB",null,null,null,0]
["081809",8,{"$f":"+MIN(Contributo_cer[[#This Row],[Totale Immissione in rete]:[Totale Consumi rimanenti]])","v":0},"HPB",null,null,null,0]
["081810",8,{"$f":"+MIN(Contributo_cer[[#This Row],[Totale Immissione in rete]:[Totale Consumi rimanenti]])","v":0},"HPB",null,null,null,0]
["081811",8,{"$f":"+MIN(Contributo_cer[[#This Row],[Totale Immissione in rete]:[Totale Consumi rimanenti]])","v":0},"HPB",null,null,null,0]
["081812",8,{"$f":"+MIN(Contributo_cer[[#This Row],[Totale Immissione in rete]:[Totale Consumi rimanenti]])","v":0},"HPB",null,null,null,0]
["081813",8,{"$f":"+MIN(Contributo_cer[[#This Row],[Totale Immissione in rete]:[Totale Consumi rimanenti]])","v":0},"HPB",null,null,null,0]
["081814",8,{"$f":"+MIN(Contributo_cer[[#This Row],[Totale Immissione in rete]:[Totale Consumi rimanenti]])","v":0},"HPB",null,null,null,0]
["081815",8,{"$f":"+MIN(Contributo_cer[[#This Row],[Totale Immissione in rete]:[Totale Consumi rimanenti]])","v":0},"HPB",null,null,null,0]
["081816",8,{"$f":"+MIN(Contributo_cer[[#This Row],[Totale Immissione in rete]:[Totale Consumi rimanenti]])","v":0},"HPB",null,null,null,0]
["081817",8,{"$f":"+MIN(Contributo_cer[[#This Row],[Totale Immissione in rete]:[Totale Consumi rimanenti]])","v":0},"HPB",null,null,null,0]
["081818",8,{"$f":"+MIN(Contributo_cer[[#This Row],[Totale Immissione in rete]:[Totale Consumi rimanenti]])","v":0},"HPB",null,null,null,0]
["081819",8,{"$f":"+MIN(Contributo_cer[[#This Row],[Totale Immissione in rete]:[Totale Consumi rimanenti]])","v":0},"HPB",null,null,null,0]
["081820",8,{"$f":"+MIN(Contributo_cer[[#This Row],[Totale Immissione in rete]:[Totale Consumi rimanenti]])","v":0},"HPB",null,null,null,0]
["081821",8,{"$f":"+MIN(Contributo_cer[[#This Row],[Totale Immissione in rete]:[Totale Consumi rimanenti]])","v":0},"HPB",null,null,null,0]
["081822",8,{"$f":"+MIN(Contributo_cer[[#This Row],[Totale Immissione in rete]:[Totale Consumi rimanenti]])","v":0},"HCB",null,null,null,0]
["081823",8,{"$f":"+MIN(Contributo_cer[[#This Row],[Totale Immissione in rete]:[Totale Consumi rimanenti]])","v":0},"HCB",null,null,null,0]
["081900",8,{"$f":"+MIN(Contributo_cer[[#This Row],[Totale Immissione in rete]:[Totale Consumi rimanenti]])","v":0},"HCB",null,null,null,0]
["081901",8,{"$f":"+MIN(Contributo_cer[[#This Row],[Totale Immissione in rete]:[Totale Consumi rimanenti]])","v":0},"HCB",null,null,null,0]
["081902",8,{"$f":"+MIN(Contributo_cer[[#This Row],[Totale Immissione in rete]:[Totale Consumi rimanenti]])","v":0},"HCB",null,null,null,0]
["081903",8,{"$f":"+MIN(Contributo_cer[[#This Row],[Totale Immissione in rete]:[Totale Consumi rimanenti]])","v":0},"HCB",null,null,null,0]
["081904",8,{"$f":"+MIN(Contributo_cer[[#This Row],[Totale Immissione in rete]:[Totale Consumi rimanenti]])","v":0},"HCB",null,null,null,0]
["081905",8,{"$f":"+MIN(Contributo_cer[[#This Row],[Totale Immissione in rete]:[Totale Consumi rimanenti]])","v":0},"HCB",null,null,null,0]
["081906",8,{"$f":"+MIN(Contributo_cer[[#This Row],[Totale Immissione in rete]:[Totale Consumi rimanenti]])","v":0},"HPB",null,null,null,0]
["081907",8,{"$f":"+MIN(Contributo_cer[[#This Row],[Totale Immissione in rete]:[Totale Consumi rimanenti]])","v":0},"HPB",null,null,null,0]
["081908",8,{"$f":"+MIN(Contributo_cer[[#This Row],[Totale Immissione in rete]:[Totale Consumi rimanenti]])","v":0},"HPB",null,null,null,0]
["081909",8,{"$f":"+MIN(Contributo_cer[[#This Row],[Totale Immissione in rete]:[Totale Consumi rimanenti]])","v":0},"HPB",null,null,null,0]
["081910",8,{"$f":"+MIN(Contributo_cer[[#This Row],[Totale Immissione in rete]:[Totale Consumi rimanenti]])","v":0},"HPB",null,null,null,0]
["081911",8,{"$f":"+MIN(Contributo_cer[[#This Row],[Totale Immissione in rete]:[Totale Consumi rimanenti]])","v":0},"HPB",null,null,null,0]
["081912",8,{"$f":"+MIN(Contributo_cer[[#This Row],[Totale Immissione in rete]:[Totale Consumi rimanenti]])","v":0},"HPB",null,null,null,0]
["081913",8,{"$f":"+MIN(Contributo_cer[[#This Row],[Totale Immissione in rete]:[Totale Consumi rimanenti]])","v":0},"HPB",null,null,null,0]
["081914",8,{"$f":"+MIN(Contributo_cer[[#This Row],[Totale Immissione in rete]:[Totale Consumi rimanenti]])","v":0},"HPB",null,null,null,0]
["081915",8,{"$f":"+MIN(Contributo_cer[[#This Row],[Totale Immissione in rete]:[Totale Consumi rimanenti]])","v":0},"HPB",null,null,null,0]
["081916",8,{"$f":"+MIN(Contributo_cer[[#This Row],[Totale Immissione in rete]:[Totale Consumi rimanenti]])","v":0},"HPB",null,null,null,0]
["081917",8,{"$f":"+MIN(Contributo_cer[[#This Row],[Totale Immissione in rete]:[Totale Consumi rimanenti]])","v":0},"HPB",null,null,null,0]
["081918",8,{"$f":"+MIN(Contributo_cer[[#This Row],[Totale Immissione in rete]:[Totale Consumi rimanenti]])","v":0},"HPB",null,null,null,0]
["081919",8,{"$f":"+MIN(Contributo_cer[[#This Row],[Totale Immissione in rete]:[Totale Consumi rimanenti]])","v":0},"HPB",null,null,null,0]
["081920",8,{"$f":"+MIN(Contributo_cer[[#This Row],[Totale Immissione in rete]:[Totale Consumi rimanenti]])","v":0},"HPB",null,null,null,0]
["081921",8,{"$f":"+MIN(Contributo_cer[[#This Row],[Totale Immissione in rete]:[Totale Consumi rimanenti]])","v":0},"HPB",null,null,null,0]
["081922",8,{"$f":"+MIN(Contributo_cer[[#This Row],[Totale Immissione in rete]:[Totale Consumi rimanenti]])","v":0},"HCB",null,null,null,0]
["081923",8,{"$f":"+MIN(Contributo_cer[[#This Row],[Totale Immissione in rete]:[Totale Consumi rimanenti]])","v":0},"HCB",null,null,null,0]
["082000",8,{"$f":"+MIN(Contributo_cer[[#This Row],[Totale Immissione in rete]:[Totale Consumi rimanenti]])","v":0},"HCB",null,null,null,0]
["082001",8,{"$f":"+MIN(Contributo_cer[[#This Row],[Totale Immissione in rete]:[Totale Consumi rimanenti]])","v":0},"HCB",null,null,null,0]
["082002",8,{"$f":"+MIN(Contributo_cer[[#This Row],[Totale Immissione in rete]:[Totale Consumi rimanenti]])","v":0},"HCB",null,null,null,0]
["082003",8,{"$f":"+MIN(Contributo_cer[[#This Row],[Totale Immissione in rete]:[Totale Consumi rimanenti]])","v":0},"HCB",null,null,null,0]
["082004",8,{"$f":"+MIN(Contributo_cer[[#This Row],[Totale Immissione in rete]:[Totale Consumi rimanenti]])","v":0},"HCB",null,null,null,0]
["082005",8,{"$f":"+MIN(Contributo_cer[[#This Row],[Totale Immissione in rete]:[Totale Consumi rimanenti]])","v":0},"HCB",null,null,null,0]
["082006",8,{"$f":"+MIN(Contributo_cer[[#This Row],[Totale Immissione in rete]:[Totale Consumi rimanenti]])","v":0},"HPB",null,null,null,0]
["082007",8,{"$f":"+MIN(Contributo_cer[[#This Row],[Totale Immissione in rete]:[Totale Consumi rimanenti]])","v":0},"HPB",null,null,null,0]
["082008",8,{"$f":"+MIN(Contributo_cer[[#This Row],[Totale Immissione in rete]:[Totale Consumi rimanenti]])","v":0},"HPB",null,null,null,0]
["082009",8,{"$f":"+MIN(Contributo_cer[[#This Row],[Totale Immissione in rete]:[Totale Consumi rimanenti]])","v":0},"HPB",null,null,null,0]
["082010",8,{"$f":"+MIN(Contributo_cer[[#This Row],[Totale Immissione in rete]:[Totale Consumi rimanenti]])","v":0},"HPB",null,null,null,0]
["082011",8,{"$f":"+MIN(Contributo_cer[[#This Row],[Totale Immissione in rete]:[Totale Consumi rimanenti]])","v":0},"HPB",null,null,null,0]
["082012",8,{"$f":"+MIN(Contributo_cer[[#This Row],[Totale Immissione in rete]:[Totale Consumi rimanenti]])","v":0},"HPB",null,null,null,0]
["082013",8,{"$f":"+MIN(Contributo_cer[[#This Row],[Totale Immissione in rete]:[Totale Consumi rimanenti]])","v":0},"HPB",null,null,null,0]
["082014",8,{"$f":"+MIN(Contributo_cer[[#This Row],[Totale Immissione in rete]:[Totale Consumi rimanenti]])","v":0},"HPB",null,null,null,0]
["082015",8,{"$f":"+MIN(Contributo_cer[[#This Row],[Totale Immissione in rete]:[Totale Consumi rimanenti]])","v":0},"HPB",null,null,null,0]
["082016",8,{"$f":"+MIN(Contributo_cer[[#This Row],[Totale Immissione in rete]:[Totale Consumi rimanenti]])","v":0},"HPB",null,null,null,0]
["082017",8,{"$f":"+MIN(Contributo_cer[[#This Row],[Totale Immissione in rete]:[Totale Consumi rimanenti]])","v":0},"HPB",null,null,null,0]
["082018",8,{"$f":"+MIN(Contributo_cer[[#This Row],[Totale Immissione in rete]:[Totale Consumi rimanenti]])","v":0},"HPB",null,null,null,0]
["082019",8,{"$f":"+MIN(Contributo_cer[[#This Row],[Totale Immissione in rete]:[Totale Consumi rimanenti]])","v":0},"HPB",null,null,null,0]
["082020",8,{"$f":"+MIN(Contributo_cer[[#This Row],[Totale Immissione in rete]:[Totale Consumi rimanenti]])","v":0},"HPB",null,null,null,0]
["082021",8,{"$f":"+MIN(Contributo_cer[[#This Row],[Totale Immissione in rete]:[Totale Consumi rimanenti]])","v":0},"HPB",null,null,null,0]
["082022",8,{"$f":"+MIN(Contributo_cer[[#This Row],[Totale Immissione in rete]:[Totale Consumi rimanenti]])","v":0},"HCB",null,null,null,0]
["082023",8,{"$f":"+MIN(Contributo_cer[[#This Row],[Totale Immissione in rete]:[Totale Consumi rimanenti]])","v":0},"HCB",null,null,null,0]
["082100",8,{"$f":"+MIN(Contributo_cer[[#This Row],[Totale Immissione in rete]:[Totale Consumi rimanenti]])","v":0},"HCB",null,null,null,0]
["082101",8,{"$f":"+MIN(Contributo_cer[[#This Row],[Totale Immissione in rete]:[Totale Consumi rimanenti]])","v":0},"HCB",null,null,null,0]
["082102",8,{"$f":"+MIN(Contributo_cer[[#This Row],[Totale Immissione in rete]:[Totale Consumi rimanenti]])","v":0},"HCB",null,null,null,0]
["082103",8,{"$f":"+MIN(Contributo_cer[[#This Row],[Totale Immissione in rete]:[Totale Consumi rimanenti]])","v":0},"HCB",null,null,null,0]
["082104",8,{"$f":"+MIN(Contributo_cer[[#This Row],[Totale Immissione in rete]:[Totale Consumi rimanenti]])","v":0},"HCB",null,null,null,0]
["082105",8,{"$f":"+MIN(Contributo_cer[[#This Row],[Totale Immissione in rete]:[Totale Consumi rimanenti]])","v":0},"HCB",null,null,null,0]
["082106",8,{"$f":"+MIN(Contributo_cer[[#This Row],[Totale Immissione in rete]:[Totale Consumi rimanenti]])","v":0},"HPB",null,null,null,0]
["082107",8,{"$f":"+MIN(Contributo_cer[[#This Row],[Totale Immissione in rete]:[Totale Consumi rimanenti]])","v":0},"HPB",null,null,null,0]
["082108",8,{"$f":"+MIN(Contributo_cer[[#This Row],[Totale Immissione in rete]:[Totale Consumi rimanenti]])","v":0},"HPB",null,null,null,0]
["082109",8,{"$f":"+MIN(Contributo_cer[[#This Row],[Totale Immissione in rete]:[Totale Consumi rimanenti]])","v":0},"HPB",null,null,null,0]
["082110",8,{"$f":"+MIN(Contributo_cer[[#This Row],[Totale Immissione in rete]:[Totale Consumi rimanenti]])","v":0},"HPB",null,null,null,0]
["082111",8,{"$f":"+MIN(Contributo_cer[[#This Row],[Totale Immissione in rete]:[Totale Consumi rimanenti]])","v":0},"HPB",null,null,null,0]
["082112",8,{"$f":"+MIN(Contributo_cer[[#This Row],[Totale Immissione in rete]:[Totale Consumi rimanenti]])","v":0},"HPB",null,null,null,0]
["082113",8,{"$f":"+MIN(Contributo_cer[[#This Row],[Totale Immissione in rete]:[Totale Consumi rimanenti]])","v":0},"HPB",null,null,null,0]
["082114",8,{"$f":"+MIN(Contributo_cer[[#This Row],[Totale Immissione in rete]:[Totale Consumi rimanenti]])","v":0},"HPB",null,null,null,0]
["082115",8,{"$f":"+MIN(Contributo_cer[[#This Row],[Totale Immissione in rete]:[Totale Consumi rimanenti]])","v":0},"HPB",null,null,null,0]
["082116",8,{"$f":"+MIN(Contributo_cer[[#This Row],[Totale Immissione in rete]:[Totale Consumi rimanenti]])","v":0},"HPB",null,null,null,0]
["082117",8,{"$f":"+MIN(Contributo_cer[[#This Row],[Totale Immissione in rete]:[Totale Consumi rimanenti]])","v":0},"HPB",null,null,null,0]
["082118",8,{"$f":"+MIN(Contributo_cer[[#This Row],[Totale Immissione in rete]:[Totale Consumi rimanenti]])","v":0},"HPB",null,null,null,0]
["082119",8,{"$f":"+MIN(Contributo_cer[[#This Row],[Totale Immissione in rete]:[Totale Consumi rimanenti]])","v":0},"HPB",null,null,null,0]
["082120",8,{"$f":"+MIN(Contributo_cer[[#This Row],[Totale Immissione in rete]:[Totale Consumi rimanenti]])","v":0},"HPB",null,null,null,0]
["082121",8,{"$f":"+MIN(Contributo_cer[[#This Row],[Totale Immissione in rete]:[Totale Consumi rimanenti]])","v":0},"HPB",null,null,null,0]
["082122",8,{"$f":"+MIN(Contributo_cer[[#This Row],[Totale Immissione in rete]:[Totale Consumi rimanenti]])","v":0},"HCB",null,null,null,0]
["082123",8,{"$f":"+MIN(Contributo_cer[[#This Row],[Totale Immissione in rete]:[Totale Consumi rimanenti]])","v":0},"HCB",null,null,null,0]
["082200",8,{"$f":"+MIN(Contributo_cer[[#This Row],[Totale Immissione in rete]:[Totale Consumi rimanenti]])","v":0},"HCB",null,null,null,0]
["082201",8,{"$f":"+MIN(Contributo_cer[[#This Row],[Totale Immissione in rete]:[Totale Consumi rimanenti]])","v":0},"HCB",null,null,null,0]
["082202",8,{"$f":"+MIN(Contributo_cer[[#This Row],[Totale Immissione in rete]:[Totale Consumi rimanenti]])","v":0},"HCB",null,null,null,0]
["082203",8,{"$f":"+MIN(Contributo_cer[[#This Row],[Totale Immissione in rete]:[Totale Consumi rimanenti]])","v":0},"HCB",null,null,null,0]
["082204",8,{"$f":"+MIN(Contributo_cer[[#This Row],[Totale Immissione in rete]:[Totale Consumi rimanenti]])","v":0},"HCB",null,null,null,0]
["082205",8,{"$f":"+MIN(Contributo_cer[[#This Row],[Totale Immissione in rete]:[Totale Consumi rimanenti]])","v":0},"HCB",null,null,null,0]
["082206",8,{"$f":"+MIN(Contributo_cer[[#This Row],[Totale Immissione in rete]:[Totale Consumi rimanenti]])","v":0},"HPB",null,null,null,0]
["082207",8,{"$f":"+MIN(Contributo_cer[[#This Row],[Totale Immissione in rete]:[Totale Consumi rimanenti]])","v":0},"HPB",null,null,null,0]
["082208",8,{"$f":"+MIN(Contributo_cer[[#This Row],[Totale Immissione in rete]:[Totale Consumi rimanenti]])","v":0},"HPB",null,null,null,0]
["082209",8,{"$f":"+MIN(Contributo_cer[[#This Row],[Totale Immissione in rete]:[Totale Consumi rimanenti]])","v":0},"HPB",null,null,null,0]
["082210",8,{"$f":"+MIN(Contributo_cer[[#This Row],[Totale Immissione in rete]:[Totale Consumi rimanenti]])","v":0},"HPB",null,null,null,0]
["082211",8,{"$f":"+MIN(Contributo_cer[[#This Row],[Totale Immissione in rete]:[Totale Consumi rimanenti]])","v":0},"HPB",null,null,null,0]
["082212",8,{"$f":"+MIN(Contributo_cer[[#This Row],[Totale Immissione in rete]:[Totale Consumi rimanenti]])","v":0},"HPB",null,null,null,0]
["082213",8,{"$f":"+MIN(Contributo_cer[[#This Row],[Totale Immissione in rete]:[Totale Consumi rimanenti]])","v":0},"HPB",null,null,null,0]
["082214",8,{"$f":"+MIN(Contributo_cer[[#This Row],[Totale Immissione in rete]:[Totale Consumi rimanenti]])","v":0},"HPB",null,null,null,0]
["082215",8,{"$f":"+MIN(Contributo_cer[[#This Row],[Totale Immissione in rete]:[Totale Consumi rimanenti]])","v":0},"HPB",null,null,null,0]
["082216",8,{"$f":"+MIN(Contributo_cer[[#This Row],[Totale Immissione in rete]:[Totale Consumi rimanenti]])","v":0},"HPB",null,null,null,0]
["082217",8,{"$f":"+MIN(Contributo_cer[[#This Row],[Totale Immissione in rete]:[Totale Consumi rimanenti]])","v":0},"HPB",null,null,null,0]
["082218",8,{"$f":"+MIN(Contributo_cer[[#This Row],[Totale Immissione in rete]:[Totale Consumi rimanenti]])","v":0},"HPB",null,null,null,0]
["082219",8,{"$f":"+MIN(Contributo_cer[[#This Row],[Totale Immissione in rete]:[Totale Consumi rimanenti]])","v":0},"HPB",null,null,null,0]
["082220",8,{"$f":"+MIN(Contributo_cer[[#This Row],[Totale Immissione in rete]:[Totale Consumi rimanenti]])","v":0},"HPB",null,null,null,0]
["082221",8,{"$f":"+MIN(Contributo_cer[[#This Row],[Totale Immissione in rete]:[Totale Consumi rimanenti]])","v":0},"HPB",null,null,null,0]
["082222",8,{"$f":"+MIN(Contributo_cer[[#This Row],[Totale Immissione in rete]:[Totale Consumi rimanenti]])","v":0},"HCB",null,null,null,0]
["082223",8,{"$f":"+MIN(Contributo_cer[[#This Row],[Totale Immissione in rete]:[Totale Consumi rimanenti]])","v":0},"HCB",null,null,null,0]
["082300",8,{"$f":"+MIN(Contributo_cer[[#This Row],[Totale Immissione in rete]:[Totale Consumi rimanenti]])","v":0},"HCB",null,null,null,0]
["082301",8,{"$f":"+MIN(Contributo_cer[[#This Row],[Totale Immissione in rete]:[Totale Consumi rimanenti]])","v":0},"HCB",null,null,null,0]
["082302",8,{"$f":"+MIN(Contributo_cer[[#This Row],[Totale Immissione in rete]:[Totale Consumi rimanenti]])","v":0},"HCB",null,null,null,0]
["082303",8,{"$f":"+MIN(Contributo_cer[[#This Row],[Totale Immissione in rete]:[Totale Consumi rimanenti]])","v":0},"HCB",null,null,null,0]
["082304",8,{"$f":"+MIN(Contributo_cer[[#This Row],[Totale Immissione in rete]:[Totale Consumi rimanenti]])","v":0},"HCB",null,null,null,0]
["082305",8,{"$f":"+MIN(Contributo_cer[[#This Row],[Totale Immissione in rete]:[Totale Consumi rimanenti]])","v":0},"HCB",null,null,null,0]
["082306",8,{"$f":"+MIN(Contributo_cer[[#This Row],[Totale Immissione in rete]:[Totale Consumi rimanenti]])","v":0},"HPB",null,null,null,0]
["082307",8,{"$f":"+MIN(Contributo_cer[[#This Row],[Totale Immissione in rete]:[Totale Consumi rimanenti]])","v":0},"HPB",null,null,null,0]
["082308",8,{"$f":"+MIN(Contributo_cer[[#This Row],[Totale Immissione in rete]:[Totale Consumi rimanenti]])","v":0},"HPB",null,null,null,0]
["082309",8,{"$f":"+MIN(Contributo_cer[[#This Row],[Totale Immissione in rete]:[Totale Consumi rimanenti]])","v":0},"HPB",null,null,null,0]
["082310",8,{"$f":"+MIN(Contributo_cer[[#This Row],[Totale Immissione in rete]:[Totale Consumi rimanenti]])","v":0},"HPB",null,null,null,0]
["082311",8,{"$f":"+MIN(Contributo_cer[[#This Row],[Totale Immissione in rete]:[Totale Consumi rimanenti]])","v":0},"HPB",null,null,null,0]
["082312",8,{"$f":"+MIN(Contributo_cer[[#This Row],[Totale Immissione in rete]:[Totale Consumi rimanenti]])","v":0},"HPB",null,null,null,0]
["082313",8,{"$f":"+MIN(Contributo_cer[[#This Row],[Totale Immissione in rete]:[Totale Consumi rimanenti]])","v":0},"HPB",null,null,null,0]
["082314",8,{"$f":"+MIN(Contributo_cer[[#This Row],[Totale Immissione in rete]:[Totale Consumi rimanenti]])","v":0},"HPB",null,null,null,0]
["082315",8,{"$f":"+MIN(Contributo_cer[[#This Row],[Totale Immissione in rete]:[Totale Consumi rimanenti]])","v":0},"HPB",null,null,null,0]
["082316",8,{"$f":"+MIN(Contributo_cer[[#This Row],[Totale Immissione in rete]:[Totale Consumi rimanenti]])","v":0},"HPB",null,null,null,0]
["082317",8,{"$f":"+MIN(Contributo_cer[[#This Row],[Totale Immissione in rete]:[Totale Consumi rimanenti]])","v":0},"HPB",null,null,null,0]
["082318",8,{"$f":"+MIN(Contributo_cer[[#This Row],[Totale Immissione in rete]:[Totale Consumi rimanenti]])","v":0},"HPB",null,null,null,0]
["082319",8,{"$f":"+MIN(Contributo_cer[[#This Row],[Totale Immissione in rete]:[Totale Consumi rimanenti]])","v":0},"HPB",null,null,null,0]
["082320",8,{"$f":"+MIN(Contributo_cer[[#This Row],[Totale Immissione in rete]:[Totale Consumi rimanenti]])","v":0},"HPB",null,null,null,0]
["082321",8,{"$f":"+MIN(Contributo_cer[[#This Row],[Totale Immissione in rete]:[Totale Consumi rimanenti]])","v":0},"HPB",null,null,null,0]
["082322",8,{"$f":"+MIN(Contributo_cer[[#This Row],[Totale Immissione in rete]:[Totale Consumi rimanenti]])","v":0},"HCB",null,null,null,0]
["082323",8,{"$f":"+MIN(Contributo_cer[[#This Row],[Totale Immissione in rete]:[Totale Consumi rimanenti]])","v":0},"HCB",null,null,null,0]
["082400",8,{"$f":"+MIN(Contributo_cer[[#This Row],[Totale Immissione in rete]:[Totale Consumi rimanenti]])","v":0},"HCB",null,null,null,0]
["082401",8,{"$f":"+MIN(Contributo_cer[[#This Row],[Totale Immissione in rete]:[Totale Consumi rimanenti]])","v":0},"HCB",null,null,null,0]
["082402",8,{"$f":"+MIN(Contributo_cer[[#This Row],[Totale Immissione in rete]:[Totale Consumi rimanenti]])","v":0},"HCB",null,null,null,0]
["082403",8,{"$f":"+MIN(Contributo_cer[[#This Row],[Totale Immissione in rete]:[Totale Consumi rimanenti]])","v":0},"HCB",null,null,null,0]
["082404",8,{"$f":"+MIN(Contributo_cer[[#This Row],[Totale Immissione in rete]:[Totale Consumi rimanenti]])","v":0},"HCB",null,null,null,0]
["082405",8,{"$f":"+MIN(Contributo_cer[[#This Row],[Totale Immissione in rete]:[Totale Consumi rimanenti]])","v":0},"HCB",null,null,null,0]
["082406",8,{"$f":"+MIN(Contributo_cer[[#This Row],[Totale Immissione in rete]:[Totale Consumi rimanenti]])","v":0},"HPB",null,null,null,0]
["082407",8,{"$f":"+MIN(Contributo_cer[[#This Row],[Totale Immissione in rete]:[Totale Consumi rimanenti]])","v":0},"HPB",null,null,null,0]
["082408",8,{"$f":"+MIN(Contributo_cer[[#This Row],[Totale Immissione in rete]:[Totale Consumi rimanenti]])","v":0},"HPB",null,null,null,0]
["082409",8,{"$f":"+MIN(Contributo_cer[[#This Row],[Totale Immissione in rete]:[Totale Consumi rimanenti]])","v":0},"HPB",null,null,null,0]
["082410",8,{"$f":"+MIN(Contributo_cer[[#This Row],[Totale Immissione in rete]:[Totale Consumi rimanenti]])","v":0},"HPB",null,null,null,0]
["082411",8,{"$f":"+MIN(Contributo_cer[[#This Row],[Totale Immissione in rete]:[Totale Consumi rimanenti]])","v":0},"HPB",null,null,null,0]
["082412",8,{"$f":"+MIN(Contributo_cer[[#This Row],[Totale Immissione in rete]:[Totale Consumi rimanenti]])","v":0},"HPB",null,null,null,0]
["082413",8,{"$f":"+MIN(Contributo_cer[[#This Row],[Totale Immissione in rete]:[Totale Consumi rimanenti]])","v":0},"HPB",null,null,null,0]
["082414",8,{"$f":"+MIN(Contributo_cer[[#This Row],[Totale Immissione in rete]:[Totale Consumi rimanenti]])","v":0},"HPB",null,null,null,0]
["082415",8,{"$f":"+MIN(Contributo_cer[[#This Row],[Totale Immissione in rete]:[Totale Consumi rimanenti]])","v":0},"HPB",null,null,null,0]
["082416",8,{"$f":"+MIN(Contributo_cer[[#This Row],[Totale Immissione in rete]:[Totale Consumi rimanenti]])","v":0},"HPB",null,null,null,0]
["082417",8,{"$f":"+MIN(Contributo_cer[[#This Row],[Totale Immissione in rete]:[Totale Consumi rimanenti]])","v":0},"HPB",null,null,null,0]
["082418",8,{"$f":"+MIN(Contributo_cer[[#This Row],[Totale Immissione in rete]:[Totale Consumi rimanenti]])","v":0},"HPB",null,null,null,0]
["082419",8,{"$f":"+MIN(Contributo_cer[[#This Row],[Totale Immissione in rete]:[Totale Consumi rimanenti]])","v":0},"HPB",null,null,null,0]
["082420",8,{"$f":"+MIN(Contributo_cer[[#This Row],[Totale Immissione in rete]:[Totale Consumi rimanenti]])","v":0},"HPB",null,null,null,0]
["082421",8,{"$f":"+MIN(Contributo_cer[[#This Row],[Totale Immissione in rete]:[Totale Consumi rimanenti]])","v":0},"HPB",null,null,null,0]
["082422",8,{"$f":"+MIN(Contributo_cer[[#This Row],[Totale Immissione in rete]:[Totale Consumi rimanenti]])","v":0},"HCB",null,null,null,0]
["082423",8,{"$f":"+MIN(Contributo_cer[[#This Row],[Totale Immissione in rete]:[Totale Consumi rimanenti]])","v":0},"HCB",null,null,null,0]
["082500",8,{"$f":"+MIN(Contributo_cer[[#This Row],[Totale Immissione in rete]:[Totale Consumi rimanenti]])","v":0},"HCB",null,null,null,0]
["082501",8,{"$f":"+MIN(Contributo_cer[[#This Row],[Totale Immissione in rete]:[Totale Consumi rimanenti]])","v":0},"HCB",null,null,null,0]
["082502",8,{"$f":"+MIN(Contributo_cer[[#This Row],[Totale Immissione in rete]:[Totale Consumi rimanenti]])","v":0},"HCB",null,null,null,0]
["082503",8,{"$f":"+MIN(Contributo_cer[[#This Row],[Totale Immissione in rete]:[Totale Consumi rimanenti]])","v":0},"HCB",null,null,null,0]
["082504",8,{"$f":"+MIN(Contributo_cer[[#This Row],[Totale Immissione in rete]:[Totale Consumi rimanenti]])","v":0},"HCB",null,null,null,0]
["082505",8,{"$f":"+MIN(Contributo_cer[[#This Row],[Totale Immissione in rete]:[Totale Consumi rimanenti]])","v":0},"HCB",null,null,null,0]
["082506",8,{"$f":"+MIN(Contributo_cer[[#This Row],[Totale Immissione in rete]:[Totale Consumi rimanenti]])","v":0},"HPB",null,null,null,0]
["082507",8,{"$f":"+MIN(Contributo_cer[[#This Row],[Totale Immissione in rete]:[Totale Consumi rimanenti]])","v":0},"HPB",null,null,null,0]
["082508",8,{"$f":"+MIN(Contributo_cer[[#This Row],[Totale Immissione in rete]:[Totale Consumi rimanenti]])","v":0},"HPB",null,null,null,0]
["082509",8,{"$f":"+MIN(Contributo_cer[[#This Row],[Totale Immissione in rete]:[Totale Consumi rimanenti]])","v":0},"HPB",null,null,null,0]
["082510",8,{"$f":"+MIN(Contributo_cer[[#This Row],[Totale Immissione in rete]:[Totale Consumi rimanenti]])","v":0},"HPB",null,null,null,0]
["082511",8,{"$f":"+MIN(Contributo_cer[[#This Row],[Totale Immissione in rete]:[Totale Consumi rimanenti]])","v":0},"HPB",null,null,null,0]
["082512",8,{"$f":"+MIN(Contributo_cer[[#This Row],[Totale Immissione in rete]:[Totale Consumi rimanenti]])","v":0},"HPB",null,null,null,0]
["082513",8,{"$f":"+MIN(Contributo_cer[[#This Row],[Totale Immissione in rete]:[Totale Consumi rimanenti]])","v":0},"HPB",null,null,null,0]
["082514",8,{"$f":"+MIN(Contributo_cer[[#This Row],[Totale Immissione in rete]:[Totale Consumi rimanenti]])","v":0},"HPB",null,null,null,0]
["082515",8,{"$f":"+MIN(Contributo_cer[[#This Row],[Totale Immissione in rete]:[Totale Consumi rimanenti]])","v":0},"HPB",null,null,null,0]
["082516",8,{"$f":"+MIN(Contributo_cer[[#This Row],[Totale Immissione in rete]:[Totale Consumi rimanenti]])","v":0},"HPB",null,null,null,0]
["082517",8,{"$f":"+MIN(Contributo_cer[[#This Row],[Totale Immissione in rete]:[Totale Consumi rimanenti]])","v":0},"HPB",null,null,null,0]
["082518",8,{"$f":"+MIN(Contributo_cer[[#This Row],[Totale Immissione in rete]:[Totale Consumi rimanenti]])","v":0},"HPB",null,null,null,0]
["082519",8,{"$f":"+MIN(Contributo_cer[[#This Row],[Totale Immissione in rete]:[Totale Consumi rimanenti]])","v":0},"HPB",null,null,null,0]
["082520",8,{"$f":"+MIN(Contributo_cer[[#This Row],[Totale Immissione in rete]:[Totale Consumi rimanenti]])","v":0},"HPB",null,null,null,0]
["082521",8,{"$f":"+MIN(Contributo_cer[[#This Row],[Totale Immissione in rete]:[Totale Consumi rimanenti]])","v":0},"HPB",null,null,null,0]
["082522",8,{"$f":"+MIN(Contributo_cer[[#This Row],[Totale Immissione in rete]:[Totale Consumi rimanenti]])","v":0},"HCB",null,null,null,0]
["082523",8,{"$f":"+MIN(Contributo_cer[[#This Row],[Totale Immissione in rete]:[Totale Consumi rimanenti]])","v":0},"HCB",null,null,null,0]
["082600",8,{"$f":"+MIN(Contributo_cer[[#This Row],[Totale Immissione in rete]:[Totale Consumi rimanenti]])","v":0},"HCB",null,null,null,0]
["082601",8,{"$f":"+MIN(Contributo_cer[[#This Row],[Totale Immissione in rete]:[Totale Consumi rimanenti]])","v":0},"HCB",null,null,null,0]
["082602",8,{"$f":"+MIN(Contributo_cer[[#This Row],[Totale Immissione in rete]:[Totale Consumi rimanenti]])","v":0},"HCB",null,null,null,0]
["082603",8,{"$f":"+MIN(Contributo_cer[[#This Row],[Totale Immissione in rete]:[Totale Consumi rimanenti]])","v":0},"HCB",null,null,null,0]
["082604",8,{"$f":"+MIN(Contributo_cer[[#This Row],[Totale Immissione in rete]:[Totale Consumi rimanenti]])","v":0},"HCB",null,null,null,0]
["082605",8,{"$f":"+MIN(Contributo_cer[[#This Row],[Totale Immissione in rete]:[Totale Consumi rimanenti]])","v":0},"HCB",null,null,null,0]
["082606",8,{"$f":"+MIN(Contributo_cer[[#This Row],[Totale Immissione in rete]:[Totale Consumi rimanenti]])","v":0},"HPB",null,null,null,0]
["082607",8,{"$f":"+MIN(Contributo_cer[[#This Row],[Totale Immissione in rete]:[Totale Consumi rimanenti]])","v":0},"HPB",null,null,null,0]
["082608",8,{"$f":"+MIN(Contributo_cer[[#This Row],[Totale Immissione in rete]:[Totale Consumi rimanenti]])","v":0},"HPB",null,null,null,0]
["082609",8,{"$f":"+MIN(Contributo_cer[[#This Row],[Totale Immissione in rete]:[Totale Consumi rimanenti]])","v":0},"HPB",null,null,null,0]
["082610",8,{"$f":"+MIN(Contributo_cer[[#This Row],[Totale Immissione in rete]:[Totale Consumi rimanenti]])","v":0},"HPB",null,null,null,0]
["082611",8,{"$f":"+MIN(Contributo_cer[[#This Row],[Totale Immissione in rete]:[Totale Consumi rimanenti]])","v":0},"HPB",null,null,null,0]
["082612",8,{"$f":"+MIN(Contributo_cer[[#This Row],[Totale Immissione in rete]:[Totale Consumi rimanenti]])","v":0},"HPB",null,null,null,0]
["082613",8,{"$f":"+MIN(Contributo_cer[[#This Row],[Totale Immissione in rete]:[Totale Consumi rimanenti]])","v":0},"HPB",null,null,null,0]
["082614",8,{"$f":"+MIN(Contributo_cer[[#This Row],[Totale Immissione in rete]:[Totale Consumi rimanenti]])","v":0},"HPB",null,null,null,0]
["082615",8,{"$f":"+MIN(Contributo_cer[[#This Row],[Totale Immissione in rete]:[Totale Consumi rimanenti]])","v":0},"HPB",null,null,null,0]
["082616",8,{"$f":"+MIN(Contributo_cer[[#This Row],[Totale Immissione in rete]:[Totale Consumi rimanenti]])","v":0},"HPB",null,null,null,0]
["082617",8,{"$f":"+MIN(Contributo_cer[[#This Row],[Totale Immissione in rete]:[Totale Consumi rimanenti]])","v":0},"HPB",null,null,null,0]
["082618",8,{"$f":"+MIN(Contributo_cer[[#This Row],[Totale Immissione in rete]:[Totale Consumi rimanenti]])","v":0},"HPB",null,null,null,0]
["082619",8,{"$f":"+MIN(Contributo_cer[[#This Row],[Totale Immissione in rete]:[Totale Consumi rimanenti]])","v":0},"HPB",null,null,null,0]
["082620",8,{"$f":"+MIN(Contributo_cer[[#This Row],[Totale Immissione in rete]:[Totale Consumi rimanenti]])","v":0},"HPB",null,null,null,0]
["082621",8,{"$f":"+MIN(Contributo_cer[[#This Row],[Totale Immissione in rete]:[Totale Consumi rimanenti]])","v":0},"HPB",null,null,null,0]
["082622",8,{"$f":"+MIN(Contributo_cer[[#This Row],[Totale Immissione in rete]:[Totale Consumi rimanenti]])","v":0},"HCB",null,null,null,0]
["082623",8,{"$f":"+MIN(Contributo_cer[[#This Row],[Totale Immissione in rete]:[Totale Consumi rimanenti]])","v":0},"HCB",null,null,null,0]
["082700",8,{"$f":"+MIN(Contributo_cer[[#This Row],[Totale Immissione in rete]:[Totale Consumi rimanenti]])","v":0},"HCB",null,null,null,0]
["082701",8,{"$f":"+MIN(Contributo_cer[[#This Row],[Totale Immissione in rete]:[Totale Consumi rimanenti]])","v":0},"HCB",null,null,null,0]
["082702",8,{"$f":"+MIN(Contributo_cer[[#This Row],[Totale Immissione in rete]:[Totale Consumi rimanenti]])","v":0},"HCB",null,null,null,0]
["082703",8,{"$f":"+MIN(Contributo_cer[[#This Row],[Totale Immissione in rete]:[Totale Consumi rimanenti]])","v":0},"HCB",null,null,null,0]
["082704",8,{"$f":"+MIN(Contributo_cer[[#This Row],[Totale Immissione in rete]:[Totale Consumi rimanenti]])","v":0},"HCB",null,null,null,0]
["082705",8,{"$f":"+MIN(Contributo_cer[[#This Row],[Totale Immissione in rete]:[Totale Consumi rimanenti]])","v":0},"HCB",null,null,null,0]
["082706",8,{"$f":"+MIN(Contributo_cer[[#This Row],[Totale Immissione in rete]:[Totale Consumi rimanenti]])","v":0},"HPB",null,null,null,0]
["082707",8,{"$f":"+MIN(Contributo_cer[[#This Row],[Totale Immissione in rete]:[Totale Consumi rimanenti]])","v":0},"HPB",null,null,null,0]
["082708",8,{"$f":"+MIN(Contributo_cer[[#This Row],[Totale Immissione in rete]:[Totale Consumi rimanenti]])","v":0},"HPB",null,null,null,0]
["082709",8,{"$f":"+MIN(Contributo_cer[[#This Row],[Totale Immissione in rete]:[Totale Consumi rimanenti]])","v":0},"HPB",null,null,null,0]
["082710",8,{"$f":"+MIN(Contributo_cer[[#This Row],[Totale Immissione in rete]:[Totale Consumi rimanenti]])","v":0},"HPB",null,null,null,0]
["082711",8,{"$f":"+MIN(Contributo_cer[[#This Row],[Totale Immissione in rete]:[Totale Consumi rimanenti]])","v":0},"HPB",null,null,null,0]
["082712",8,{"$f":"+MIN(Contributo_cer[[#This Row],[Totale Immissione in rete]:[Totale Consumi rimanenti]])","v":0},"HPB",null,null,null,0]
["082713",8,{"$f":"+MIN(Contributo_cer[[#This Row],[Totale Immissione in rete]:[Totale Consumi rimanenti]])","v":0},"HPB",null,null,null,0]
["082714",8,{"$f":"+MIN(Contributo_cer[[#This Row],[Totale Immissione in rete]:[Totale Consumi rimanenti]])","v":0},"HPB",null,null,null,0]
["082715",8,{"$f":"+MIN(Contributo_cer[[#This Row],[Totale Immissione in rete]:[Totale Consumi rimanenti]])","v":0},"HPB",null,null,null,0]
["082716",8,{"$f":"+MIN(Contributo_cer[[#This Row],[Totale Immissione in rete]:[Totale Consumi rimanenti]])","v":0},"HPB",null,null,null,0]
["082717",8,{"$f":"+MIN(Contributo_cer[[#This Row],[Totale Immissione in rete]:[Totale Consumi rimanenti]])","v":0},"HPB",null,null,null,0]
["082718",8,{"$f":"+MIN(Contributo_cer[[#This Row],[Totale Immissione in rete]:[Totale Consumi rimanenti]])","v":0},"HPB",null,null,null,0]
["082719",8,{"$f":"+MIN(Contributo_cer[[#This Row],[Totale Immissione in rete]:[Totale Consumi rimanenti]])","v":0},"HPB",null,null,null,0]
["082720",8,{"$f":"+MIN(Contributo_cer[[#This Row],[Totale Immissione in rete]:[Totale Consumi rimanenti]])","v":0},"HPB",null,null,null,0]
["082721",8,{"$f":"+MIN(Contributo_cer[[#This Row],[Totale Immissione in rete]:[Totale Consumi rimanenti]])","v":0},"HPB",null,null,null,0]
["082722",8,{"$f":"+MIN(Contributo_cer[[#This Row],[Totale Immissione in rete]:[Totale Consumi rimanenti]])","v":0},"HCB",null,null,null,0]
["082723",8,{"$f":"+MIN(Contributo_cer[[#This Row],[Totale Immissione in rete]:[Totale Consumi rimanenti]])","v":0},"HCB",null,null,null,0]
["082800",8,{"$f":"+MIN(Contributo_cer[[#This Row],[Totale Immissione in rete]:[Totale Consumi rimanenti]])","v":0},"HCB",null,null,null,0]
["082801",8,{"$f":"+MIN(Contributo_cer[[#This Row],[Totale Immissione in rete]:[Totale Consumi rimanenti]])","v":0},"HCB",null,null,null,0]
["082802",8,{"$f":"+MIN(Contributo_cer[[#This Row],[Totale Immissione in rete]:[Totale Consumi rimanenti]])","v":0},"HCB",null,null,null,0]
["082803",8,{"$f":"+MIN(Contributo_cer[[#This Row],[Totale Immissione in rete]:[Totale Consumi rimanenti]])","v":0},"HCB",null,null,null,0]
["082804",8,{"$f":"+MIN(Contributo_cer[[#This Row],[Totale Immissione in rete]:[Totale Consumi rimanenti]])","v":0},"HCB",null,null,null,0]
["082805",8,{"$f":"+MIN(Contributo_cer[[#This Row],[Totale Immissione in rete]:[Totale Consumi rimanenti]])","v":0},"HCB",null,null,null,0]
["082806",8,{"$f":"+MIN(Contributo_cer[[#This Row],[Totale Immissione in rete]:[Totale Consumi rimanenti]])","v":0},"HPB",null,null,null,0]
["082807",8,{"$f":"+MIN(Contributo_cer[[#This Row],[Totale Immissione in rete]:[Totale Consumi rimanenti]])","v":0},"HPB",null,null,null,0]
["082808",8,{"$f":"+MIN(Contributo_cer[[#This Row],[Totale Immissione in rete]:[Totale Consumi rimanenti]])","v":0},"HPB",null,null,null,0]
["082809",8,{"$f":"+MIN(Contributo_cer[[#This Row],[Totale Immissione in rete]:[Totale Consumi rimanenti]])","v":0},"HPB",null,null,null,0]
["082810",8,{"$f":"+MIN(Contributo_cer[[#This Row],[Totale Immissione in rete]:[Totale Consumi rimanenti]])","v":0},"HPB",null,null,null,0]
["082811",8,{"$f":"+MIN(Contributo_cer[[#This Row],[Totale Immissione in rete]:[Totale Consumi rimanenti]])","v":0},"HPB",null,null,null,0]
["082812",8,{"$f":"+MIN(Contributo_cer[[#This Row],[Totale Immissione in rete]:[Totale Consumi rimanenti]])","v":0},"HPB",null,null,null,0]
["082813",8,{"$f":"+MIN(Contributo_cer[[#This Row],[Totale Immissione in rete]:[Totale Consumi rimanenti]])","v":0},"HPB",null,null,null,0]
["082814",8,{"$f":"+MIN(Contributo_cer[[#This Row],[Totale Immissione in rete]:[Totale Consumi rimanenti]])","v":0},"HPB",null,null,null,0]
["082815",8,{"$f":"+MIN(Contributo_cer[[#This Row],[Totale Immissione in rete]:[Totale Consumi rimanenti]])","v":0},"HPB",null,null,null,0]
["082816",8,{"$f":"+MIN(Contributo_cer[[#This Row],[Totale Immissione in rete]:[Totale Consumi rimanenti]])","v":0},"HPB",null,null,null,0]
["082817",8,{"$f":"+MIN(Contributo_cer[[#This Row],[Totale Immissione in rete]:[Totale Consumi rimanenti]])","v":0},"HPB",null,null,null,0]
["082818",8,{"$f":"+MIN(Contributo_cer[[#This Row],[Totale Immissione in rete]:[Totale Consumi rimanenti]])","v":0},"HPB",null,null,null,0]
["082819",8,{"$f":"+MIN(Contributo_cer[[#This Row],[Totale Immissione in rete]:[Totale Consumi rimanenti]])","v":0},"HPB",null,null,null,0]
["082820",8,{"$f":"+MIN(Contributo_cer[[#This Row],[Totale Immissione in rete]:[Totale Consumi rimanenti]])","v":0},"HPB",null,null,null,0]
["082821",8,{"$f":"+MIN(Contributo_cer[[#This Row],[Totale Immissione in rete]:[Totale Consumi rimanenti]])","v":0},"HPB",null,null,null,0]
["082822",8,{"$f":"+MIN(Contributo_cer[[#This Row],[Totale Immissione in rete]:[Totale Consumi rimanenti]])","v":0},"HCB",null,null,null,0]
["082823",8,{"$f":"+MIN(Contributo_cer[[#This Row],[Totale Immissione in rete]:[Totale Consumi rimanenti]])","v":0},"HCB",null,null,null,0]
["082900",8,{"$f":"+MIN(Contributo_cer[[#This Row],[Totale Immissione in rete]:[Totale Consumi rimanenti]])","v":0},"HCB",null,null,null,0]
["082901",8,{"$f":"+MIN(Contributo_cer[[#This Row],[Totale Immissione in rete]:[Totale Consumi rimanenti]])","v":0},"HCB",null,null,null,0]
["082902",8,{"$f":"+MIN(Contributo_cer[[#This Row],[Totale Immissione in rete]:[Totale Consumi rimanenti]])","v":0},"HCB",null,null,null,0]
["082903",8,{"$f":"+MIN(Contributo_cer[[#This Row],[Totale Immissione in rete]:[Totale Consumi rimanenti]])","v":0},"HCB",null,null,null,0]
["082904",8,{"$f":"+MIN(Contributo_cer[[#This Row],[Totale Immissione in rete]:[Totale Consumi rimanenti]])","v":0},"HCB",null,null,null,0]
["082905",8,{"$f":"+MIN(Contributo_cer[[#This Row],[Totale Immissione in rete]:[Totale Consumi rimanenti]])","v":0},"HCB",null,null,null,0]
["082906",8,{"$f":"+MIN(Contributo_cer[[#This Row],[Totale Immissione in rete]:[Totale Consumi rimanenti]])","v":0},"HPB",null,null,null,0]
["082907",8,{"$f":"+MIN(Contributo_cer[[#This Row],[Totale Immissione in rete]:[Totale Consumi rimanenti]])","v":0},"HPB",null,null,null,0]
["082908",8,{"$f":"+MIN(Contributo_cer[[#This Row],[Totale Immissione in rete]:[Totale Consumi rimanenti]])","v":0},"HPB",null,null,null,0]
["082909",8,{"$f":"+MIN(Contributo_cer[[#This Row],[Totale Immissione in rete]:[Totale Consumi rimanenti]])","v":0},"HPB",null,null,null,0]
["082910",8,{"$f":"+MIN(Contributo_cer[[#This Row],[Totale Immissione in rete]:[Totale Consumi rimanenti]])","v":0},"HPB",null,null,null,0]
["082911",8,{"$f":"+MIN(Contributo_cer[[#This Row],[Totale Immissione in rete]:[Totale Consumi rimanenti]])","v":0},"HPB",null,null,null,0]
["082912",8,{"$f":"+MIN(Contributo_cer[[#This Row],[Totale Immissione in rete]:[Totale Consumi rimanenti]])","v":0},"HPB",null,null,null,0]
["082913",8,{"$f":"+MIN(Contributo_cer[[#This Row],[Totale Immissione in rete]:[Totale Consumi rimanenti]])","v":0},"HPB",null,null,null,0]
["082914",8,{"$f":"+MIN(Contributo_cer[[#This Row],[Totale Immissione in rete]:[Totale Consumi rimanenti]])","v":0},"HPB",null,null,null,0]
["082915",8,{"$f":"+MIN(Contributo_cer[[#This Row],[Totale Immissione in rete]:[Totale Consumi rimanenti]])","v":0},"HPB",null,null,null,0]
["082916",8,{"$f":"+MIN(Contributo_cer[[#This Row],[Totale Immissione in rete]:[Totale Consumi rimanenti]])","v":0},"HPB",null,null,null,0]
["082917",8,{"$f":"+MIN(Contributo_cer[[#This Row],[Totale Immissione in rete]:[Totale Consumi rimanenti]])","v":0},"HPB",null,null,null,0]
["082918",8,{"$f":"+MIN(Contributo_cer[[#This Row],[Totale Immissione in rete]:[Totale Consumi rimanenti]])","v":0},"HPB",null,null,null,0]
["082919",8,{"$f":"+MIN(Contributo_cer[[#This Row],[Totale Immissione in rete]:[Totale Consumi rimanenti]])","v":0},"HPB",null,null,null,0]
["082920",8,{"$f":"+MIN(Contributo_cer[[#This Row],[Totale Immissione in rete]:[Totale Consumi rimanenti]])","v":0},"HPB",null,null,null,0]
["082921",8,{"$f":"+MIN(Contributo_cer[[#This Row],[Totale Immissione in rete]:[Totale Consumi rimanenti]])","v":0},"HPB",null,null,null,0]
["082922",8,{"$f":"+MIN(Contributo_cer[[#This Row],[Totale Immissione in rete]:[Totale Consumi rimanenti]])","v":0},"HCB",null,null,null,0]
["082923",8,{"$f":"+MIN(Contributo_cer[[#This Row],[Totale Immissione in rete]:[Totale Consumi rimanenti]])","v":0},"HCB",null,null,null,0]
["083000",8,{"$f":"+MIN(Contributo_cer[[#This Row],[Totale Immissione in rete]:[Totale Consumi rimanenti]])","v":0},"HCB",null,null,null,0]
["083001",8,{"$f":"+MIN(Contributo_cer[[#This Row],[Totale Immissione in rete]:[Totale Consumi rimanenti]])","v":0},"HCB",null,null,null,0]
["083002",8,{"$f":"+MIN(Contributo_cer[[#This Row],[Totale Immissione in rete]:[Totale Consumi rimanenti]])","v":0},"HCB",null,null,null,0]
["083003",8,{"$f":"+MIN(Contributo_cer[[#This Row],[Totale Immissione in rete]:[Totale Consumi rimanenti]])","v":0},"HCB",null,null,null,0]
["083004",8,{"$f":"+MIN(Contributo_cer[[#This Row],[Totale Immissione in rete]:[Totale Consumi rimanenti]])","v":0},"HCB",null,null,null,0]
["083005",8,{"$f":"+MIN(Contributo_cer[[#This Row],[Totale Immissione in rete]:[Totale Consumi rimanenti]])","v":0},"HCB",null,null,null,0]
["083006",8,{"$f":"+MIN(Contributo_cer[[#This Row],[Totale Immissione in rete]:[Totale Consumi rimanenti]])","v":0},"HPB",null,null,null,0]
["083007",8,{"$f":"+MIN(Contributo_cer[[#This Row],[Totale Immissione in rete]:[Totale Consumi rimanenti]])","v":0},"HPB",null,null,null,0]
["083008",8,{"$f":"+MIN(Contributo_cer[[#This Row],[Totale Immissione in rete]:[Totale Consumi rimanenti]])","v":0},"HPB",null,null,null,0]
["083009",8,{"$f":"+MIN(Contributo_cer[[#This Row],[Totale Immissione in rete]:[Totale Consumi rimanenti]])","v":0},"HPB",null,null,null,0]
["083010",8,{"$f":"+MIN(Contributo_cer[[#This Row],[Totale Immissione in rete]:[Totale Consumi rimanenti]])","v":0},"HPB",null,null,null,0]
["083011",8,{"$f":"+MIN(Contributo_cer[[#This Row],[Totale Immissione in rete]:[Totale Consumi rimanenti]])","v":0},"HPB",null,null,null,0]
["083012",8,{"$f":"+MIN(Contributo_cer[[#This Row],[Totale Immissione in rete]:[Totale Consumi rimanenti]])","v":0},"HPB",null,null,null,0]
["083013",8,{"$f":"+MIN(Contributo_cer[[#This Row],[Totale Immissione in rete]:[Totale Consumi rimanenti]])","v":0},"HPB",null,null,null,0]
["083014",8,{"$f":"+MIN(Contributo_cer[[#This Row],[Totale Immissione in rete]:[Totale Consumi rimanenti]])","v":0},"HPB",null,null,null,0]
["083015",8,{"$f":"+MIN(Contributo_cer[[#This Row],[Totale Immissione in rete]:[Totale Consumi rimanenti]])","v":0},"HPB",null,null,null,0]
["083016",8,{"$f":"+MIN(Contributo_cer[[#This Row],[Totale Immissione in rete]:[Totale Consumi rimanenti]])","v":0},"HPB",null,null,null,0]
["083017",8,{"$f":"+MIN(Contributo_cer[[#This Row],[Totale Immissione in rete]:[Totale Consumi rimanenti]])","v":0},"HPB",null,null,null,0]
["083018",8,{"$f":"+MIN(Contributo_cer[[#This Row],[Totale Immissione in rete]:[Totale Consumi rimanenti]])","v":0},"HPB",null,null,null,0]
["083019",8,{"$f":"+MIN(Contributo_cer[[#This Row],[Totale Immissione in rete]:[Totale Consumi rimanenti]])","v":0},"HPB",null,null,null,0]
["083020",8,{"$f":"+MIN(Contributo_cer[[#This Row],[Totale Immissione in rete]:[Totale Consumi rimanenti]])","v":0},"HPB",null,null,null,0]
["083021",8,{"$f":"+MIN(Contributo_cer[[#This Row],[Totale Immissione in rete]:[Totale Consumi rimanenti]])","v":0},"HPB",null,null,null,0]
["083022",8,{"$f":"+MIN(Contributo_cer[[#This Row],[Totale Immissione in rete]:[Totale Consumi rimanenti]])","v":0},"HCB",null,null,null,0]
["083023",8,{"$f":"+MIN(Contributo_cer[[#This Row],[Totale Immissione in rete]:[Totale Consumi rimanenti]])","v":0},"HCB",null,null,null,0]
["083100",8,{"$f":"+MIN(Contributo_cer[[#This Row],[Totale Immissione in rete]:[Totale Consumi rimanenti]])","v":0},"HCB",null,null,null,0]
["083101",8,{"$f":"+MIN(Contributo_cer[[#This Row],[Totale Immissione in rete]:[Totale Consumi rimanenti]])","v":0},"HCB",null,null,null,0]
["083102",8,{"$f":"+MIN(Contributo_cer[[#This Row],[Totale Immissione in rete]:[Totale Consumi rimanenti]])","v":0},"HCB",null,null,null,0]
["083103",8,{"$f":"+MIN(Contributo_cer[[#This Row],[Totale Immissione in rete]:[Totale Consumi rimanenti]])","v":0},"HCB",null,null,null,0]
["083104",8,{"$f":"+MIN(Contributo_cer[[#This Row],[Totale Immissione in rete]:[Totale Consumi rimanenti]])","v":0},"HCB",null,null,null,0]
["083105",8,{"$f":"+MIN(Contributo_cer[[#This Row],[Totale Immissione in rete]:[Totale Consumi rimanenti]])","v":0},"HCB",null,null,null,0]
["083106",8,{"$f":"+MIN(Contributo_cer[[#This Row],[Totale Immissione in rete]:[Totale Consumi rimanenti]])","v":0},"HPB",null,null,null,0]
["083107",8,{"$f":"+MIN(Contributo_cer[[#This Row],[Totale Immissione in rete]:[Totale Consumi rimanenti]])","v":0},"HPB",null,null,null,0]
["083108",8,{"$f":"+MIN(Contributo_cer[[#This Row],[Totale Immissione in rete]:[Totale Consumi rimanenti]])","v":0},"HPB",null,null,null,0]
["083109",8,{"$f":"+MIN(Contributo_cer[[#This Row],[Totale Immissione in rete]:[Totale Consumi rimanenti]])","v":0},"HPB",null,null,null,0]
["083110",8,{"$f":"+MIN(Contributo_cer[[#This Row],[Totale Immissione in rete]:[Totale Consumi rimanenti]])","v":0},"HPB",null,null,null,0]
["083111",8,{"$f":"+MIN(Contributo_cer[[#This Row],[Totale Immissione in rete]:[Totale Consumi rimanenti]])","v":0},"HPB",null,null,null,0]
["083112",8,{"$f":"+MIN(Contributo_cer[[#This Row],[Totale Immissione in rete]:[Totale Consumi rimanenti]])","v":0},"HPB",null,null,null,0]
["083113",8,{"$f":"+MIN(Contributo_cer[[#This Row],[Totale Immissione in rete]:[Totale Consumi rimanenti]])","v":0},"HPB",null,null,null,0]
["083114",8,{"$f":"+MIN(Contributo_cer[[#This Row],[Totale Immissione in rete]:[Totale Consumi rimanenti]])","v":0},"HPB",null,null,null,0]
["083115",8,{"$f":"+MIN(Contributo_cer[[#This Row],[Totale Immissione in rete]:[Totale Consumi rimanenti]])","v":0},"HPB",null,null,null,0]
["083116",8,{"$f":"+MIN(Contributo_cer[[#This Row],[Totale Immissione in rete]:[Totale Consumi rimanenti]])","v":0},"HPB",null,null,null,0]
["083117",8,{"$f":"+MIN(Contributo_cer[[#This Row],[Totale Immissione in rete]:[Totale Consumi rimanenti]])","v":0},"HPB",null,null,null,0]
["083118",8,{"$f":"+MIN(Contributo_cer[[#This Row],[Totale Immissione in rete]:[Totale Consumi rimanenti]])","v":0},"HPB",null,null,null,0]
["083119",8,{"$f":"+MIN(Contributo_cer[[#This Row],[Totale Immissione in rete]:[Totale Consumi rimanenti]])","v":0},"HPB",null,null,null,0]
["083120",8,{"$f":"+MIN(Contributo_cer[[#This Row],[Totale Immissione in rete]:[Totale Consumi rimanenti]])","v":0},"HPB",null,null,null,0]
["083121",8,{"$f":"+MIN(Contributo_cer[[#This Row],[Totale Immissione in rete]:[Totale Consumi rimanenti]])","v":0},"HPB",null,null,null,0]
["083122",8,{"$f":"+MIN(Contributo_cer[[#This Row],[Totale Immissione in rete]:[Totale Consumi rimanenti]])","v":0},"HCB",null,null,null,0]
["083123",8,{"$f":"+MIN(Contributo_cer[[#This Row],[Totale Immissione in rete]:[Totale Consumi rimanenti]])","v":0},"HCB",null,null,null,0]
["090100",9,{"$f":"+MIN(Contributo_cer[[#This Row],[Totale Immissione in rete]:[Totale Consumi rimanenti]])","v":0},"HCB",null,null,null,0]
["090101",9,{"$f":"+MIN(Contributo_cer[[#This Row],[Totale Immissione in rete]:[Totale Consumi rimanenti]])","v":0},"HCB",null,null,null,0]
["090102",9,{"$f":"+MIN(Contributo_cer[[#This Row],[Totale Immissione in rete]:[Totale Consumi rimanenti]])","v":0},"HCB",null,null,null,0]
["090103",9,{"$f":"+MIN(Contributo_cer[[#This Row],[Totale Immissione in rete]:[Totale Consumi rimanenti]])","v":0},"HCB",null,null,null,0]
["090104",9,{"$f":"+MIN(Contributo_cer[[#This Row],[Totale Immissione in rete]:[Totale Consumi rimanenti]])","v":0},"HCB",null,null,null,0]
["090105",9,{"$f":"+MIN(Contributo_cer[[#This Row],[Totale Immissione in rete]:[Totale Consumi rimanenti]])","v":0},"HCB",null,null,null,0]
["090106",9,{"$f":"+MIN(Contributo_cer[[#This Row],[Totale Immissione in rete]:[Totale Consumi rimanenti]])","v":0},"HPB",null,null,null,0]
["090107",9,{"$f":"+MIN(Contributo_cer[[#This Row],[Totale Immissione in rete]:[Totale Consumi rimanenti]])","v":0},"HPB",null,null,null,0]
["090108",9,{"$f":"+MIN(Contributo_cer[[#This Row],[Totale Immissione in rete]:[Totale Consumi rimanenti]])","v":0},"HPB",null,null,null,0]
["090109",9,{"$f":"+MIN(Contributo_cer[[#This Row],[Totale Immissione in rete]:[Totale Consumi rimanenti]])","v":0},"HPB",null,null,null,0]
["090110",9,{"$f":"+MIN(Contributo_cer[[#This Row],[Totale Immissione in rete]:[Totale Consumi rimanenti]])","v":0},"HPB",null,null,null,0]
["090111",9,{"$f":"+MIN(Contributo_cer[[#This Row],[Totale Immissione in rete]:[Totale Consumi rimanenti]])","v":0},"HPB",null,null,null,0]
["090112",9,{"$f":"+MIN(Contributo_cer[[#This Row],[Totale Immissione in rete]:[Totale Consumi rimanenti]])","v":0},"HPB",null,null,null,0]
["090113",9,{"$f":"+MIN(Contributo_cer[[#This Row],[Totale Immissione in rete]:[Totale Consumi rimanenti]])","v":0},"HPB",null,null,null,0]
["090114",9,{"$f":"+MIN(Contributo_cer[[#This Row],[Totale Immissione in rete]:[Totale Consumi rimanenti]])","v":0},"HPB",null,null,null,0]
["090115",9,{"$f":"+MIN(Contributo_cer[[#This Row],[Totale Immissione in rete]:[Totale Consumi rimanenti]])","v":0},"HPB",null,null,null,0]
["090116",9,{"$f":"+MIN(Contributo_cer[[#This Row],[Totale Immissione in rete]:[Totale Consumi rimanenti]])","v":0},"HPB",null,null,null,0]
["090117",9,{"$f":"+MIN(Contributo_cer[[#This Row],[Totale Immissione in rete]:[Totale Consumi rimanenti]])","v":0},"HPB",null,null,null,0]
["090118",9,{"$f":"+MIN(Contributo_cer[[#This Row],[Totale Immissione in rete]:[Totale Consumi rimanenti]])","v":0},"HPB",null,null,null,0]
["090119",9,{"$f":"+MIN(Contributo_cer[[#This Row],[Totale Immissione in rete]:[Totale Consumi rimanenti]])","v":0},"HPB",null,null,null,0]
["090120",9,{"$f":"+MIN(Contributo_cer[[#This Row],[Totale Immissione in rete]:[Totale Consumi rimanenti]])","v":0},"HPB",null,null,null,0]
["090121",9,{"$f":"+MIN(Contributo_cer[[#This Row],[Totale Immissione in rete]:[Totale Consumi rimanenti]])","v":0},"HPB",null,null,null,0]
["090122",9,{"$f":"+MIN(Contributo_cer[[#This Row],[Totale Immissione in rete]:[Totale Consumi rimanenti]])","v":0},"HCB",null,null,null,0]
["090123",9,{"$f":"+MIN(Contributo_cer[[#This Row],[Totale Immissione in rete]:[Totale Consumi rimanenti]])","v":0},"HCB",null,null,null,0]
["090200",9,{"$f":"+MIN(Contributo_cer[[#This Row],[Totale Immissione in rete]:[Totale Consumi rimanenti]])","v":0},"HCB",null,null,null,0]
["090201",9,{"$f":"+MIN(Contributo_cer[[#This Row],[Totale Immissione in rete]:[Totale Consumi rimanenti]])","v":0},"HCB",null,null,null,0]
["090202",9,{"$f":"+MIN(Contributo_cer[[#This Row],[Totale Immissione in rete]:[Totale Consumi rimanenti]])","v":0},"HCB",null,null,null,0]
["090203",9,{"$f":"+MIN(Contributo_cer[[#This Row],[Totale Immissione in rete]:[Totale Consumi rimanenti]])","v":0},"HCB",null,null,null,0]
["090204",9,{"$f":"+MIN(Contributo_cer[[#This Row],[Totale Immissione in rete]:[Totale Consumi rimanenti]])","v":0},"HCB",null,null,null,0]
["090205",9,{"$f":"+MIN(Contributo_cer[[#This Row],[Totale Immissione in rete]:[Totale Consumi rimanenti]])","v":0},"HCB",null,null,null,0]
["090206",9,{"$f":"+MIN(Contributo_cer[[#This Row],[Totale Immissione in rete]:[Totale Consumi rimanenti]])","v":0},"HPB",null,null,null,0]
["090207",9,{"$f":"+MIN(Contributo_cer[[#This Row],[Totale Immissione in rete]:[Totale Consumi rimanenti]])","v":0},"HPB",null,null,null,0]
["090208",9,{"$f":"+MIN(Contributo_cer[[#This Row],[Totale Immissione in rete]:[Totale Consumi rimanenti]])","v":0},"HPB",null,null,null,0]
["090209",9,{"$f":"+MIN(Contributo_cer[[#This Row],[Totale Immissione in rete]:[Totale Consumi rimanenti]])","v":0},"HPB",null,null,null,0]
["090210",9,{"$f":"+MIN(Contributo_cer[[#This Row],[Totale Immissione in rete]:[Totale Consumi rimanenti]])","v":0},"HPB",null,null,null,0]
["090211",9,{"$f":"+MIN(Contributo_cer[[#This Row],[Totale Immissione in rete]:[Totale Consumi rimanenti]])","v":0},"HPB",null,null,null,0]
["090212",9,{"$f":"+MIN(Contributo_cer[[#This Row],[Totale Immissione in rete]:[Totale Consumi rimanenti]])","v":0},"HPB",null,null,null,0]
["090213",9,{"$f":"+MIN(Contributo_cer[[#This Row],[Totale Immissione in rete]:[Totale Consumi rimanenti]])","v":0},"HPB",null,null,null,0]
["090214",9,{"$f":"+MIN(Contributo_cer[[#This Row],[Totale Immissione in rete]:[Totale Consumi rimanenti]])","v":0},"HPB",null,null,null,0]
["090215",9,{"$f":"+MIN(Contributo_cer[[#This Row],[Totale Immissione in rete]:[Totale Consumi rimanenti]])","v":0},"HPB",null,null,null,0]
["090216",9,{"$f":"+MIN(Contributo_cer[[#This Row],[Totale Immissione in rete]:[Totale Consumi rimanenti]])","v":0},"HPB",null,null,null,0]
["090217",9,{"$f":"+MIN(Contributo_cer[[#This Row],[Totale Immissione in rete]:[Totale Consumi rimanenti]])","v":0},"HPB",null,null,null,0]
["090218",9,{"$f":"+MIN(Contributo_cer[[#This Row],[Totale Immissione in rete]:[Totale Consumi rimanenti]])","v":0},"HPB",null,null,null,0]
["090219",9,{"$f":"+MIN(Contributo_cer[[#This Row],[Totale Immissione in rete]:[Totale Consumi rimanenti]])","v":0},"HPB",null,null,null,0]
["090220",9,{"$f":"+MIN(Contributo_cer[[#This Row],[Totale Immissione in rete]:[Totale Consumi rimanenti]])","v":0},"HPB",null,null,null,0]
["090221",9,{"$f":"+MIN(Contributo_cer[[#This Row],[Totale Immissione in rete]:[Totale Consumi rimanenti]])","v":0},"HPB",null,null,null,0]
["090222",9,{"$f":"+MIN(Contributo_cer[[#This Row],[Totale Immissione in rete]:[Totale Consumi rimanenti]])","v":0},"HCB",null,null,null,0]
["090223",9,{"$f":"+MIN(Contributo_cer[[#This Row],[Totale Immissione in rete]:[Totale Consumi rimanenti]])","v":0},"HCB",null,null,null,0]
["090300",9,{"$f":"+MIN(Contributo_cer[[#This Row],[Totale Immissione in rete]:[Totale Consumi rimanenti]])","v":0},"HCB",null,null,null,0]
["090301",9,{"$f":"+MIN(Contributo_cer[[#This Row],[Totale Immissione in rete]:[Totale Consumi rimanenti]])","v":0},"HCB",null,null,null,0]
["090302",9,{"$f":"+MIN(Contributo_cer[[#This Row],[Totale Immissione in rete]:[Totale Consumi rimanenti]])","v":0},"HCB",null,null,null,0]
["090303",9,{"$f":"+MIN(Contributo_cer[[#This Row],[Totale Immissione in rete]:[Totale Consumi rimanenti]])","v":0},"HCB",null,null,null,0]
["090304",9,{"$f":"+MIN(Contributo_cer[[#This Row],[Totale Immissione in rete]:[Totale Consumi rimanenti]])","v":0},"HCB",null,null,null,0]
["090305",9,{"$f":"+MIN(Contributo_cer[[#This Row],[Totale Immissione in rete]:[Totale Consumi rimanenti]])","v":0},"HCB",null,null,null,0]
["090306",9,{"$f":"+MIN(Contributo_cer[[#This Row],[Totale Immissione in rete]:[Totale Consumi rimanenti]])","v":0},"HPB",null,null,null,0]
["090307",9,{"$f":"+MIN(Contributo_cer[[#This Row],[Totale Immissione in rete]:[Totale Consumi rimanenti]])","v":0},"HPB",null,null,null,0]
["090308",9,{"$f":"+MIN(Contributo_cer[[#This Row],[Totale Immissione in rete]:[Totale Consumi rimanenti]])","v":0},"HPB",null,null,null,0]
["090309",9,{"$f":"+MIN(Contributo_cer[[#This Row],[Totale Immissione in rete]:[Totale Consumi rimanenti]])","v":0},"HPB",null,null,null,0]
["090310",9,{"$f":"+MIN(Contributo_cer[[#This Row],[Totale Immissione in rete]:[Totale Consumi rimanenti]])","v":0},"HPB",null,null,null,0]
["090311",9,{"$f":"+MIN(Contributo_cer[[#This Row],[Totale Immissione in rete]:[Totale Consumi rimanenti]])","v":0},"HPB",null,null,null,0]
["090312",9,{"$f":"+MIN(Contributo_cer[[#This Row],[Totale Immissione in rete]:[Totale Consumi rimanenti]])","v":0},"HPB",null,null,null,0]
["090313",9,{"$f":"+MIN(Contributo_cer[[#This Row],[Totale Immissione in rete]:[Totale Consumi rimanenti]])","v":0},"HPB",null,null,null,0]
["090314",9,{"$f":"+MIN(Contributo_cer[[#This Row],[Totale Immissione in rete]:[Totale Consumi rimanenti]])","v":0},"HPB",null,null,null,0]
["090315",9,{"$f":"+MIN(Contributo_cer[[#This Row],[Totale Immissione in rete]:[Totale Consumi rimanenti]])","v":0},"HPB",null,null,null,0]
["090316",9,{"$f":"+MIN(Contributo_cer[[#This Row],[Totale Immissione in rete]:[Totale Consumi rimanenti]])","v":0},"HPB",null,null,null,0]
["090317",9,{"$f":"+MIN(Contributo_cer[[#This Row],[Totale Immissione in rete]:[Totale Consumi rimanenti]])","v":0},"HPB",null,null,null,0]
["090318",9,{"$f":"+MIN(Contributo_cer[[#This Row],[Totale Immissione in rete]:[Totale Consumi rimanenti]])","v":0},"HPB",null,null,null,0]
["090319",9,{"$f":"+MIN(Contributo_cer[[#This Row],[Totale Immissione in rete]:[Totale Consumi rimanenti]])","v":0},"HPB",null,null,null,0]
["090320",9,{"$f":"+MIN(Contributo_cer[[#This Row],[Totale Immissione in rete]:[Totale Consumi rimanenti]])","v":0},"HPB",null,null,null,0]
["090321",9,{"$f":"+MIN(Contributo_cer[[#This Row],[Totale Immissione in rete]:[Totale Consumi rimanenti]])","v":0},"HPB",null,null,null,0]
["090322",9,{"$f":"+MIN(Contributo_cer[[#This Row],[Totale Immissione in rete]:[Totale Consumi rimanenti]])","v":0},"HCB",null,null,null,0]
["090323",9,{"$f":"+MIN(Contributo_cer[[#This Row],[Totale Immissione in rete]:[Totale Consumi rimanenti]])","v":0},"HCB",null,null,null,0]
["090400",9,{"$f":"+MIN(Contributo_cer[[#This Row],[Totale Immissione in rete]:[Totale Consumi rimanenti]])","v":0},"HCB",null,null,null,0]
["090401",9,{"$f":"+MIN(Contributo_cer[[#This Row],[Totale Immissione in rete]:[Totale Consumi rimanenti]])","v":0},"HCB",null,null,null,0]
["090402",9,{"$f":"+MIN(Contributo_cer[[#This Row],[Totale Immissione in rete]:[Totale Consumi rimanenti]])","v":0},"HCB",null,null,null,0]
["090403",9,{"$f":"+MIN(Contributo_cer[[#This Row],[Totale Immissione in rete]:[Totale Consumi rimanenti]])","v":0},"HCB",null,null,null,0]
["090404",9,{"$f":"+MIN(Contributo_cer[[#This Row],[Totale Immissione in rete]:[Totale Consumi rimanenti]])","v":0},"HCB",null,null,null,0]
["090405",9,{"$f":"+MIN(Contributo_cer[[#This Row],[Totale Immissione in rete]:[Totale Consumi rimanenti]])","v":0},"HCB",null,null,null,0]
["090406",9,{"$f":"+MIN(Contributo_cer[[#This Row],[Totale Immissione in rete]:[Totale Consumi rimanenti]])","v":0},"HPB",null,null,null,0]
["090407",9,{"$f":"+MIN(Contributo_cer[[#This Row],[Totale Immissione in rete]:[Totale Consumi rimanenti]])","v":0},"HPB",null,null,null,0]
["090408",9,{"$f":"+MIN(Contributo_cer[[#This Row],[Totale Immissione in rete]:[Totale Consumi rimanenti]])","v":0},"HPB",null,null,null,0]
["090409",9,{"$f":"+MIN(Contributo_cer[[#This Row],[Totale Immissione in rete]:[Totale Consumi rimanenti]])","v":0},"HPB",null,null,null,0]
["090410",9,{"$f":"+MIN(Contributo_cer[[#This Row],[Totale Immissione in rete]:[Totale Consumi rimanenti]])","v":0},"HPB",null,null,null,0]
["090411",9,{"$f":"+MIN(Contributo_cer[[#This Row],[Totale Immissione in rete]:[Totale Consumi rimanenti]])","v":0},"HPB",null,null,null,0]
["090412",9,{"$f":"+MIN(Contributo_cer[[#This Row],[Totale Immissione in rete]:[Totale Consumi rimanenti]])","v":0},"HPB",null,null,null,0]
["090413",9,{"$f":"+MIN(Contributo_cer[[#This Row],[Totale Immissione in rete]:[Totale Consumi rimanenti]])","v":0},"HPB",null,null,null,0]
["090414",9,{"$f":"+MIN(Contributo_cer[[#This Row],[Totale Immissione in rete]:[Totale Consumi rimanenti]])","v":0},"HPB",null,null,null,0]
["090415",9,{"$f":"+MIN(Contributo_cer[[#This Row],[Totale Immissione in rete]:[Totale Consumi rimanenti]])","v":0},"HPB",null,null,null,0]
["090416",9,{"$f":"+MIN(Contributo_cer[[#This Row],[Totale Immissione in rete]:[Totale Consumi rimanenti]])","v":0},"HPB",null,null,null,0]
["090417",9,{"$f":"+MIN(Contributo_cer[[#This Row],[Totale Immissione in rete]:[Totale Consumi rimanenti]])","v":0},"HPB",null,null,null,0]
["090418",9,{"$f":"+MIN(Contributo_cer[[#This Row],[Totale Immissione in rete]:[Totale Consumi rimanenti]])","v":0},"HPB",null,null,null,0]
["090419",9,{"$f":"+MIN(Contributo_cer[[#This Row],[Totale Immissione in rete]:[Totale Consumi rimanenti]])","v":0},"HPB",null,null,null,0]
["090420",9,{"$f":"+MIN(Contributo_cer[[#This Row],[Totale Immissione in rete]:[Totale Consumi rimanenti]])","v":0},"HPB",null,null,null,0]
["090421",9,{"$f":"+MIN(Contributo_cer[[#This Row],[Totale Immissione in rete]:[Totale Consumi rimanenti]])","v":0},"HPB",null,null,null,0]
["090422",9,{"$f":"+MIN(Contributo_cer[[#This Row],[Totale Immissione in rete]:[Totale Consumi rimanenti]])","v":0},"HCB",null,null,null,0]
["090423",9,{"$f":"+MIN(Contributo_cer[[#This Row],[Totale Immissione in rete]:[Totale Consumi rimanenti]])","v":0},"HCB",null,null,null,0]
["090500",9,{"$f":"+MIN(Contributo_cer[[#This Row],[Totale Immissione in rete]:[Totale Consumi rimanenti]])","v":0},"HCB",null,null,null,0]
["090501",9,{"$f":"+MIN(Contributo_cer[[#This Row],[Totale Immissione in rete]:[Totale Consumi rimanenti]])","v":0},"HCB",null,null,null,0]
["090502",9,{"$f":"+MIN(Contributo_cer[[#This Row],[Totale Immissione in rete]:[Totale Consumi rimanenti]])","v":0},"HCB",null,null,null,0]
["090503",9,{"$f":"+MIN(Contributo_cer[[#This Row],[Totale Immissione in rete]:[Totale Consumi rimanenti]])","v":0},"HCB",null,null,null,0]
["090504",9,{"$f":"+MIN(Contributo_cer[[#This Row],[Totale Immissione in rete]:[Totale Consumi rimanenti]])","v":0},"HCB",null,null,null,0]
["090505",9,{"$f":"+MIN(Contributo_cer[[#This Row],[Totale Immissione in rete]:[Totale Consumi rimanenti]])","v":0},"HCB",null,null,null,0]
["090506",9,{"$f":"+MIN(Contributo_cer[[#This Row],[Totale Immissione in rete]:[Totale Consumi rimanenti]])","v":0},"HPB",null,null,null,0]
["090507",9,{"$f":"+MIN(Contributo_cer[[#This Row],[Totale Immissione in rete]:[Totale Consumi rimanenti]])","v":0},"HPB",null,null,null,0]
["090508",9,{"$f":"+MIN(Contributo_cer[[#This Row],[Totale Immissione in rete]:[Totale Consumi rimanenti]])","v":0},"HPB",null,null,null,0]
["090509",9,{"$f":"+MIN(Contributo_cer[[#This Row],[Totale Immissione in rete]:[Totale Consumi rimanenti]])","v":0},"HPB",null,null,null,0]
["090510",9,{"$f":"+MIN(Contributo_cer[[#This Row],[Totale Immissione in rete]:[Totale Consumi rimanenti]])","v":0},"HPB",null,null,null,0]
["090511",9,{"$f":"+MIN(Contributo_cer[[#This Row],[Totale Immissione in rete]:[Totale Consumi rimanenti]])","v":0},"HPB",null,null,null,0]
["090512",9,{"$f":"+MIN(Contributo_cer[[#This Row],[Totale Immissione in rete]:[Totale Consumi rimanenti]])","v":0},"HPB",null,null,null,0]
["090513",9,{"$f":"+MIN(Contributo_cer[[#This Row],[Totale Immissione in rete]:[Totale Consumi rimanenti]])","v":0},"HPB",null,null,null,0]
["090514",9,{"$f":"+MIN(Contributo_cer[[#This Row],[Totale Immissione in rete]:[Totale Consumi rimanenti]])","v":0},"HPB",null,null,null,0]
["090515",9,{"$f":"+MIN(Contributo_cer[[#This Row],[Totale Immissione in rete]:[Totale Consumi rimanenti]])","v":0},"HPB",null,null,null,0]
["090516",9,{"$f":"+MIN(Contributo_cer[[#This Row],[Totale Immissione in rete]:[Totale Consumi rimanenti]])","v":0},"HPB",null,null,null,0]
["090517",9,{"$f":"+MIN(Contributo_cer[[#This Row],[Totale Immissione in rete]:[Totale Consumi rimanenti]])","v":0},"HPB",null,null,null,0]
["090518",9,{"$f":"+MIN(Contributo_cer[[#This Row],[Totale Immissione in rete]:[Totale Consumi rimanenti]])","v":0},"HPB",null,null,null,0]
["090519",9,{"$f":"+MIN(Contributo_cer[[#This Row],[Totale Immissione in rete]:[Totale Consumi rimanenti]])","v":0},"HPB",null,null,null,0]
["090520",9,{"$f":"+MIN(Contributo_cer[[#This Row],[Totale Immissione in rete]:[Totale Consumi rimanenti]])","v":0},"HPB",null,null,null,0]
["090521",9,{"$f":"+MIN(Contributo_cer[[#This Row],[Totale Immissione in rete]:[Totale Consumi rimanenti]])","v":0},"HPB",null,null,null,0]
["090522",9,{"$f":"+MIN(Contributo_cer[[#This Row],[Totale Immissione in rete]:[Totale Consumi rimanenti]])","v":0},"HCB",null,null,null,0]
["090523",9,{"$f":"+MIN(Contributo_cer[[#This Row],[Totale Immissione in rete]:[Totale Consumi rimanenti]])","v":0},"HCB",null,null,null,0]
["090600",9,{"$f":"+MIN(Contributo_cer[[#This Row],[Totale Immissione in rete]:[Totale Consumi rimanenti]])","v":0},"HCB",null,null,null,0]
["090601",9,{"$f":"+MIN(Contributo_cer[[#This Row],[Totale Immissione in rete]:[Totale Consumi rimanenti]])","v":0},"HCB",null,null,null,0]
["090602",9,{"$f":"+MIN(Contributo_cer[[#This Row],[Totale Immissione in rete]:[Totale Consumi rimanenti]])","v":0},"HCB",null,null,null,0]
["090603",9,{"$f":"+MIN(Contributo_cer[[#This Row],[Totale Immissione in rete]:[Totale Consumi rimanenti]])","v":0},"HCB",null,null,null,0]
["090604",9,{"$f":"+MIN(Contributo_cer[[#This Row],[Totale Immissione in rete]:[Totale Consumi rimanenti]])","v":0},"HCB",null,null,null,0]
["090605",9,{"$f":"+MIN(Contributo_cer[[#This Row],[Totale Immissione in rete]:[Totale Consumi rimanenti]])","v":0},"HCB",null,null,null,0]
["090606",9,{"$f":"+MIN(Contributo_cer[[#This Row],[Totale Immissione in rete]:[Totale Consumi rimanenti]])","v":0},"HPB",null,null,null,0]
["090607",9,{"$f":"+MIN(Contributo_cer[[#This Row],[Totale Immissione in rete]:[Totale Consumi rimanenti]])","v":0},"HPB",null,null,null,0]
["090608",9,{"$f":"+MIN(Contributo_cer[[#This Row],[Totale Immissione in rete]:[Totale Consumi rimanenti]])","v":0},"HPB",null,null,null,0]
["090609",9,{"$f":"+MIN(Contributo_cer[[#This Row],[Totale Immissione in rete]:[Totale Consumi rimanenti]])","v":0},"HPB",null,null,null,0]
["090610",9,{"$f":"+MIN(Contributo_cer[[#This Row],[Totale Immissione in rete]:[Totale Consumi rimanenti]])","v":0},"HPB",null,null,null,0]
["090611",9,{"$f":"+MIN(Contributo_cer[[#This Row],[Totale Immissione in rete]:[Totale Consumi rimanenti]])","v":0},"HPB",null,null,null,0]
["090612",9,{"$f":"+MIN(Contributo_cer[[#This Row],[Totale Immissione in rete]:[Totale Consumi rimanenti]])","v":0},"HPB",null,null,null,0]
["090613",9,{"$f":"+MIN(Contributo_cer[[#This Row],[Totale Immissione in rete]:[Totale Consumi rimanenti]])","v":0},"HPB",null,null,null,0]
["090614",9,{"$f":"+MIN(Contributo_cer[[#This Row],[Totale Immissione in rete]:[Totale Consumi rimanenti]])","v":0},"HPB",null,null,null,0]
["090615",9,{"$f":"+MIN(Contributo_cer[[#This Row],[Totale Immissione in rete]:[Totale Consumi rimanenti]])","v":0},"HPB",null,null,null,0]
["090616",9,{"$f":"+MIN(Contributo_cer[[#This Row],[Totale Immissione in rete]:[Totale Consumi rimanenti]])","v":0},"HPB",null,null,null,0]
["090617",9,{"$f":"+MIN(Contributo_cer[[#This Row],[Totale Immissione in rete]:[Totale Consumi rimanenti]])","v":0},"HPB",null,null,null,0]
["090618",9,{"$f":"+MIN(Contributo_cer[[#This Row],[Totale Immissione in rete]:[Totale Consumi rimanenti]])","v":0},"HPB",null,null,null,0]
["090619",9,{"$f":"+MIN(Contributo_cer[[#This Row],[Totale Immissione in rete]:[Totale Consumi rimanenti]])","v":0},"HPB",null,null,null,0]
["090620",9,{"$f":"+MIN(Contributo_cer[[#This Row],[Totale Immissione in rete]:[Totale Consumi rimanenti]])","v":0},"HPB",null,null,null,0]
["090621",9,{"$f":"+MIN(Contributo_cer[[#This Row],[Totale Immissione in rete]:[Totale Consumi rimanenti]])","v":0},"HPB",null,null,null,0]
["090622",9,{"$f":"+MIN(Contributo_cer[[#This Row],[Totale Immissione in rete]:[Totale Consumi rimanenti]])","v":0},"HCB",null,null,null,0]
["090623",9,{"$f":"+MIN(Contributo_cer[[#This Row],[Totale Immissione in rete]:[Totale Consumi rimanenti]])","v":0},"HCB",null,null,null,0]
["090700",9,{"$f":"+MIN(Contributo_cer[[#This Row],[Totale Immissione in rete]:[Totale Consumi rimanenti]])","v":0},"HCB",null,null,null,0]
["090701",9,{"$f":"+MIN(Contributo_cer[[#This Row],[Totale Immissione in rete]:[Totale Consumi rimanenti]])","v":0},"HCB",null,null,null,0]
["090702",9,{"$f":"+MIN(Contributo_cer[[#This Row],[Totale Immissione in rete]:[Totale Consumi rimanenti]])","v":0},"HCB",null,null,null,0]
["090703",9,{"$f":"+MIN(Contributo_cer[[#This Row],[Totale Immissione in rete]:[Totale Consumi rimanenti]])","v":0},"HCB",null,null,null,0]
["090704",9,{"$f":"+MIN(Contributo_cer[[#This Row],[Totale Immissione in rete]:[Totale Consumi rimanenti]])","v":0},"HCB",null,null,null,0]
["090705",9,{"$f":"+MIN(Contributo_cer[[#This Row],[Totale Immissione in rete]:[Totale Consumi rimanenti]])","v":0},"HCB",null,null,null,0]
["090706",9,{"$f":"+MIN(Contributo_cer[[#This Row],[Totale Immissione in rete]:[Totale Consumi rimanenti]])","v":0},"HPB",null,null,null,0]
["090707",9,{"$f":"+MIN(Contributo_cer[[#This Row],[Totale Immissione in rete]:[Totale Consumi rimanenti]])","v":0},"HPB",null,null,null,0]
["090708",9,{"$f":"+MIN(Contributo_cer[[#This Row],[Totale Immissione in rete]:[Totale Consumi rimanenti]])","v":0},"HPB",null,null,null,0]
["090709",9,{"$f":"+MIN(Contributo_cer[[#This Row],[Totale Immissione in rete]:[Totale Consumi rimanenti]])","v":0},"HPB",null,null,null,0]
["090710",9,{"$f":"+MIN(Contributo_cer[[#This Row],[Totale Immissione in rete]:[Totale Consumi rimanenti]])","v":0},"HPB",null,null,null,0]
["090711",9,{"$f":"+MIN(Contributo_cer[[#This Row],[Totale Immissione in rete]:[Totale Consumi rimanenti]])","v":0},"HPB",null,null,null,0]
["090712",9,{"$f":"+MIN(Contributo_cer[[#This Row],[Totale Immissione in rete]:[Totale Consumi rimanenti]])","v":0},"HPB",null,null,null,0]
["090713",9,{"$f":"+MIN(Contributo_cer[[#This Row],[Totale Immissione in rete]:[Totale Consumi rimanenti]])","v":0},"HPB",null,null,null,0]
["090714",9,{"$f":"+MIN(Contributo_cer[[#This Row],[Totale Immissione in rete]:[Totale Consumi rimanenti]])","v":0},"HPB",null,null,null,0]
["090715",9,{"$f":"+MIN(Contributo_cer[[#This Row],[Totale Immissione in rete]:[Totale Consumi rimanenti]])","v":0},"HPB",null,null,null,0]
["090716",9,{"$f":"+MIN(Contributo_cer[[#This Row],[Totale Immissione in rete]:[Totale Consumi rimanenti]])","v":0},"HPB",null,null,null,0]
["090717",9,{"$f":"+MIN(Contributo_cer[[#This Row],[Totale Immissione in rete]:[Totale Consumi rimanenti]])","v":0},"HPB",null,null,null,0]
["090718",9,{"$f":"+MIN(Contributo_cer[[#This Row],[Totale Immissione in rete]:[Totale Consumi rimanenti]])","v":0},"HPB",null,null,null,0]
["090719",9,{"$f":"+MIN(Contributo_cer[[#This Row],[Totale Immissione in rete]:[Totale Consumi rimanenti]])","v":0},"HPB",null,null,null,0]
["090720",9,{"$f":"+MIN(Contributo_cer[[#This Row],[Totale Immissione in rete]:[Totale Consumi rimanenti]])","v":0},"HPB",null,null,null,0]
["090721",9,{"$f":"+MIN(Contributo_cer[[#This Row],[Totale Immissione in rete]:[Totale Consumi rimanenti]])","v":0},"HPB",null,null,null,0]
["090722",9,{"$f":"+MIN(Contributo_cer[[#This Row],[Totale Immissione in rete]:[Totale Consumi rimanenti]])","v":0},"HCB",null,null,null,0]
["090723",9,{"$f":"+MIN(Contributo_cer[[#This Row],[Totale Immissione in rete]:[Totale Consumi rimanenti]])","v":0},"HCB",null,null,null,0]
["090800",9,{"$f":"+MIN(Contributo_cer[[#This Row],[Totale Immissione in rete]:[Totale Consumi rimanenti]])","v":0},"HCB",null,null,null,0]
["090801",9,{"$f":"+MIN(Contributo_cer[[#This Row],[Totale Immissione in rete]:[Totale Consumi rimanenti]])","v":0},"HCB",null,null,null,0]
["090802",9,{"$f":"+MIN(Contributo_cer[[#This Row],[Totale Immissione in rete]:[Totale Consumi rimanenti]])","v":0},"HCB",null,null,null,0]
["090803",9,{"$f":"+MIN(Contributo_cer[[#This Row],[Totale Immissione in rete]:[Totale Consumi rimanenti]])","v":0},"HCB",null,null,null,0]
["090804",9,{"$f":"+MIN(Contributo_cer[[#This Row],[Totale Immissione in rete]:[Totale Consumi rimanenti]])","v":0},"HCB",null,null,null,0]
["090805",9,{"$f":"+MIN(Contributo_cer[[#This Row],[Totale Immissione in rete]:[Totale Consumi rimanenti]])","v":0},"HCB",null,null,null,0]
["090806",9,{"$f":"+MIN(Contributo_cer[[#This Row],[Totale Immissione in rete]:[Totale Consumi rimanenti]])","v":0},"HPB",null,null,null,0]
["090807",9,{"$f":"+MIN(Contributo_cer[[#This Row],[Totale Immissione in rete]:[Totale Consumi rimanenti]])","v":0},"HPB",null,null,null,0]
["090808",9,{"$f":"+MIN(Contributo_cer[[#This Row],[Totale Immissione in rete]:[Totale Consumi rimanenti]])","v":0},"HPB",null,null,null,0]
["090809",9,{"$f":"+MIN(Contributo_cer[[#This Row],[Totale Immissione in rete]:[Totale Consumi rimanenti]])","v":0},"HPB",null,null,null,0]
["090810",9,{"$f":"+MIN(Contributo_cer[[#This Row],[Totale Immissione in rete]:[Totale Consumi rimanenti]])","v":0},"HPB",null,null,null,0]
["090811",9,{"$f":"+MIN(Contributo_cer[[#This Row],[Totale Immissione in rete]:[Totale Consumi rimanenti]])","v":0},"HPB",null,null,null,0]
["090812",9,{"$f":"+MIN(Contributo_cer[[#This Row],[Totale Immissione in rete]:[Totale Consumi rimanenti]])","v":0},"HPB",null,null,null,0]
["090813",9,{"$f":"+MIN(Contributo_cer[[#This Row],[Totale Immissione in rete]:[Totale Consumi rimanenti]])","v":0},"HPB",null,null,null,0]
["090814",9,{"$f":"+MIN(Contributo_cer[[#This Row],[Totale Immissione in rete]:[Totale Consumi rimanenti]])","v":0},"HPB",null,null,null,0]
["090815",9,{"$f":"+MIN(Contributo_cer[[#This Row],[Totale Immissione in rete]:[Totale Consumi rimanenti]])","v":0},"HPB",null,null,null,0]
["090816",9,{"$f":"+MIN(Contributo_cer[[#This Row],[Totale Immissione in rete]:[Totale Consumi rimanenti]])","v":0},"HPB",null,null,null,0]
["090817",9,{"$f":"+MIN(Contributo_cer[[#This Row],[Totale Immissione in rete]:[Totale Consumi rimanenti]])","v":0},"HPB",null,null,null,0]
["090818",9,{"$f":"+MIN(Contributo_cer[[#This Row],[Totale Immissione in rete]:[Totale Consumi rimanenti]])","v":0},"HPB",null,null,null,0]
["090819",9,{"$f":"+MIN(Contributo_cer[[#This Row],[Totale Immissione in rete]:[Totale Consumi rimanenti]])","v":0},"HPB",null,null,null,0]
["090820",9,{"$f":"+MIN(Contributo_cer[[#This Row],[Totale Immissione in rete]:[Totale Consumi rimanenti]])","v":0},"HPB",null,null,null,0]
["090821",9,{"$f":"+MIN(Contributo_cer[[#This Row],[Totale Immissione in rete]:[Totale Consumi rimanenti]])","v":0},"HPB",null,null,null,0]
["090822",9,{"$f":"+MIN(Contributo_cer[[#This Row],[Totale Immissione in rete]:[Totale Consumi rimanenti]])","v":0},"HCB",null,null,null,0]
["090823",9,{"$f":"+MIN(Contributo_cer[[#This Row],[Totale Immissione in rete]:[Totale Consumi rimanenti]])","v":0},"HCB",null,null,null,0]
["090900",9,{"$f":"+MIN(Contributo_cer[[#This Row],[Totale Immissione in rete]:[Totale Consumi rimanenti]])","v":0},"HCB",null,null,null,0]
["090901",9,{"$f":"+MIN(Contributo_cer[[#This Row],[Totale Immissione in rete]:[Totale Consumi rimanenti]])","v":0},"HCB",null,null,null,0]
["090902",9,{"$f":"+MIN(Contributo_cer[[#This Row],[Totale Immissione in rete]:[Totale Consumi rimanenti]])","v":0},"HCB",null,null,null,0]
["090903",9,{"$f":"+MIN(Contributo_cer[[#This Row],[Totale Immissione in rete]:[Totale Consumi rimanenti]])","v":0},"HCB",null,null,null,0]
["090904",9,{"$f":"+MIN(Contributo_cer[[#This Row],[Totale Immissione in rete]:[Totale Consumi rimanenti]])","v":0},"HCB",null,null,null,0]
["090905",9,{"$f":"+MIN(Contributo_cer[[#This Row],[Totale Immissione in rete]:[Totale Consumi rimanenti]])","v":0},"HCB",null,null,null,0]
["090906",9,{"$f":"+MIN(Contributo_cer[[#This Row],[Totale Immissione in rete]:[Totale Consumi rimanenti]])","v":0},"HPB",null,null,null,0]
["090907",9,{"$f":"+MIN(Contributo_cer[[#This Row],[Totale Immissione in rete]:[Totale Consumi rimanenti]])","v":0},"HPB",null,null,null,0]
["090908",9,{"$f":"+MIN(Contributo_cer[[#This Row],[Totale Immissione in rete]:[Totale Consumi rimanenti]])","v":0},"HPB",null,null,null,0]
["090909",9,{"$f":"+MIN(Contributo_cer[[#This Row],[Totale Immissione in rete]:[Totale Consumi rimanenti]])","v":0},"HPB",null,null,null,0]
["090910",9,{"$f":"+MIN(Contributo_cer[[#This Row],[Totale Immissione in rete]:[Totale Consumi rimanenti]])","v":0},"HPB",null,null,null,0]
["090911",9,{"$f":"+MIN(Contributo_cer[[#This Row],[Totale Immissione in rete]:[Totale Consumi rimanenti]])","v":0},"HPB",null,null,null,0]
["090912",9,{"$f":"+MIN(Contributo_cer[[#This Row],[Totale Immissione in rete]:[Totale Consumi rimanenti]])","v":0},"HPB",null,null,null,0]
["090913",9,{"$f":"+MIN(Contributo_cer[[#This Row],[Totale Immissione in rete]:[Totale Consumi rimanenti]])","v":0},"HPB",null,null,null,0]
["090914",9,{"$f":"+MIN(Contributo_cer[[#This Row],[Totale Immissione in rete]:[Totale Consumi rimanenti]])","v":0},"HPB",null,null,null,0]
["090915",9,{"$f":"+MIN(Contributo_cer[[#This Row],[Totale Immissione in rete]:[Totale Consumi rimanenti]])","v":0},"HPB",null,null,null,0]
["090916",9,{"$f":"+MIN(Contributo_cer[[#This Row],[Totale Immissione in rete]:[Totale Consumi rimanenti]])","v":0},"HPB",null,null,null,0]
["090917",9,{"$f":"+MIN(Contributo_cer[[#This Row],[Totale Immissione in rete]:[Totale Consumi rimanenti]])","v":0},"HPB",null,null,null,0]
["090918",9,{"$f":"+MIN(Contributo_cer[[#This Row],[Totale Immissione in rete]:[Totale Consumi rimanenti]])","v":0},"HPB",null,null,null,0]
["090919",9,{"$f":"+MIN(Contributo_cer[[#This Row],[Totale Immissione in rete]:[Totale Consumi rimanenti]])","v":0},"HPB",null,null,null,0]
["090920",9,{"$f":"+MIN(Contributo_cer[[#This Row],[Totale Immissione in rete]:[Totale Consumi rimanenti]])","v":0},"HPB",null,null,null,0]
["090921",9,{"$f":"+MIN(Contributo_cer[[#This Row],[Totale Immissione in rete]:[Totale Consumi rimanenti]])","v":0},"HPB",null,null,null,0]
["090922",9,{"$f":"+MIN(Contributo_cer[[#This Row],[Totale Immissione in rete]:[Totale Consumi rimanenti]])","v":0},"HCB",null,null,null,0]
["090923",9,{"$f":"+MIN(Contributo_cer[[#This Row],[Totale Immissione in rete]:[Totale Consumi rimanenti]])","v":0},"HCB",null,null,null,0]
["091000",9,{"$f":"+MIN(Contributo_cer[[#This Row],[Totale Immissione in rete]:[Totale Consumi rimanenti]])","v":0},"HCB",null,null,null,0]
["091001",9,{"$f":"+MIN(Contributo_cer[[#This Row],[Totale Immissione in rete]:[Totale Consumi rimanenti]])","v":0},"HCB",null,null,null,0]
["091002",9,{"$f":"+MIN(Contributo_cer[[#This Row],[Totale Immissione in rete]:[Totale Consumi rimanenti]])","v":0},"HCB",null,null,null,0]
["091003",9,{"$f":"+MIN(Contributo_cer[[#This Row],[Totale Immissione in rete]:[Totale Consumi rimanenti]])","v":0},"HCB",null,null,null,0]
["091004",9,{"$f":"+MIN(Contributo_cer[[#This Row],[Totale Immissione in rete]:[Totale Consumi rimanenti]])","v":0},"HCB",null,null,null,0]
["091005",9,{"$f":"+MIN(Contributo_cer[[#This Row],[Totale Immissione in rete]:[Totale Consumi rimanenti]])","v":0},"HCB",null,null,null,0]
["091006",9,{"$f":"+MIN(Contributo_cer[[#This Row],[Totale Immissione in rete]:[Totale Consumi rimanenti]])","v":0},"HPB",null,null,null,0]
["091007",9,{"$f":"+MIN(Contributo_cer[[#This Row],[Totale Immissione in rete]:[Totale Consumi rimanenti]])","v":0},"HPB",null,null,null,0]
["091008",9,{"$f":"+MIN(Contributo_cer[[#This Row],[Totale Immissione in rete]:[Totale Consumi rimanenti]])","v":0},"HPB",null,null,null,0]
["091009",9,{"$f":"+MIN(Contributo_cer[[#This Row],[Totale Immissione in rete]:[Totale Consumi rimanenti]])","v":0},"HPB",null,null,null,0]
["091010",9,{"$f":"+MIN(Contributo_cer[[#This Row],[Totale Immissione in rete]:[Totale Consumi rimanenti]])","v":0},"HPB",null,null,null,0]
["091011",9,{"$f":"+MIN(Contributo_cer[[#This Row],[Totale Immissione in rete]:[Totale Consumi rimanenti]])","v":0},"HPB",null,null,null,0]
["091012",9,{"$f":"+MIN(Contributo_cer[[#This Row],[Totale Immissione in rete]:[Totale Consumi rimanenti]])","v":0},"HPB",null,null,null,0]
["091013",9,{"$f":"+MIN(Contributo_cer[[#This Row],[Totale Immissione in rete]:[Totale Consumi rimanenti]])","v":0},"HPB",null,null,null,0]
["091014",9,{"$f":"+MIN(Contributo_cer[[#This Row],[Totale Immissione in rete]:[Totale Consumi rimanenti]])","v":0},"HPB",null,null,null,0]
["091015",9,{"$f":"+MIN(Contributo_cer[[#This Row],[Totale Immissione in rete]:[Totale Consumi rimanenti]])","v":0},"HPB",null,null,null,0]
["091016",9,{"$f":"+MIN(Contributo_cer[[#This Row],[Totale Immissione in rete]:[Totale Consumi rimanenti]])","v":0},"HPB",null,null,null,0]
["091017",9,{"$f":"+MIN(Contributo_cer[[#This Row],[Totale Immissione in rete]:[Totale Consumi rimanenti]])","v":0},"HPB",null,null,null,0]
["091018",9,{"$f":"+MIN(Contributo_cer[[#This Row],[Totale Immissione in rete]:[Totale Consumi rimanenti]])","v":0},"HPB",null,null,null,0]
["091019",9,{"$f":"+MIN(Contributo_cer[[#This Row],[Totale Immissione in rete]:[Totale Consumi rimanenti]])","v":0},"HPB",null,null,null,0]
["091020",9,{"$f":"+MIN(Contributo_cer[[#This Row],[Totale Immissione in rete]:[Totale Consumi rimanenti]])","v":0},"HPB",null,null,null,0]
["091021",9,{"$f":"+MIN(Contributo_cer[[#This Row],[Totale Immissione in rete]:[Totale Consumi rimanenti]])","v":0},"HPB",null,null,null,0]
["091022",9,{"$f":"+MIN(Contributo_cer[[#This Row],[Totale Immissione in rete]:[Totale Consumi rimanenti]])","v":0},"HCB",null,null,null,0]
["091023",9,{"$f":"+MIN(Contributo_cer[[#This Row],[Totale Immissione in rete]:[Totale Consumi rimanenti]])","v":0},"HCB",null,null,null,0]
["091100",9,{"$f":"+MIN(Contributo_cer[[#This Row],[Totale Immissione in rete]:[Totale Consumi rimanenti]])","v":0},"HCB",null,null,null,0]
["091101",9,{"$f":"+MIN(Contributo_cer[[#This Row],[Totale Immissione in rete]:[Totale Consumi rimanenti]])","v":0},"HCB",null,null,null,0]
["091102",9,{"$f":"+MIN(Contributo_cer[[#This Row],[Totale Immissione in rete]:[Totale Consumi rimanenti]])","v":0},"HCB",null,null,null,0]
["091103",9,{"$f":"+MIN(Contributo_cer[[#This Row],[Totale Immissione in rete]:[Totale Consumi rimanenti]])","v":0},"HCB",null,null,null,0]
["091104",9,{"$f":"+MIN(Contributo_cer[[#This Row],[Totale Immissione in rete]:[Totale Consumi rimanenti]])","v":0},"HCB",null,null,null,0]
["091105",9,{"$f":"+MIN(Contributo_cer[[#This Row],[Totale Immissione in rete]:[Totale Consumi rimanenti]])","v":0},"HCB",null,null,null,0]
["091106",9,{"$f":"+MIN(Contributo_cer[[#This Row],[Totale Immissione in rete]:[Totale Consumi rimanenti]])","v":0},"HPB",null,null,null,0]
["091107",9,{"$f":"+MIN(Contributo_cer[[#This Row],[Totale Immissione in rete]:[Totale Consumi rimanenti]])","v":0},"HPB",null,null,null,0]
["091108",9,{"$f":"+MIN(Contributo_cer[[#This Row],[Totale Immissione in rete]:[Totale Consumi rimanenti]])","v":0},"HPB",null,null,null,0]
["091109",9,{"$f":"+MIN(Contributo_cer[[#This Row],[Totale Immissione in rete]:[Totale Consumi rimanenti]])","v":0},"HPB",null,null,null,0]
["091110",9,{"$f":"+MIN(Contributo_cer[[#This Row],[Totale Immissione in rete]:[Totale Consumi rimanenti]])","v":0},"HPB",null,null,null,0]
["091111",9,{"$f":"+MIN(Contributo_cer[[#This Row],[Totale Immissione in rete]:[Totale Consumi rimanenti]])","v":0},"HPB",null,null,null,0]
["091112",9,{"$f":"+MIN(Contributo_cer[[#This Row],[Totale Immissione in rete]:[Totale Consumi rimanenti]])","v":0},"HPB",null,null,null,0]
["091113",9,{"$f":"+MIN(Contributo_cer[[#This Row],[Totale Immissione in rete]:[Totale Consumi rimanenti]])","v":0},"HPB",null,null,null,0]
["091114",9,{"$f":"+MIN(Contributo_cer[[#This Row],[Totale Immissione in rete]:[Totale Consumi rimanenti]])","v":0},"HPB",null,null,null,0]
["091115",9,{"$f":"+MIN(Contributo_cer[[#This Row],[Totale Immissione in rete]:[Totale Consumi rimanenti]])","v":0},"HPB",null,null,null,0]
["091116",9,{"$f":"+MIN(Contributo_cer[[#This Row],[Totale Immissione in rete]:[Totale Consumi rimanenti]])","v":0},"HPB",null,null,null,0]
["091117",9,{"$f":"+MIN(Contributo_cer[[#This Row],[Totale Immissione in rete]:[Totale Consumi rimanenti]])","v":0},"HPB",null,null,null,0]
["091118",9,{"$f":"+MIN(Contributo_cer[[#This Row],[Totale Immissione in rete]:[Totale Consumi rimanenti]])","v":0},"HPB",null,null,null,0]
["091119",9,{"$f":"+MIN(Contributo_cer[[#This Row],[Totale Immissione in rete]:[Totale Consumi rimanenti]])","v":0},"HPB",null,null,null,0]
["091120",9,{"$f":"+MIN(Contributo_cer[[#This Row],[Totale Immissione in rete]:[Totale Consumi rimanenti]])","v":0},"HPB",null,null,null,0]
["091121",9,{"$f":"+MIN(Contributo_cer[[#This Row],[Totale Immissione in rete]:[Totale Consumi rimanenti]])","v":0},"HPB",null,null,null,0]
["091122",9,{"$f":"+MIN(Contributo_cer[[#This Row],[Totale Immissione in rete]:[Totale Consumi rimanenti]])","v":0},"HCB",null,null,null,0]
["091123",9,{"$f":"+MIN(Contributo_cer[[#This Row],[Totale Immissione in rete]:[Totale Consumi rimanenti]])","v":0},"HCB",null,null,null,0]
["091200",9,{"$f":"+MIN(Contributo_cer[[#This Row],[Totale Immissione in rete]:[Totale Consumi rimanenti]])","v":0},"HCB",null,null,null,0]
["091201",9,{"$f":"+MIN(Contributo_cer[[#This Row],[Totale Immissione in rete]:[Totale Consumi rimanenti]])","v":0},"HCB",null,null,null,0]
["091202",9,{"$f":"+MIN(Contributo_cer[[#This Row],[Totale Immissione in rete]:[Totale Consumi rimanenti]])","v":0},"HCB",null,null,null,0]
["091203",9,{"$f":"+MIN(Contributo_cer[[#This Row],[Totale Immissione in rete]:[Totale Consumi rimanenti]])","v":0},"HCB",null,null,null,0]
["091204",9,{"$f":"+MIN(Contributo_cer[[#This Row],[Totale Immissione in rete]:[Totale Consumi rimanenti]])","v":0},"HCB",null,null,null,0]
["091205",9,{"$f":"+MIN(Contributo_cer[[#This Row],[Totale Immissione in rete]:[Totale Consumi rimanenti]])","v":0},"HCB",null,null,null,0]
["091206",9,{"$f":"+MIN(Contributo_cer[[#This Row],[Totale Immissione in rete]:[Totale Consumi rimanenti]])","v":0},"HPB",null,null,null,0]
["091207",9,{"$f":"+MIN(Contributo_cer[[#This Row],[Totale Immissione in rete]:[Totale Consumi rimanenti]])","v":0},"HPB",null,null,null,0]
["091208",9,{"$f":"+MIN(Contributo_cer[[#This Row],[Totale Immissione in rete]:[Totale Consumi rimanenti]])","v":0},"HPB",null,null,null,0]
["091209",9,{"$f":"+MIN(Contributo_cer[[#This Row],[Totale Immissione in rete]:[Totale Consumi rimanenti]])","v":0},"HPB",null,null,null,0]
["091210",9,{"$f":"+MIN(Contributo_cer[[#This Row],[Totale Immissione in rete]:[Totale Consumi rimanenti]])","v":0},"HPB",null,null,null,0]
["091211",9,{"$f":"+MIN(Contributo_cer[[#This Row],[Totale Immissione in rete]:[Totale Consumi rimanenti]])","v":0},"HPB",null,null,null,0]
["091212",9,{"$f":"+MIN(Contributo_cer[[#This Row],[Totale Immissione in rete]:[Totale Consumi rimanenti]])","v":0},"HPB",null,null,null,0]
["091213",9,{"$f":"+MIN(Contributo_cer[[#This Row],[Totale Immissione in rete]:[Totale Consumi rimanenti]])","v":0},"HPB",null,null,null,0]
["091214",9,{"$f":"+MIN(Contributo_cer[[#This Row],[Totale Immissione in rete]:[Totale Consumi rimanenti]])","v":0},"HPB",null,null,null,0]
["091215",9,{"$f":"+MIN(Contributo_cer[[#This Row],[Totale Immissione in rete]:[Totale Consumi rimanenti]])","v":0},"HPB",null,null,null,0]
["091216",9,{"$f":"+MIN(Contributo_cer[[#This Row],[Totale Immissione in rete]:[Totale Consumi rimanenti]])","v":0},"HPB",null,null,null,0]
["091217",9,{"$f":"+MIN(Contributo_cer[[#This Row],[Totale Immissione in rete]:[Totale Consumi rimanenti]])","v":0},"HPB",null,null,null,0]
["091218",9,{"$f":"+MIN(Contributo_cer[[#This Row],[Totale Immissione in rete]:[Totale Consumi rimanenti]])","v":0},"HPB",null,null,null,0]
["091219",9,{"$f":"+MIN(Contributo_cer[[#This Row],[Totale Immissione in rete]:[Totale Consumi rimanenti]])","v":0},"HPB",null,null,null,0]
["091220",9,{"$f":"+MIN(Contributo_cer[[#This Row],[Totale Immissione in rete]:[Totale Consumi rimanenti]])","v":0},"HPB",null,null,null,0]
["091221",9,{"$f":"+MIN(Contributo_cer[[#This Row],[Totale Immissione in rete]:[Totale Consumi rimanenti]])","v":0},"HPB",null,null,null,0]
["091222",9,{"$f":"+MIN(Contributo_cer[[#This Row],[Totale Immissione in rete]:[Totale Consumi rimanenti]])","v":0},"HCB",null,null,null,0]
["091223",9,{"$f":"+MIN(Contributo_cer[[#This Row],[Totale Immissione in rete]:[Totale Consumi rimanenti]])","v":0},"HCB",null,null,null,0]
["091300",9,{"$f":"+MIN(Contributo_cer[[#This Row],[Totale Immissione in rete]:[Totale Consumi rimanenti]])","v":0},"HCB",null,null,null,0]
["091301",9,{"$f":"+MIN(Contributo_cer[[#This Row],[Totale Immissione in rete]:[Totale Consumi rimanenti]])","v":0},"HCB",null,null,null,0]
["091302",9,{"$f":"+MIN(Contributo_cer[[#This Row],[Totale Immissione in rete]:[Totale Consumi rimanenti]])","v":0},"HCB",null,null,null,0]
["091303",9,{"$f":"+MIN(Contributo_cer[[#This Row],[Totale Immissione in rete]:[Totale Consumi rimanenti]])","v":0},"HCB",null,null,null,0]
["091304",9,{"$f":"+MIN(Contributo_cer[[#This Row],[Totale Immissione in rete]:[Totale Consumi rimanenti]])","v":0},"HCB",null,null,null,0]
["091305",9,{"$f":"+MIN(Contributo_cer[[#This Row],[Totale Immissione in rete]:[Totale Consumi rimanenti]])","v":0},"HCB",null,null,null,0]
["091306",9,{"$f":"+MIN(Contributo_cer[[#This Row],[Totale Immissione in rete]:[Totale Consumi rimanenti]])","v":0},"HPB",null,null,null,0]
["091307",9,{"$f":"+MIN(Contributo_cer[[#This Row],[Totale Immissione in rete]:[Totale Consumi rimanenti]])","v":0},"HPB",null,null,null,0]
["091308",9,{"$f":"+MIN(Contributo_cer[[#This Row],[Totale Immissione in rete]:[Totale Consumi rimanenti]])","v":0},"HPB",null,null,null,0]
["091309",9,{"$f":"+MIN(Contributo_cer[[#This Row],[Totale Immissione in rete]:[Totale Consumi rimanenti]])","v":0},"HPB",null,null,null,0]
["091310",9,{"$f":"+MIN(Contributo_cer[[#This Row],[Totale Immissione in rete]:[Totale Consumi rimanenti]])","v":0},"HPB",null,null,null,0]
["091311",9,{"$f":"+MIN(Contributo_cer[[#This Row],[Totale Immissione in rete]:[Totale Consumi rimanenti]])","v":0},"HPB",null,null,null,0]
["091312",9,{"$f":"+MIN(Contributo_cer[[#This Row],[Totale Immissione in rete]:[Totale Consumi rimanenti]])","v":0},"HPB",null,null,null,0]
["091313",9,{"$f":"+MIN(Contributo_cer[[#This Row],[Totale Immissione in rete]:[Totale Consumi rimanenti]])","v":0},"HPB",null,null,null,0]
["091314",9,{"$f":"+MIN(Contributo_cer[[#This Row],[Totale Immissione in rete]:[Totale Consumi rimanenti]])","v":0},"HPB",null,null,null,0]
["091315",9,{"$f":"+MIN(Contributo_cer[[#This Row],[Totale Immissione in rete]:[Totale Consumi rimanenti]])","v":0},"HPB",null,null,null,0]
["091316",9,{"$f":"+MIN(Contributo_cer[[#This Row],[Totale Immissione in rete]:[Totale Consumi rimanenti]])","v":0},"HPB",null,null,null,0]
["091317",9,{"$f":"+MIN(Contributo_cer[[#This Row],[Totale Immissione in rete]:[Totale Consumi rimanenti]])","v":0},"HPB",null,null,null,0]
["091318",9,{"$f":"+MIN(Contributo_cer[[#This Row],[Totale Immissione in rete]:[Totale Consumi rimanenti]])","v":0},"HPB",null,null,null,0]
["091319",9,{"$f":"+MIN(Contributo_cer[[#This Row],[Totale Immissione in rete]:[Totale Consumi rimanenti]])","v":0},"HPB",null,null,null,0]
["091320",9,{"$f":"+MIN(Contributo_cer[[#This Row],[Totale Immissione in rete]:[Totale Consumi rimanenti]])","v":0},"HPB",null,null,null,0]
["091321",9,{"$f":"+MIN(Contributo_cer[[#This Row],[Totale Immissione in rete]:[Totale Consumi rimanenti]])","v":0},"HPB",null,null,null,0]
["091322",9,{"$f":"+MIN(Contributo_cer[[#This Row],[Totale Immissione in rete]:[Totale Consumi rimanenti]])","v":0},"HCB",null,null,null,0]
["091323",9,{"$f":"+MIN(Contributo_cer[[#This Row],[Totale Immissione in rete]:[Totale Consumi rimanenti]])","v":0},"HCB",null,null,null,0]
["091400",9,{"$f":"+MIN(Contributo_cer[[#This Row],[Totale Immissione in rete]:[Totale Consumi rimanenti]])","v":0},"HCB",null,null,null,0]
["091401",9,{"$f":"+MIN(Contributo_cer[[#This Row],[Totale Immissione in rete]:[Totale Consumi rimanenti]])","v":0},"HCB",null,null,null,0]
["091402",9,{"$f":"+MIN(Contributo_cer[[#This Row],[Totale Immissione in rete]:[Totale Consumi rimanenti]])","v":0},"HCB",null,null,null,0]
["091403",9,{"$f":"+MIN(Contributo_cer[[#This Row],[Totale Immissione in rete]:[Totale Consumi rimanenti]])","v":0},"HCB",null,null,null,0]
["091404",9,{"$f":"+MIN(Contributo_cer[[#This Row],[Totale Immissione in rete]:[Totale Consumi rimanenti]])","v":0},"HCB",null,null,null,0]
["091405",9,{"$f":"+MIN(Contributo_cer[[#This Row],[Totale Immissione in rete]:[Totale Consumi rimanenti]])","v":0},"HCB",null,null,null,0]
["091406",9,{"$f":"+MIN(Contributo_cer[[#This Row],[Totale Immissione in rete]:[Totale Consumi rimanenti]])","v":0},"HPB",null,null,null,0]
["091407",9,{"$f":"+MIN(Contributo_cer[[#This Row],[Totale Immissione in rete]:[Totale Consumi rimanenti]])","v":0},"HPB",null,null,null,0]
["091408",9,{"$f":"+MIN(Contributo_cer[[#This Row],[Totale Immissione in rete]:[Totale Consumi rimanenti]])","v":0},"HPB",null,null,null,0]
["091409",9,{"$f":"+MIN(Contributo_cer[[#This Row],[Totale Immissione in rete]:[Totale Consumi rimanenti]])","v":0},"HPB",null,null,null,0]
["091410",9,{"$f":"+MIN(Contributo_cer[[#This Row],[Totale Immissione in rete]:[Totale Consumi rimanenti]])","v":0},"HPB",null,null,null,0]
["091411",9,{"$f":"+MIN(Contributo_cer[[#This Row],[Totale Immissione in rete]:[Totale Consumi rimanenti]])","v":0},"HPB",null,null,null,0]
["091412",9,{"$f":"+MIN(Contributo_cer[[#This Row],[Totale Immissione in rete]:[Totale Consumi rimanenti]])","v":0},"HPB",null,null,null,0]
["091413",9,{"$f":"+MIN(Contributo_cer[[#This Row],[Totale Immissione in rete]:[Totale Consumi rimanenti]])","v":0},"HPB",null,null,null,0]
["091414",9,{"$f":"+MIN(Contributo_cer[[#This Row],[Totale Immissione in rete]:[Totale Consumi rimanenti]])","v":0},"HPB",null,null,null,0]
["091415",9,{"$f":"+MIN(Contributo_cer[[#This Row],[Totale Immissione in rete]:[Totale Consumi rimanenti]])","v":0},"HPB",null,null,null,0]
["091416",9,{"$f":"+MIN(Contributo_cer[[#This Row],[Totale Immissione in rete]:[Totale Consumi rimanenti]])","v":0},"HPB",null,null,null,0]
["091417",9,{"$f":"+MIN(Contributo_cer[[#This Row],[Totale Immissione in rete]:[Totale Consumi rimanenti]])","v":0},"HPB",null,null,null,0]
["091418",9,{"$f":"+MIN(Contributo_cer[[#This Row],[Totale Immissione in rete]:[Totale Consumi rimanenti]])","v":0},"HPB",null,null,null,0]
["091419",9,{"$f":"+MIN(Contributo_cer[[#This Row],[Totale Immissione in rete]:[Totale Consumi rimanenti]])","v":0},"HPB",null,null,null,0]
["091420",9,{"$f":"+MIN(Contributo_cer[[#This Row],[Totale Immissione in rete]:[Totale Consumi rimanenti]])","v":0},"HPB",null,null,null,0]
["091421",9,{"$f":"+MIN(Contributo_cer[[#This Row],[Totale Immissione in rete]:[Totale Consumi rimanenti]])","v":0},"HPB",null,null,null,0]
["091422",9,{"$f":"+MIN(Contributo_cer[[#This Row],[Totale Immissione in rete]:[Totale Consumi rimanenti]])","v":0},"HCB",null,null,null,0]
["091423",9,{"$f":"+MIN(Contributo_cer[[#This Row],[Totale Immissione in rete]:[Totale Consumi rimanenti]])","v":0},"HCB",null,null,null,0]
["091500",9,{"$f":"+MIN(Contributo_cer[[#This Row],[Totale Immissione in rete]:[Totale Consumi rimanenti]])","v":0},"HCB",null,null,null,0]
["091501",9,{"$f":"+MIN(Contributo_cer[[#This Row],[Totale Immissione in rete]:[Totale Consumi rimanenti]])","v":0},"HCB",null,null,null,0]
["091502",9,{"$f":"+MIN(Contributo_cer[[#This Row],[Totale Immissione in rete]:[Totale Consumi rimanenti]])","v":0},"HCB",null,null,null,0]
["091503",9,{"$f":"+MIN(Contributo_cer[[#This Row],[Totale Immissione in rete]:[Totale Consumi rimanenti]])","v":0},"HCB",null,null,null,0]
["091504",9,{"$f":"+MIN(Contributo_cer[[#This Row],[Totale Immissione in rete]:[Totale Consumi rimanenti]])","v":0},"HCB",null,null,null,0]
["091505",9,{"$f":"+MIN(Contributo_cer[[#This Row],[Totale Immissione in rete]:[Totale Consumi rimanenti]])","v":0},"HCB",null,null,null,0]
["091506",9,{"$f":"+MIN(Contributo_cer[[#This Row],[Totale Immissione in rete]:[Totale Consumi rimanenti]])","v":0},"HPB",null,null,null,0]
["091507",9,{"$f":"+MIN(Contributo_cer[[#This Row],[Totale Immissione in rete]:[Totale Consumi rimanenti]])","v":0},"HPB",null,null,null,0]
["091508",9,{"$f":"+MIN(Contributo_cer[[#This Row],[Totale Immissione in rete]:[Totale Consumi rimanenti]])","v":0},"HPB",null,null,null,0]
["091509",9,{"$f":"+MIN(Contributo_cer[[#This Row],[Totale Immissione in rete]:[Totale Consumi rimanenti]])","v":0},"HPB",null,null,null,0]
["091510",9,{"$f":"+MIN(Contributo_cer[[#This Row],[Totale Immissione in rete]:[Totale Consumi rimanenti]])","v":0},"HPB",null,null,null,0]
["091511",9,{"$f":"+MIN(Contributo_cer[[#This Row],[Totale Immissione in rete]:[Totale Consumi rimanenti]])","v":0},"HPB",null,null,null,0]
["091512",9,{"$f":"+MIN(Contributo_cer[[#This Row],[Totale Immissione in rete]:[Totale Consumi rimanenti]])","v":0},"HPB",null,null,null,0]
["091513",9,{"$f":"+MIN(Contributo_cer[[#This Row],[Totale Immissione in rete]:[Totale Consumi rimanenti]])","v":0},"HPB",null,null,null,0]
["091514",9,{"$f":"+MIN(Contributo_cer[[#This Row],[Totale Immissione in rete]:[Totale Consumi rimanenti]])","v":0},"HPB",null,null,null,0]
["091515",9,{"$f":"+MIN(Contributo_cer[[#This Row],[Totale Immissione in rete]:[Totale Consumi rimanenti]])","v":0},"HPB",null,null,null,0]
["091516",9,{"$f":"+MIN(Contributo_cer[[#This Row],[Totale Immissione in rete]:[Totale Consumi rimanenti]])","v":0},"HPB",null,null,null,0]
["091517",9,{"$f":"+MIN(Contributo_cer[[#This Row],[Totale Immissione in rete]:[Totale Consumi rimanenti]])","v":0},"HPB",null,null,null,0]
["091518",9,{"$f":"+MIN(Contributo_cer[[#This Row],[Totale Immissione in rete]:[Totale Consumi rimanenti]])","v":0},"HPB",null,null,null,0]
["091519",9,{"$f":"+MIN(Contributo_cer[[#This Row],[Totale Immissione in rete]:[Totale Consumi rimanenti]])","v":0},"HPB",null,null,null,0]
["091520",9,{"$f":"+MIN(Contributo_cer[[#This Row],[Totale Immissione in rete]:[Totale Consumi rimanenti]])","v":0},"HPB",null,null,null,0]
["091521",9,{"$f":"+MIN(Contributo_cer[[#This Row],[Totale Immissione in rete]:[Totale Consumi rimanenti]])","v":0},"HPB",null,null,null,0]
["091522",9,{"$f":"+MIN(Contributo_cer[[#This Row],[Totale Immissione in rete]:[Totale Consumi rimanenti]])","v":0},"HCB",null,null,null,0]
["091523",9,{"$f":"+MIN(Contributo_cer[[#This Row],[Totale Immissione in rete]:[Totale Consumi rimanenti]])","v":0},"HCB",null,null,null,0]
["091600",9,{"$f":"+MIN(Contributo_cer[[#This Row],[Totale Immissione in rete]:[Totale Consumi rimanenti]])","v":0},"HCB",null,null,null,0]
["091601",9,{"$f":"+MIN(Contributo_cer[[#This Row],[Totale Immissione in rete]:[Totale Consumi rimanenti]])","v":0},"HCB",null,null,null,0]
["091602",9,{"$f":"+MIN(Contributo_cer[[#This Row],[Totale Immissione in rete]:[Totale Consumi rimanenti]])","v":0},"HCB",null,null,null,0]
["091603",9,{"$f":"+MIN(Contributo_cer[[#This Row],[Totale Immissione in rete]:[Totale Consumi rimanenti]])","v":0},"HCB",null,null,null,0]
["091604",9,{"$f":"+MIN(Contributo_cer[[#This Row],[Totale Immissione in rete]:[Totale Consumi rimanenti]])","v":0},"HCB",null,null,null,0]
["091605",9,{"$f":"+MIN(Contributo_cer[[#This Row],[Totale Immissione in rete]:[Totale Consumi rimanenti]])","v":0},"HCB",null,null,null,0]
["091606",9,{"$f":"+MIN(Contributo_cer[[#This Row],[Totale Immissione in rete]:[Totale Consumi rimanenti]])","v":0},"HPB",null,null,null,0]
["091607",9,{"$f":"+MIN(Contributo_cer[[#This Row],[Totale Immissione in rete]:[Totale Consumi rimanenti]])","v":0},"HPB",null,null,null,0]
["091608",9,{"$f":"+MIN(Contributo_cer[[#This Row],[Totale Immissione in rete]:[Totale Consumi rimanenti]])","v":0},"HPB",null,null,null,0]
["091609",9,{"$f":"+MIN(Contributo_cer[[#This Row],[Totale Immissione in rete]:[Totale Consumi rimanenti]])","v":0},"HPB",null,null,null,0]
["091610",9,{"$f":"+MIN(Contributo_cer[[#This Row],[Totale Immissione in rete]:[Totale Consumi rimanenti]])","v":0},"HPB",null,null,null,0]
["091611",9,{"$f":"+MIN(Contributo_cer[[#This Row],[Totale Immissione in rete]:[Totale Consumi rimanenti]])","v":0},"HPB",null,null,null,0]
["091612",9,{"$f":"+MIN(Contributo_cer[[#This Row],[Totale Immissione in rete]:[Totale Consumi rimanenti]])","v":0},"HPB",null,null,null,0]
["091613",9,{"$f":"+MIN(Contributo_cer[[#This Row],[Totale Immissione in rete]:[Totale Consumi rimanenti]])","v":0},"HPB",null,null,null,0]
["091614",9,{"$f":"+MIN(Contributo_cer[[#This Row],[Totale Immissione in rete]:[Totale Consumi rimanenti]])","v":0},"HPB",null,null,null,0]
["091615",9,{"$f":"+MIN(Contributo_cer[[#This Row],[Totale Immissione in rete]:[Totale Consumi rimanenti]])","v":0},"HPB",null,null,null,0]
["091616",9,{"$f":"+MIN(Contributo_cer[[#This Row],[Totale Immissione in rete]:[Totale Consumi rimanenti]])","v":0},"HPB",null,null,null,0]
["091617",9,{"$f":"+MIN(Contributo_cer[[#This Row],[Totale Immissione in rete]:[Totale Consumi rimanenti]])","v":0},"HPB",null,null,null,0]
["091618",9,{"$f":"+MIN(Contributo_cer[[#This Row],[Totale Immissione in rete]:[Totale Consumi rimanenti]])","v":0},"HPB",null,null,null,0]
["091619",9,{"$f":"+MIN(Contributo_cer[[#This Row],[Totale Immissione in rete]:[Totale Consumi rimanenti]])","v":0},"HPB",null,null,null,0]
["091620",9,{"$f":"+MIN(Contributo_cer[[#This Row],[Totale Immissione in rete]:[Totale Consumi rimanenti]])","v":0},"HPB",null,null,null,0]
["091621",9,{"$f":"+MIN(Contributo_cer[[#This Row],[Totale Immissione in rete]:[Totale Consumi rimanenti]])","v":0},"HPB",null,null,null,0]
["091622",9,{"$f":"+MIN(Contributo_cer[[#This Row],[Totale Immissione in rete]:[Totale Consumi rimanenti]])","v":0},"HCB",null,null,null,0]
["091623",9,{"$f":"+MIN(Contributo_cer[[#This Row],[Totale Immissione in rete]:[Totale Consumi rimanenti]])","v":0},"HCB",null,null,null,0]
["091700",9,{"$f":"+MIN(Contributo_cer[[#This Row],[Totale Immissione in rete]:[Totale Consumi rimanenti]])","v":0},"HCB",null,null,null,0]
["091701",9,{"$f":"+MIN(Contributo_cer[[#This Row],[Totale Immissione in rete]:[Totale Consumi rimanenti]])","v":0},"HCB",null,null,null,0]
["091702",9,{"$f":"+MIN(Contributo_cer[[#This Row],[Totale Immissione in rete]:[Totale Consumi rimanenti]])","v":0},"HCB",null,null,null,0]
["091703",9,{"$f":"+MIN(Contributo_cer[[#This Row],[Totale Immissione in rete]:[Totale Consumi rimanenti]])","v":0},"HCB",null,null,null,0]
["091704",9,{"$f":"+MIN(Contributo_cer[[#This Row],[Totale Immissione in rete]:[Totale Consumi rimanenti]])","v":0},"HCB",null,null,null,0]
["091705",9,{"$f":"+MIN(Contributo_cer[[#This Row],[Totale Immissione in rete]:[Totale Consumi rimanenti]])","v":0},"HCB",null,null,null,0]
["091706",9,{"$f":"+MIN(Contributo_cer[[#This Row],[Totale Immissione in rete]:[Totale Consumi rimanenti]])","v":0},"HPB",null,null,null,0]
["091707",9,{"$f":"+MIN(Contributo_cer[[#This Row],[Totale Immissione in rete]:[Totale Consumi rimanenti]])","v":0},"HPB",null,null,null,0]
["091708",9,{"$f":"+MIN(Contributo_cer[[#This Row],[Totale Immissione in rete]:[Totale Consumi rimanenti]])","v":0},"HPB",null,null,null,0]
["091709",9,{"$f":"+MIN(Contributo_cer[[#This Row],[Totale Immissione in rete]:[Totale Consumi rimanenti]])","v":0},"HPB",null,null,null,0]
["091710",9,{"$f":"+MIN(Contributo_cer[[#This Row],[Totale Immissione in rete]:[Totale Consumi rimanenti]])","v":0},"HPB",null,null,null,0]
["091711",9,{"$f":"+MIN(Contributo_cer[[#This Row],[Totale Immissione in rete]:[Totale Consumi rimanenti]])","v":0},"HPB",null,null,null,0]
["091712",9,{"$f":"+MIN(Contributo_cer[[#This Row],[Totale Immissione in rete]:[Totale Consumi rimanenti]])","v":0},"HPB",null,null,null,0]
["091713",9,{"$f":"+MIN(Contributo_cer[[#This Row],[Totale Immissione in rete]:[Totale Consumi rimanenti]])","v":0},"HPB",null,null,null,0]
["091714",9,{"$f":"+MIN(Contributo_cer[[#This Row],[Totale Immissione in rete]:[Totale Consumi rimanenti]])","v":0},"HPB",null,null,null,0]
["091715",9,{"$f":"+MIN(Contributo_cer[[#This Row],[Totale Immissione in rete]:[Totale Consumi rimanenti]])","v":0},"HPB",null,null,null,0]
["091716",9,{"$f":"+MIN(Contributo_cer[[#This Row],[Totale Immissione in rete]:[Totale Consumi rimanenti]])","v":0},"HPB",null,null,null,0]
["091717",9,{"$f":"+MIN(Contributo_cer[[#This Row],[Totale Immissione in rete]:[Totale Consumi rimanenti]])","v":0},"HPB",null,null,null,0]
["091718",9,{"$f":"+MIN(Contributo_cer[[#This Row],[Totale Immissione in rete]:[Totale Consumi rimanenti]])","v":0},"HPB",null,null,null,0]
["091719",9,{"$f":"+MIN(Contributo_cer[[#This Row],[Totale Immissione in rete]:[Totale Consumi rimanenti]])","v":0},"HPB",null,null,null,0]
["091720",9,{"$f":"+MIN(Contributo_cer[[#This Row],[Totale Immissione in rete]:[Totale Consumi rimanenti]])","v":0},"HPB",null,null,null,0]
["091721",9,{"$f":"+MIN(Contributo_cer[[#This Row],[Totale Immissione in rete]:[Totale Consumi rimanenti]])","v":0},"HPB",null,null,null,0]
["091722",9,{"$f":"+MIN(Contributo_cer[[#This Row],[Totale Immissione in rete]:[Totale Consumi rimanenti]])","v":0},"HCB",null,null,null,0]
["091723",9,{"$f":"+MIN(Contributo_cer[[#This Row],[Totale Immissione in rete]:[Totale Consumi rimanenti]])","v":0},"HCB",null,null,null,0]
["091800",9,{"$f":"+MIN(Contributo_cer[[#This Row],[Totale Immissione in rete]:[Totale Consumi rimanenti]])","v":0},"HCB",null,null,null,0]
["091801",9,{"$f":"+MIN(Contributo_cer[[#This Row],[Totale Immissione in rete]:[Totale Consumi rimanenti]])","v":0},"HCB",null,null,null,0]
["091802",9,{"$f":"+MIN(Contributo_cer[[#This Row],[Totale Immissione in rete]:[Totale Consumi rimanenti]])","v":0},"HCB",null,null,null,0]
["091803",9,{"$f":"+MIN(Contributo_cer[[#This Row],[Totale Immissione in rete]:[Totale Consumi rimanenti]])","v":0},"HCB",null,null,null,0]
["091804",9,{"$f":"+MIN(Contributo_cer[[#This Row],[Totale Immissione in rete]:[Totale Consumi rimanenti]])","v":0},"HCB",null,null,null,0]
["091805",9,{"$f":"+MIN(Contributo_cer[[#This Row],[Totale Immissione in rete]:[Totale Consumi rimanenti]])","v":0},"HCB",null,null,null,0]
["091806",9,{"$f":"+MIN(Contributo_cer[[#This Row],[Totale Immissione in rete]:[Totale Consumi rimanenti]])","v":0},"HPB",null,null,null,0]
["091807",9,{"$f":"+MIN(Contributo_cer[[#This Row],[Totale Immissione in rete]:[Totale Consumi rimanenti]])","v":0},"HPB",null,null,null,0]
["091808",9,{"$f":"+MIN(Contributo_cer[[#This Row],[Totale Immissione in rete]:[Totale Consumi rimanenti]])","v":0},"HPB",null,null,null,0]
["091809",9,{"$f":"+MIN(Contributo_cer[[#This Row],[Totale Immissione in rete]:[Totale Consumi rimanenti]])","v":0},"HPB",null,null,null,0]
["091810",9,{"$f":"+MIN(Contributo_cer[[#This Row],[Totale Immissione in rete]:[Totale Consumi rimanenti]])","v":0},"HPB",null,null,null,0]
["091811",9,{"$f":"+MIN(Contributo_cer[[#This Row],[Totale Immissione in rete]:[Totale Consumi rimanenti]])","v":0},"HPB",null,null,null,0]
["091812",9,{"$f":"+MIN(Contributo_cer[[#This Row],[Totale Immissione in rete]:[Totale Consumi rimanenti]])","v":0},"HPB",null,null,null,0]
["091813",9,{"$f":"+MIN(Contributo_cer[[#This Row],[Totale Immissione in rete]:[Totale Consumi rimanenti]])","v":0},"HPB",null,null,null,0]
["091814",9,{"$f":"+MIN(Contributo_cer[[#This Row],[Totale Immissione in rete]:[Totale Consumi rimanenti]])","v":0},"HPB",null,null,null,0]
["091815",9,{"$f":"+MIN(Contributo_cer[[#This Row],[Totale Immissione in rete]:[Totale Consumi rimanenti]])","v":0},"HPB",null,null,null,0]
["091816",9,{"$f":"+MIN(Contributo_cer[[#This Row],[Totale Immissione in rete]:[Totale Consumi rimanenti]])","v":0},"HPB",null,null,null,0]
["091817",9,{"$f":"+MIN(Contributo_cer[[#This Row],[Totale Immissione in rete]:[Totale Consumi rimanenti]])","v":0},"HPB",null,null,null,0]
["091818",9,{"$f":"+MIN(Contributo_cer[[#This Row],[Totale Immissione in rete]:[Totale Consumi rimanenti]])","v":0},"HPB",null,null,null,0]
["091819",9,{"$f":"+MIN(Contributo_cer[[#This Row],[Totale Immissione in rete]:[Totale Consumi rimanenti]])","v":0},"HPB",null,null,null,0]
["091820",9,{"$f":"+MIN(Contributo_cer[[#This Row],[Totale Immissione in rete]:[Totale Consumi rimanenti]])","v":0},"HPB",null,null,null,0]
["091821",9,{"$f":"+MIN(Contributo_cer[[#This Row],[Totale Immissione in rete]:[Totale Consumi rimanenti]])","v":0},"HPB",null,null,null,0]
["091822",9,{"$f":"+MIN(Contributo_cer[[#This Row],[Totale Immissione in rete]:[Totale Consumi rimanenti]])","v":0},"HCB",null,null,null,0]
["091823",9,{"$f":"+MIN(Contributo_cer[[#This Row],[Totale Immissione in rete]:[Totale Consumi rimanenti]])","v":0},"HCB",null,null,null,0]
["091900",9,{"$f":"+MIN(Contributo_cer[[#This Row],[Totale Immissione in rete]:[Totale Consumi rimanenti]])","v":0},"HCB",null,null,null,0]
["091901",9,{"$f":"+MIN(Contributo_cer[[#This Row],[Totale Immissione in rete]:[Totale Consumi rimanenti]])","v":0},"HCB",null,null,null,0]
["091902",9,{"$f":"+MIN(Contributo_cer[[#This Row],[Totale Immissione in rete]:[Totale Consumi rimanenti]])","v":0},"HCB",null,null,null,0]
["091903",9,{"$f":"+MIN(Contributo_cer[[#This Row],[Totale Immissione in rete]:[Totale Consumi rimanenti]])","v":0},"HCB",null,null,null,0]
["091904",9,{"$f":"+MIN(Contributo_cer[[#This Row],[Totale Immissione in rete]:[Totale Consumi rimanenti]])","v":0},"HCB",null,null,null,0]
["091905",9,{"$f":"+MIN(Contributo_cer[[#This Row],[Totale Immissione in rete]:[Totale Consumi rimanenti]])","v":0},"HCB",null,null,null,0]
["091906",9,{"$f":"+MIN(Contributo_cer[[#This Row],[Totale Immissione in rete]:[Totale Consumi rimanenti]])","v":0},"HPB",null,null,null,0]
["091907",9,{"$f":"+MIN(Contributo_cer[[#This Row],[Totale Immissione in rete]:[Totale Consumi rimanenti]])","v":0},"HPB",null,null,null,0]
["091908",9,{"$f":"+MIN(Contributo_cer[[#This Row],[Totale Immissione in rete]:[Totale Consumi rimanenti]])","v":0},"HPB",null,null,null,0]
["091909",9,{"$f":"+MIN(Contributo_cer[[#This Row],[Totale Immissione in rete]:[Totale Consumi rimanenti]])","v":0},"HPB",null,null,null,0]
["091910",9,{"$f":"+MIN(Contributo_cer[[#This Row],[Totale Immissione in rete]:[Totale Consumi rimanenti]])","v":0},"HPB",null,null,null,0]
["091911",9,{"$f":"+MIN(Contributo_cer[[#This Row],[Totale Immissione in rete]:[Totale Consumi rimanenti]])","v":0},"HPB",null,null,null,0]
["091912",9,{"$f":"+MIN(Contributo_cer[[#This Row],[Totale Immissione in rete]:[Totale Consumi rimanenti]])","v":0},"HPB",null,null,null,0]
["091913",9,{"$f":"+MIN(Contributo_cer[[#This Row],[Totale Immissione in rete]:[Totale Consumi rimanenti]])","v":0},"HPB",null,null,null,0]
["091914",9,{"$f":"+MIN(Contributo_cer[[#This Row],[Totale Immissione in rete]:[Totale Consumi rimanenti]])","v":0},"HPB",null,null,null,0]
["091915",9,{"$f":"+MIN(Contributo_cer[[#This Row],[Totale Immissione in rete]:[Totale Consumi rimanenti]])","v":0},"HPB",null,null,null,0]
["091916",9,{"$f":"+MIN(Contributo_cer[[#This Row],[Totale Immissione in rete]:[Totale Consumi rimanenti]])","v":0},"HPB",null,null,null,0]
["091917",9,{"$f":"+MIN(Contributo_cer[[#This Row],[Totale Immissione in rete]:[Totale Consumi rimanenti]])","v":0},"HPB",null,null,null,0]
["091918",9,{"$f":"+MIN(Contributo_cer[[#This Row],[Totale Immissione in rete]:[Totale Consumi rimanenti]])","v":0},"HPB",null,null,null,0]
["091919",9,{"$f":"+MIN(Contributo_cer[[#This Row],[Totale Immissione in rete]:[Totale Consumi rimanenti]])","v":0},"HPB",null,null,null,0]
["091920",9,{"$f":"+MIN(Contributo_cer[[#This Row],[Totale Immissione in rete]:[Totale Consumi rimanenti]])","v":0},"HPB",null,null,null,0]
["091921",9,{"$f":"+MIN(Contributo_cer[[#This Row],[Totale Immissione in rete]:[Totale Consumi rimanenti]])","v":0},"HPB",null,null,null,0]
["091922",9,{"$f":"+MIN(Contributo_cer[[#This Row],[Totale Immissione in rete]:[Totale Consumi rimanenti]])","v":0},"HCB",null,null,null,0]
["091923",9,{"$f":"+MIN(Contributo_cer[[#This Row],[Totale Immissione in rete]:[Totale Consumi rimanenti]])","v":0},"HCB",null,null,null,0]
["092000",9,{"$f":"+MIN(Contributo_cer[[#This Row],[Totale Immissione in rete]:[Totale Consumi rimanenti]])","v":0},"HCB",null,null,null,0]
["092001",9,{"$f":"+MIN(Contributo_cer[[#This Row],[Totale Immissione in rete]:[Totale Consumi rimanenti]])","v":0},"HCB",null,null,null,0]
["092002",9,{"$f":"+MIN(Contributo_cer[[#This Row],[Totale Immissione in rete]:[Totale Consumi rimanenti]])","v":0},"HCB",null,null,null,0]
["092003",9,{"$f":"+MIN(Contributo_cer[[#This Row],[Totale Immissione in rete]:[Totale Consumi rimanenti]])","v":0},"HCB",null,null,null,0]
["092004",9,{"$f":"+MIN(Contributo_cer[[#This Row],[Totale Immissione in rete]:[Totale Consumi rimanenti]])","v":0},"HCB",null,null,null,0]
["092005",9,{"$f":"+MIN(Contributo_cer[[#This Row],[Totale Immissione in rete]:[Totale Consumi rimanenti]])","v":0},"HCB",null,null,null,0]
["092006",9,{"$f":"+MIN(Contributo_cer[[#This Row],[Totale Immissione in rete]:[Totale Consumi rimanenti]])","v":0},"HPB",null,null,null,0]
["092007",9,{"$f":"+MIN(Contributo_cer[[#This Row],[Totale Immissione in rete]:[Totale Consumi rimanenti]])","v":0},"HPB",null,null,null,0]
["092008",9,{"$f":"+MIN(Contributo_cer[[#This Row],[Totale Immissione in rete]:[Totale Consumi rimanenti]])","v":0},"HPB",null,null,null,0]
["092009",9,{"$f":"+MIN(Contributo_cer[[#This Row],[Totale Immissione in rete]:[Totale Consumi rimanenti]])","v":0},"HPB",null,null,null,0]
["092010",9,{"$f":"+MIN(Contributo_cer[[#This Row],[Totale Immissione in rete]:[Totale Consumi rimanenti]])","v":0},"HPB",null,null,null,0]
["092011",9,{"$f":"+MIN(Contributo_cer[[#This Row],[Totale Immissione in rete]:[Totale Consumi rimanenti]])","v":0},"HPB",null,null,null,0]
["092012",9,{"$f":"+MIN(Contributo_cer[[#This Row],[Totale Immissione in rete]:[Totale Consumi rimanenti]])","v":0},"HPB",null,null,null,0]
["092013",9,{"$f":"+MIN(Contributo_cer[[#This Row],[Totale Immissione in rete]:[Totale Consumi rimanenti]])","v":0},"HPB",null,null,null,0]
["092014",9,{"$f":"+MIN(Contributo_cer[[#This Row],[Totale Immissione in rete]:[Totale Consumi rimanenti]])","v":0},"HPB",null,null,null,0]
["092015",9,{"$f":"+MIN(Contributo_cer[[#This Row],[Totale Immissione in rete]:[Totale Consumi rimanenti]])","v":0},"HPB",null,null,null,0]
["092016",9,{"$f":"+MIN(Contributo_cer[[#This Row],[Totale Immissione in rete]:[Totale Consumi rimanenti]])","v":0},"HPB",null,null,null,0]
["092017",9,{"$f":"+MIN(Contributo_cer[[#This Row],[Totale Immissione in rete]:[Totale Consumi rimanenti]])","v":0},"HPB",null,null,null,0]
["092018",9,{"$f":"+MIN(Contributo_cer[[#This Row],[Totale Immissione in rete]:[Totale Consumi rimanenti]])","v":0},"HPB",null,null,null,0]
["092019",9,{"$f":"+MIN(Contributo_cer[[#This Row],[Totale Immissione in rete]:[Totale Consumi rimanenti]])","v":0},"HPB",null,null,null,0]
["092020",9,{"$f":"+MIN(Contributo_cer[[#This Row],[Totale Immissione in rete]:[Totale Consumi rimanenti]])","v":0},"HPB",null,null,null,0]
["092021",9,{"$f":"+MIN(Contributo_cer[[#This Row],[Totale Immissione in rete]:[Totale Consumi rimanenti]])","v":0},"HPB",null,null,null,0]
["092022",9,{"$f":"+MIN(Contributo_cer[[#This Row],[Totale Immissione in rete]:[Totale Consumi rimanenti]])","v":0},"HCB",null,null,null,0]
["092023",9,{"$f":"+MIN(Contributo_cer[[#This Row],[Totale Immissione in rete]:[Totale Consumi rimanenti]])","v":0},"HCB",null,null,null,0]
["092100",9,{"$f":"+MIN(Contributo_cer[[#This Row],[Totale Immissione in rete]:[Totale Consumi rimanenti]])","v":0},"HCB",null,null,null,0]
["092101",9,{"$f":"+MIN(Contributo_cer[[#This Row],[Totale Immissione in rete]:[Totale Consumi rimanenti]])","v":0},"HCB",null,null,null,0]
["092102",9,{"$f":"+MIN(Contributo_cer[[#This Row],[Totale Immissione in rete]:[Totale Consumi rimanenti]])","v":0},"HCB",null,null,null,0]
["092103",9,{"$f":"+MIN(Contributo_cer[[#This Row],[Totale Immissione in rete]:[Totale Consumi rimanenti]])","v":0},"HCB",null,null,null,0]
["092104",9,{"$f":"+MIN(Contributo_cer[[#This Row],[Totale Immissione in rete]:[Totale Consumi rimanenti]])","v":0},"HCB",null,null,null,0]
["092105",9,{"$f":"+MIN(Contributo_cer[[#This Row],[Totale Immissione in rete]:[Totale Consumi rimanenti]])","v":0},"HCB",null,null,null,0]
["092106",9,{"$f":"+MIN(Contributo_cer[[#This Row],[Totale Immissione in rete]:[Totale Consumi rimanenti]])","v":0},"HPB",null,null,null,0]
["092107",9,{"$f":"+MIN(Contributo_cer[[#This Row],[Totale Immissione in rete]:[Totale Consumi rimanenti]])","v":0},"HPB",null,null,null,0]
["092108",9,{"$f":"+MIN(Contributo_cer[[#This Row],[Totale Immissione in rete]:[Totale Consumi rimanenti]])","v":0},"HPB",null,null,null,0]
["092109",9,{"$f":"+MIN(Contributo_cer[[#This Row],[Totale Immissione in rete]:[Totale Consumi rimanenti]])","v":0},"HPB",null,null,null,0]
["092110",9,{"$f":"+MIN(Contributo_cer[[#This Row],[Totale Immissione in rete]:[Totale Consumi rimanenti]])","v":0},"HPB",null,null,null,0]
["092111",9,{"$f":"+MIN(Contributo_cer[[#This Row],[Totale Immissione in rete]:[Totale Consumi rimanenti]])","v":0},"HPB",null,null,null,0]
["092112",9,{"$f":"+MIN(Contributo_cer[[#This Row],[Totale Immissione in rete]:[Totale Consumi rimanenti]])","v":0},"HPB",null,null,null,0]
["092113",9,{"$f":"+MIN(Contributo_cer[[#This Row],[Totale Immissione in rete]:[Totale Consumi rimanenti]])","v":0},"HPB",null,null,null,0]
["092114",9,{"$f":"+MIN(Contributo_cer[[#This Row],[Totale Immissione in rete]:[Totale Consumi rimanenti]])","v":0},"HPB",null,null,null,0]
["092115",9,{"$f":"+MIN(Contributo_cer[[#This Row],[Totale Immissione in rete]:[Totale Consumi rimanenti]])","v":0},"HPB",null,null,null,0]
["092116",9,{"$f":"+MIN(Contributo_cer[[#This Row],[Totale Immissione in rete]:[Totale Consumi rimanenti]])","v":0},"HPB",null,null,null,0]
["092117",9,{"$f":"+MIN(Contributo_cer[[#This Row],[Totale Immissione in rete]:[Totale Consumi rimanenti]])","v":0},"HPB",null,null,null,0]
["092118",9,{"$f":"+MIN(Contributo_cer[[#This Row],[Totale Immissione in rete]:[Totale Consumi rimanenti]])","v":0},"HPB",null,null,null,0]
["092119",9,{"$f":"+MIN(Contributo_cer[[#This Row],[Totale Immissione in rete]:[Totale Consumi rimanenti]])","v":0},"HPB",null,null,null,0]
["092120",9,{"$f":"+MIN(Contributo_cer[[#This Row],[Totale Immissione in rete]:[Totale Consumi rimanenti]])","v":0},"HPB",null,null,null,0]
["092121",9,{"$f":"+MIN(Contributo_cer[[#This Row],[Totale Immissione in rete]:[Totale Consumi rimanenti]])","v":0},"HPB",null,null,null,0]
["092122",9,{"$f":"+MIN(Contributo_cer[[#This Row],[Totale Immissione in rete]:[Totale Consumi rimanenti]])","v":0},"HCB",null,null,null,0]
["092123",9,{"$f":"+MIN(Contributo_cer[[#This Row],[Totale Immissione in rete]:[Totale Consumi rimanenti]])","v":0},"HCB",null,null,null,0]
["092200",9,{"$f":"+MIN(Contributo_cer[[#This Row],[Totale Immissione in rete]:[Totale Consumi rimanenti]])","v":0},"HCB",null,null,null,0]
["092201",9,{"$f":"+MIN(Contributo_cer[[#This Row],[Totale Immissione in rete]:[Totale Consumi rimanenti]])","v":0},"HCB",null,null,null,0]
["092202",9,{"$f":"+MIN(Contributo_cer[[#This Row],[Totale Immissione in rete]:[Totale Consumi rimanenti]])","v":0},"HCB",null,null,null,0]
["092203",9,{"$f":"+MIN(Contributo_cer[[#This Row],[Totale Immissione in rete]:[Totale Consumi rimanenti]])","v":0},"HCB",null,null,null,0]
["092204",9,{"$f":"+MIN(Contributo_cer[[#This Row],[Totale Immissione in rete]:[Totale Consumi rimanenti]])","v":0},"HCB",null,null,null,0]
["092205",9,{"$f":"+MIN(Contributo_cer[[#This Row],[Totale Immissione in rete]:[Totale Consumi rimanenti]])","v":0},"HCB",null,null,null,0]
["092206",9,{"$f":"+MIN(Contributo_cer[[#This Row],[Totale Immissione in rete]:[Totale Consumi rimanenti]])","v":0},"HPB",null,null,null,0]
["092207",9,{"$f":"+MIN(Contributo_cer[[#This Row],[Totale Immissione in rete]:[Totale Consumi rimanenti]])","v":0},"HPB",null,null,null,0]
["092208",9,{"$f":"+MIN(Contributo_cer[[#This Row],[Totale Immissione in rete]:[Totale Consumi rimanenti]])","v":0},"HPB",null,null,null,0]
["092209",9,{"$f":"+MIN(Contributo_cer[[#This Row],[Totale Immissione in rete]:[Totale Consumi rimanenti]])","v":0},"HPB",null,null,null,0]
["092210",9,{"$f":"+MIN(Contributo_cer[[#This Row],[Totale Immissione in rete]:[Totale Consumi rimanenti]])","v":0},"HPB",null,null,null,0]
["092211",9,{"$f":"+MIN(Contributo_cer[[#This Row],[Totale Immissione in rete]:[Totale Consumi rimanenti]])","v":0},"HPB",null,null,null,0]
["092212",9,{"$f":"+MIN(Contributo_cer[[#This Row],[Totale Immissione in rete]:[Totale Consumi rimanenti]])","v":0},"HPB",null,null,null,0]
["092213",9,{"$f":"+MIN(Contributo_cer[[#This Row],[Totale Immissione in rete]:[Totale Consumi rimanenti]])","v":0},"HPB",null,null,null,0]
["092214",9,{"$f":"+MIN(Contributo_cer[[#This Row],[Totale Immissione in rete]:[Totale Consumi rimanenti]])","v":0},"HPB",null,null,null,0]
["092215",9,{"$f":"+MIN(Contributo_cer[[#This Row],[Totale Immissione in rete]:[Totale Consumi rimanenti]])","v":0},"HPB",null,null,null,0]
["092216",9,{"$f":"+MIN(Contributo_cer[[#This Row],[Totale Immissione in rete]:[Totale Consumi rimanenti]])","v":0},"HPB",null,null,null,0]
["092217",9,{"$f":"+MIN(Contributo_cer[[#This Row],[Totale Immissione in rete]:[Totale Consumi rimanenti]])","v":0},"HPB",null,null,null,0]
["092218",9,{"$f":"+MIN(Contributo_cer[[#This Row],[Totale Immissione in rete]:[Totale Consumi rimanenti]])","v":0},"HPB",null,null,null,0]
["092219",9,{"$f":"+MIN(Contributo_cer[[#This Row],[Totale Immissione in rete]:[Totale Consumi rimanenti]])","v":0},"HPB",null,null,null,0]
["092220",9,{"$f":"+MIN(Contributo_cer[[#This Row],[Totale Immissione in rete]:[Totale Consumi rimanenti]])","v":0},"HPB",null,null,null,0]
["092221",9,{"$f":"+MIN(Contributo_cer[[#This Row],[Totale Immissione in rete]:[Totale Consumi rimanenti]])","v":0},"HPB",null,null,null,0]
["092222",9,{"$f":"+MIN(Contributo_cer[[#This Row],[Totale Immissione in rete]:[Totale Consumi rimanenti]])","v":0},"HCB",null,null,null,0]
["092223",9,{"$f":"+MIN(Contributo_cer[[#This Row],[Totale Immissione in rete]:[Totale Consumi rimanenti]])","v":0},"HCB",null,null,null,0]
["092300",9,{"$f":"+MIN(Contributo_cer[[#This Row],[Totale Immissione in rete]:[Totale Consumi rimanenti]])","v":0},"HCB",null,null,null,0]
["092301",9,{"$f":"+MIN(Contributo_cer[[#This Row],[Totale Immissione in rete]:[Totale Consumi rimanenti]])","v":0},"HCB",null,null,null,0]
["092302",9,{"$f":"+MIN(Contributo_cer[[#This Row],[Totale Immissione in rete]:[Totale Consumi rimanenti]])","v":0},"HCB",null,null,null,0]
["092303",9,{"$f":"+MIN(Contributo_cer[[#This Row],[Totale Immissione in rete]:[Totale Consumi rimanenti]])","v":0},"HCB",null,null,null,0]
["092304",9,{"$f":"+MIN(Contributo_cer[[#This Row],[Totale Immissione in rete]:[Totale Consumi rimanenti]])","v":0},"HCB",null,null,null,0]
["092305",9,{"$f":"+MIN(Contributo_cer[[#This Row],[Totale Immissione in rete]:[Totale Consumi rimanenti]])","v":0},"HCB",null,null,null,0]
["092306",9,{"$f":"+MIN(Contributo_cer[[#This Row],[Totale Immissione in rete]:[Totale Consumi rimanenti]])","v":0},"HPB",null,null,null,0]
["092307",9,{"$f":"+MIN(Contributo_cer[[#This Row],[Totale Immissione in rete]:[Totale Consumi rimanenti]])","v":0},"HPB",null,null,null,0]
["092308",9,{"$f":"+MIN(Contributo_cer[[#This Row],[Totale Immissione in rete]:[Totale Consumi rimanenti]])","v":0},"HPB",null,null,null,0]
["092309",9,{"$f":"+MIN(Contributo_cer[[#This Row],[Totale Immissione in rete]:[Totale Consumi rimanenti]])","v":0},"HPB",null,null,null,0]
["092310",9,{"$f":"+MIN(Contributo_cer[[#This Row],[Totale Immissione in rete]:[Totale Consumi rimanenti]])","v":0},"HPB",null,null,null,0]
["092311",9,{"$f":"+MIN(Contributo_cer[[#This Row],[Totale Immissione in rete]:[Totale Consumi rimanenti]])","v":0},"HPB",null,null,null,0]
["092312",9,{"$f":"+MIN(Contributo_cer[[#This Row],[Totale Immissione in rete]:[Totale Consumi rimanenti]])","v":0},"HPB",null,null,null,0]
["092313",9,{"$f":"+MIN(Contributo_cer[[#This Row],[Totale Immissione in rete]:[Totale Consumi rimanenti]])","v":0},"HPB",null,null,null,0]
["092314",9,{"$f":"+MIN(Contributo_cer[[#This Row],[Totale Immissione in rete]:[Totale Consumi rimanenti]])","v":0},"HPB",null,null,null,0]
["092315",9,{"$f":"+MIN(Contributo_cer[[#This Row],[Totale Immissione in rete]:[Totale Consumi rimanenti]])","v":0},"HPB",null,null,null,0]
["092316",9,{"$f":"+MIN(Contributo_cer[[#This Row],[Totale Immissione in rete]:[Totale Consumi rimanenti]])","v":0},"HPB",null,null,null,0]
["092317",9,{"$f":"+MIN(Contributo_cer[[#This Row],[Totale Immissione in rete]:[Totale Consumi rimanenti]])","v":0},"HPB",null,null,null,0]
["092318",9,{"$f":"+MIN(Contributo_cer[[#This Row],[Totale Immissione in rete]:[Totale Consumi rimanenti]])","v":0},"HPB",null,null,null,0]
["092319",9,{"$f":"+MIN(Contributo_cer[[#This Row],[Totale Immissione in rete]:[Totale Consumi rimanenti]])","v":0},"HPB",null,null,null,0]
["092320",9,{"$f":"+MIN(Contributo_cer[[#This Row],[Totale Immissione in rete]:[Totale Consumi rimanenti]])","v":0},"HPB",null,null,null,0]
["092321",9,{"$f":"+MIN(Contributo_cer[[#This Row],[Totale Immissione in rete]:[Totale Consumi rimanenti]])","v":0},"HPB",null,null,null,0]
["092322",9,{"$f":"+MIN(Contributo_cer[[#This Row],[Totale Immissione in rete]:[Totale Consumi rimanenti]])","v":0},"HCB",null,null,null,0]
["092323",9,{"$f":"+MIN(Contributo_cer[[#This Row],[Totale Immissione in rete]:[Totale Consumi rimanenti]])","v":0},"HCB",null,null,null,0]
["092400",9,{"$f":"+MIN(Contributo_cer[[#This Row],[Totale Immissione in rete]:[Totale Consumi rimanenti]])","v":0},"HCB",null,null,null,0]
["092401",9,{"$f":"+MIN(Contributo_cer[[#This Row],[Totale Immissione in rete]:[Totale Consumi rimanenti]])","v":0},"HCB",null,null,null,0]
["092402",9,{"$f":"+MIN(Contributo_cer[[#This Row],[Totale Immissione in rete]:[Totale Consumi rimanenti]])","v":0},"HCB",null,null,null,0]
["092403",9,{"$f":"+MIN(Contributo_cer[[#This Row],[Totale Immissione in rete]:[Totale Consumi rimanenti]])","v":0},"HCB",null,null,null,0]
["092404",9,{"$f":"+MIN(Contributo_cer[[#This Row],[Totale Immissione in rete]:[Totale Consumi rimanenti]])","v":0},"HCB",null,null,null,0]
["092405",9,{"$f":"+MIN(Contributo_cer[[#This Row],[Totale Immissione in rete]:[Totale Consumi rimanenti]])","v":0},"HCB",null,null,null,0]
["092406",9,{"$f":"+MIN(Contributo_cer[[#This Row],[Totale Immissione in rete]:[Totale Consumi rimanenti]])","v":0},"HPB",null,null,null,0]
["092407",9,{"$f":"+MIN(Contributo_cer[[#This Row],[Totale Immissione in rete]:[Totale Consumi rimanenti]])","v":0},"HPB",null,null,null,0]
["092408",9,{"$f":"+MIN(Contributo_cer[[#This Row],[Totale Immissione in rete]:[Totale Consumi rimanenti]])","v":0},"HPB",null,null,null,0]
["092409",9,{"$f":"+MIN(Contributo_cer[[#This Row],[Totale Immissione in rete]:[Totale Consumi rimanenti]])","v":0},"HPB",null,null,null,0]
["092410",9,{"$f":"+MIN(Contributo_cer[[#This Row],[Totale Immissione in rete]:[Totale Consumi rimanenti]])","v":0},"HPB",null,null,null,0]
["092411",9,{"$f":"+MIN(Contributo_cer[[#This Row],[Totale Immissione in rete]:[Totale Consumi rimanenti]])","v":0},"HPB",null,null,null,0]
["092412",9,{"$f":"+MIN(Contributo_cer[[#This Row],[Totale Immissione in rete]:[Totale Consumi rimanenti]])","v":0},"HPB",null,null,null,0]
["092413",9,{"$f":"+MIN(Contributo_cer[[#This Row],[Totale Immissione in rete]:[Totale Consumi rimanenti]])","v":0},"HPB",null,null,null,0]
["092414",9,{"$f":"+MIN(Contributo_cer[[#This Row],[Totale Immissione in rete]:[Totale Consumi rimanenti]])","v":0},"HPB",null,null,null,0]
["092415",9,{"$f":"+MIN(Contributo_cer[[#This Row],[Totale Immissione in rete]:[Totale Consumi rimanenti]])","v":0},"HPB",null,null,null,0]
["092416",9,{"$f":"+MIN(Contributo_cer[[#This Row],[Totale Immissione in rete]:[Totale Consumi rimanenti]])","v":0},"HPB",null,null,null,0]
["092417",9,{"$f":"+MIN(Contributo_cer[[#This Row],[Totale Immissione in rete]:[Totale Consumi rimanenti]])","v":0},"HPB",null,null,null,0]
["092418",9,{"$f":"+MIN(Contributo_cer[[#This Row],[Totale Immissione in rete]:[Totale Consumi rimanenti]])","v":0},"HPB",null,null,null,0]
["092419",9,{"$f":"+MIN(Contributo_cer[[#This Row],[Totale Immissione in rete]:[Totale Consumi rimanenti]])","v":0},"HPB",null,null,null,0]
["092420",9,{"$f":"+MIN(Contributo_cer[[#This Row],[Totale Immissione in rete]:[Totale Consumi rimanenti]])","v":0},"HPB",null,null,null,0]
["092421",9,{"$f":"+MIN(Contributo_cer[[#This Row],[Totale Immissione in rete]:[Totale Consumi rimanenti]])","v":0},"HPB",null,null,null,0]
["092422",9,{"$f":"+MIN(Contributo_cer[[#This Row],[Totale Immissione in rete]:[Totale Consumi rimanenti]])","v":0},"HCB",null,null,null,0]
["092423",9,{"$f":"+MIN(Contributo_cer[[#This Row],[Totale Immissione in rete]:[Totale Consumi rimanenti]])","v":0},"HCB",null,null,null,0]
["092500",9,{"$f":"+MIN(Contributo_cer[[#This Row],[Totale Immissione in rete]:[Totale Consumi rimanenti]])","v":0},"HCB",null,null,null,0]
["092501",9,{"$f":"+MIN(Contributo_cer[[#This Row],[Totale Immissione in rete]:[Totale Consumi rimanenti]])","v":0},"HCB",null,null,null,0]
["092502",9,{"$f":"+MIN(Contributo_cer[[#This Row],[Totale Immissione in rete]:[Totale Consumi rimanenti]])","v":0},"HCB",null,null,null,0]
["092503",9,{"$f":"+MIN(Contributo_cer[[#This Row],[Totale Immissione in rete]:[Totale Consumi rimanenti]])","v":0},"HCB",null,null,null,0]
["092504",9,{"$f":"+MIN(Contributo_cer[[#This Row],[Totale Immissione in rete]:[Totale Consumi rimanenti]])","v":0},"HCB",null,null,null,0]
["092505",9,{"$f":"+MIN(Contributo_cer[[#This Row],[Totale Immissione in rete]:[Totale Consumi rimanenti]])","v":0},"HCB",null,null,null,0]
["092506",9,{"$f":"+MIN(Contributo_cer[[#This Row],[Totale Immissione in rete]:[Totale Consumi rimanenti]])","v":0},"HPB",null,null,null,0]
["092507",9,{"$f":"+MIN(Contributo_cer[[#This Row],[Totale Immissione in rete]:[Totale Consumi rimanenti]])","v":0},"HPB",null,null,null,0]
["092508",9,{"$f":"+MIN(Contributo_cer[[#This Row],[Totale Immissione in rete]:[Totale Consumi rimanenti]])","v":0},"HPB",null,null,null,0]
["092509",9,{"$f":"+MIN(Contributo_cer[[#This Row],[Totale Immissione in rete]:[Totale Consumi rimanenti]])","v":0},"HPB",null,null,null,0]
["092510",9,{"$f":"+MIN(Contributo_cer[[#This Row],[Totale Immissione in rete]:[Totale Consumi rimanenti]])","v":0},"HPB",null,null,null,0]
["092511",9,{"$f":"+MIN(Contributo_cer[[#This Row],[Totale Immissione in rete]:[Totale Consumi rimanenti]])","v":0},"HPB",null,null,null,0]
["092512",9,{"$f":"+MIN(Contributo_cer[[#This Row],[Totale Immissione in rete]:[Totale Consumi rimanenti]])","v":0},"HPB",null,null,null,0]
["092513",9,{"$f":"+MIN(Contributo_cer[[#This Row],[Totale Immissione in rete]:[Totale Consumi rimanenti]])","v":0},"HPB",null,null,null,0]
["092514",9,{"$f":"+MIN(Contributo_cer[[#This Row],[Totale Immissione in rete]:[Totale Consumi rimanenti]])","v":0},"HPB",null,null,null,0]
["092515",9,{"$f":"+MIN(Contributo_cer[[#This Row],[Totale Immissione in rete]:[Totale Consumi rimanenti]])","v":0},"HPB",null,null,null,0]
["092516",9,{"$f":"+MIN(Contributo_cer[[#This Row],[Totale Immissione in rete]:[Totale Consumi rimanenti]])","v":0},"HPB",null,null,null,0]
["092517",9,{"$f":"+MIN(Contributo_cer[[#This Row],[Totale Immissione in rete]:[Totale Consumi rimanenti]])","v":0},"HPB",null,null,null,0]
["092518",9,{"$f":"+MIN(Contributo_cer[[#This Row],[Totale Immissione in rete]:[Totale Consumi rimanenti]])","v":0},"HPB",null,null,null,0]
["092519",9,{"$f":"+MIN(Contributo_cer[[#This Row],[Totale Immissione in rete]:[Totale Consumi rimanenti]])","v":0},"HPB",null,null,null,0]
["092520",9,{"$f":"+MIN(Contributo_cer[[#This Row],[Totale Immissione in rete]:[Totale Consumi rimanenti]])","v":0},"HPB",null,null,null,0]
["092521",9,{"$f":"+MIN(Contributo_cer[[#This Row],[Totale Immissione in rete]:[Totale Consumi rimanenti]])","v":0},"HPB",null,null,null,0]
["092522",9,{"$f":"+MIN(Contributo_cer[[#This Row],[Totale Immissione in rete]:[Totale Consumi rimanenti]])","v":0},"HCB",null,null,null,0]
["092523",9,{"$f":"+MIN(Contributo_cer[[#This Row],[Totale Immissione in rete]:[Totale Consumi rimanenti]])","v":0},"HCB",null,null,null,0]
["092600",9,{"$f":"+MIN(Contributo_cer[[#This Row],[Totale Immissione in rete]:[Totale Consumi rimanenti]])","v":0},"HCB",null,null,null,0]
["092601",9,{"$f":"+MIN(Contributo_cer[[#This Row],[Totale Immissione in rete]:[Totale Consumi rimanenti]])","v":0},"HCB",null,null,null,0]
["092602",9,{"$f":"+MIN(Contributo_cer[[#This Row],[Totale Immissione in rete]:[Totale Consumi rimanenti]])","v":0},"HCB",null,null,null,0]
["092603",9,{"$f":"+MIN(Contributo_cer[[#This Row],[Totale Immissione in rete]:[Totale Consumi rimanenti]])","v":0},"HCB",null,null,null,0]
["092604",9,{"$f":"+MIN(Contributo_cer[[#This Row],[Totale Immissione in rete]:[Totale Consumi rimanenti]])","v":0},"HCB",null,null,null,0]
["092605",9,{"$f":"+MIN(Contributo_cer[[#This Row],[Totale Immissione in rete]:[Totale Consumi rimanenti]])","v":0},"HCB",null,null,null,0]
["092606",9,{"$f":"+MIN(Contributo_cer[[#This Row],[Totale Immissione in rete]:[Totale Consumi rimanenti]])","v":0},"HPB",null,null,null,0]
["092607",9,{"$f":"+MIN(Contributo_cer[[#This Row],[Totale Immissione in rete]:[Totale Consumi rimanenti]])","v":0},"HPB",null,null,null,0]
["092608",9,{"$f":"+MIN(Contributo_cer[[#This Row],[Totale Immissione in rete]:[Totale Consumi rimanenti]])","v":0},"HPB",null,null,null,0]
["092609",9,{"$f":"+MIN(Contributo_cer[[#This Row],[Totale Immissione in rete]:[Totale Consumi rimanenti]])","v":0},"HPB",null,null,null,0]
["092610",9,{"$f":"+MIN(Contributo_cer[[#This Row],[Totale Immissione in rete]:[Totale Consumi rimanenti]])","v":0},"HPB",null,null,null,0]
["092611",9,{"$f":"+MIN(Contributo_cer[[#This Row],[Totale Immissione in rete]:[Totale Consumi rimanenti]])","v":0},"HPB",null,null,null,0]
["092612",9,{"$f":"+MIN(Contributo_cer[[#This Row],[Totale Immissione in rete]:[Totale Consumi rimanenti]])","v":0},"HPB",null,null,null,0]
["092613",9,{"$f":"+MIN(Contributo_cer[[#This Row],[Totale Immissione in rete]:[Totale Consumi rimanenti]])","v":0},"HPB",null,null,null,0]
["092614",9,{"$f":"+MIN(Contributo_cer[[#This Row],[Totale Immissione in rete]:[Totale Consumi rimanenti]])","v":0},"HPB",null,null,null,0]
["092615",9,{"$f":"+MIN(Contributo_cer[[#This Row],[Totale Immissione in rete]:[Totale Consumi rimanenti]])","v":0},"HPB",null,null,null,0]
["092616",9,{"$f":"+MIN(Contributo_cer[[#This Row],[Totale Immissione in rete]:[Totale Consumi rimanenti]])","v":0},"HPB",null,null,null,0]
["092617",9,{"$f":"+MIN(Contributo_cer[[#This Row],[Totale Immissione in rete]:[Totale Consumi rimanenti]])","v":0},"HPB",null,null,null,0]
["092618",9,{"$f":"+MIN(Contributo_cer[[#This Row],[Totale Immissione in rete]:[Totale Consumi rimanenti]])","v":0},"HPB",null,null,null,0]
["092619",9,{"$f":"+MIN(Contributo_cer[[#This Row],[Totale Immissione in rete]:[Totale Consumi rimanenti]])","v":0},"HPB",null,null,null,0]
["092620",9,{"$f":"+MIN(Contributo_cer[[#This Row],[Totale Immissione in rete]:[Totale Consumi rimanenti]])","v":0},"HPB",null,null,null,0]
["092621",9,{"$f":"+MIN(Contributo_cer[[#This Row],[Totale Immissione in rete]:[Totale Consumi rimanenti]])","v":0},"HPB",null,null,null,0]
["092622",9,{"$f":"+MIN(Contributo_cer[[#This Row],[Totale Immissione in rete]:[Totale Consumi rimanenti]])","v":0},"HCB",null,null,null,0]
["092623",9,{"$f":"+MIN(Contributo_cer[[#This Row],[Totale Immissione in rete]:[Totale Consumi rimanenti]])","v":0},"HCB",null,null,null,0]
["092700",9,{"$f":"+MIN(Contributo_cer[[#This Row],[Totale Immissione in rete]:[Totale Consumi rimanenti]])","v":0},"HCB",null,null,null,0]
["092701",9,{"$f":"+MIN(Contributo_cer[[#This Row],[Totale Immissione in rete]:[Totale Consumi rimanenti]])","v":0},"HCB",null,null,null,0]
["092702",9,{"$f":"+MIN(Contributo_cer[[#This Row],[Totale Immissione in rete]:[Totale Consumi rimanenti]])","v":0},"HCB",null,null,null,0]
["092703",9,{"$f":"+MIN(Contributo_cer[[#This Row],[Totale Immissione in rete]:[Totale Consumi rimanenti]])","v":0},"HCB",null,null,null,0]
["092704",9,{"$f":"+MIN(Contributo_cer[[#This Row],[Totale Immissione in rete]:[Totale Consumi rimanenti]])","v":0},"HCB",null,null,null,0]
["092705",9,{"$f":"+MIN(Contributo_cer[[#This Row],[Totale Immissione in rete]:[Totale Consumi rimanenti]])","v":0},"HCB",null,null,null,0]
["092706",9,{"$f":"+MIN(Contributo_cer[[#This Row],[Totale Immissione in rete]:[Totale Consumi rimanenti]])","v":0},"HPB",null,null,null,0]
["092707",9,{"$f":"+MIN(Contributo_cer[[#This Row],[Totale Immissione in rete]:[Totale Consumi rimanenti]])","v":0},"HPB",null,null,null,0]
["092708",9,{"$f":"+MIN(Contributo_cer[[#This Row],[Totale Immissione in rete]:[Totale Consumi rimanenti]])","v":0},"HPB",null,null,null,0]
["092709",9,{"$f":"+MIN(Contributo_cer[[#This Row],[Totale Immissione in rete]:[Totale Consumi rimanenti]])","v":0},"HPB",null,null,null,0]
["092710",9,{"$f":"+MIN(Contributo_cer[[#This Row],[Totale Immissione in rete]:[Totale Consumi rimanenti]])","v":0},"HPB",null,null,null,0]
["092711",9,{"$f":"+MIN(Contributo_cer[[#This Row],[Totale Immissione in rete]:[Totale Consumi rimanenti]])","v":0},"HPB",null,null,null,0]
["092712",9,{"$f":"+MIN(Contributo_cer[[#This Row],[Totale Immissione in rete]:[Totale Consumi rimanenti]])","v":0},"HPB",null,null,null,0]
["092713",9,{"$f":"+MIN(Contributo_cer[[#This Row],[Totale Immissione in rete]:[Totale Consumi rimanenti]])","v":0},"HPB",null,null,null,0]
["092714",9,{"$f":"+MIN(Contributo_cer[[#This Row],[Totale Immissione in rete]:[Totale Consumi rimanenti]])","v":0},"HPB",null,null,null,0]
["092715",9,{"$f":"+MIN(Contributo_cer[[#This Row],[Totale Immissione in rete]:[Totale Consumi rimanenti]])","v":0},"HPB",null,null,null,0]
["092716",9,{"$f":"+MIN(Contributo_cer[[#This Row],[Totale Immissione in rete]:[Totale Consumi rimanenti]])","v":0},"HPB",null,null,null,0]
["092717",9,{"$f":"+MIN(Contributo_cer[[#This Row],[Totale Immissione in rete]:[Totale Consumi rimanenti]])","v":0},"HPB",null,null,null,0]
["092718",9,{"$f":"+MIN(Contributo_cer[[#This Row],[Totale Immissione in rete]:[Totale Consumi rimanenti]])","v":0},"HPB",null,null,null,0]
["092719",9,{"$f":"+MIN(Contributo_cer[[#This Row],[Totale Immissione in rete]:[Totale Consumi rimanenti]])","v":0},"HPB",null,null,null,0]
["092720",9,{"$f":"+MIN(Contributo_cer[[#This Row],[Totale Immissione in rete]:[Totale Consumi rimanenti]])","v":0},"HPB",null,null,null,0]
["092721",9,{"$f":"+MIN(Contributo_cer[[#This Row],[Totale Immissione in rete]:[Totale Consumi rimanenti]])","v":0},"HPB",null,null,null,0]
["092722",9,{"$f":"+MIN(Contributo_cer[[#This Row],[Totale Immissione in rete]:[Totale Consumi rimanenti]])","v":0},"HCB",null,null,null,0]
["092723",9,{"$f":"+MIN(Contributo_cer[[#This Row],[Totale Immissione in rete]:[Totale Consumi rimanenti]])","v":0},"HCB",null,null,null,0]
["092800",9,{"$f":"+MIN(Contributo_cer[[#This Row],[Totale Immissione in rete]:[Totale Consumi rimanenti]])","v":0},"HCB",null,null,null,0]
["092801",9,{"$f":"+MIN(Contributo_cer[[#This Row],[Totale Immissione in rete]:[Totale Consumi rimanenti]])","v":0},"HCB",null,null,null,0]
["092802",9,{"$f":"+MIN(Contributo_cer[[#This Row],[Totale Immissione in rete]:[Totale Consumi rimanenti]])","v":0},"HCB",null,null,null,0]
["092803",9,{"$f":"+MIN(Contributo_cer[[#This Row],[Totale Immissione in rete]:[Totale Consumi rimanenti]])","v":0},"HCB",null,null,null,0]
["092804",9,{"$f":"+MIN(Contributo_cer[[#This Row],[Totale Immissione in rete]:[Totale Consumi rimanenti]])","v":0},"HCB",null,null,null,0]
["092805",9,{"$f":"+MIN(Contributo_cer[[#This Row],[Totale Immissione in rete]:[Totale Consumi rimanenti]])","v":0},"HCB",null,null,null,0]
["092806",9,{"$f":"+MIN(Contributo_cer[[#This Row],[Totale Immissione in rete]:[Totale Consumi rimanenti]])","v":0},"HPB",null,null,null,0]
["092807",9,{"$f":"+MIN(Contributo_cer[[#This Row],[Totale Immissione in rete]:[Totale Consumi rimanenti]])","v":0},"HPB",null,null,null,0]
["092808",9,{"$f":"+MIN(Contributo_cer[[#This Row],[Totale Immissione in rete]:[Totale Consumi rimanenti]])","v":0},"HPB",null,null,null,0]
["092809",9,{"$f":"+MIN(Contributo_cer[[#This Row],[Totale Immissione in rete]:[Totale Consumi rimanenti]])","v":0},"HPB",null,null,null,0]
["092810",9,{"$f":"+MIN(Contributo_cer[[#This Row],[Totale Immissione in rete]:[Totale Consumi rimanenti]])","v":0},"HPB",null,null,null,0]
["092811",9,{"$f":"+MIN(Contributo_cer[[#This Row],[Totale Immissione in rete]:[Totale Consumi rimanenti]])","v":0},"HPB",null,null,null,0]
["092812",9,{"$f":"+MIN(Contributo_cer[[#This Row],[Totale Immissione in rete]:[Totale Consumi rimanenti]])","v":0},"HPB",null,null,null,0]
["092813",9,{"$f":"+MIN(Contributo_cer[[#This Row],[Totale Immissione in rete]:[Totale Consumi rimanenti]])","v":0},"HPB",null,null,null,0]
["092814",9,{"$f":"+MIN(Contributo_cer[[#This Row],[Totale Immissione in rete]:[Totale Consumi rimanenti]])","v":0},"HPB",null,null,null,0]
["092815",9,{"$f":"+MIN(Contributo_cer[[#This Row],[Totale Immissione in rete]:[Totale Consumi rimanenti]])","v":0},"HPB",null,null,null,0]
["092816",9,{"$f":"+MIN(Contributo_cer[[#This Row],[Totale Immissione in rete]:[Totale Consumi rimanenti]])","v":0},"HPB",null,null,null,0]
["092817",9,{"$f":"+MIN(Contributo_cer[[#This Row],[Totale Immissione in rete]:[Totale Consumi rimanenti]])","v":0},"HPB",null,null,null,0]
["092818",9,{"$f":"+MIN(Contributo_cer[[#This Row],[Totale Immissione in rete]:[Totale Consumi rimanenti]])","v":0},"HPB",null,null,null,0]
["092819",9,{"$f":"+MIN(Contributo_cer[[#This Row],[Totale Immissione in rete]:[Totale Consumi rimanenti]])","v":0},"HPB",null,null,null,0]
["092820",9,{"$f":"+MIN(Contributo_cer[[#This Row],[Totale Immissione in rete]:[Totale Consumi rimanenti]])","v":0},"HPB",null,null,null,0]
["092821",9,{"$f":"+MIN(Contributo_cer[[#This Row],[Totale Immissione in rete]:[Totale Consumi rimanenti]])","v":0},"HPB",null,null,null,0]
["092822",9,{"$f":"+MIN(Contributo_cer[[#This Row],[Totale Immissione in rete]:[Totale Consumi rimanenti]])","v":0},"HCB",null,null,null,0]
["092823",9,{"$f":"+MIN(Contributo_cer[[#This Row],[Totale Immissione in rete]:[Totale Consumi rimanenti]])","v":0},"HCB",null,null,null,0]
["092900",9,{"$f":"+MIN(Contributo_cer[[#This Row],[Totale Immissione in rete]:[Totale Consumi rimanenti]])","v":0},"HCB",null,null,null,0]
["092901",9,{"$f":"+MIN(Contributo_cer[[#This Row],[Totale Immissione in rete]:[Totale Consumi rimanenti]])","v":0},"HCB",null,null,null,0]
["092902",9,{"$f":"+MIN(Contributo_cer[[#This Row],[Totale Immissione in rete]:[Totale Consumi rimanenti]])","v":0},"HCB",null,null,null,0]
["092903",9,{"$f":"+MIN(Contributo_cer[[#This Row],[Totale Immissione in rete]:[Totale Consumi rimanenti]])","v":0},"HCB",null,null,null,0]
["092904",9,{"$f":"+MIN(Contributo_cer[[#This Row],[Totale Immissione in rete]:[Totale Consumi rimanenti]])","v":0},"HCB",null,null,null,0]
["092905",9,{"$f":"+MIN(Contributo_cer[[#This Row],[Totale Immissione in rete]:[Totale Consumi rimanenti]])","v":0},"HCB",null,null,null,0]
["092906",9,{"$f":"+MIN(Contributo_cer[[#This Row],[Totale Immissione in rete]:[Totale Consumi rimanenti]])","v":0},"HPB",null,null,null,0]
["092907",9,{"$f":"+MIN(Contributo_cer[[#This Row],[Totale Immissione in rete]:[Totale Consumi rimanenti]])","v":0},"HPB",null,null,null,0]
["092908",9,{"$f":"+MIN(Contributo_cer[[#This Row],[Totale Immissione in rete]:[Totale Consumi rimanenti]])","v":0},"HPB",null,null,null,0]
["092909",9,{"$f":"+MIN(Contributo_cer[[#This Row],[Totale Immissione in rete]:[Totale Consumi rimanenti]])","v":0},"HPB",null,null,null,0]
["092910",9,{"$f":"+MIN(Contributo_cer[[#This Row],[Totale Immissione in rete]:[Totale Consumi rimanenti]])","v":0},"HPB",null,null,null,0]
["092911",9,{"$f":"+MIN(Contributo_cer[[#This Row],[Totale Immissione in rete]:[Totale Consumi rimanenti]])","v":0},"HPB",null,null,null,0]
["092912",9,{"$f":"+MIN(Contributo_cer[[#This Row],[Totale Immissione in rete]:[Totale Consumi rimanenti]])","v":0},"HPB",null,null,null,0]
["092913",9,{"$f":"+MIN(Contributo_cer[[#This Row],[Totale Immissione in rete]:[Totale Consumi rimanenti]])","v":0},"HPB",null,null,null,0]
["092914",9,{"$f":"+MIN(Contributo_cer[[#This Row],[Totale Immissione in rete]:[Totale Consumi rimanenti]])","v":0},"HPB",null,null,null,0]
["092915",9,{"$f":"+MIN(Contributo_cer[[#This Row],[Totale Immissione in rete]:[Totale Consumi rimanenti]])","v":0},"HPB",null,null,null,0]
["092916",9,{"$f":"+MIN(Contributo_cer[[#This Row],[Totale Immissione in rete]:[Totale Consumi rimanenti]])","v":0},"HPB",null,null,null,0]
["092917",9,{"$f":"+MIN(Contributo_cer[[#This Row],[Totale Immissione in rete]:[Totale Consumi rimanenti]])","v":0},"HPB",null,null,null,0]
["092918",9,{"$f":"+MIN(Contributo_cer[[#This Row],[Totale Immissione in rete]:[Totale Consumi rimanenti]])","v":0},"HPB",null,null,null,0]
["092919",9,{"$f":"+MIN(Contributo_cer[[#This Row],[Totale Immissione in rete]:[Totale Consumi rimanenti]])","v":0},"HPB",null,null,null,0]
["092920",9,{"$f":"+MIN(Contributo_cer[[#This Row],[Totale Immissione in rete]:[Totale Consumi rimanenti]])","v":0},"HPB",null,null,null,0]
["092921",9,{"$f":"+MIN(Contributo_cer[[#This Row],[Totale Immissione in rete]:[Totale Consumi rimanenti]])","v":0},"HPB",null,null,null,0]
["092922",9,{"$f":"+MIN(Contributo_cer[[#This Row],[Totale Immissione in rete]:[Totale Consumi rimanenti]])","v":0},"HCB",null,null,null,0]
["092923",9,{"$f":"+MIN(Contributo_cer[[#This Row],[Totale Immissione in rete]:[Totale Consumi rimanenti]])","v":0},"HCB",null,null,null,0]
["093000",9,{"$f":"+MIN(Contributo_cer[[#This Row],[Totale Immissione in rete]:[Totale Consumi rimanenti]])","v":0},"HCB",null,null,null,0]
["093001",9,{"$f":"+MIN(Contributo_cer[[#This Row],[Totale Immissione in rete]:[Totale Consumi rimanenti]])","v":0},"HCB",null,null,null,0]
["093002",9,{"$f":"+MIN(Contributo_cer[[#This Row],[Totale Immissione in rete]:[Totale Consumi rimanenti]])","v":0},"HCB",null,null,null,0]
["093003",9,{"$f":"+MIN(Contributo_cer[[#This Row],[Totale Immissione in rete]:[Totale Consumi rimanenti]])","v":0},"HCB",null,null,null,0]
["093004",9,{"$f":"+MIN(Contributo_cer[[#This Row],[Totale Immissione in rete]:[Totale Consumi rimanenti]])","v":0},"HCB",null,null,null,0]
["093005",9,{"$f":"+MIN(Contributo_cer[[#This Row],[Totale Immissione in rete]:[Totale Consumi rimanenti]])","v":0},"HCB",null,null,null,0]
["093006",9,{"$f":"+MIN(Contributo_cer[[#This Row],[Totale Immissione in rete]:[Totale Consumi rimanenti]])","v":0},"HPB",null,null,null,0]
["093007",9,{"$f":"+MIN(Contributo_cer[[#This Row],[Totale Immissione in rete]:[Totale Consumi rimanenti]])","v":0},"HPB",null,null,null,0]
["093008",9,{"$f":"+MIN(Contributo_cer[[#This Row],[Totale Immissione in rete]:[Totale Consumi rimanenti]])","v":0},"HPB",null,null,null,0]
["093009",9,{"$f":"+MIN(Contributo_cer[[#This Row],[Totale Immissione in rete]:[Totale Consumi rimanenti]])","v":0},"HPB",null,null,null,0]
["093010",9,{"$f":"+MIN(Contributo_cer[[#This Row],[Totale Immissione in rete]:[Totale Consumi rimanenti]])","v":0},"HPB",null,null,null,0]
["093011",9,{"$f":"+MIN(Contributo_cer[[#This Row],[Totale Immissione in rete]:[Totale Consumi rimanenti]])","v":0},"HPB",null,null,null,0]
["093012",9,{"$f":"+MIN(Contributo_cer[[#This Row],[Totale Immissione in rete]:[Totale Consumi rimanenti]])","v":0},"HPB",null,null,null,0]
["093013",9,{"$f":"+MIN(Contributo_cer[[#This Row],[Totale Immissione in rete]:[Totale Consumi rimanenti]])","v":0},"HPB",null,null,null,0]
["093014",9,{"$f":"+MIN(Contributo_cer[[#This Row],[Totale Immissione in rete]:[Totale Consumi rimanenti]])","v":0},"HPB",null,null,null,0]
["093015",9,{"$f":"+MIN(Contributo_cer[[#This Row],[Totale Immissione in rete]:[Totale Consumi rimanenti]])","v":0},"HPB",null,null,null,0]
["093016",9,{"$f":"+MIN(Contributo_cer[[#This Row],[Totale Immissione in rete]:[Totale Consumi rimanenti]])","v":0},"HPB",null,null,null,0]
["093017",9,{"$f":"+MIN(Contributo_cer[[#This Row],[Totale Immissione in rete]:[Totale Consumi rimanenti]])","v":0},"HPB",null,null,null,0]
["093018",9,{"$f":"+MIN(Contributo_cer[[#This Row],[Totale Immissione in rete]:[Totale Consumi rimanenti]])","v":0},"HPB",null,null,null,0]
["093019",9,{"$f":"+MIN(Contributo_cer[[#This Row],[Totale Immissione in rete]:[Totale Consumi rimanenti]])","v":0},"HPB",null,null,null,0]
["093020",9,{"$f":"+MIN(Contributo_cer[[#This Row],[Totale Immissione in rete]:[Totale Consumi rimanenti]])","v":0},"HPB",null,null,null,0]
["093021",9,{"$f":"+MIN(Contributo_cer[[#This Row],[Totale Immissione in rete]:[Totale Consumi rimanenti]])","v":0},"HPB",null,null,null,0]
["093022",9,{"$f":"+MIN(Contributo_cer[[#This Row],[Totale Immissione in rete]:[Totale Consumi rimanenti]])","v":0},"HCB",null,null,null,0]
["093023",9,{"$f":"+MIN(Contributo_cer[[#This Row],[Totale Immissione in rete]:[Totale Consumi rimanenti]])","v":0},"HCB",null,null,null,0]
["100100",10,{"$f":"+MIN(Contributo_cer[[#This Row],[Totale Immissione in rete]:[Totale Consumi rimanenti]])","v":0},"HCB",null,null,null,0]
["100101",10,{"$f":"+MIN(Contributo_cer[[#This Row],[Totale Immissione in rete]:[Totale Consumi rimanenti]])","v":0},"HCB",null,null,null,0]
["100102",10,{"$f":"+MIN(Contributo_cer[[#This Row],[Totale Immissione in rete]:[Totale Consumi rimanenti]])","v":0},"HCB",null,null,null,0]
["100103",10,{"$f":"+MIN(Contributo_cer[[#This Row],[Totale Immissione in rete]:[Totale Consumi rimanenti]])","v":0},"HCB",null,null,null,0]
["100104",10,{"$f":"+MIN(Contributo_cer[[#This Row],[Totale Immissione in rete]:[Totale Consumi rimanenti]])","v":0},"HCB",null,null,null,0]
["100105",10,{"$f":"+MIN(Contributo_cer[[#This Row],[Totale Immissione in rete]:[Totale Consumi rimanenti]])","v":0},"HCB",null,null,null,0]
["100106",10,{"$f":"+MIN(Contributo_cer[[#This Row],[Totale Immissione in rete]:[Totale Consumi rimanenti]])","v":0},"HPB",null,null,null,0]
["100107",10,{"$f":"+MIN(Contributo_cer[[#This Row],[Totale Immissione in rete]:[Totale Consumi rimanenti]])","v":0},"HPB",null,null,null,0]
["100108",10,{"$f":"+MIN(Contributo_cer[[#This Row],[Totale Immissione in rete]:[Totale Consumi rimanenti]])","v":0},"HPB",null,null,null,0]
["100109",10,{"$f":"+MIN(Contributo_cer[[#This Row],[Totale Immissione in rete]:[Totale Consumi rimanenti]])","v":0},"HPB",null,null,null,0]
["100110",10,{"$f":"+MIN(Contributo_cer[[#This Row],[Totale Immissione in rete]:[Totale Consumi rimanenti]])","v":0},"HPB",null,null,null,0]
["100111",10,{"$f":"+MIN(Contributo_cer[[#This Row],[Totale Immissione in rete]:[Totale Consumi rimanenti]])","v":0},"HPB",null,null,null,0]
["100112",10,{"$f":"+MIN(Contributo_cer[[#This Row],[Totale Immissione in rete]:[Totale Consumi rimanenti]])","v":0},"HPB",null,null,null,0]
["100113",10,{"$f":"+MIN(Contributo_cer[[#This Row],[Totale Immissione in rete]:[Totale Consumi rimanenti]])","v":0},"HPB",null,null,null,0]
["100114",10,{"$f":"+MIN(Contributo_cer[[#This Row],[Totale Immissione in rete]:[Totale Consumi rimanenti]])","v":0},"HPB",null,null,null,0]
["100115",10,{"$f":"+MIN(Contributo_cer[[#This Row],[Totale Immissione in rete]:[Totale Consumi rimanenti]])","v":0},"HPB",null,null,null,0]
["100116",10,{"$f":"+MIN(Contributo_cer[[#This Row],[Totale Immissione in rete]:[Totale Consumi rimanenti]])","v":0},"HPB",null,null,null,0]
["100117",10,{"$f":"+MIN(Contributo_cer[[#This Row],[Totale Immissione in rete]:[Totale Consumi rimanenti]])","v":0},"HPB",null,null,null,0]
["100118",10,{"$f":"+MIN(Contributo_cer[[#This Row],[Totale Immissione in rete]:[Totale Consumi rimanenti]])","v":0},"HPB",null,null,null,0]
["100119",10,{"$f":"+MIN(Contributo_cer[[#This Row],[Totale Immissione in rete]:[Totale Consumi rimanenti]])","v":0},"HPB",null,null,null,0]
["100120",10,{"$f":"+MIN(Contributo_cer[[#This Row],[Totale Immissione in rete]:[Totale Consumi rimanenti]])","v":0},"HPB",null,null,null,0]
["100121",10,{"$f":"+MIN(Contributo_cer[[#This Row],[Totale Immissione in rete]:[Totale Consumi rimanenti]])","v":0},"HPB",null,null,null,0]
["100122",10,{"$f":"+MIN(Contributo_cer[[#This Row],[Totale Immissione in rete]:[Totale Consumi rimanenti]])","v":0},"HCB",null,null,null,0]
["100123",10,{"$f":"+MIN(Contributo_cer[[#This Row],[Totale Immissione in rete]:[Totale Consumi rimanenti]])","v":0},"HCB",null,null,null,0]
["100200",10,{"$f":"+MIN(Contributo_cer[[#This Row],[Totale Immissione in rete]:[Totale Consumi rimanenti]])","v":0},"HCB",null,null,null,0]
["100201",10,{"$f":"+MIN(Contributo_cer[[#This Row],[Totale Immissione in rete]:[Totale Consumi rimanenti]])","v":0},"HCB",null,null,null,0]
["100202",10,{"$f":"+MIN(Contributo_cer[[#This Row],[Totale Immissione in rete]:[Totale Consumi rimanenti]])","v":0},"HCB",null,null,null,0]
["100203",10,{"$f":"+MIN(Contributo_cer[[#This Row],[Totale Immissione in rete]:[Totale Consumi rimanenti]])","v":0},"HCB",null,null,null,0]
["100204",10,{"$f":"+MIN(Contributo_cer[[#This Row],[Totale Immissione in rete]:[Totale Consumi rimanenti]])","v":0},"HCB",null,null,null,0]
["100205",10,{"$f":"+MIN(Contributo_cer[[#This Row],[Totale Immissione in rete]:[Totale Consumi rimanenti]])","v":0},"HCB",null,null,null,0]
["100206",10,{"$f":"+MIN(Contributo_cer[[#This Row],[Totale Immissione in rete]:[Totale Consumi rimanenti]])","v":0},"HPB",null,null,null,0]
["100207",10,{"$f":"+MIN(Contributo_cer[[#This Row],[Totale Immissione in rete]:[Totale Consumi rimanenti]])","v":0},"HPB",null,null,null,0]
["100208",10,{"$f":"+MIN(Contributo_cer[[#This Row],[Totale Immissione in rete]:[Totale Consumi rimanenti]])","v":0},"HPB",null,null,null,0]
["100209",10,{"$f":"+MIN(Contributo_cer[[#This Row],[Totale Immissione in rete]:[Totale Consumi rimanenti]])","v":0},"HPB",null,null,null,0]
["100210",10,{"$f":"+MIN(Contributo_cer[[#This Row],[Totale Immissione in rete]:[Totale Consumi rimanenti]])","v":0},"HPB",null,null,null,0]
["100211",10,{"$f":"+MIN(Contributo_cer[[#This Row],[Totale Immissione in rete]:[Totale Consumi rimanenti]])","v":0},"HPB",null,null,null,0]
["100212",10,{"$f":"+MIN(Contributo_cer[[#This Row],[Totale Immissione in rete]:[Totale Consumi rimanenti]])","v":0},"HPB",null,null,null,0]
["100213",10,{"$f":"+MIN(Contributo_cer[[#This Row],[Totale Immissione in rete]:[Totale Consumi rimanenti]])","v":0},"HPB",null,null,null,0]
["100214",10,{"$f":"+MIN(Contributo_cer[[#This Row],[Totale Immissione in rete]:[Totale Consumi rimanenti]])","v":0},"HPB",null,null,null,0]
["100215",10,{"$f":"+MIN(Contributo_cer[[#This Row],[Totale Immissione in rete]:[Totale Consumi rimanenti]])","v":0},"HPB",null,null,null,0]
["100216",10,{"$f":"+MIN(Contributo_cer[[#This Row],[Totale Immissione in rete]:[Totale Consumi rimanenti]])","v":0},"HPB",null,null,null,0]
["100217",10,{"$f":"+MIN(Contributo_cer[[#This Row],[Totale Immissione in rete]:[Totale Consumi rimanenti]])","v":0},"HPB",null,null,null,0]
["100218",10,{"$f":"+MIN(Contributo_cer[[#This Row],[Totale Immissione in rete]:[Totale Consumi rimanenti]])","v":0},"HPB",null,null,null,0]
["100219",10,{"$f":"+MIN(Contributo_cer[[#This Row],[Totale Immissione in rete]:[Totale Consumi rimanenti]])","v":0},"HPB",null,null,null,0]
["100220",10,{"$f":"+MIN(Contributo_cer[[#This Row],[Totale Immissione in rete]:[Totale Consumi rimanenti]])","v":0},"HPB",null,null,null,0]
["100221",10,{"$f":"+MIN(Contributo_cer[[#This Row],[Totale Immissione in rete]:[Totale Consumi rimanenti]])","v":0},"HPB",null,null,null,0]
["100222",10,{"$f":"+MIN(Contributo_cer[[#This Row],[Totale Immissione in rete]:[Totale Consumi rimanenti]])","v":0},"HCB",null,null,null,0]
["100223",10,{"$f":"+MIN(Contributo_cer[[#This Row],[Totale Immissione in rete]:[Totale Consumi rimanenti]])","v":0},"HCB",null,null,null,0]
["100300",10,{"$f":"+MIN(Contributo_cer[[#This Row],[Totale Immissione in rete]:[Totale Consumi rimanenti]])","v":0},"HCB",null,null,null,0]
["100301",10,{"$f":"+MIN(Contributo_cer[[#This Row],[Totale Immissione in rete]:[Totale Consumi rimanenti]])","v":0},"HCB",null,null,null,0]
["100302",10,{"$f":"+MIN(Contributo_cer[[#This Row],[Totale Immissione in rete]:[Totale Consumi rimanenti]])","v":0},"HCB",null,null,null,0]
["100303",10,{"$f":"+MIN(Contributo_cer[[#This Row],[Totale Immissione in rete]:[Totale Consumi rimanenti]])","v":0},"HCB",null,null,null,0]
["100304",10,{"$f":"+MIN(Contributo_cer[[#This Row],[Totale Immissione in rete]:[Totale Consumi rimanenti]])","v":0},"HCB",null,null,null,0]
["100305",10,{"$f":"+MIN(Contributo_cer[[#This Row],[Totale Immissione in rete]:[Totale Consumi rimanenti]])","v":0},"HCB",null,null,null,0]
["100306",10,{"$f":"+MIN(Contributo_cer[[#This Row],[Totale Immissione in rete]:[Totale Consumi rimanenti]])","v":0},"HPB",null,null,null,0]
["100307",10,{"$f":"+MIN(Contributo_cer[[#This Row],[Totale Immissione in rete]:[Totale Consumi rimanenti]])","v":0},"HPB",null,null,null,0]
["100308",10,{"$f":"+MIN(Contributo_cer[[#This Row],[Totale Immissione in rete]:[Totale Consumi rimanenti]])","v":0},"HPB",null,null,null,0]
["100309",10,{"$f":"+MIN(Contributo_cer[[#This Row],[Totale Immissione in rete]:[Totale Consumi rimanenti]])","v":0},"HPB",null,null,null,0]
["100310",10,{"$f":"+MIN(Contributo_cer[[#This Row],[Totale Immissione in rete]:[Totale Consumi rimanenti]])","v":0},"HPB",null,null,null,0]
["100311",10,{"$f":"+MIN(Contributo_cer[[#This Row],[Totale Immissione in rete]:[Totale Consumi rimanenti]])","v":0},"HPB",null,null,null,0]
["100312",10,{"$f":"+MIN(Contributo_cer[[#This Row],[Totale Immissione in rete]:[Totale Consumi rimanenti]])","v":0},"HPB",null,null,null,0]
["100313",10,{"$f":"+MIN(Contributo_cer[[#This Row],[Totale Immissione in rete]:[Totale Consumi rimanenti]])","v":0},"HPB",null,null,null,0]
["100314",10,{"$f":"+MIN(Contributo_cer[[#This Row],[Totale Immissione in rete]:[Totale Consumi rimanenti]])","v":0},"HPB",null,null,null,0]
["100315",10,{"$f":"+MIN(Contributo_cer[[#This Row],[Totale Immissione in rete]:[Totale Consumi rimanenti]])","v":0},"HPB",null,null,null,0]
["100316",10,{"$f":"+MIN(Contributo_cer[[#This Row],[Totale Immissione in rete]:[Totale Consumi rimanenti]])","v":0},"HPB",null,null,null,0]
["100317",10,{"$f":"+MIN(Contributo_cer[[#This Row],[Totale Immissione in rete]:[Totale Consumi rimanenti]])","v":0},"HPB",null,null,null,0]
["100318",10,{"$f":"+MIN(Contributo_cer[[#This Row],[Totale Immissione in rete]:[Totale Consumi rimanenti]])","v":0},"HPB",null,null,null,0]
["100319",10,{"$f":"+MIN(Contributo_cer[[#This Row],[Totale Immissione in rete]:[Totale Consumi rimanenti]])","v":0},"HPB",null,null,null,0]
["100320",10,{"$f":"+MIN(Contributo_cer[[#This Row],[Totale Immissione in rete]:[Totale Consumi rimanenti]])","v":0},"HPB",null,null,null,0]
["100321",10,{"$f":"+MIN(Contributo_cer[[#This Row],[Totale Immissione in rete]:[Totale Consumi rimanenti]])","v":0},"HPB",null,null,null,0]
["100322",10,{"$f":"+MIN(Contributo_cer[[#This Row],[Totale Immissione in rete]:[Totale Consumi rimanenti]])","v":0},"HCB",null,null,null,0]
["100323",10,{"$f":"+MIN(Contributo_cer[[#This Row],[Totale Immissione in rete]:[Totale Consumi rimanenti]])","v":0},"HCB",null,null,null,0]
["100400",10,{"$f":"+MIN(Contributo_cer[[#This Row],[Totale Immissione in rete]:[Totale Consumi rimanenti]])","v":0},"HCB",null,null,null,0]
["100401",10,{"$f":"+MIN(Contributo_cer[[#This Row],[Totale Immissione in rete]:[Totale Consumi rimanenti]])","v":0},"HCB",null,null,null,0]
["100402",10,{"$f":"+MIN(Contributo_cer[[#This Row],[Totale Immissione in rete]:[Totale Consumi rimanenti]])","v":0},"HCB",null,null,null,0]
["100403",10,{"$f":"+MIN(Contributo_cer[[#This Row],[Totale Immissione in rete]:[Totale Consumi rimanenti]])","v":0},"HCB",null,null,null,0]
["100404",10,{"$f":"+MIN(Contributo_cer[[#This Row],[Totale Immissione in rete]:[Totale Consumi rimanenti]])","v":0},"HCB",null,null,null,0]
["100405",10,{"$f":"+MIN(Contributo_cer[[#This Row],[Totale Immissione in rete]:[Totale Consumi rimanenti]])","v":0},"HCB",null,null,null,0]
["100406",10,{"$f":"+MIN(Contributo_cer[[#This Row],[Totale Immissione in rete]:[Totale Consumi rimanenti]])","v":0},"HPB",null,null,null,0]
["100407",10,{"$f":"+MIN(Contributo_cer[[#This Row],[Totale Immissione in rete]:[Totale Consumi rimanenti]])","v":0},"HPB",null,null,null,0]
["100408",10,{"$f":"+MIN(Contributo_cer[[#This Row],[Totale Immissione in rete]:[Totale Consumi rimanenti]])","v":0},"HPB",null,null,null,0]
["100409",10,{"$f":"+MIN(Contributo_cer[[#This Row],[Totale Immissione in rete]:[Totale Consumi rimanenti]])","v":0},"HPB",null,null,null,0]
["100410",10,{"$f":"+MIN(Contributo_cer[[#This Row],[Totale Immissione in rete]:[Totale Consumi rimanenti]])","v":0},"HPB",null,null,null,0]
["100411",10,{"$f":"+MIN(Contributo_cer[[#This Row],[Totale Immissione in rete]:[Totale Consumi rimanenti]])","v":0},"HPB",null,null,null,0]
["100412",10,{"$f":"+MIN(Contributo_cer[[#This Row],[Totale Immissione in rete]:[Totale Consumi rimanenti]])","v":0},"HPB",null,null,null,0]
["100413",10,{"$f":"+MIN(Contributo_cer[[#This Row],[Totale Immissione in rete]:[Totale Consumi rimanenti]])","v":0},"HPB",null,null,null,0]
["100414",10,{"$f":"+MIN(Contributo_cer[[#This Row],[Totale Immissione in rete]:[Totale Consumi rimanenti]])","v":0},"HPB",null,null,null,0]
["100415",10,{"$f":"+MIN(Contributo_cer[[#This Row],[Totale Immissione in rete]:[Totale Consumi rimanenti]])","v":0},"HPB",null,null,null,0]
["100416",10,{"$f":"+MIN(Contributo_cer[[#This Row],[Totale Immissione in rete]:[Totale Consumi rimanenti]])","v":0},"HPB",null,null,null,0]
["100417",10,{"$f":"+MIN(Contributo_cer[[#This Row],[Totale Immissione in rete]:[Totale Consumi rimanenti]])","v":0},"HPB",null,null,null,0]
["100418",10,{"$f":"+MIN(Contributo_cer[[#This Row],[Totale Immissione in rete]:[Totale Consumi rimanenti]])","v":0},"HPB",null,null,null,0]
["100419",10,{"$f":"+MIN(Contributo_cer[[#This Row],[Totale Immissione in rete]:[Totale Consumi rimanenti]])","v":0},"HPB",null,null,null,0]
["100420",10,{"$f":"+MIN(Contributo_cer[[#This Row],[Totale Immissione in rete]:[Totale Consumi rimanenti]])","v":0},"HPB",null,null,null,0]
["100421",10,{"$f":"+MIN(Contributo_cer[[#This Row],[Totale Immissione in rete]:[Totale Consumi rimanenti]])","v":0},"HPB",null,null,null,0]
["100422",10,{"$f":"+MIN(Contributo_cer[[#This Row],[Totale Immissione in rete]:[Totale Consumi rimanenti]])","v":0},"HCB",null,null,null,0]
["100423",10,{"$f":"+MIN(Contributo_cer[[#This Row],[Totale Immissione in rete]:[Totale Consumi rimanenti]])","v":0},"HCB",null,null,null,0]
["100500",10,{"$f":"+MIN(Contributo_cer[[#This Row],[Totale Immissione in rete]:[Totale Consumi rimanenti]])","v":0},"HCB",null,null,null,0]
["100501",10,{"$f":"+MIN(Contributo_cer[[#This Row],[Totale Immissione in rete]:[Totale Consumi rimanenti]])","v":0},"HCB",null,null,null,0]
["100502",10,{"$f":"+MIN(Contributo_cer[[#This Row],[Totale Immissione in rete]:[Totale Consumi rimanenti]])","v":0},"HCB",null,null,null,0]
["100503",10,{"$f":"+MIN(Contributo_cer[[#This Row],[Totale Immissione in rete]:[Totale Consumi rimanenti]])","v":0},"HCB",null,null,null,0]
["100504",10,{"$f":"+MIN(Contributo_cer[[#This Row],[Totale Immissione in rete]:[Totale Consumi rimanenti]])","v":0},"HCB",null,null,null,0]
["100505",10,{"$f":"+MIN(Contributo_cer[[#This Row],[Totale Immissione in rete]:[Totale Consumi rimanenti]])","v":0},"HCB",null,null,null,0]
["100506",10,{"$f":"+MIN(Contributo_cer[[#This Row],[Totale Immissione in rete]:[Totale Consumi rimanenti]])","v":0},"HPB",null,null,null,0]
["100507",10,{"$f":"+MIN(Contributo_cer[[#This Row],[Totale Immissione in rete]:[Totale Consumi rimanenti]])","v":0},"HPB",null,null,null,0]
["100508",10,{"$f":"+MIN(Contributo_cer[[#This Row],[Totale Immissione in rete]:[Totale Consumi rimanenti]])","v":0},"HPB",null,null,null,0]
["100509",10,{"$f":"+MIN(Contributo_cer[[#This Row],[Totale Immissione in rete]:[Totale Consumi rimanenti]])","v":0},"HPB",null,null,null,0]
["100510",10,{"$f":"+MIN(Contributo_cer[[#This Row],[Totale Immissione in rete]:[Totale Consumi rimanenti]])","v":0},"HPB",null,null,null,0]
["100511",10,{"$f":"+MIN(Contributo_cer[[#This Row],[Totale Immissione in rete]:[Totale Consumi rimanenti]])","v":0},"HPB",null,null,null,0]
["100512",10,{"$f":"+MIN(Contributo_cer[[#This Row],[Totale Immissione in rete]:[Totale Consumi rimanenti]])","v":0},"HPB",null,null,null,0]
["100513",10,{"$f":"+MIN(Contributo_cer[[#This Row],[Totale Immissione in rete]:[Totale Consumi rimanenti]])","v":0},"HPB",null,null,null,0]
["100514",10,{"$f":"+MIN(Contributo_cer[[#This Row],[Totale Immissione in rete]:[Totale Consumi rimanenti]])","v":0},"HPB",null,null,null,0]
["100515",10,{"$f":"+MIN(Contributo_cer[[#This Row],[Totale Immissione in rete]:[Totale Consumi rimanenti]])","v":0},"HPB",null,null,null,0]
["100516",10,{"$f":"+MIN(Contributo_cer[[#This Row],[Totale Immissione in rete]:[Totale Consumi rimanenti]])","v":0},"HPB",null,null,null,0]
["100517",10,{"$f":"+MIN(Contributo_cer[[#This Row],[Totale Immissione in rete]:[Totale Consumi rimanenti]])","v":0},"HPB",null,null,null,0]
["100518",10,{"$f":"+MIN(Contributo_cer[[#This Row],[Totale Immissione in rete]:[Totale Consumi rimanenti]])","v":0},"HPB",null,null,null,0]
["100519",10,{"$f":"+MIN(Contributo_cer[[#This Row],[Totale Immissione in rete]:[Totale Consumi rimanenti]])","v":0},"HPB",null,null,null,0]
["100520",10,{"$f":"+MIN(Contributo_cer[[#This Row],[Totale Immissione in rete]:[Totale Consumi rimanenti]])","v":0},"HPB",null,null,null,0]
["100521",10,{"$f":"+MIN(Contributo_cer[[#This Row],[Totale Immissione in rete]:[Totale Consumi rimanenti]])","v":0},"HPB",null,null,null,0]
["100522",10,{"$f":"+MIN(Contributo_cer[[#This Row],[Totale Immissione in rete]:[Totale Consumi rimanenti]])","v":0},"HCB",null,null,null,0]
["100523",10,{"$f":"+MIN(Contributo_cer[[#This Row],[Totale Immissione in rete]:[Totale Consumi rimanenti]])","v":0},"HCB",null,null,null,0]
["100600",10,{"$f":"+MIN(Contributo_cer[[#This Row],[Totale Immissione in rete]:[Totale Consumi rimanenti]])","v":0},"HCB",null,null,null,0]
["100601",10,{"$f":"+MIN(Contributo_cer[[#This Row],[Totale Immissione in rete]:[Totale Consumi rimanenti]])","v":0},"HCB",null,null,null,0]
["100602",10,{"$f":"+MIN(Contributo_cer[[#This Row],[Totale Immissione in rete]:[Totale Consumi rimanenti]])","v":0},"HCB",null,null,null,0]
["100603",10,{"$f":"+MIN(Contributo_cer[[#This Row],[Totale Immissione in rete]:[Totale Consumi rimanenti]])","v":0},"HCB",null,null,null,0]
["100604",10,{"$f":"+MIN(Contributo_cer[[#This Row],[Totale Immissione in rete]:[Totale Consumi rimanenti]])","v":0},"HCB",null,null,null,0]
["100605",10,{"$f":"+MIN(Contributo_cer[[#This Row],[Totale Immissione in rete]:[Totale Consumi rimanenti]])","v":0},"HCB",null,null,null,0]
["100606",10,{"$f":"+MIN(Contributo_cer[[#This Row],[Totale Immissione in rete]:[Totale Consumi rimanenti]])","v":0},"HPB",null,null,null,0]
["100607",10,{"$f":"+MIN(Contributo_cer[[#This Row],[Totale Immissione in rete]:[Totale Consumi rimanenti]])","v":0},"HPB",null,null,null,0]
["100608",10,{"$f":"+MIN(Contributo_cer[[#This Row],[Totale Immissione in rete]:[Totale Consumi rimanenti]])","v":0},"HPB",null,null,null,0]
["100609",10,{"$f":"+MIN(Contributo_cer[[#This Row],[Totale Immissione in rete]:[Totale Consumi rimanenti]])","v":0},"HPB",null,null,null,0]
["100610",10,{"$f":"+MIN(Contributo_cer[[#This Row],[Totale Immissione in rete]:[Totale Consumi rimanenti]])","v":0},"HPB",null,null,null,0]
["100611",10,{"$f":"+MIN(Contributo_cer[[#This Row],[Totale Immissione in rete]:[Totale Consumi rimanenti]])","v":0},"HPB",null,null,null,0]
["100612",10,{"$f":"+MIN(Contributo_cer[[#This Row],[Totale Immissione in rete]:[Totale Consumi rimanenti]])","v":0},"HPB",null,null,null,0]
["100613",10,{"$f":"+MIN(Contributo_cer[[#This Row],[Totale Immissione in rete]:[Totale Consumi rimanenti]])","v":0},"HPB",null,null,null,0]
["100614",10,{"$f":"+MIN(Contributo_cer[[#This Row],[Totale Immissione in rete]:[Totale Consumi rimanenti]])","v":0},"HPB",null,null,null,0]
["100615",10,{"$f":"+MIN(Contributo_cer[[#This Row],[Totale Immissione in rete]:[Totale Consumi rimanenti]])","v":0},"HPB",null,null,null,0]
["100616",10,{"$f":"+MIN(Contributo_cer[[#This Row],[Totale Immissione in rete]:[Totale Consumi rimanenti]])","v":0},"HPB",null,null,null,0]
["100617",10,{"$f":"+MIN(Contributo_cer[[#This Row],[Totale Immissione in rete]:[Totale Consumi rimanenti]])","v":0},"HPB",null,null,null,0]
["100618",10,{"$f":"+MIN(Contributo_cer[[#This Row],[Totale Immissione in rete]:[Totale Consumi rimanenti]])","v":0},"HPB",null,null,null,0]
["100619",10,{"$f":"+MIN(Contributo_cer[[#This Row],[Totale Immissione in rete]:[Totale Consumi rimanenti]])","v":0},"HPB",null,null,null,0]
["100620",10,{"$f":"+MIN(Contributo_cer[[#This Row],[Totale Immissione in rete]:[Totale Consumi rimanenti]])","v":0},"HPB",null,null,null,0]
["100621",10,{"$f":"+MIN(Contributo_cer[[#This Row],[Totale Immissione in rete]:[Totale Consumi rimanenti]])","v":0},"HPB",null,null,null,0]
["100622",10,{"$f":"+MIN(Contributo_cer[[#This Row],[Totale Immissione in rete]:[Totale Consumi rimanenti]])","v":0},"HCB",null,null,null,0]
["100623",10,{"$f":"+MIN(Contributo_cer[[#This Row],[Totale Immissione in rete]:[Totale Consumi rimanenti]])","v":0},"HCB",null,null,null,0]
["100700",10,{"$f":"+MIN(Contributo_cer[[#This Row],[Totale Immissione in rete]:[Totale Consumi rimanenti]])","v":0},"HCB",null,null,null,0]
["100701",10,{"$f":"+MIN(Contributo_cer[[#This Row],[Totale Immissione in rete]:[Totale Consumi rimanenti]])","v":0},"HCB",null,null,null,0]
["100702",10,{"$f":"+MIN(Contributo_cer[[#This Row],[Totale Immissione in rete]:[Totale Consumi rimanenti]])","v":0},"HCB",null,null,null,0]
["100703",10,{"$f":"+MIN(Contributo_cer[[#This Row],[Totale Immissione in rete]:[Totale Consumi rimanenti]])","v":0},"HCB",null,null,null,0]
["100704",10,{"$f":"+MIN(Contributo_cer[[#This Row],[Totale Immissione in rete]:[Totale Consumi rimanenti]])","v":0},"HCB",null,null,null,0]
["100705",10,{"$f":"+MIN(Contributo_cer[[#This Row],[Totale Immissione in rete]:[Totale Consumi rimanenti]])","v":0},"HCB",null,null,null,0]
["100706",10,{"$f":"+MIN(Contributo_cer[[#This Row],[Totale Immissione in rete]:[Totale Consumi rimanenti]])","v":0},"HPB",null,null,null,0]
["100707",10,{"$f":"+MIN(Contributo_cer[[#This Row],[Totale Immissione in rete]:[Totale Consumi rimanenti]])","v":0},"HPB",null,null,null,0]
["100708",10,{"$f":"+MIN(Contributo_cer[[#This Row],[Totale Immissione in rete]:[Totale Consumi rimanenti]])","v":0},"HPB",null,null,null,0]
["100709",10,{"$f":"+MIN(Contributo_cer[[#This Row],[Totale Immissione in rete]:[Totale Consumi rimanenti]])","v":0},"HPB",null,null,null,0]
["100710",10,{"$f":"+MIN(Contributo_cer[[#This Row],[Totale Immissione in rete]:[Totale Consumi rimanenti]])","v":0},"HPB",null,null,null,0]
["100711",10,{"$f":"+MIN(Contributo_cer[[#This Row],[Totale Immissione in rete]:[Totale Consumi rimanenti]])","v":0},"HPB",null,null,null,0]
["100712",10,{"$f":"+MIN(Contributo_cer[[#This Row],[Totale Immissione in rete]:[Totale Consumi rimanenti]])","v":0},"HPB",null,null,null,0]
["100713",10,{"$f":"+MIN(Contributo_cer[[#This Row],[Totale Immissione in rete]:[Totale Consumi rimanenti]])","v":0},"HPB",null,null,null,0]
["100714",10,{"$f":"+MIN(Contributo_cer[[#This Row],[Totale Immissione in rete]:[Totale Consumi rimanenti]])","v":0},"HPB",null,null,null,0]
["100715",10,{"$f":"+MIN(Contributo_cer[[#This Row],[Totale Immissione in rete]:[Totale Consumi rimanenti]])","v":0},"HPB",null,null,null,0]
["100716",10,{"$f":"+MIN(Contributo_cer[[#This Row],[Totale Immissione in rete]:[Totale Consumi rimanenti]])","v":0},"HPB",null,null,null,0]
["100717",10,{"$f":"+MIN(Contributo_cer[[#This Row],[Totale Immissione in rete]:[Totale Consumi rimanenti]])","v":0},"HPB",null,null,null,0]
["100718",10,{"$f":"+MIN(Contributo_cer[[#This Row],[Totale Immissione in rete]:[Totale Consumi rimanenti]])","v":0},"HPB",null,null,null,0]
["100719",10,{"$f":"+MIN(Contributo_cer[[#This Row],[Totale Immissione in rete]:[Totale Consumi rimanenti]])","v":0},"HPB",null,null,null,0]
["100720",10,{"$f":"+MIN(Contributo_cer[[#This Row],[Totale Immissione in rete]:[Totale Consumi rimanenti]])","v":0},"HPB",null,null,null,0]
["100721",10,{"$f":"+MIN(Contributo_cer[[#This Row],[Totale Immissione in rete]:[Totale Consumi rimanenti]])","v":0},"HPB",null,null,null,0]
["100722",10,{"$f":"+MIN(Contributo_cer[[#This Row],[Totale Immissione in rete]:[Totale Consumi rimanenti]])","v":0},"HCB",null,null,null,0]
["100723",10,{"$f":"+MIN(Contributo_cer[[#This Row],[Totale Immissione in rete]:[Totale Consumi rimanenti]])","v":0},"HCB",null,null,null,0]
["100800",10,{"$f":"+MIN(Contributo_cer[[#This Row],[Totale Immissione in rete]:[Totale Consumi rimanenti]])","v":0},"HCB",null,null,null,0]
["100801",10,{"$f":"+MIN(Contributo_cer[[#This Row],[Totale Immissione in rete]:[Totale Consumi rimanenti]])","v":0},"HCB",null,null,null,0]
["100802",10,{"$f":"+MIN(Contributo_cer[[#This Row],[Totale Immissione in rete]:[Totale Consumi rimanenti]])","v":0},"HCB",null,null,null,0]
["100803",10,{"$f":"+MIN(Contributo_cer[[#This Row],[Totale Immissione in rete]:[Totale Consumi rimanenti]])","v":0},"HCB",null,null,null,0]
["100804",10,{"$f":"+MIN(Contributo_cer[[#This Row],[Totale Immissione in rete]:[Totale Consumi rimanenti]])","v":0},"HCB",null,null,null,0]
["100805",10,{"$f":"+MIN(Contributo_cer[[#This Row],[Totale Immissione in rete]:[Totale Consumi rimanenti]])","v":0},"HCB",null,null,null,0]
["100806",10,{"$f":"+MIN(Contributo_cer[[#This Row],[Totale Immissione in rete]:[Totale Consumi rimanenti]])","v":0},"HPB",null,null,null,0]
["100807",10,{"$f":"+MIN(Contributo_cer[[#This Row],[Totale Immissione in rete]:[Totale Consumi rimanenti]])","v":0},"HPB",null,null,null,0]
["100808",10,{"$f":"+MIN(Contributo_cer[[#This Row],[Totale Immissione in rete]:[Totale Consumi rimanenti]])","v":0},"HPB",null,null,null,0]
["100809",10,{"$f":"+MIN(Contributo_cer[[#This Row],[Totale Immissione in rete]:[Totale Consumi rimanenti]])","v":0},"HPB",null,null,null,0]
["100810",10,{"$f":"+MIN(Contributo_cer[[#This Row],[Totale Immissione in rete]:[Totale Consumi rimanenti]])","v":0},"HPB",null,null,null,0]
["100811",10,{"$f":"+MIN(Contributo_cer[[#This Row],[Totale Immissione in rete]:[Totale Consumi rimanenti]])","v":0},"HPB",null,null,null,0]
["100812",10,{"$f":"+MIN(Contributo_cer[[#This Row],[Totale Immissione in rete]:[Totale Consumi rimanenti]])","v":0},"HPB",null,null,null,0]
["100813",10,{"$f":"+MIN(Contributo_cer[[#This Row],[Totale Immissione in rete]:[Totale Consumi rimanenti]])","v":0},"HPB",null,null,null,0]
["100814",10,{"$f":"+MIN(Contributo_cer[[#This Row],[Totale Immissione in rete]:[Totale Consumi rimanenti]])","v":0},"HPB",null,null,null,0]
["100815",10,{"$f":"+MIN(Contributo_cer[[#This Row],[Totale Immissione in rete]:[Totale Consumi rimanenti]])","v":0},"HPB",null,null,null,0]
["100816",10,{"$f":"+MIN(Contributo_cer[[#This Row],[Totale Immissione in rete]:[Totale Consumi rimanenti]])","v":0},"HPB",null,null,null,0]
["100817",10,{"$f":"+MIN(Contributo_cer[[#This Row],[Totale Immissione in rete]:[Totale Consumi rimanenti]])","v":0},"HPB",null,null,null,0]
["100818",10,{"$f":"+MIN(Contributo_cer[[#This Row],[Totale Immissione in rete]:[Totale Consumi rimanenti]])","v":0},"HPB",null,null,null,0]
["100819",10,{"$f":"+MIN(Contributo_cer[[#This Row],[Totale Immissione in rete]:[Totale Consumi rimanenti]])","v":0},"HPB",null,null,null,0]
["100820",10,{"$f":"+MIN(Contributo_cer[[#This Row],[Totale Immissione in rete]:[Totale Consumi rimanenti]])","v":0},"HPB",null,null,null,0]
["100821",10,{"$f":"+MIN(Contributo_cer[[#This Row],[Totale Immissione in rete]:[Totale Consumi rimanenti]])","v":0},"HPB",null,null,null,0]
["100822",10,{"$f":"+MIN(Contributo_cer[[#This Row],[Totale Immissione in rete]:[Totale Consumi rimanenti]])","v":0},"HCB",null,null,null,0]
["100823",10,{"$f":"+MIN(Contributo_cer[[#This Row],[Totale Immissione in rete]:[Totale Consumi rimanenti]])","v":0},"HCB",null,null,null,0]
["100900",10,{"$f":"+MIN(Contributo_cer[[#This Row],[Totale Immissione in rete]:[Totale Consumi rimanenti]])","v":0},"HCB",null,null,null,0]
["100901",10,{"$f":"+MIN(Contributo_cer[[#This Row],[Totale Immissione in rete]:[Totale Consumi rimanenti]])","v":0},"HCB",null,null,null,0]
["100902",10,{"$f":"+MIN(Contributo_cer[[#This Row],[Totale Immissione in rete]:[Totale Consumi rimanenti]])","v":0},"HCB",null,null,null,0]
["100903",10,{"$f":"+MIN(Contributo_cer[[#This Row],[Totale Immissione in rete]:[Totale Consumi rimanenti]])","v":0},"HCB",null,null,null,0]
["100904",10,{"$f":"+MIN(Contributo_cer[[#This Row],[Totale Immissione in rete]:[Totale Consumi rimanenti]])","v":0},"HCB",null,null,null,0]
["100905",10,{"$f":"+MIN(Contributo_cer[[#This Row],[Totale Immissione in rete]:[Totale Consumi rimanenti]])","v":0},"HCB",null,null,null,0]
["100906",10,{"$f":"+MIN(Contributo_cer[[#This Row],[Totale Immissione in rete]:[Totale Consumi rimanenti]])","v":0},"HPB",null,null,null,0]
["100907",10,{"$f":"+MIN(Contributo_cer[[#This Row],[Totale Immissione in rete]:[Totale Consumi rimanenti]])","v":0},"HPB",null,null,null,0]
["100908",10,{"$f":"+MIN(Contributo_cer[[#This Row],[Totale Immissione in rete]:[Totale Consumi rimanenti]])","v":0},"HPB",null,null,null,0]
["100909",10,{"$f":"+MIN(Contributo_cer[[#This Row],[Totale Immissione in rete]:[Totale Consumi rimanenti]])","v":0},"HPB",null,null,null,0]
["100910",10,{"$f":"+MIN(Contributo_cer[[#This Row],[Totale Immissione in rete]:[Totale Consumi rimanenti]])","v":0},"HPB",null,null,null,0]
["100911",10,{"$f":"+MIN(Contributo_cer[[#This Row],[Totale Immissione in rete]:[Totale Consumi rimanenti]])","v":0},"HPB",null,null,null,0]
["100912",10,{"$f":"+MIN(Contributo_cer[[#This Row],[Totale Immissione in rete]:[Totale Consumi rimanenti]])","v":0},"HPB",null,null,null,0]
["100913",10,{"$f":"+MIN(Contributo_cer[[#This Row],[Totale Immissione in rete]:[Totale Consumi rimanenti]])","v":0},"HPB",null,null,null,0]
["100914",10,{"$f":"+MIN(Contributo_cer[[#This Row],[Totale Immissione in rete]:[Totale Consumi rimanenti]])","v":0},"HPB",null,null,null,0]
["100915",10,{"$f":"+MIN(Contributo_cer[[#This Row],[Totale Immissione in rete]:[Totale Consumi rimanenti]])","v":0},"HPB",null,null,null,0]
["100916",10,{"$f":"+MIN(Contributo_cer[[#This Row],[Totale Immissione in rete]:[Totale Consumi rimanenti]])","v":0},"HPB",null,null,null,0]
["100917",10,{"$f":"+MIN(Contributo_cer[[#This Row],[Totale Immissione in rete]:[Totale Consumi rimanenti]])","v":0},"HPB",null,null,null,0]
["100918",10,{"$f":"+MIN(Contributo_cer[[#This Row],[Totale Immissione in rete]:[Totale Consumi rimanenti]])","v":0},"HPB",null,null,null,0]
["100919",10,{"$f":"+MIN(Contributo_cer[[#This Row],[Totale Immissione in rete]:[Totale Consumi rimanenti]])","v":0},"HPB",null,null,null,0]
["100920",10,{"$f":"+MIN(Contributo_cer[[#This Row],[Totale Immissione in rete]:[Totale Consumi rimanenti]])","v":0},"HPB",null,null,null,0]
["100921",10,{"$f":"+MIN(Contributo_cer[[#This Row],[Totale Immissione in rete]:[Totale Consumi rimanenti]])","v":0},"HPB",null,null,null,0]
["100922",10,{"$f":"+MIN(Contributo_cer[[#This Row],[Totale Immissione in rete]:[Totale Consumi rimanenti]])","v":0},"HCB",null,null,null,0]
["100923",10,{"$f":"+MIN(Contributo_cer[[#This Row],[Totale Immissione in rete]:[Totale Consumi rimanenti]])","v":0},"HCB",null,null,null,0]
["101000",10,{"$f":"+MIN(Contributo_cer[[#This Row],[Totale Immissione in rete]:[Totale Consumi rimanenti]])","v":0},"HCB",null,null,null,0]
["101001",10,{"$f":"+MIN(Contributo_cer[[#This Row],[Totale Immissione in rete]:[Totale Consumi rimanenti]])","v":0},"HCB",null,null,null,0]
["101002",10,{"$f":"+MIN(Contributo_cer[[#This Row],[Totale Immissione in rete]:[Totale Consumi rimanenti]])","v":0},"HCB",null,null,null,0]
["101003",10,{"$f":"+MIN(Contributo_cer[[#This Row],[Totale Immissione in rete]:[Totale Consumi rimanenti]])","v":0},"HCB",null,null,null,0]
["101004",10,{"$f":"+MIN(Contributo_cer[[#This Row],[Totale Immissione in rete]:[Totale Consumi rimanenti]])","v":0},"HCB",null,null,null,0]
["101005",10,{"$f":"+MIN(Contributo_cer[[#This Row],[Totale Immissione in rete]:[Totale Consumi rimanenti]])","v":0},"HCB",null,null,null,0]
["101006",10,{"$f":"+MIN(Contributo_cer[[#This Row],[Totale Immissione in rete]:[Totale Consumi rimanenti]])","v":0},"HPB",null,null,null,0]
["101007",10,{"$f":"+MIN(Contributo_cer[[#This Row],[Totale Immissione in rete]:[Totale Consumi rimanenti]])","v":0},"HPB",null,null,null,0]
["101008",10,{"$f":"+MIN(Contributo_cer[[#This Row],[Totale Immissione in rete]:[Totale Consumi rimanenti]])","v":0},"HPB",null,null,null,0]
["101009",10,{"$f":"+MIN(Contributo_cer[[#This Row],[Totale Immissione in rete]:[Totale Consumi rimanenti]])","v":0},"HPB",null,null,null,0]
["101010",10,{"$f":"+MIN(Contributo_cer[[#This Row],[Totale Immissione in rete]:[Totale Consumi rimanenti]])","v":0},"HPB",null,null,null,0]
["101011",10,{"$f":"+MIN(Contributo_cer[[#This Row],[Totale Immissione in rete]:[Totale Consumi rimanenti]])","v":0},"HPB",null,null,null,0]
["101012",10,{"$f":"+MIN(Contributo_cer[[#This Row],[Totale Immissione in rete]:[Totale Consumi rimanenti]])","v":0},"HPB",null,null,null,0]
["101013",10,{"$f":"+MIN(Contributo_cer[[#This Row],[Totale Immissione in rete]:[Totale Consumi rimanenti]])","v":0},"HPB",null,null,null,0]
["101014",10,{"$f":"+MIN(Contributo_cer[[#This Row],[Totale Immissione in rete]:[Totale Consumi rimanenti]])","v":0},"HPB",null,null,null,0]
["101015",10,{"$f":"+MIN(Contributo_cer[[#This Row],[Totale Immissione in rete]:[Totale Consumi rimanenti]])","v":0},"HPB",null,null,null,0]
["101016",10,{"$f":"+MIN(Contributo_cer[[#This Row],[Totale Immissione in rete]:[Totale Consumi rimanenti]])","v":0},"HPB",null,null,null,0]
["101017",10,{"$f":"+MIN(Contributo_cer[[#This Row],[Totale Immissione in rete]:[Totale Consumi rimanenti]])","v":0},"HPB",null,null,null,0]
["101018",10,{"$f":"+MIN(Contributo_cer[[#This Row],[Totale Immissione in rete]:[Totale Consumi rimanenti]])","v":0},"HPB",null,null,null,0]
["101019",10,{"$f":"+MIN(Contributo_cer[[#This Row],[Totale Immissione in rete]:[Totale Consumi rimanenti]])","v":0},"HPB",null,null,null,0]
["101020",10,{"$f":"+MIN(Contributo_cer[[#This Row],[Totale Immissione in rete]:[Totale Consumi rimanenti]])","v":0},"HPB",null,null,null,0]
["101021",10,{"$f":"+MIN(Contributo_cer[[#This Row],[Totale Immissione in rete]:[Totale Consumi rimanenti]])","v":0},"HPB",null,null,null,0]
["101022",10,{"$f":"+MIN(Contributo_cer[[#This Row],[Totale Immissione in rete]:[Totale Consumi rimanenti]])","v":0},"HCB",null,null,null,0]
["101023",10,{"$f":"+MIN(Contributo_cer[[#This Row],[Totale Immissione in rete]:[Totale Consumi rimanenti]])","v":0},"HCB",null,null,null,0]
["101100",10,{"$f":"+MIN(Contributo_cer[[#This Row],[Totale Immissione in rete]:[Totale Consumi rimanenti]])","v":0},"HCB",null,null,null,0]
["101101",10,{"$f":"+MIN(Contributo_cer[[#This Row],[Totale Immissione in rete]:[Totale Consumi rimanenti]])","v":0},"HCB",null,null,null,0]
["101102",10,{"$f":"+MIN(Contributo_cer[[#This Row],[Totale Immissione in rete]:[Totale Consumi rimanenti]])","v":0},"HCB",null,null,null,0]
["101103",10,{"$f":"+MIN(Contributo_cer[[#This Row],[Totale Immissione in rete]:[Totale Consumi rimanenti]])","v":0},"HCB",null,null,null,0]
["101104",10,{"$f":"+MIN(Contributo_cer[[#This Row],[Totale Immissione in rete]:[Totale Consumi rimanenti]])","v":0},"HCB",null,null,null,0]
["101105",10,{"$f":"+MIN(Contributo_cer[[#This Row],[Totale Immissione in rete]:[Totale Consumi rimanenti]])","v":0},"HCB",null,null,null,0]
["101106",10,{"$f":"+MIN(Contributo_cer[[#This Row],[Totale Immissione in rete]:[Totale Consumi rimanenti]])","v":0},"HPB",null,null,null,0]
["101107",10,{"$f":"+MIN(Contributo_cer[[#This Row],[Totale Immissione in rete]:[Totale Consumi rimanenti]])","v":0},"HPB",null,null,null,0]
["101108",10,{"$f":"+MIN(Contributo_cer[[#This Row],[Totale Immissione in rete]:[Totale Consumi rimanenti]])","v":0},"HPB",null,null,null,0]
["101109",10,{"$f":"+MIN(Contributo_cer[[#This Row],[Totale Immissione in rete]:[Totale Consumi rimanenti]])","v":0},"HPB",null,null,null,0]
["101110",10,{"$f":"+MIN(Contributo_cer[[#This Row],[Totale Immissione in rete]:[Totale Consumi rimanenti]])","v":0},"HPB",null,null,null,0]
["101111",10,{"$f":"+MIN(Contributo_cer[[#This Row],[Totale Immissione in rete]:[Totale Consumi rimanenti]])","v":0},"HPB",null,null,null,0]
["101112",10,{"$f":"+MIN(Contributo_cer[[#This Row],[Totale Immissione in rete]:[Totale Consumi rimanenti]])","v":0},"HPB",null,null,null,0]
["101113",10,{"$f":"+MIN(Contributo_cer[[#This Row],[Totale Immissione in rete]:[Totale Consumi rimanenti]])","v":0},"HPB",null,null,null,0]
["101114",10,{"$f":"+MIN(Contributo_cer[[#This Row],[Totale Immissione in rete]:[Totale Consumi rimanenti]])","v":0},"HPB",null,null,null,0]
["101115",10,{"$f":"+MIN(Contributo_cer[[#This Row],[Totale Immissione in rete]:[Totale Consumi rimanenti]])","v":0},"HPB",null,null,null,0]
["101116",10,{"$f":"+MIN(Contributo_cer[[#This Row],[Totale Immissione in rete]:[Totale Consumi rimanenti]])","v":0},"HPB",null,null,null,0]
["101117",10,{"$f":"+MIN(Contributo_cer[[#This Row],[Totale Immissione in rete]:[Totale Consumi rimanenti]])","v":0},"HPB",null,null,null,0]
["101118",10,{"$f":"+MIN(Contributo_cer[[#This Row],[Totale Immissione in rete]:[Totale Consumi rimanenti]])","v":0},"HPB",null,null,null,0]
["101119",10,{"$f":"+MIN(Contributo_cer[[#This Row],[Totale Immissione in rete]:[Totale Consumi rimanenti]])","v":0},"HPB",null,null,null,0]
["101120",10,{"$f":"+MIN(Contributo_cer[[#This Row],[Totale Immissione in rete]:[Totale Consumi rimanenti]])","v":0},"HPB",null,null,null,0]
["101121",10,{"$f":"+MIN(Contributo_cer[[#This Row],[Totale Immissione in rete]:[Totale Consumi rimanenti]])","v":0},"HPB",null,null,null,0]
["101122",10,{"$f":"+MIN(Contributo_cer[[#This Row],[Totale Immissione in rete]:[Totale Consumi rimanenti]])","v":0},"HCB",null,null,null,0]
["101123",10,{"$f":"+MIN(Contributo_cer[[#This Row],[Totale Immissione in rete]:[Totale Consumi rimanenti]])","v":0},"HCB",null,null,null,0]
["101200",10,{"$f":"+MIN(Contributo_cer[[#This Row],[Totale Immissione in rete]:[Totale Consumi rimanenti]])","v":0},"HCB",null,null,null,0]
["101201",10,{"$f":"+MIN(Contributo_cer[[#This Row],[Totale Immissione in rete]:[Totale Consumi rimanenti]])","v":0},"HCB",null,null,null,0]
["101202",10,{"$f":"+MIN(Contributo_cer[[#This Row],[Totale Immissione in rete]:[Totale Consumi rimanenti]])","v":0},"HCB",null,null,null,0]
["101203",10,{"$f":"+MIN(Contributo_cer[[#This Row],[Totale Immissione in rete]:[Totale Consumi rimanenti]])","v":0},"HCB",null,null,null,0]
["101204",10,{"$f":"+MIN(Contributo_cer[[#This Row],[Totale Immissione in rete]:[Totale Consumi rimanenti]])","v":0},"HCB",null,null,null,0]
["101205",10,{"$f":"+MIN(Contributo_cer[[#This Row],[Totale Immissione in rete]:[Totale Consumi rimanenti]])","v":0},"HCB",null,null,null,0]
["101206",10,{"$f":"+MIN(Contributo_cer[[#This Row],[Totale Immissione in rete]:[Totale Consumi rimanenti]])","v":0},"HPB",null,null,null,0]
["101207",10,{"$f":"+MIN(Contributo_cer[[#This Row],[Totale Immissione in rete]:[Totale Consumi rimanenti]])","v":0},"HPB",null,null,null,0]
["101208",10,{"$f":"+MIN(Contributo_cer[[#This Row],[Totale Immissione in rete]:[Totale Consumi rimanenti]])","v":0},"HPB",null,null,null,0]
["101209",10,{"$f":"+MIN(Contributo_cer[[#This Row],[Totale Immissione in rete]:[Totale Consumi rimanenti]])","v":0},"HPB",null,null,null,0]
["101210",10,{"$f":"+MIN(Contributo_cer[[#This Row],[Totale Immissione in rete]:[Totale Consumi rimanenti]])","v":0},"HPB",null,null,null,0]
["101211",10,{"$f":"+MIN(Contributo_cer[[#This Row],[Totale Immissione in rete]:[Totale Consumi rimanenti]])","v":0},"HPB",null,null,null,0]
["101212",10,{"$f":"+MIN(Contributo_cer[[#This Row],[Totale Immissione in rete]:[Totale Consumi rimanenti]])","v":0},"HPB",null,null,null,0]
["101213",10,{"$f":"+MIN(Contributo_cer[[#This Row],[Totale Immissione in rete]:[Totale Consumi rimanenti]])","v":0},"HPB",null,null,null,0]
["101214",10,{"$f":"+MIN(Contributo_cer[[#This Row],[Totale Immissione in rete]:[Totale Consumi rimanenti]])","v":0},"HPB",null,null,null,0]
["101215",10,{"$f":"+MIN(Contributo_cer[[#This Row],[Totale Immissione in rete]:[Totale Consumi rimanenti]])","v":0},"HPB",null,null,null,0]
["101216",10,{"$f":"+MIN(Contributo_cer[[#This Row],[Totale Immissione in rete]:[Totale Consumi rimanenti]])","v":0},"HPB",null,null,null,0]
["101217",10,{"$f":"+MIN(Contributo_cer[[#This Row],[Totale Immissione in rete]:[Totale Consumi rimanenti]])","v":0},"HPB",null,null,null,0]
["101218",10,{"$f":"+MIN(Contributo_cer[[#This Row],[Totale Immissione in rete]:[Totale Consumi rimanenti]])","v":0},"HPB",null,null,null,0]
["101219",10,{"$f":"+MIN(Contributo_cer[[#This Row],[Totale Immissione in rete]:[Totale Consumi rimanenti]])","v":0},"HPB",null,null,null,0]
["101220",10,{"$f":"+MIN(Contributo_cer[[#This Row],[Totale Immissione in rete]:[Totale Consumi rimanenti]])","v":0},"HPB",null,null,null,0]
["101221",10,{"$f":"+MIN(Contributo_cer[[#This Row],[Totale Immissione in rete]:[Totale Consumi rimanenti]])","v":0},"HPB",null,null,null,0]
["101222",10,{"$f":"+MIN(Contributo_cer[[#This Row],[Totale Immissione in rete]:[Totale Consumi rimanenti]])","v":0},"HCB",null,null,null,0]
["101223",10,{"$f":"+MIN(Contributo_cer[[#This Row],[Totale Immissione in rete]:[Totale Consumi rimanenti]])","v":0},"HCB",null,null,null,0]
["101300",10,{"$f":"+MIN(Contributo_cer[[#This Row],[Totale Immissione in rete]:[Totale Consumi rimanenti]])","v":0},"HCB",null,null,null,0]
["101301",10,{"$f":"+MIN(Contributo_cer[[#This Row],[Totale Immissione in rete]:[Totale Consumi rimanenti]])","v":0},"HCB",null,null,null,0]
["101302",10,{"$f":"+MIN(Contributo_cer[[#This Row],[Totale Immissione in rete]:[Totale Consumi rimanenti]])","v":0},"HCB",null,null,null,0]
["101303",10,{"$f":"+MIN(Contributo_cer[[#This Row],[Totale Immissione in rete]:[Totale Consumi rimanenti]])","v":0},"HCB",null,null,null,0]
["101304",10,{"$f":"+MIN(Contributo_cer[[#This Row],[Totale Immissione in rete]:[Totale Consumi rimanenti]])","v":0},"HCB",null,null,null,0]
["101305",10,{"$f":"+MIN(Contributo_cer[[#This Row],[Totale Immissione in rete]:[Totale Consumi rimanenti]])","v":0},"HCB",null,null,null,0]
["101306",10,{"$f":"+MIN(Contributo_cer[[#This Row],[Totale Immissione in rete]:[Totale Consumi rimanenti]])","v":0},"HPB",null,null,null,0]
["101307",10,{"$f":"+MIN(Contributo_cer[[#This Row],[Totale Immissione in rete]:[Totale Consumi rimanenti]])","v":0},"HPB",null,null,null,0]
["101308",10,{"$f":"+MIN(Contributo_cer[[#This Row],[Totale Immissione in rete]:[Totale Consumi rimanenti]])","v":0},"HPB",null,null,null,0]
["101309",10,{"$f":"+MIN(Contributo_cer[[#This Row],[Totale Immissione in rete]:[Totale Consumi rimanenti]])","v":0},"HPB",null,null,null,0]
["101310",10,{"$f":"+MIN(Contributo_cer[[#This Row],[Totale Immissione in rete]:[Totale Consumi rimanenti]])","v":0},"HPB",null,null,null,0]
["101311",10,{"$f":"+MIN(Contributo_cer[[#This Row],[Totale Immissione in rete]:[Totale Consumi rimanenti]])","v":0},"HPB",null,null,null,0]
["101312",10,{"$f":"+MIN(Contributo_cer[[#This Row],[Totale Immissione in rete]:[Totale Consumi rimanenti]])","v":0},"HPB",null,null,null,0]
["101313",10,{"$f":"+MIN(Contributo_cer[[#This Row],[Totale Immissione in rete]:[Totale Consumi rimanenti]])","v":0},"HPB",null,null,null,0]
["101314",10,{"$f":"+MIN(Contributo_cer[[#This Row],[Totale Immissione in rete]:[Totale Consumi rimanenti]])","v":0},"HPB",null,null,null,0]
["101315",10,{"$f":"+MIN(Contributo_cer[[#This Row],[Totale Immissione in rete]:[Totale Consumi rimanenti]])","v":0},"HPB",null,null,null,0]
["101316",10,{"$f":"+MIN(Contributo_cer[[#This Row],[Totale Immissione in rete]:[Totale Consumi rimanenti]])","v":0},"HPB",null,null,null,0]
["101317",10,{"$f":"+MIN(Contributo_cer[[#This Row],[Totale Immissione in rete]:[Totale Consumi rimanenti]])","v":0},"HPB",null,null,null,0]
["101318",10,{"$f":"+MIN(Contributo_cer[[#This Row],[Totale Immissione in rete]:[Totale Consumi rimanenti]])","v":0},"HPB",null,null,null,0]
["101319",10,{"$f":"+MIN(Contributo_cer[[#This Row],[Totale Immissione in rete]:[Totale Consumi rimanenti]])","v":0},"HPB",null,null,null,0]
["101320",10,{"$f":"+MIN(Contributo_cer[[#This Row],[Totale Immissione in rete]:[Totale Consumi rimanenti]])","v":0},"HPB",null,null,null,0]
["101321",10,{"$f":"+MIN(Contributo_cer[[#This Row],[Totale Immissione in rete]:[Totale Consumi rimanenti]])","v":0},"HPB",null,null,null,0]
["101322",10,{"$f":"+MIN(Contributo_cer[[#This Row],[Totale Immissione in rete]:[Totale Consumi rimanenti]])","v":0},"HCB",null,null,null,0]
["101323",10,{"$f":"+MIN(Contributo_cer[[#This Row],[Totale Immissione in rete]:[Totale Consumi rimanenti]])","v":0},"HCB",null,null,null,0]
["101400",10,{"$f":"+MIN(Contributo_cer[[#This Row],[Totale Immissione in rete]:[Totale Consumi rimanenti]])","v":0},"HCB",null,null,null,0]
["101401",10,{"$f":"+MIN(Contributo_cer[[#This Row],[Totale Immissione in rete]:[Totale Consumi rimanenti]])","v":0},"HCB",null,null,null,0]
["101402",10,{"$f":"+MIN(Contributo_cer[[#This Row],[Totale Immissione in rete]:[Totale Consumi rimanenti]])","v":0},"HCB",null,null,null,0]
["101403",10,{"$f":"+MIN(Contributo_cer[[#This Row],[Totale Immissione in rete]:[Totale Consumi rimanenti]])","v":0},"HCB",null,null,null,0]
["101404",10,{"$f":"+MIN(Contributo_cer[[#This Row],[Totale Immissione in rete]:[Totale Consumi rimanenti]])","v":0},"HCB",null,null,null,0]
["101405",10,{"$f":"+MIN(Contributo_cer[[#This Row],[Totale Immissione in rete]:[Totale Consumi rimanenti]])","v":0},"HCB",null,null,null,0]
["101406",10,{"$f":"+MIN(Contributo_cer[[#This Row],[Totale Immissione in rete]:[Totale Consumi rimanenti]])","v":0},"HPB",null,null,null,0]
["101407",10,{"$f":"+MIN(Contributo_cer[[#This Row],[Totale Immissione in rete]:[Totale Consumi rimanenti]])","v":0},"HPB",null,null,null,0]
["101408",10,{"$f":"+MIN(Contributo_cer[[#This Row],[Totale Immissione in rete]:[Totale Consumi rimanenti]])","v":0},"HPB",null,null,null,0]
["101409",10,{"$f":"+MIN(Contributo_cer[[#This Row],[Totale Immissione in rete]:[Totale Consumi rimanenti]])","v":0},"HPB",null,null,null,0]
["101410",10,{"$f":"+MIN(Contributo_cer[[#This Row],[Totale Immissione in rete]:[Totale Consumi rimanenti]])","v":0},"HPB",null,null,null,0]
["101411",10,{"$f":"+MIN(Contributo_cer[[#This Row],[Totale Immissione in rete]:[Totale Consumi rimanenti]])","v":0},"HPB",null,null,null,0]
["101412",10,{"$f":"+MIN(Contributo_cer[[#This Row],[Totale Immissione in rete]:[Totale Consumi rimanenti]])","v":0},"HPB",null,null,null,0]
["101413",10,{"$f":"+MIN(Contributo_cer[[#This Row],[Totale Immissione in rete]:[Totale Consumi rimanenti]])","v":0},"HPB",null,null,null,0]
["101414",10,{"$f":"+MIN(Contributo_cer[[#This Row],[Totale Immissione in rete]:[Totale Consumi rimanenti]])","v":0},"HPB",null,null,null,0]
["101415",10,{"$f":"+MIN(Contributo_cer[[#This Row],[Totale Immissione in rete]:[Totale Consumi rimanenti]])","v":0},"HPB",null,null,null,0]
["101416",10,{"$f":"+MIN(Contributo_cer[[#This Row],[Totale Immissione in rete]:[Totale Consumi rimanenti]])","v":0},"HPB",null,null,null,0]
["101417",10,{"$f":"+MIN(Contributo_cer[[#This Row],[Totale Immissione in rete]:[Totale Consumi rimanenti]])","v":0},"HPB",null,null,null,0]
["101418",10,{"$f":"+MIN(Contributo_cer[[#This Row],[Totale Immissione in rete]:[Totale Consumi rimanenti]])","v":0},"HPB",null,null,null,0]
["101419",10,{"$f":"+MIN(Contributo_cer[[#This Row],[Totale Immissione in rete]:[Totale Consumi rimanenti]])","v":0},"HPB",null,null,null,0]
["101420",10,{"$f":"+MIN(Contributo_cer[[#This Row],[Totale Immissione in rete]:[Totale Consumi rimanenti]])","v":0},"HPB",null,null,null,0]
["101421",10,{"$f":"+MIN(Contributo_cer[[#This Row],[Totale Immissione in rete]:[Totale Consumi rimanenti]])","v":0},"HPB",null,null,null,0]
["101422",10,{"$f":"+MIN(Contributo_cer[[#This Row],[Totale Immissione in rete]:[Totale Consumi rimanenti]])","v":0},"HCB",null,null,null,0]
["101423",10,{"$f":"+MIN(Contributo_cer[[#This Row],[Totale Immissione in rete]:[Totale Consumi rimanenti]])","v":0},"HCB",null,null,null,0]
["101500",10,{"$f":"+MIN(Contributo_cer[[#This Row],[Totale Immissione in rete]:[Totale Consumi rimanenti]])","v":0},"HCB",null,null,null,0]
["101501",10,{"$f":"+MIN(Contributo_cer[[#This Row],[Totale Immissione in rete]:[Totale Consumi rimanenti]])","v":0},"HCB",null,null,null,0]
["101502",10,{"$f":"+MIN(Contributo_cer[[#This Row],[Totale Immissione in rete]:[Totale Consumi rimanenti]])","v":0},"HCB",null,null,null,0]
["101503",10,{"$f":"+MIN(Contributo_cer[[#This Row],[Totale Immissione in rete]:[Totale Consumi rimanenti]])","v":0},"HCB",null,null,null,0]
["101504",10,{"$f":"+MIN(Contributo_cer[[#This Row],[Totale Immissione in rete]:[Totale Consumi rimanenti]])","v":0},"HCB",null,null,null,0]
["101505",10,{"$f":"+MIN(Contributo_cer[[#This Row],[Totale Immissione in rete]:[Totale Consumi rimanenti]])","v":0},"HCB",null,null,null,0]
["101506",10,{"$f":"+MIN(Contributo_cer[[#This Row],[Totale Immissione in rete]:[Totale Consumi rimanenti]])","v":0},"HPB",null,null,null,0]
["101507",10,{"$f":"+MIN(Contributo_cer[[#This Row],[Totale Immissione in rete]:[Totale Consumi rimanenti]])","v":0},"HPB",null,null,null,0]
["101508",10,{"$f":"+MIN(Contributo_cer[[#This Row],[Totale Immissione in rete]:[Totale Consumi rimanenti]])","v":0},"HPB",null,null,null,0]
["101509",10,{"$f":"+MIN(Contributo_cer[[#This Row],[Totale Immissione in rete]:[Totale Consumi rimanenti]])","v":0},"HPB",null,null,null,0]
["101510",10,{"$f":"+MIN(Contributo_cer[[#This Row],[Totale Immissione in rete]:[Totale Consumi rimanenti]])","v":0},"HPB",null,null,null,0]
["101511",10,{"$f":"+MIN(Contributo_cer[[#This Row],[Totale Immissione in rete]:[Totale Consumi rimanenti]])","v":0},"HPB",null,null,null,0]
["101512",10,{"$f":"+MIN(Contributo_cer[[#This Row],[Totale Immissione in rete]:[Totale Consumi rimanenti]])","v":0},"HPB",null,null,null,0]
["101513",10,{"$f":"+MIN(Contributo_cer[[#This Row],[Totale Immissione in rete]:[Totale Consumi rimanenti]])","v":0},"HPB",null,null,null,0]
["101514",10,{"$f":"+MIN(Contributo_cer[[#This Row],[Totale Immissione in rete]:[Totale Consumi rimanenti]])","v":0},"HPB",null,null,null,0]
["101515",10,{"$f":"+MIN(Contributo_cer[[#This Row],[Totale Immissione in rete]:[Totale Consumi rimanenti]])","v":0},"HPB",null,null,null,0]
["101516",10,{"$f":"+MIN(Contributo_cer[[#This Row],[Totale Immissione in rete]:[Totale Consumi rimanenti]])","v":0},"HPB",null,null,null,0]
["101517",10,{"$f":"+MIN(Contributo_cer[[#This Row],[Totale Immissione in rete]:[Totale Consumi rimanenti]])","v":0},"HPB",null,null,null,0]
["101518",10,{"$f":"+MIN(Contributo_cer[[#This Row],[Totale Immissione in rete]:[Totale Consumi rimanenti]])","v":0},"HPB",null,null,null,0]
["101519",10,{"$f":"+MIN(Contributo_cer[[#This Row],[Totale Immissione in rete]:[Totale Consumi rimanenti]])","v":0},"HPB",null,null,null,0]
["101520",10,{"$f":"+MIN(Contributo_cer[[#This Row],[Totale Immissione in rete]:[Totale Consumi rimanenti]])","v":0},"HPB",null,null,null,0]
["101521",10,{"$f":"+MIN(Contributo_cer[[#This Row],[Totale Immissione in rete]:[Totale Consumi rimanenti]])","v":0},"HPB",null,null,null,0]
["101522",10,{"$f":"+MIN(Contributo_cer[[#This Row],[Totale Immissione in rete]:[Totale Consumi rimanenti]])","v":0},"HCB",null,null,null,0]
["101523",10,{"$f":"+MIN(Contributo_cer[[#This Row],[Totale Immissione in rete]:[Totale Consumi rimanenti]])","v":0},"HCB",null,null,null,0]
["101600",10,{"$f":"+MIN(Contributo_cer[[#This Row],[Totale Immissione in rete]:[Totale Consumi rimanenti]])","v":0},"HCB",null,null,null,0]
["101601",10,{"$f":"+MIN(Contributo_cer[[#This Row],[Totale Immissione in rete]:[Totale Consumi rimanenti]])","v":0},"HCB",null,null,null,0]
["101602",10,{"$f":"+MIN(Contributo_cer[[#This Row],[Totale Immissione in rete]:[Totale Consumi rimanenti]])","v":0},"HCB",null,null,null,0]
["101603",10,{"$f":"+MIN(Contributo_cer[[#This Row],[Totale Immissione in rete]:[Totale Consumi rimanenti]])","v":0},"HCB",null,null,null,0]
["101604",10,{"$f":"+MIN(Contributo_cer[[#This Row],[Totale Immissione in rete]:[Totale Consumi rimanenti]])","v":0},"HCB",null,null,null,0]
["101605",10,{"$f":"+MIN(Contributo_cer[[#This Row],[Totale Immissione in rete]:[Totale Consumi rimanenti]])","v":0},"HCB",null,null,null,0]
["101606",10,{"$f":"+MIN(Contributo_cer[[#This Row],[Totale Immissione in rete]:[Totale Consumi rimanenti]])","v":0},"HPB",null,null,null,0]
["101607",10,{"$f":"+MIN(Contributo_cer[[#This Row],[Totale Immissione in rete]:[Totale Consumi rimanenti]])","v":0},"HPB",null,null,null,0]
["101608",10,{"$f":"+MIN(Contributo_cer[[#This Row],[Totale Immissione in rete]:[Totale Consumi rimanenti]])","v":0},"HPB",null,null,null,0]
["101609",10,{"$f":"+MIN(Contributo_cer[[#This Row],[Totale Immissione in rete]:[Totale Consumi rimanenti]])","v":0},"HPB",null,null,null,0]
["101610",10,{"$f":"+MIN(Contributo_cer[[#This Row],[Totale Immissione in rete]:[Totale Consumi rimanenti]])","v":0},"HPB",null,null,null,0]
["101611",10,{"$f":"+MIN(Contributo_cer[[#This Row],[Totale Immissione in rete]:[Totale Consumi rimanenti]])","v":0},"HPB",null,null,null,0]
["101612",10,{"$f":"+MIN(Contributo_cer[[#This Row],[Totale Immissione in rete]:[Totale Consumi rimanenti]])","v":0},"HPB",null,null,null,0]
["101613",10,{"$f":"+MIN(Contributo_cer[[#This Row],[Totale Immissione in rete]:[Totale Consumi rimanenti]])","v":0},"HPB",null,null,null,0]
["101614",10,{"$f":"+MIN(Contributo_cer[[#This Row],[Totale Immissione in rete]:[Totale Consumi rimanenti]])","v":0},"HPB",null,null,null,0]
["101615",10,{"$f":"+MIN(Contributo_cer[[#This Row],[Totale Immissione in rete]:[Totale Consumi rimanenti]])","v":0},"HPB",null,null,null,0]
["101616",10,{"$f":"+MIN(Contributo_cer[[#This Row],[Totale Immissione in rete]:[Totale Consumi rimanenti]])","v":0},"HPB",null,null,null,0]
["101617",10,{"$f":"+MIN(Contributo_cer[[#This Row],[Totale Immissione in rete]:[Totale Consumi rimanenti]])","v":0},"HPB",null,null,null,0]
["101618",10,{"$f":"+MIN(Contributo_cer[[#This Row],[Totale Immissione in rete]:[Totale Consumi rimanenti]])","v":0},"HPB",null,null,null,0]
["101619",10,{"$f":"+MIN(Contributo_cer[[#This Row],[Totale Immissione in rete]:[Totale Consumi rimanenti]])","v":0},"HPB",null,null,null,0]
["101620",10,{"$f":"+MIN(Contributo_cer[[#This Row],[Totale Immissione in rete]:[Totale Consumi rimanenti]])","v":0},"HPB",null,null,null,0]
["101621",10,{"$f":"+MIN(Contributo_cer[[#This Row],[Totale Immissione in rete]:[Totale Consumi rimanenti]])","v":0},"HPB",null,null,null,0]
["101622",10,{"$f":"+MIN(Contributo_cer[[#This Row],[Totale Immissione in rete]:[Totale Consumi rimanenti]])","v":0},"HCB",null,null,null,0]
["101623",10,{"$f":"+MIN(Contributo_cer[[#This Row],[Totale Immissione in rete]:[Totale Consumi rimanenti]])","v":0},"HCB",null,null,null,0]
["101700",10,{"$f":"+MIN(Contributo_cer[[#This Row],[Totale Immissione in rete]:[Totale Consumi rimanenti]])","v":0},"HCB",null,null,null,0]
["101701",10,{"$f":"+MIN(Contributo_cer[[#This Row],[Totale Immissione in rete]:[Totale Consumi rimanenti]])","v":0},"HCB",null,null,null,0]
["101702",10,{"$f":"+MIN(Contributo_cer[[#This Row],[Totale Immissione in rete]:[Totale Consumi rimanenti]])","v":0},"HCB",null,null,null,0]
["101703",10,{"$f":"+MIN(Contributo_cer[[#This Row],[Totale Immissione in rete]:[Totale Consumi rimanenti]])","v":0},"HCB",null,null,null,0]
["101704",10,{"$f":"+MIN(Contributo_cer[[#This Row],[Totale Immissione in rete]:[Totale Consumi rimanenti]])","v":0},"HCB",null,null,null,0]
["101705",10,{"$f":"+MIN(Contributo_cer[[#This Row],[Totale Immissione in rete]:[Totale Consumi rimanenti]])","v":0},"HCB",null,null,null,0]
["101706",10,{"$f":"+MIN(Contributo_cer[[#This Row],[Totale Immissione in rete]:[Totale Consumi rimanenti]])","v":0},"HPB",null,null,null,0]
["101707",10,{"$f":"+MIN(Contributo_cer[[#This Row],[Totale Immissione in rete]:[Totale Consumi rimanenti]])","v":0},"HPB",null,null,null,0]
["101708",10,{"$f":"+MIN(Contributo_cer[[#This Row],[Totale Immissione in rete]:[Totale Consumi rimanenti]])","v":0},"HPB",null,null,null,0]
["101709",10,{"$f":"+MIN(Contributo_cer[[#This Row],[Totale Immissione in rete]:[Totale Consumi rimanenti]])","v":0},"HPB",null,null,null,0]
["101710",10,{"$f":"+MIN(Contributo_cer[[#This Row],[Totale Immissione in rete]:[Totale Consumi rimanenti]])","v":0},"HPB",null,null,null,0]
["101711",10,{"$f":"+MIN(Contributo_cer[[#This Row],[Totale Immissione in rete]:[Totale Consumi rimanenti]])","v":0},"HPB",null,null,null,0]
["101712",10,{"$f":"+MIN(Contributo_cer[[#This Row],[Totale Immissione in rete]:[Totale Consumi rimanenti]])","v":0},"HPB",null,null,null,0]
["101713",10,{"$f":"+MIN(Contributo_cer[[#This Row],[Totale Immissione in rete]:[Totale Consumi rimanenti]])","v":0},"HPB",null,null,null,0]
["101714",10,{"$f":"+MIN(Contributo_cer[[#This Row],[Totale Immissione in rete]:[Totale Consumi rimanenti]])","v":0},"HPB",null,null,null,0]
["101715",10,{"$f":"+MIN(Contributo_cer[[#This Row],[Totale Immissione in rete]:[Totale Consumi rimanenti]])","v":0},"HPB",null,null,null,0]
["101716",10,{"$f":"+MIN(Contributo_cer[[#This Row],[Totale Immissione in rete]:[Totale Consumi rimanenti]])","v":0},"HPB",null,null,null,0]
["101717",10,{"$f":"+MIN(Contributo_cer[[#This Row],[Totale Immissione in rete]:[Totale Consumi rimanenti]])","v":0},"HPB",null,null,null,0]
["101718",10,{"$f":"+MIN(Contributo_cer[[#This Row],[Totale Immissione in rete]:[Totale Consumi rimanenti]])","v":0},"HPB",null,null,null,0]
["101719",10,{"$f":"+MIN(Contributo_cer[[#This Row],[Totale Immissione in rete]:[Totale Consumi rimanenti]])","v":0},"HPB",null,null,null,0]
["101720",10,{"$f":"+MIN(Contributo_cer[[#This Row],[Totale Immissione in rete]:[Totale Consumi rimanenti]])","v":0},"HPB",null,null,null,0]
["101721",10,{"$f":"+MIN(Contributo_cer[[#This Row],[Totale Immissione in rete]:[Totale Consumi rimanenti]])","v":0},"HPB",null,null,null,0]
["101722",10,{"$f":"+MIN(Contributo_cer[[#This Row],[Totale Immissione in rete]:[Totale Consumi rimanenti]])","v":0},"HCB",null,null,null,0]
["101723",10,{"$f":"+MIN(Contributo_cer[[#This Row],[Totale Immissione in rete]:[Totale Consumi rimanenti]])","v":0},"HCB",null,null,null,0]
["101800",10,{"$f":"+MIN(Contributo_cer[[#This Row],[Totale Immissione in rete]:[Totale Consumi rimanenti]])","v":0},"HCB",null,null,null,0]
["101801",10,{"$f":"+MIN(Contributo_cer[[#This Row],[Totale Immissione in rete]:[Totale Consumi rimanenti]])","v":0},"HCB",null,null,null,0]
["101802",10,{"$f":"+MIN(Contributo_cer[[#This Row],[Totale Immissione in rete]:[Totale Consumi rimanenti]])","v":0},"HCB",null,null,null,0]
["101803",10,{"$f":"+MIN(Contributo_cer[[#This Row],[Totale Immissione in rete]:[Totale Consumi rimanenti]])","v":0},"HCB",null,null,null,0]
["101804",10,{"$f":"+MIN(Contributo_cer[[#This Row],[Totale Immissione in rete]:[Totale Consumi rimanenti]])","v":0},"HCB",null,null,null,0]
["101805",10,{"$f":"+MIN(Contributo_cer[[#This Row],[Totale Immissione in rete]:[Totale Consumi rimanenti]])","v":0},"HCB",null,null,null,0]
["101806",10,{"$f":"+MIN(Contributo_cer[[#This Row],[Totale Immissione in rete]:[Totale Consumi rimanenti]])","v":0},"HPB",null,null,null,0]
["101807",10,{"$f":"+MIN(Contributo_cer[[#This Row],[Totale Immissione in rete]:[Totale Consumi rimanenti]])","v":0},"HPB",null,null,null,0]
["101808",10,{"$f":"+MIN(Contributo_cer[[#This Row],[Totale Immissione in rete]:[Totale Consumi rimanenti]])","v":0},"HPB",null,null,null,0]
["101809",10,{"$f":"+MIN(Contributo_cer[[#This Row],[Totale Immissione in rete]:[Totale Consumi rimanenti]])","v":0},"HPB",null,null,null,0]
["101810",10,{"$f":"+MIN(Contributo_cer[[#This Row],[Totale Immissione in rete]:[Totale Consumi rimanenti]])","v":0},"HPB",null,null,null,0]
["101811",10,{"$f":"+MIN(Contributo_cer[[#This Row],[Totale Immissione in rete]:[Totale Consumi rimanenti]])","v":0},"HPB",null,null,null,0]
["101812",10,{"$f":"+MIN(Contributo_cer[[#This Row],[Totale Immissione in rete]:[Totale Consumi rimanenti]])","v":0},"HPB",null,null,null,0]
["101813",10,{"$f":"+MIN(Contributo_cer[[#This Row],[Totale Immissione in rete]:[Totale Consumi rimanenti]])","v":0},"HPB",null,null,null,0]
["101814",10,{"$f":"+MIN(Contributo_cer[[#This Row],[Totale Immissione in rete]:[Totale Consumi rimanenti]])","v":0},"HPB",null,null,null,0]
["101815",10,{"$f":"+MIN(Contributo_cer[[#This Row],[Totale Immissione in rete]:[Totale Consumi rimanenti]])","v":0},"HPB",null,null,null,0]
["101816",10,{"$f":"+MIN(Contributo_cer[[#This Row],[Totale Immissione in rete]:[Totale Consumi rimanenti]])","v":0},"HPB",null,null,null,0]
["101817",10,{"$f":"+MIN(Contributo_cer[[#This Row],[Totale Immissione in rete]:[Totale Consumi rimanenti]])","v":0},"HPB",null,null,null,0]
["101818",10,{"$f":"+MIN(Contributo_cer[[#This Row],[Totale Immissione in rete]:[Totale Consumi rimanenti]])","v":0},"HPB",null,null,null,0]
["101819",10,{"$f":"+MIN(Contributo_cer[[#This Row],[Totale Immissione in rete]:[Totale Consumi rimanenti]])","v":0},"HPB",null,null,null,0]
["101820",10,{"$f":"+MIN(Contributo_cer[[#This Row],[Totale Immissione in rete]:[Totale Consumi rimanenti]])","v":0},"HPB",null,null,null,0]
["101821",10,{"$f":"+MIN(Contributo_cer[[#This Row],[Totale Immissione in rete]:[Totale Consumi rimanenti]])","v":0},"HPB",null,null,null,0]
["101822",10,{"$f":"+MIN(Contributo_cer[[#This Row],[Totale Immissione in rete]:[Totale Consumi rimanenti]])","v":0},"HCB",null,null,null,0]
["101823",10,{"$f":"+MIN(Contributo_cer[[#This Row],[Totale Immissione in rete]:[Totale Consumi rimanenti]])","v":0},"HCB",null,null,null,0]
["101900",10,{"$f":"+MIN(Contributo_cer[[#This Row],[Totale Immissione in rete]:[Totale Consumi rimanenti]])","v":0},"HCB",null,null,null,0]
["101901",10,{"$f":"+MIN(Contributo_cer[[#This Row],[Totale Immissione in rete]:[Totale Consumi rimanenti]])","v":0},"HCB",null,null,null,0]
["101902",10,{"$f":"+MIN(Contributo_cer[[#This Row],[Totale Immissione in rete]:[Totale Consumi rimanenti]])","v":0},"HCB",null,null,null,0]
["101903",10,{"$f":"+MIN(Contributo_cer[[#This Row],[Totale Immissione in rete]:[Totale Consumi rimanenti]])","v":0},"HCB",null,null,null,0]
["101904",10,{"$f":"+MIN(Contributo_cer[[#This Row],[Totale Immissione in rete]:[Totale Consumi rimanenti]])","v":0},"HCB",null,null,null,0]
["101905",10,{"$f":"+MIN(Contributo_cer[[#This Row],[Totale Immissione in rete]:[Totale Consumi rimanenti]])","v":0},"HCB",null,null,null,0]
["101906",10,{"$f":"+MIN(Contributo_cer[[#This Row],[Totale Immissione in rete]:[Totale Consumi rimanenti]])","v":0},"HPB",null,null,null,0]
["101907",10,{"$f":"+MIN(Contributo_cer[[#This Row],[Totale Immissione in rete]:[Totale Consumi rimanenti]])","v":0},"HPB",null,null,null,0]
["101908",10,{"$f":"+MIN(Contributo_cer[[#This Row],[Totale Immissione in rete]:[Totale Consumi rimanenti]])","v":0},"HPB",null,null,null,0]
["101909",10,{"$f":"+MIN(Contributo_cer[[#This Row],[Totale Immissione in rete]:[Totale Consumi rimanenti]])","v":0},"HPB",null,null,null,0]
["101910",10,{"$f":"+MIN(Contributo_cer[[#This Row],[Totale Immissione in rete]:[Totale Consumi rimanenti]])","v":0},"HPB",null,null,null,0]
["101911",10,{"$f":"+MIN(Contributo_cer[[#This Row],[Totale Immissione in rete]:[Totale Consumi rimanenti]])","v":0},"HPB",null,null,null,0]
["101912",10,{"$f":"+MIN(Contributo_cer[[#This Row],[Totale Immissione in rete]:[Totale Consumi rimanenti]])","v":0},"HPB",null,null,null,0]
["101913",10,{"$f":"+MIN(Contributo_cer[[#This Row],[Totale Immissione in rete]:[Totale Consumi rimanenti]])","v":0},"HPB",null,null,null,0]
["101914",10,{"$f":"+MIN(Contributo_cer[[#This Row],[Totale Immissione in rete]:[Totale Consumi rimanenti]])","v":0},"HPB",null,null,null,0]
["101915",10,{"$f":"+MIN(Contributo_cer[[#This Row],[Totale Immissione in rete]:[Totale Consumi rimanenti]])","v":0},"HPB",null,null,null,0]
["101916",10,{"$f":"+MIN(Contributo_cer[[#This Row],[Totale Immissione in rete]:[Totale Consumi rimanenti]])","v":0},"HPB",null,null,null,0]
["101917",10,{"$f":"+MIN(Contributo_cer[[#This Row],[Totale Immissione in rete]:[Totale Consumi rimanenti]])","v":0},"HPB",null,null,null,0]
["101918",10,{"$f":"+MIN(Contributo_cer[[#This Row],[Totale Immissione in rete]:[Totale Consumi rimanenti]])","v":0},"HPB",null,null,null,0]
["101919",10,{"$f":"+MIN(Contributo_cer[[#This Row],[Totale Immissione in rete]:[Totale Consumi rimanenti]])","v":0},"HPB",null,null,null,0]
["101920",10,{"$f":"+MIN(Contributo_cer[[#This Row],[Totale Immissione in rete]:[Totale Consumi rimanenti]])","v":0},"HPB",null,null,null,0]
["101921",10,{"$f":"+MIN(Contributo_cer[[#This Row],[Totale Immissione in rete]:[Totale Consumi rimanenti]])","v":0},"HPB",null,null,null,0]
["101922",10,{"$f":"+MIN(Contributo_cer[[#This Row],[Totale Immissione in rete]:[Totale Consumi rimanenti]])","v":0},"HCB",null,null,null,0]
["101923",10,{"$f":"+MIN(Contributo_cer[[#This Row],[Totale Immissione in rete]:[Totale Consumi rimanenti]])","v":0},"HCB",null,null,null,0]
["102000",10,{"$f":"+MIN(Contributo_cer[[#This Row],[Totale Immissione in rete]:[Totale Consumi rimanenti]])","v":0},"HCB",null,null,null,0]
["102001",10,{"$f":"+MIN(Contributo_cer[[#This Row],[Totale Immissione in rete]:[Totale Consumi rimanenti]])","v":0},"HCB",null,null,null,0]
["102002",10,{"$f":"+MIN(Contributo_cer[[#This Row],[Totale Immissione in rete]:[Totale Consumi rimanenti]])","v":0},"HCB",null,null,null,0]
["102003",10,{"$f":"+MIN(Contributo_cer[[#This Row],[Totale Immissione in rete]:[Totale Consumi rimanenti]])","v":0},"HCB",null,null,null,0]
["102004",10,{"$f":"+MIN(Contributo_cer[[#This Row],[Totale Immissione in rete]:[Totale Consumi rimanenti]])","v":0},"HCB",null,null,null,0]
["102005",10,{"$f":"+MIN(Contributo_cer[[#This Row],[Totale Immissione in rete]:[Totale Consumi rimanenti]])","v":0},"HCB",null,null,null,0]
["102006",10,{"$f":"+MIN(Contributo_cer[[#This Row],[Totale Immissione in rete]:[Totale Consumi rimanenti]])","v":0},"HPB",null,null,null,0]
["102007",10,{"$f":"+MIN(Contributo_cer[[#This Row],[Totale Immissione in rete]:[Totale Consumi rimanenti]])","v":0},"HPB",null,null,null,0]
["102008",10,{"$f":"+MIN(Contributo_cer[[#This Row],[Totale Immissione in rete]:[Totale Consumi rimanenti]])","v":0},"HPB",null,null,null,0]
["102009",10,{"$f":"+MIN(Contributo_cer[[#This Row],[Totale Immissione in rete]:[Totale Consumi rimanenti]])","v":0},"HPB",null,null,null,0]
["102010",10,{"$f":"+MIN(Contributo_cer[[#This Row],[Totale Immissione in rete]:[Totale Consumi rimanenti]])","v":0},"HPB",null,null,null,0]
["102011",10,{"$f":"+MIN(Contributo_cer[[#This Row],[Totale Immissione in rete]:[Totale Consumi rimanenti]])","v":0},"HPB",null,null,null,0]
["102012",10,{"$f":"+MIN(Contributo_cer[[#This Row],[Totale Immissione in rete]:[Totale Consumi rimanenti]])","v":0},"HPB",null,null,null,0]
["102013",10,{"$f":"+MIN(Contributo_cer[[#This Row],[Totale Immissione in rete]:[Totale Consumi rimanenti]])","v":0},"HPB",null,null,null,0]
["102014",10,{"$f":"+MIN(Contributo_cer[[#This Row],[Totale Immissione in rete]:[Totale Consumi rimanenti]])","v":0},"HPB",null,null,null,0]
["102015",10,{"$f":"+MIN(Contributo_cer[[#This Row],[Totale Immissione in rete]:[Totale Consumi rimanenti]])","v":0},"HPB",null,null,null,0]
["102016",10,{"$f":"+MIN(Contributo_cer[[#This Row],[Totale Immissione in rete]:[Totale Consumi rimanenti]])","v":0},"HPB",null,null,null,0]
["102017",10,{"$f":"+MIN(Contributo_cer[[#This Row],[Totale Immissione in rete]:[Totale Consumi rimanenti]])","v":0},"HPB",null,null,null,0]
["102018",10,{"$f":"+MIN(Contributo_cer[[#This Row],[Totale Immissione in rete]:[Totale Consumi rimanenti]])","v":0},"HPB",null,null,null,0]
["102019",10,{"$f":"+MIN(Contributo_cer[[#This Row],[Totale Immissione in rete]:[Totale Consumi rimanenti]])","v":0},"HPB",null,null,null,0]
["102020",10,{"$f":"+MIN(Contributo_cer[[#This Row],[Totale Immissione in rete]:[Totale Consumi rimanenti]])","v":0},"HPB",null,null,null,0]
["102021",10,{"$f":"+MIN(Contributo_cer[[#This Row],[Totale Immissione in rete]:[Totale Consumi rimanenti]])","v":0},"HPB",null,null,null,0]
["102022",10,{"$f":"+MIN(Contributo_cer[[#This Row],[Totale Immissione in rete]:[Totale Consumi rimanenti]])","v":0},"HCB",null,null,null,0]
["102023",10,{"$f":"+MIN(Contributo_cer[[#This Row],[Totale Immissione in rete]:[Totale Consumi rimanenti]])","v":0},"HCB",null,null,null,0]
["102100",10,{"$f":"+MIN(Contributo_cer[[#This Row],[Totale Immissione in rete]:[Totale Consumi rimanenti]])","v":0},"HCB",null,null,null,0]
["102101",10,{"$f":"+MIN(Contributo_cer[[#This Row],[Totale Immissione in rete]:[Totale Consumi rimanenti]])","v":0},"HCB",null,null,null,0]
["102102",10,{"$f":"+MIN(Contributo_cer[[#This Row],[Totale Immissione in rete]:[Totale Consumi rimanenti]])","v":0},"HCB",null,null,null,0]
["102103",10,{"$f":"+MIN(Contributo_cer[[#This Row],[Totale Immissione in rete]:[Totale Consumi rimanenti]])","v":0},"HCB",null,null,null,0]
["102104",10,{"$f":"+MIN(Contributo_cer[[#This Row],[Totale Immissione in rete]:[Totale Consumi rimanenti]])","v":0},"HCB",null,null,null,0]
["102105",10,{"$f":"+MIN(Contributo_cer[[#This Row],[Totale Immissione in rete]:[Totale Consumi rimanenti]])","v":0},"HCB",null,null,null,0]
["102106",10,{"$f":"+MIN(Contributo_cer[[#This Row],[Totale Immissione in rete]:[Totale Consumi rimanenti]])","v":0},"HPB",null,null,null,0]
["102107",10,{"$f":"+MIN(Contributo_cer[[#This Row],[Totale Immissione in rete]:[Totale Consumi rimanenti]])","v":0},"HPB",null,null,null,0]
["102108",10,{"$f":"+MIN(Contributo_cer[[#This Row],[Totale Immissione in rete]:[Totale Consumi rimanenti]])","v":0},"HPB",null,null,null,0]
["102109",10,{"$f":"+MIN(Contributo_cer[[#This Row],[Totale Immissione in rete]:[Totale Consumi rimanenti]])","v":0},"HPB",null,null,null,0]
["102110",10,{"$f":"+MIN(Contributo_cer[[#This Row],[Totale Immissione in rete]:[Totale Consumi rimanenti]])","v":0},"HPB",null,null,null,0]
["102111",10,{"$f":"+MIN(Contributo_cer[[#This Row],[Totale Immissione in rete]:[Totale Consumi rimanenti]])","v":0},"HPB",null,null,null,0]
["102112",10,{"$f":"+MIN(Contributo_cer[[#This Row],[Totale Immissione in rete]:[Totale Consumi rimanenti]])","v":0},"HPB",null,null,null,0]
["102113",10,{"$f":"+MIN(Contributo_cer[[#This Row],[Totale Immissione in rete]:[Totale Consumi rimanenti]])","v":0},"HPB",null,null,null,0]
["102114",10,{"$f":"+MIN(Contributo_cer[[#This Row],[Totale Immissione in rete]:[Totale Consumi rimanenti]])","v":0},"HPB",null,null,null,0]
["102115",10,{"$f":"+MIN(Contributo_cer[[#This Row],[Totale Immissione in rete]:[Totale Consumi rimanenti]])","v":0},"HPB",null,null,null,0]
["102116",10,{"$f":"+MIN(Contributo_cer[[#This Row],[Totale Immissione in rete]:[Totale Consumi rimanenti]])","v":0},"HPB",null,null,null,0]
["102117",10,{"$f":"+MIN(Contributo_cer[[#This Row],[Totale Immissione in rete]:[Totale Consumi rimanenti]])","v":0},"HPB",null,null,null,0]
["102118",10,{"$f":"+MIN(Contributo_cer[[#This Row],[Totale Immissione in rete]:[Totale Consumi rimanenti]])","v":0},"HPB",null,null,null,0]
["102119",10,{"$f":"+MIN(Contributo_cer[[#This Row],[Totale Immissione in rete]:[Totale Consumi rimanenti]])","v":0},"HPB",null,null,null,0]
["102120",10,{"$f":"+MIN(Contributo_cer[[#This Row],[Totale Immissione in rete]:[Totale Consumi rimanenti]])","v":0},"HPB",null,null,null,0]
["102121",10,{"$f":"+MIN(Contributo_cer[[#This Row],[Totale Immissione in rete]:[Totale Consumi rimanenti]])","v":0},"HPB",null,null,null,0]
["102122",10,{"$f":"+MIN(Contributo_cer[[#This Row],[Totale Immissione in rete]:[Totale Consumi rimanenti]])","v":0},"HCB",null,null,null,0]
["102123",10,{"$f":"+MIN(Contributo_cer[[#This Row],[Totale Immissione in rete]:[Totale Consumi rimanenti]])","v":0},"HCB",null,null,null,0]
["102200",10,{"$f":"+MIN(Contributo_cer[[#This Row],[Totale Immissione in rete]:[Totale Consumi rimanenti]])","v":0},"HCB",null,null,null,0]
["102201",10,{"$f":"+MIN(Contributo_cer[[#This Row],[Totale Immissione in rete]:[Totale Consumi rimanenti]])","v":0},"HCB",null,null,null,0]
["102202",10,{"$f":"+MIN(Contributo_cer[[#This Row],[Totale Immissione in rete]:[Totale Consumi rimanenti]])","v":0},"HCB",null,null,null,0]
["102203",10,{"$f":"+MIN(Contributo_cer[[#This Row],[Totale Immissione in rete]:[Totale Consumi rimanenti]])","v":0},"HCB",null,null,null,0]
["102204",10,{"$f":"+MIN(Contributo_cer[[#This Row],[Totale Immissione in rete]:[Totale Consumi rimanenti]])","v":0},"HCB",null,null,null,0]
["102205",10,{"$f":"+MIN(Contributo_cer[[#This Row],[Totale Immissione in rete]:[Totale Consumi rimanenti]])","v":0},"HCB",null,null,null,0]
["102206",10,{"$f":"+MIN(Contributo_cer[[#This Row],[Totale Immissione in rete]:[Totale Consumi rimanenti]])","v":0},"HPB",null,null,null,0]
["102207",10,{"$f":"+MIN(Contributo_cer[[#This Row],[Totale Immissione in rete]:[Totale Consumi rimanenti]])","v":0},"HPB",null,null,null,0]
["102208",10,{"$f":"+MIN(Contributo_cer[[#This Row],[Totale Immissione in rete]:[Totale Consumi rimanenti]])","v":0},"HPB",null,null,null,0]
["102209",10,{"$f":"+MIN(Contributo_cer[[#This Row],[Totale Immissione in rete]:[Totale Consumi rimanenti]])","v":0},"HPB",null,null,null,0]
["102210",10,{"$f":"+MIN(Contributo_cer[[#This Row],[Totale Immissione in rete]:[Totale Consumi rimanenti]])","v":0},"HPB",null,null,null,0]
["102211",10,{"$f":"+MIN(Contributo_cer[[#This Row],[Totale Immissione in rete]:[Totale Consumi rimanenti]])","v":0},"HPB",null,null,null,0]
["102212",10,{"$f":"+MIN(Contributo_cer[[#This Row],[Totale Immissione in rete]:[Totale Consumi rimanenti]])","v":0},"HPB",null,null,null,0]
["102213",10,{"$f":"+MIN(Contributo_cer[[#This Row],[Totale Immissione in rete]:[Totale Consumi rimanenti]])","v":0},"HPB",null,null,null,0]
["102214",10,{"$f":"+MIN(Contributo_cer[[#This Row],[Totale Immissione in rete]:[Totale Consumi rimanenti]])","v":0},"HPB",null,null,null,0]
["102215",10,{"$f":"+MIN(Contributo_cer[[#This Row],[Totale Immissione in rete]:[Totale Consumi rimanenti]])","v":0},"HPB",null,null,null,0]
["102216",10,{"$f":"+MIN(Contributo_cer[[#This Row],[Totale Immissione in rete]:[Totale Consumi rimanenti]])","v":0},"HPB",null,null,null,0]
["102217",10,{"$f":"+MIN(Contributo_cer[[#This Row],[Totale Immissione in rete]:[Totale Consumi rimanenti]])","v":0},"HPB",null,null,null,0]
["102218",10,{"$f":"+MIN(Contributo_cer[[#This Row],[Totale Immissione in rete]:[Totale Consumi rimanenti]])","v":0},"HPB",null,null,null,0]
["102219",10,{"$f":"+MIN(Contributo_cer[[#This Row],[Totale Immissione in rete]:[Totale Consumi rimanenti]])","v":0},"HPB",null,null,null,0]
["102220",10,{"$f":"+MIN(Contributo_cer[[#This Row],[Totale Immissione in rete]:[Totale Consumi rimanenti]])","v":0},"HPB",null,null,null,0]
["102221",10,{"$f":"+MIN(Contributo_cer[[#This Row],[Totale Immissione in rete]:[Totale Consumi rimanenti]])","v":0},"HPB",null,null,null,0]
["102222",10,{"$f":"+MIN(Contributo_cer[[#This Row],[Totale Immissione in rete]:[Totale Consumi rimanenti]])","v":0},"HCB",null,null,null,0]
["102223",10,{"$f":"+MIN(Contributo_cer[[#This Row],[Totale Immissione in rete]:[Totale Consumi rimanenti]])","v":0},"HCB",null,null,null,0]
["102300",10,{"$f":"+MIN(Contributo_cer[[#This Row],[Totale Immissione in rete]:[Totale Consumi rimanenti]])","v":0},"HCB",null,null,null,0]
["102301",10,{"$f":"+MIN(Contributo_cer[[#This Row],[Totale Immissione in rete]:[Totale Consumi rimanenti]])","v":0},"HCB",null,null,null,0]
["102302",10,{"$f":"+MIN(Contributo_cer[[#This Row],[Totale Immissione in rete]:[Totale Consumi rimanenti]])","v":0},"HCB",null,null,null,0]
["102303",10,{"$f":"+MIN(Contributo_cer[[#This Row],[Totale Immissione in rete]:[Totale Consumi rimanenti]])","v":0},"HCB",null,null,null,0]
["102304",10,{"$f":"+MIN(Contributo_cer[[#This Row],[Totale Immissione in rete]:[Totale Consumi rimanenti]])","v":0},"HCB",null,null,null,0]
["102305",10,{"$f":"+MIN(Contributo_cer[[#This Row],[Totale Immissione in rete]:[Totale Consumi rimanenti]])","v":0},"HCB",null,null,null,0]
["102306",10,{"$f":"+MIN(Contributo_cer[[#This Row],[Totale Immissione in rete]:[Totale Consumi rimanenti]])","v":0},"HPB",null,null,null,0]
["102307",10,{"$f":"+MIN(Contributo_cer[[#This Row],[Totale Immissione in rete]:[Totale Consumi rimanenti]])","v":0},"HPB",null,null,null,0]
["102308",10,{"$f":"+MIN(Contributo_cer[[#This Row],[Totale Immissione in rete]:[Totale Consumi rimanenti]])","v":0},"HPB",null,null,null,0]
["102309",10,{"$f":"+MIN(Contributo_cer[[#This Row],[Totale Immissione in rete]:[Totale Consumi rimanenti]])","v":0},"HPB",null,null,null,0]
["102310",10,{"$f":"+MIN(Contributo_cer[[#This Row],[Totale Immissione in rete]:[Totale Consumi rimanenti]])","v":0},"HPB",null,null,null,0]
["102311",10,{"$f":"+MIN(Contributo_cer[[#This Row],[Totale Immissione in rete]:[Totale Consumi rimanenti]])","v":0},"HPB",null,null,null,0]
["102312",10,{"$f":"+MIN(Contributo_cer[[#This Row],[Totale Immissione in rete]:[Totale Consumi rimanenti]])","v":0},"HPB",null,null,null,0]
["102313",10,{"$f":"+MIN(Contributo_cer[[#This Row],[Totale Immissione in rete]:[Totale Consumi rimanenti]])","v":0},"HPB",null,null,null,0]
["102314",10,{"$f":"+MIN(Contributo_cer[[#This Row],[Totale Immissione in rete]:[Totale Consumi rimanenti]])","v":0},"HPB",null,null,null,0]
["102315",10,{"$f":"+MIN(Contributo_cer[[#This Row],[Totale Immissione in rete]:[Totale Consumi rimanenti]])","v":0},"HPB",null,null,null,0]
["102316",10,{"$f":"+MIN(Contributo_cer[[#This Row],[Totale Immissione in rete]:[Totale Consumi rimanenti]])","v":0},"HPB",null,null,null,0]
["102317",10,{"$f":"+MIN(Contributo_cer[[#This Row],[Totale Immissione in rete]:[Totale Consumi rimanenti]])","v":0},"HPB",null,null,null,0]
["102318",10,{"$f":"+MIN(Contributo_cer[[#This Row],[Totale Immissione in rete]:[Totale Consumi rimanenti]])","v":0},"HPB",null,null,null,0]
["102319",10,{"$f":"+MIN(Contributo_cer[[#This Row],[Totale Immissione in rete]:[Totale Consumi rimanenti]])","v":0},"HPB",null,null,null,0]
["102320",10,{"$f":"+MIN(Contributo_cer[[#This Row],[Totale Immissione in rete]:[Totale Consumi rimanenti]])","v":0},"HPB",null,null,null,0]
["102321",10,{"$f":"+MIN(Contributo_cer[[#This Row],[Totale Immissione in rete]:[Totale Consumi rimanenti]])","v":0},"HPB",null,null,null,0]
["102322",10,{"$f":"+MIN(Contributo_cer[[#This Row],[Totale Immissione in rete]:[Totale Consumi rimanenti]])","v":0},"HCB",null,null,null,0]
["102323",10,{"$f":"+MIN(Contributo_cer[[#This Row],[Totale Immissione in rete]:[Totale Consumi rimanenti]])","v":0},"HCB",null,null,null,0]
["102400",10,{"$f":"+MIN(Contributo_cer[[#This Row],[Totale Immissione in rete]:[Totale Consumi rimanenti]])","v":0},"HCB",null,null,null,0]
["102401",10,{"$f":"+MIN(Contributo_cer[[#This Row],[Totale Immissione in rete]:[Totale Consumi rimanenti]])","v":0},"HCB",null,null,null,0]
["102402",10,{"$f":"+MIN(Contributo_cer[[#This Row],[Totale Immissione in rete]:[Totale Consumi rimanenti]])","v":0},"HCB",null,null,null,0]
["102403",10,{"$f":"+MIN(Contributo_cer[[#This Row],[Totale Immissione in rete]:[Totale Consumi rimanenti]])","v":0},"HCB",null,null,null,0]
["102404",10,{"$f":"+MIN(Contributo_cer[[#This Row],[Totale Immissione in rete]:[Totale Consumi rimanenti]])","v":0},"HCB",null,null,null,0]
["102405",10,{"$f":"+MIN(Contributo_cer[[#This Row],[Totale Immissione in rete]:[Totale Consumi rimanenti]])","v":0},"HCB",null,null,null,0]
["102406",10,{"$f":"+MIN(Contributo_cer[[#This Row],[Totale Immissione in rete]:[Totale Consumi rimanenti]])","v":0},"HPB",null,null,null,0]
["102407",10,{"$f":"+MIN(Contributo_cer[[#This Row],[Totale Immissione in rete]:[Totale Consumi rimanenti]])","v":0},"HPB",null,null,null,0]
["102408",10,{"$f":"+MIN(Contributo_cer[[#This Row],[Totale Immissione in rete]:[Totale Consumi rimanenti]])","v":0},"HPB",null,null,null,0]
["102409",10,{"$f":"+MIN(Contributo_cer[[#This Row],[Totale Immissione in rete]:[Totale Consumi rimanenti]])","v":0},"HPB",null,null,null,0]
["102410",10,{"$f":"+MIN(Contributo_cer[[#This Row],[Totale Immissione in rete]:[Totale Consumi rimanenti]])","v":0},"HPB",null,null,null,0]
["102411",10,{"$f":"+MIN(Contributo_cer[[#This Row],[Totale Immissione in rete]:[Totale Consumi rimanenti]])","v":0},"HPB",null,null,null,0]
["102412",10,{"$f":"+MIN(Contributo_cer[[#This Row],[Totale Immissione in rete]:[Totale Consumi rimanenti]])","v":0},"HPB",null,null,null,0]
["102413",10,{"$f":"+MIN(Contributo_cer[[#This Row],[Totale Immissione in rete]:[Totale Consumi rimanenti]])","v":0},"HPB",null,null,null,0]
["102414",10,{"$f":"+MIN(Contributo_cer[[#This Row],[Totale Immissione in rete]:[Totale Consumi rimanenti]])","v":0},"HPB",null,null,null,0]
["102415",10,{"$f":"+MIN(Contributo_cer[[#This Row],[Totale Immissione in rete]:[Totale Consumi rimanenti]])","v":0},"HPB",null,null,null,0]
["102416",10,{"$f":"+MIN(Contributo_cer[[#This Row],[Totale Immissione in rete]:[Totale Consumi rimanenti]])","v":0},"HPB",null,null,null,0]
["102417",10,{"$f":"+MIN(Contributo_cer[[#This Row],[Totale Immissione in rete]:[Totale Consumi rimanenti]])","v":0},"HPB",null,null,null,0]
["102418",10,{"$f":"+MIN(Contributo_cer[[#This Row],[Totale Immissione in rete]:[Totale Consumi rimanenti]])","v":0},"HPB",null,null,null,0]
["102419",10,{"$f":"+MIN(Contributo_cer[[#This Row],[Totale Immissione in rete]:[Totale Consumi rimanenti]])","v":0},"HPB",null,null,null,0]
["102420",10,{"$f":"+MIN(Contributo_cer[[#This Row],[Totale Immissione in rete]:[Totale Consumi rimanenti]])","v":0},"HPB",null,null,null,0]
["102421",10,{"$f":"+MIN(Contributo_cer[[#This Row],[Totale Immissione in rete]:[Totale Consumi rimanenti]])","v":0},"HPB",null,null,null,0]
["102422",10,{"$f":"+MIN(Contributo_cer[[#This Row],[Totale Immissione in rete]:[Totale Consumi rimanenti]])","v":0},"HCB",null,null,null,0]
["102423",10,{"$f":"+MIN(Contributo_cer[[#This Row],[Totale Immissione in rete]:[Totale Consumi rimanenti]])","v":0},"HCB",null,null,null,0]
["102500",10,{"$f":"+MIN(Contributo_cer[[#This Row],[Totale Immissione in rete]:[Totale Consumi rimanenti]])","v":0},"HCB",null,null,null,0]
["102501",10,{"$f":"+MIN(Contributo_cer[[#This Row],[Totale Immissione in rete]:[Totale Consumi rimanenti]])","v":0},"HCB",null,null,null,0]
["102502",10,{"$f":"+MIN(Contributo_cer[[#This Row],[Totale Immissione in rete]:[Totale Consumi rimanenti]])","v":0},"HCB",null,null,null,0]
["102503",10,{"$f":"+MIN(Contributo_cer[[#This Row],[Totale Immissione in rete]:[Totale Consumi rimanenti]])","v":0},"HCB",null,null,null,0]
["102504",10,{"$f":"+MIN(Contributo_cer[[#This Row],[Totale Immissione in rete]:[Totale Consumi rimanenti]])","v":0},"HCB",null,null,null,0]
["102505",10,{"$f":"+MIN(Contributo_cer[[#This Row],[Totale Immissione in rete]:[Totale Consumi rimanenti]])","v":0},"HCB",null,null,null,0]
["102506",10,{"$f":"+MIN(Contributo_cer[[#This Row],[Totale Immissione in rete]:[Totale Consumi rimanenti]])","v":0},"HPB",null,null,null,0]
["102507",10,{"$f":"+MIN(Contributo_cer[[#This Row],[Totale Immissione in rete]:[Totale Consumi rimanenti]])","v":0},"HPB",null,null,null,0]
["102508",10,{"$f":"+MIN(Contributo_cer[[#This Row],[Totale Immissione in rete]:[Totale Consumi rimanenti]])","v":0},"HPB",null,null,null,0]
["102509",10,{"$f":"+MIN(Contributo_cer[[#This Row],[Totale Immissione in rete]:[Totale Consumi rimanenti]])","v":0},"HPB",null,null,null,0]
["102510",10,{"$f":"+MIN(Contributo_cer[[#This Row],[Totale Immissione in rete]:[Totale Consumi rimanenti]])","v":0},"HPB",null,null,null,0]
["102511",10,{"$f":"+MIN(Contributo_cer[[#This Row],[Totale Immissione in rete]:[Totale Consumi rimanenti]])","v":0},"HPB",null,null,null,0]
["102512",10,{"$f":"+MIN(Contributo_cer[[#This Row],[Totale Immissione in rete]:[Totale Consumi rimanenti]])","v":0},"HPB",null,null,null,0]
["102513",10,{"$f":"+MIN(Contributo_cer[[#This Row],[Totale Immissione in rete]:[Totale Consumi rimanenti]])","v":0},"HPB",null,null,null,0]
["102514",10,{"$f":"+MIN(Contributo_cer[[#This Row],[Totale Immissione in rete]:[Totale Consumi rimanenti]])","v":0},"HPB",null,null,null,0]
["102515",10,{"$f":"+MIN(Contributo_cer[[#This Row],[Totale Immissione in rete]:[Totale Consumi rimanenti]])","v":0},"HPB",null,null,null,0]
["102516",10,{"$f":"+MIN(Contributo_cer[[#This Row],[Totale Immissione in rete]:[Totale Consumi rimanenti]])","v":0},"HPB",null,null,null,0]
["102517",10,{"$f":"+MIN(Contributo_cer[[#This Row],[Totale Immissione in rete]:[Totale Consumi rimanenti]])","v":0},"HPB",null,null,null,0]
["102518",10,{"$f":"+MIN(Contributo_cer[[#This Row],[Totale Immissione in rete]:[Totale Consumi rimanenti]])","v":0},"HPB",null,null,null,0]
["102519",10,{"$f":"+MIN(Contributo_cer[[#This Row],[Totale Immissione in rete]:[Totale Consumi rimanenti]])","v":0},"HPB",null,null,null,0]
["102520",10,{"$f":"+MIN(Contributo_cer[[#This Row],[Totale Immissione in rete]:[Totale Consumi rimanenti]])","v":0},"HPB",null,null,null,0]
["102521",10,{"$f":"+MIN(Contributo_cer[[#This Row],[Totale Immissione in rete]:[Totale Consumi rimanenti]])","v":0},"HPB",null,null,null,0]
["102522",10,{"$f":"+MIN(Contributo_cer[[#This Row],[Totale Immissione in rete]:[Totale Consumi rimanenti]])","v":0},"HCB",null,null,null,0]
["102523",10,{"$f":"+MIN(Contributo_cer[[#This Row],[Totale Immissione in rete]:[Totale Consumi rimanenti]])","v":0},"HCB",null,null,null,0]
["102600",10,{"$f":"+MIN(Contributo_cer[[#This Row],[Totale Immissione in rete]:[Totale Consumi rimanenti]])","v":0},"HCB",null,null,null,0]
["102601",10,{"$f":"+MIN(Contributo_cer[[#This Row],[Totale Immissione in rete]:[Totale Consumi rimanenti]])","v":0},"HCB",null,null,null,0]
["102602",10,{"$f":"+MIN(Contributo_cer[[#This Row],[Totale Immissione in rete]:[Totale Consumi rimanenti]])","v":0},"HCB",null,null,null,0]
["102603",10,{"$f":"+MIN(Contributo_cer[[#This Row],[Totale Immissione in rete]:[Totale Consumi rimanenti]])","v":0},"HCB",null,null,null,0]
["102604",10,{"$f":"+MIN(Contributo_cer[[#This Row],[Totale Immissione in rete]:[Totale Consumi rimanenti]])","v":0},"HCB",null,null,null,0]
["102605",10,{"$f":"+MIN(Contributo_cer[[#This Row],[Totale Immissione in rete]:[Totale Consumi rimanenti]])","v":0},"HCB",null,null,null,0]
["102606",10,{"$f":"+MIN(Contributo_cer[[#This Row],[Totale Immissione in rete]:[Totale Consumi rimanenti]])","v":0},"HPB",null,null,null,0]
["102607",10,{"$f":"+MIN(Contributo_cer[[#This Row],[Totale Immissione in rete]:[Totale Consumi rimanenti]])","v":0},"HPB",null,null,null,0]
["102608",10,{"$f":"+MIN(Contributo_cer[[#This Row],[Totale Immissione in rete]:[Totale Consumi rimanenti]])","v":0},"HPB",null,null,null,0]
["102609",10,{"$f":"+MIN(Contributo_cer[[#This Row],[Totale Immissione in rete]:[Totale Consumi rimanenti]])","v":0},"HPB",null,null,null,0]
["102610",10,{"$f":"+MIN(Contributo_cer[[#This Row],[Totale Immissione in rete]:[Totale Consumi rimanenti]])","v":0},"HPB",null,null,null,0]
["102611",10,{"$f":"+MIN(Contributo_cer[[#This Row],[Totale Immissione in rete]:[Totale Consumi rimanenti]])","v":0},"HPB",null,null,null,0]
["102612",10,{"$f":"+MIN(Contributo_cer[[#This Row],[Totale Immissione in rete]:[Totale Consumi rimanenti]])","v":0},"HPB",null,null,null,0]
["102613",10,{"$f":"+MIN(Contributo_cer[[#This Row],[Totale Immissione in rete]:[Totale Consumi rimanenti]])","v":0},"HPB",null,null,null,0]
["102614",10,{"$f":"+MIN(Contributo_cer[[#This Row],[Totale Immissione in rete]:[Totale Consumi rimanenti]])","v":0},"HPB",null,null,null,0]
["102615",10,{"$f":"+MIN(Contributo_cer[[#This Row],[Totale Immissione in rete]:[Totale Consumi rimanenti]])","v":0},"HPB",null,null,null,0]
["102616",10,{"$f":"+MIN(Contributo_cer[[#This Row],[Totale Immissione in rete]:[Totale Consumi rimanenti]])","v":0},"HPB",null,null,null,0]
["102617",10,{"$f":"+MIN(Contributo_cer[[#This Row],[Totale Immissione in rete]:[Totale Consumi rimanenti]])","v":0},"HPB",null,null,null,0]
["102618",10,{"$f":"+MIN(Contributo_cer[[#This Row],[Totale Immissione in rete]:[Totale Consumi rimanenti]])","v":0},"HPB",null,null,null,0]
["102619",10,{"$f":"+MIN(Contributo_cer[[#This Row],[Totale Immissione in rete]:[Totale Consumi rimanenti]])","v":0},"HPB",null,null,null,0]
["102620",10,{"$f":"+MIN(Contributo_cer[[#This Row],[Totale Immissione in rete]:[Totale Consumi rimanenti]])","v":0},"HPB",null,null,null,0]
["102621",10,{"$f":"+MIN(Contributo_cer[[#This Row],[Totale Immissione in rete]:[Totale Consumi rimanenti]])","v":0},"HPB",null,null,null,0]
["102622",10,{"$f":"+MIN(Contributo_cer[[#This Row],[Totale Immissione in rete]:[Totale Consumi rimanenti]])","v":0},"HCB",null,null,null,0]
["102623",10,{"$f":"+MIN(Contributo_cer[[#This Row],[Totale Immissione in rete]:[Totale Consumi rimanenti]])","v":0},"HCB",null,null,null,0]
["102700",10,{"$f":"+MIN(Contributo_cer[[#This Row],[Totale Immissione in rete]:[Totale Consumi rimanenti]])","v":0},"HCB",null,null,null,0]
["102701",10,{"$f":"+MIN(Contributo_cer[[#This Row],[Totale Immissione in rete]:[Totale Consumi rimanenti]])","v":0},"HCB",null,null,null,0]
["102702",10,{"$f":"+MIN(Contributo_cer[[#This Row],[Totale Immissione in rete]:[Totale Consumi rimanenti]])","v":0},"HCB",null,null,null,0]
["102703",10,{"$f":"+MIN(Contributo_cer[[#This Row],[Totale Immissione in rete]:[Totale Consumi rimanenti]])","v":0},"HCB",null,null,null,0]
["102704",10,{"$f":"+MIN(Contributo_cer[[#This Row],[Totale Immissione in rete]:[Totale Consumi rimanenti]])","v":0},"HCB",null,null,null,0]
["102705",10,{"$f":"+MIN(Contributo_cer[[#This Row],[Totale Immissione in rete]:[Totale Consumi rimanenti]])","v":0},"HCB",null,null,null,0]
["102706",10,{"$f":"+MIN(Contributo_cer[[#This Row],[Totale Immissione in rete]:[Totale Consumi rimanenti]])","v":0},"HPB",null,null,null,0]
["102707",10,{"$f":"+MIN(Contributo_cer[[#This Row],[Totale Immissione in rete]:[Totale Consumi rimanenti]])","v":0},"HPB",null,null,null,0]
["102708",10,{"$f":"+MIN(Contributo_cer[[#This Row],[Totale Immissione in rete]:[Totale Consumi rimanenti]])","v":0},"HPB",null,null,null,0]
["102709",10,{"$f":"+MIN(Contributo_cer[[#This Row],[Totale Immissione in rete]:[Totale Consumi rimanenti]])","v":0},"HPB",null,null,null,0]
["102710",10,{"$f":"+MIN(Contributo_cer[[#This Row],[Totale Immissione in rete]:[Totale Consumi rimanenti]])","v":0},"HPB",null,null,null,0]
["102711",10,{"$f":"+MIN(Contributo_cer[[#This Row],[Totale Immissione in rete]:[Totale Consumi rimanenti]])","v":0},"HPB",null,null,null,0]
["102712",10,{"$f":"+MIN(Contributo_cer[[#This Row],[Totale Immissione in rete]:[Totale Consumi rimanenti]])","v":0},"HPB",null,null,null,0]
["102713",10,{"$f":"+MIN(Contributo_cer[[#This Row],[Totale Immissione in rete]:[Totale Consumi rimanenti]])","v":0},"HPB",null,null,null,0]
["102714",10,{"$f":"+MIN(Contributo_cer[[#This Row],[Totale Immissione in rete]:[Totale Consumi rimanenti]])","v":0},"HPB",null,null,null,0]
["102715",10,{"$f":"+MIN(Contributo_cer[[#This Row],[Totale Immissione in rete]:[Totale Consumi rimanenti]])","v":0},"HPB",null,null,null,0]
["102716",10,{"$f":"+MIN(Contributo_cer[[#This Row],[Totale Immissione in rete]:[Totale Consumi rimanenti]])","v":0},"HPB",null,null,null,0]
["102717",10,{"$f":"+MIN(Contributo_cer[[#This Row],[Totale Immissione in rete]:[Totale Consumi rimanenti]])","v":0},"HPB",null,null,null,0]
["102718",10,{"$f":"+MIN(Contributo_cer[[#This Row],[Totale Immissione in rete]:[Totale Consumi rimanenti]])","v":0},"HPB",null,null,null,0]
["102719",10,{"$f":"+MIN(Contributo_cer[[#This Row],[Totale Immissione in rete]:[Totale Consumi rimanenti]])","v":0},"HPB",null,null,null,0]
["102720",10,{"$f":"+MIN(Contributo_cer[[#This Row],[Totale Immissione in rete]:[Totale Consumi rimanenti]])","v":0},"HPB",null,null,null,0]
["102721",10,{"$f":"+MIN(Contributo_cer[[#This Row],[Totale Immissione in rete]:[Totale Consumi rimanenti]])","v":0},"HPB",null,null,null,0]
["102722",10,{"$f":"+MIN(Contributo_cer[[#This Row],[Totale Immissione in rete]:[Totale Consumi rimanenti]])","v":0},"HCB",null,null,null,0]
["102723",10,{"$f":"+MIN(Contributo_cer[[#This Row],[Totale Immissione in rete]:[Totale Consumi rimanenti]])","v":0},"HCB",null,null,null,0]
["102800",10,{"$f":"+MIN(Contributo_cer[[#This Row],[Totale Immissione in rete]:[Totale Consumi rimanenti]])","v":0},"HCB",null,null,null,0]
["102801",10,{"$f":"+MIN(Contributo_cer[[#This Row],[Totale Immissione in rete]:[Totale Consumi rimanenti]])","v":0},"HCB",null,null,null,0]
["102802",10,{"$f":"+MIN(Contributo_cer[[#This Row],[Totale Immissione in rete]:[Totale Consumi rimanenti]])","v":0},"HCB",null,null,null,0]
["102803",10,{"$f":"+MIN(Contributo_cer[[#This Row],[Totale Immissione in rete]:[Totale Consumi rimanenti]])","v":0},"HCB",null,null,null,0]
["102804",10,{"$f":"+MIN(Contributo_cer[[#This Row],[Totale Immissione in rete]:[Totale Consumi rimanenti]])","v":0},"HCB",null,null,null,0]
["102805",10,{"$f":"+MIN(Contributo_cer[[#This Row],[Totale Immissione in rete]:[Totale Consumi rimanenti]])","v":0},"HCB",null,null,null,0]
["102806",10,{"$f":"+MIN(Contributo_cer[[#This Row],[Totale Immissione in rete]:[Totale Consumi rimanenti]])","v":0},"HPB",null,null,null,0]
["102807",10,{"$f":"+MIN(Contributo_cer[[#This Row],[Totale Immissione in rete]:[Totale Consumi rimanenti]])","v":0},"HPB",null,null,null,0]
["102808",10,{"$f":"+MIN(Contributo_cer[[#This Row],[Totale Immissione in rete]:[Totale Consumi rimanenti]])","v":0},"HPB",null,null,null,0]
["102809",10,{"$f":"+MIN(Contributo_cer[[#This Row],[Totale Immissione in rete]:[Totale Consumi rimanenti]])","v":0},"HPB",null,null,null,0]
["102810",10,{"$f":"+MIN(Contributo_cer[[#This Row],[Totale Immissione in rete]:[Totale Consumi rimanenti]])","v":0},"HPB",null,null,null,0]
["102811",10,{"$f":"+MIN(Contributo_cer[[#This Row],[Totale Immissione in rete]:[Totale Consumi rimanenti]])","v":0},"HPB",null,null,null,0]
["102812",10,{"$f":"+MIN(Contributo_cer[[#This Row],[Totale Immissione in rete]:[Totale Consumi rimanenti]])","v":0},"HPB",null,null,null,0]
["102813",10,{"$f":"+MIN(Contributo_cer[[#This Row],[Totale Immissione in rete]:[Totale Consumi rimanenti]])","v":0},"HPB",null,null,null,0]
["102814",10,{"$f":"+MIN(Contributo_cer[[#This Row],[Totale Immissione in rete]:[Totale Consumi rimanenti]])","v":0},"HPB",null,null,null,0]
["102815",10,{"$f":"+MIN(Contributo_cer[[#This Row],[Totale Immissione in rete]:[Totale Consumi rimanenti]])","v":0},"HPB",null,null,null,0]
["102816",10,{"$f":"+MIN(Contributo_cer[[#This Row],[Totale Immissione in rete]:[Totale Consumi rimanenti]])","v":0},"HPB",null,null,null,0]
["102817",10,{"$f":"+MIN(Contributo_cer[[#This Row],[Totale Immissione in rete]:[Totale Consumi rimanenti]])","v":0},"HPB",null,null,null,0]
["102818",10,{"$f":"+MIN(Contributo_cer[[#This Row],[Totale Immissione in rete]:[Totale Consumi rimanenti]])","v":0},"HPB",null,null,null,0]
["102819",10,{"$f":"+MIN(Contributo_cer[[#This Row],[Totale Immissione in rete]:[Totale Consumi rimanenti]])","v":0},"HPB",null,null,null,0]
["102820",10,{"$f":"+MIN(Contributo_cer[[#This Row],[Totale Immissione in rete]:[Totale Consumi rimanenti]])","v":0},"HPB",null,null,null,0]
["102821",10,{"$f":"+MIN(Contributo_cer[[#This Row],[Totale Immissione in rete]:[Totale Consumi rimanenti]])","v":0},"HPB",null,null,null,0]
["102822",10,{"$f":"+MIN(Contributo_cer[[#This Row],[Totale Immissione in rete]:[Totale Consumi rimanenti]])","v":0},"HCB",null,null,null,0]
["102823",10,{"$f":"+MIN(Contributo_cer[[#This Row],[Totale Immissione in rete]:[Totale Consumi rimanenti]])","v":0},"HCB",null,null,null,0]
["102900",10,{"$f":"+MIN(Contributo_cer[[#This Row],[Totale Immissione in rete]:[Totale Consumi rimanenti]])","v":0},"HCB",null,null,null,0]
["102901",10,{"$f":"+MIN(Contributo_cer[[#This Row],[Totale Immissione in rete]:[Totale Consumi rimanenti]])","v":0},"HCB",null,null,null,0]
["102902",10,{"$f":"+MIN(Contributo_cer[[#This Row],[Totale Immissione in rete]:[Totale Consumi rimanenti]])","v":0},"HCB",null,null,null,0]
["102903",10,{"$f":"+MIN(Contributo_cer[[#This Row],[Totale Immissione in rete]:[Totale Consumi rimanenti]])","v":0},"HCB",null,null,null,0]
["102904",10,{"$f":"+MIN(Contributo_cer[[#This Row],[Totale Immissione in rete]:[Totale Consumi rimanenti]])","v":0},"HCB",null,null,null,0]
["102905",10,{"$f":"+MIN(Contributo_cer[[#This Row],[Totale Immissione in rete]:[Totale Consumi rimanenti]])","v":0},"HCB",null,null,null,0]
["102906",10,{"$f":"+MIN(Contributo_cer[[#This Row],[Totale Immissione in rete]:[Totale Consumi rimanenti]])","v":0},"HPB",null,null,null,0]
["102907",10,{"$f":"+MIN(Contributo_cer[[#This Row],[Totale Immissione in rete]:[Totale Consumi rimanenti]])","v":0},"HPB",null,null,null,0]
["102908",10,{"$f":"+MIN(Contributo_cer[[#This Row],[Totale Immissione in rete]:[Totale Consumi rimanenti]])","v":0},"HPB",null,null,null,0]
["102909",10,{"$f":"+MIN(Contributo_cer[[#This Row],[Totale Immissione in rete]:[Totale Consumi rimanenti]])","v":0},"HPB",null,null,null,0]
["102910",10,{"$f":"+MIN(Contributo_cer[[#This Row],[Totale Immissione in rete]:[Totale Consumi rimanenti]])","v":0},"HPB",null,null,null,0]
["102911",10,{"$f":"+MIN(Contributo_cer[[#This Row],[Totale Immissione in rete]:[Totale Consumi rimanenti]])","v":0},"HPB",null,null,null,0]
["102912",10,{"$f":"+MIN(Contributo_cer[[#This Row],[Totale Immissione in rete]:[Totale Consumi rimanenti]])","v":0},"HPB",null,null,null,0]
["102913",10,{"$f":"+MIN(Contributo_cer[[#This Row],[Totale Immissione in rete]:[Totale Consumi rimanenti]])","v":0},"HPB",null,null,null,0]
["102914",10,{"$f":"+MIN(Contributo_cer[[#This Row],[Totale Immissione in rete]:[Totale Consumi rimanenti]])","v":0},"HPB",null,null,null,0]
["102915",10,{"$f":"+MIN(Contributo_cer[[#This Row],[Totale Immissione in rete]:[Totale Consumi rimanenti]])","v":0},"HPB",null,null,null,0]
["102916",10,{"$f":"+MIN(Contributo_cer[[#This Row],[Totale Immissione in rete]:[Totale Consumi rimanenti]])","v":0},"HPB",null,null,null,0]
["102917",10,{"$f":"+MIN(Contributo_cer[[#This Row],[Totale Immissione in rete]:[Totale Consumi rimanenti]])","v":0},"HPB",null,null,null,0]
["102918",10,{"$f":"+MIN(Contributo_cer[[#This Row],[Totale Immissione in rete]:[Totale Consumi rimanenti]])","v":0},"HPB",null,null,null,0]
["102919",10,{"$f":"+MIN(Contributo_cer[[#This Row],[Totale Immissione in rete]:[Totale Consumi rimanenti]])","v":0},"HPB",null,null,null,0]
["102920",10,{"$f":"+MIN(Contributo_cer[[#This Row],[Totale Immissione in rete]:[Totale Consumi rimanenti]])","v":0},"HPB",null,null,null,0]
["102921",10,{"$f":"+MIN(Contributo_cer[[#This Row],[Totale Immissione in rete]:[Totale Consumi rimanenti]])","v":0},"HPB",null,null,null,0]
["102922",10,{"$f":"+MIN(Contributo_cer[[#This Row],[Totale Immissione in rete]:[Totale Consumi rimanenti]])","v":0},"HCB",null,null,null,0]
["102923",10,{"$f":"+MIN(Contributo_cer[[#This Row],[Totale Immissione in rete]:[Totale Consumi rimanenti]])","v":0},"HCB",null,null,null,0]
["103000",10,{"$f":"+MIN(Contributo_cer[[#This Row],[Totale Immissione in rete]:[Totale Consumi rimanenti]])","v":0},"HCB",null,null,null,0]
["103001",10,{"$f":"+MIN(Contributo_cer[[#This Row],[Totale Immissione in rete]:[Totale Consumi rimanenti]])","v":0},"HCB",null,null,null,0]
["103002",10,{"$f":"+MIN(Contributo_cer[[#This Row],[Totale Immissione in rete]:[Totale Consumi rimanenti]])","v":0},"HCB",null,null,null,0]
["103003",10,{"$f":"+MIN(Contributo_cer[[#This Row],[Totale Immissione in rete]:[Totale Consumi rimanenti]])","v":0},"HCB",null,null,null,0]
["103004",10,{"$f":"+MIN(Contributo_cer[[#This Row],[Totale Immissione in rete]:[Totale Consumi rimanenti]])","v":0},"HCB",null,null,null,0]
["103005",10,{"$f":"+MIN(Contributo_cer[[#This Row],[Totale Immissione in rete]:[Totale Consumi rimanenti]])","v":0},"HCB",null,null,null,0]
["103006",10,{"$f":"+MIN(Contributo_cer[[#This Row],[Totale Immissione in rete]:[Totale Consumi rimanenti]])","v":0},"HPB",null,null,null,0]
["103007",10,{"$f":"+MIN(Contributo_cer[[#This Row],[Totale Immissione in rete]:[Totale Consumi rimanenti]])","v":0},"HPB",null,null,null,0]
["103008",10,{"$f":"+MIN(Contributo_cer[[#This Row],[Totale Immissione in rete]:[Totale Consumi rimanenti]])","v":0},"HPB",null,null,null,0]
["103009",10,{"$f":"+MIN(Contributo_cer[[#This Row],[Totale Immissione in rete]:[Totale Consumi rimanenti]])","v":0},"HPB",null,null,null,0]
["103010",10,{"$f":"+MIN(Contributo_cer[[#This Row],[Totale Immissione in rete]:[Totale Consumi rimanenti]])","v":0},"HPB",null,null,null,0]
["103011",10,{"$f":"+MIN(Contributo_cer[[#This Row],[Totale Immissione in rete]:[Totale Consumi rimanenti]])","v":0},"HPB",null,null,null,0]
["103012",10,{"$f":"+MIN(Contributo_cer[[#This Row],[Totale Immissione in rete]:[Totale Consumi rimanenti]])","v":0},"HPB",null,null,null,0]
["103013",10,{"$f":"+MIN(Contributo_cer[[#This Row],[Totale Immissione in rete]:[Totale Consumi rimanenti]])","v":0},"HPB",null,null,null,0]
["103014",10,{"$f":"+MIN(Contributo_cer[[#This Row],[Totale Immissione in rete]:[Totale Consumi rimanenti]])","v":0},"HPB",null,null,null,0]
["103015",10,{"$f":"+MIN(Contributo_cer[[#This Row],[Totale Immissione in rete]:[Totale Consumi rimanenti]])","v":0},"HPB",null,null,null,0]
["103016",10,{"$f":"+MIN(Contributo_cer[[#This Row],[Totale Immissione in rete]:[Totale Consumi rimanenti]])","v":0},"HPB",null,null,null,0]
["103017",10,{"$f":"+MIN(Contributo_cer[[#This Row],[Totale Immissione in rete]:[Totale Consumi rimanenti]])","v":0},"HPB",null,null,null,0]
["103018",10,{"$f":"+MIN(Contributo_cer[[#This Row],[Totale Immissione in rete]:[Totale Consumi rimanenti]])","v":0},"HPB",null,null,null,0]
["103019",10,{"$f":"+MIN(Contributo_cer[[#This Row],[Totale Immissione in rete]:[Totale Consumi rimanenti]])","v":0},"HPB",null,null,null,0]
["103020",10,{"$f":"+MIN(Contributo_cer[[#This Row],[Totale Immissione in rete]:[Totale Consumi rimanenti]])","v":0},"HPB",null,null,null,0]
["103021",10,{"$f":"+MIN(Contributo_cer[[#This Row],[Totale Immissione in rete]:[Totale Consumi rimanenti]])","v":0},"HPB",null,null,null,0]
["103022",10,{"$f":"+MIN(Contributo_cer[[#This Row],[Totale Immissione in rete]:[Totale Consumi rimanenti]])","v":0},"HCB",null,null,null,0]
["103023",10,{"$f":"+MIN(Contributo_cer[[#This Row],[Totale Immissione in rete]:[Totale Consumi rimanenti]])","v":0},"HCB",null,null,null,0]
["103100",10,{"$f":"+MIN(Contributo_cer[[#This Row],[Totale Immissione in rete]:[Totale Consumi rimanenti]])","v":0},"HCB",null,null,null,0]
["103101",10,{"$f":"+MIN(Contributo_cer[[#This Row],[Totale Immissione in rete]:[Totale Consumi rimanenti]])","v":0},"HCB",null,null,null,0]
["103102",10,{"$f":"+MIN(Contributo_cer[[#This Row],[Totale Immissione in rete]:[Totale Consumi rimanenti]])","v":0},"HCB",null,null,null,0]
["103103",10,{"$f":"+MIN(Contributo_cer[[#This Row],[Totale Immissione in rete]:[Totale Consumi rimanenti]])","v":0},"HCB",null,null,null,0]
["103104",10,{"$f":"+MIN(Contributo_cer[[#This Row],[Totale Immissione in rete]:[Totale Consumi rimanenti]])","v":0},"HCB",null,null,null,0]
["103105",10,{"$f":"+MIN(Contributo_cer[[#This Row],[Totale Immissione in rete]:[Totale Consumi rimanenti]])","v":0},"HCB",null,null,null,0]
["103106",10,{"$f":"+MIN(Contributo_cer[[#This Row],[Totale Immissione in rete]:[Totale Consumi rimanenti]])","v":0},"HPB",null,null,null,0]
["103107",10,{"$f":"+MIN(Contributo_cer[[#This Row],[Totale Immissione in rete]:[Totale Consumi rimanenti]])","v":0},"HPB",null,null,null,0]
["103108",10,{"$f":"+MIN(Contributo_cer[[#This Row],[Totale Immissione in rete]:[Totale Consumi rimanenti]])","v":0},"HPB",null,null,null,0]
["103109",10,{"$f":"+MIN(Contributo_cer[[#This Row],[Totale Immissione in rete]:[Totale Consumi rimanenti]])","v":0},"HPB",null,null,null,0]
["103110",10,{"$f":"+MIN(Contributo_cer[[#This Row],[Totale Immissione in rete]:[Totale Consumi rimanenti]])","v":0},"HPB",null,null,null,0]
["103111",10,{"$f":"+MIN(Contributo_cer[[#This Row],[Totale Immissione in rete]:[Totale Consumi rimanenti]])","v":0},"HPB",null,null,null,0]
["103112",10,{"$f":"+MIN(Contributo_cer[[#This Row],[Totale Immissione in rete]:[Totale Consumi rimanenti]])","v":0},"HPB",null,null,null,0]
["103113",10,{"$f":"+MIN(Contributo_cer[[#This Row],[Totale Immissione in rete]:[Totale Consumi rimanenti]])","v":0},"HPB",null,null,null,0]
["103114",10,{"$f":"+MIN(Contributo_cer[[#This Row],[Totale Immissione in rete]:[Totale Consumi rimanenti]])","v":0},"HPB",null,null,null,0]
["103115",10,{"$f":"+MIN(Contributo_cer[[#This Row],[Totale Immissione in rete]:[Totale Consumi rimanenti]])","v":0},"HPB",null,null,null,0]
["103116",10,{"$f":"+MIN(Contributo_cer[[#This Row],[Totale Immissione in rete]:[Totale Consumi rimanenti]])","v":0},"HPB",null,null,null,0]
["103117",10,{"$f":"+MIN(Contributo_cer[[#This Row],[Totale Immissione in rete]:[Totale Consumi rimanenti]])","v":0},"HPB",null,null,null,0]
["103118",10,{"$f":"+MIN(Contributo_cer[[#This Row],[Totale Immissione in rete]:[Totale Consumi rimanenti]])","v":0},"HPB",null,null,null,0]
["103119",10,{"$f":"+MIN(Contributo_cer[[#This Row],[Totale Immissione in rete]:[Totale Consumi rimanenti]])","v":0},"HPB",null,null,null,0]
["103120",10,{"$f":"+MIN(Contributo_cer[[#This Row],[Totale Immissione in rete]:[Totale Consumi rimanenti]])","v":0},"HPB",null,null,null,0]
["103121",10,{"$f":"+MIN(Contributo_cer[[#This Row],[Totale Immissione in rete]:[Totale Consumi rimanenti]])","v":0},"HPB",null,null,null,0]
["103122",10,{"$f":"+MIN(Contributo_cer[[#This Row],[Totale Immissione in rete]:[Totale Consumi rimanenti]])","v":0},"HCB",null,null,null,0]
["103123",10,{"$f":"+MIN(Contributo_cer[[#This Row],[Totale Immissione in rete]:[Totale Consumi rimanenti]])","v":0},"HCB",null,null,null,0]
["110100",11,{"$f":"+MIN(Contributo_cer[[#This Row],[Totale Immissione in rete]:[Totale Consumi rimanenti]])","v":0},"HC",null,null,null,0]
["110101",11,{"$f":"+MIN(Contributo_cer[[#This Row],[Totale Immissione in rete]:[Totale Consumi rimanenti]])","v":0},"HC",null,null,null,0]
["110102",11,{"$f":"+MIN(Contributo_cer[[#This Row],[Totale Immissione in rete]:[Totale Consumi rimanenti]])","v":0},"HC",null,null,null,0]
["110103",11,{"$f":"+MIN(Contributo_cer[[#This Row],[Totale Immissione in rete]:[Totale Consumi rimanenti]])","v":0},"HC",null,null,null,0]
["110104",11,{"$f":"+MIN(Contributo_cer[[#This Row],[Totale Immissione in rete]:[Totale Consumi rimanenti]])","v":0},"HC",null,null,null,0]
["110105",11,{"$f":"+MIN(Contributo_cer[[#This Row],[Totale Immissione in rete]:[Totale Consumi rimanenti]])","v":0},"HC",null,null,null,0]
["110106",11,{"$f":"+MIN(Contributo_cer[[#This Row],[Totale Immissione in rete]:[Totale Consumi rimanenti]])","v":0},"HP",null,null,null,0]
["110107",11,{"$f":"+MIN(Contributo_cer[[#This Row],[Totale Immissione in rete]:[Totale Consumi rimanenti]])","v":0},"HP",null,null,null,0]
["110108",11,{"$f":"+MIN(Contributo_cer[[#This Row],[Totale Immissione in rete]:[Totale Consumi rimanenti]])","v":0},"HP",null,null,null,0]
["110109",11,{"$f":"+MIN(Contributo_cer[[#This Row],[Totale Immissione in rete]:[Totale Consumi rimanenti]])","v":0},"HP",null,null,null,0]
["110110",11,{"$f":"+MIN(Contributo_cer[[#This Row],[Totale Immissione in rete]:[Totale Consumi rimanenti]])","v":0},"HP",null,null,null,0]
["110111",11,{"$f":"+MIN(Contributo_cer[[#This Row],[Totale Immissione in rete]:[Totale Consumi rimanenti]])","v":0},"HP",null,null,null,0]
["110112",11,{"$f":"+MIN(Contributo_cer[[#This Row],[Totale Immissione in rete]:[Totale Consumi rimanenti]])","v":0},"HP",null,null,null,0]
["110113",11,{"$f":"+MIN(Contributo_cer[[#This Row],[Totale Immissione in rete]:[Totale Consumi rimanenti]])","v":0},"HP",null,null,null,0]
["110114",11,{"$f":"+MIN(Contributo_cer[[#This Row],[Totale Immissione in rete]:[Totale Consumi rimanenti]])","v":0},"HP",null,null,null,0]
["110115",11,{"$f":"+MIN(Contributo_cer[[#This Row],[Totale Immissione in rete]:[Totale Consumi rimanenti]])","v":0},"HP",null,null,null,0]
["110116",11,{"$f":"+MIN(Contributo_cer[[#This Row],[Totale Immissione in rete]:[Totale Consumi rimanenti]])","v":0},"HP",null,null,null,0]
["110117",11,{"$f":"+MIN(Contributo_cer[[#This Row],[Totale Immissione in rete]:[Totale Consumi rimanenti]])","v":0},"HP",null,null,null,0]
["110118",11,{"$f":"+MIN(Contributo_cer[[#This Row],[Totale Immissione in rete]:[Totale Consumi rimanenti]])","v":0},"HP",null,null,null,0]
["110119",11,{"$f":"+MIN(Contributo_cer[[#This Row],[Totale Immissione in rete]:[Totale Consumi rimanenti]])","v":0},"HP",null,null,null,0]
["110120",11,{"$f":"+MIN(Contributo_cer[[#This Row],[Totale Immissione in rete]:[Totale Consumi rimanenti]])","v":0},"HP",null,null,null,0]
["110121",11,{"$f":"+MIN(Contributo_cer[[#This Row],[Totale Immissione in rete]:[Totale Consumi rimanenti]])","v":0},"HP",null,null,null,0]
["110122",11,{"$f":"+MIN(Contributo_cer[[#This Row],[Totale Immissione in rete]:[Totale Consumi rimanenti]])","v":0},"HC",null,null,null,0]
["110123",11,{"$f":"+MIN(Contributo_cer[[#This Row],[Totale Immissione in rete]:[Totale Consumi rimanenti]])","v":0},"HC",null,null,null,0]
["110200",11,{"$f":"+MIN(Contributo_cer[[#This Row],[Totale Immissione in rete]:[Totale Consumi rimanenti]])","v":0},"HC",null,null,null,0]
["110201",11,{"$f":"+MIN(Contributo_cer[[#This Row],[Totale Immissione in rete]:[Totale Consumi rimanenti]])","v":0},"HC",null,null,null,0]
["110202",11,{"$f":"+MIN(Contributo_cer[[#This Row],[Totale Immissione in rete]:[Totale Consumi rimanenti]])","v":0},"HC",null,null,null,0]
["110203",11,{"$f":"+MIN(Contributo_cer[[#This Row],[Totale Immissione in rete]:[Totale Consumi rimanenti]])","v":0},"HC",null,null,null,0]
["110204",11,{"$f":"+MIN(Contributo_cer[[#This Row],[Totale Immissione in rete]:[Totale Consumi rimanenti]])","v":0},"HC",null,null,null,0]
["110205",11,{"$f":"+MIN(Contributo_cer[[#This Row],[Totale Immissione in rete]:[Totale Consumi rimanenti]])","v":0},"HC",null,null,null,0]
["110206",11,{"$f":"+MIN(Contributo_cer[[#This Row],[Totale Immissione in rete]:[Totale Consumi rimanenti]])","v":0},"HP",null,null,null,0]
["110207",11,{"$f":"+MIN(Contributo_cer[[#This Row],[Totale Immissione in rete]:[Totale Consumi rimanenti]])","v":0},"HP",null,null,null,0]
["110208",11,{"$f":"+MIN(Contributo_cer[[#This Row],[Totale Immissione in rete]:[Totale Consumi rimanenti]])","v":0},"HP",null,null,null,0]
["110209",11,{"$f":"+MIN(Contributo_cer[[#This Row],[Totale Immissione in rete]:[Totale Consumi rimanenti]])","v":0},"HP",null,null,null,0]
["110210",11,{"$f":"+MIN(Contributo_cer[[#This Row],[Totale Immissione in rete]:[Totale Consumi rimanenti]])","v":0},"HP",null,null,null,0]
["110211",11,{"$f":"+MIN(Contributo_cer[[#This Row],[Totale Immissione in rete]:[Totale Consumi rimanenti]])","v":0},"HP",null,null,null,0]
["110212",11,{"$f":"+MIN(Contributo_cer[[#This Row],[Totale Immissione in rete]:[Totale Consumi rimanenti]])","v":0},"HP",null,null,null,0]
["110213",11,{"$f":"+MIN(Contributo_cer[[#This Row],[Totale Immissione in rete]:[Totale Consumi rimanenti]])","v":0},"HP",null,null,null,0]
["110214",11,{"$f":"+MIN(Contributo_cer[[#This Row],[Totale Immissione in rete]:[Totale Consumi rimanenti]])","v":0},"HP",null,null,null,0]
["110215",11,{"$f":"+MIN(Contributo_cer[[#This Row],[Totale Immissione in rete]:[Totale Consumi rimanenti]])","v":0},"HP",null,null,null,0]
["110216",11,{"$f":"+MIN(Contributo_cer[[#This Row],[Totale Immissione in rete]:[Totale Consumi rimanenti]])","v":0},"HP",null,null,null,0]
["110217",11,{"$f":"+MIN(Contributo_cer[[#This Row],[Totale Immissione in rete]:[Totale Consumi rimanenti]])","v":0},"HP",null,null,null,0]
["110218",11,{"$f":"+MIN(Contributo_cer[[#This Row],[Totale Immissione in rete]:[Totale Consumi rimanenti]])","v":0},"HP",null,null,null,0]
["110219",11,{"$f":"+MIN(Contributo_cer[[#This Row],[Totale Immissione in rete]:[Totale Consumi rimanenti]])","v":0},"HP",null,null,null,0]
["110220",11,{"$f":"+MIN(Contributo_cer[[#This Row],[Totale Immissione in rete]:[Totale Consumi rimanenti]])","v":0},"HP",null,null,null,0]
["110221",11,{"$f":"+MIN(Contributo_cer[[#This Row],[Totale Immissione in rete]:[Totale Consumi rimanenti]])","v":0},"HP",null,null,null,0]
["110222",11,{"$f":"+MIN(Contributo_cer[[#This Row],[Totale Immissione in rete]:[Totale Consumi rimanenti]])","v":0},"HC",null,null,null,0]
["110223",11,{"$f":"+MIN(Contributo_cer[[#This Row],[Totale Immissione in rete]:[Totale Consumi rimanenti]])","v":0},"HC",null,null,null,0]
["110300",11,{"$f":"+MIN(Contributo_cer[[#This Row],[Totale Immissione in rete]:[Totale Consumi rimanenti]])","v":0},"HC",null,null,null,0]
["110301",11,{"$f":"+MIN(Contributo_cer[[#This Row],[Totale Immissione in rete]:[Totale Consumi rimanenti]])","v":0},"HC",null,null,null,0]
["110302",11,{"$f":"+MIN(Contributo_cer[[#This Row],[Totale Immissione in rete]:[Totale Consumi rimanenti]])","v":0},"HC",null,null,null,0]
["110303",11,{"$f":"+MIN(Contributo_cer[[#This Row],[Totale Immissione in rete]:[Totale Consumi rimanenti]])","v":0},"HC",null,null,null,0]
["110304",11,{"$f":"+MIN(Contributo_cer[[#This Row],[Totale Immissione in rete]:[Totale Consumi rimanenti]])","v":0},"HC",null,null,null,0]
["110305",11,{"$f":"+MIN(Contributo_cer[[#This Row],[Totale Immissione in rete]:[Totale Consumi rimanenti]])","v":0},"HC",null,null,null,0]
["110306",11,{"$f":"+MIN(Contributo_cer[[#This Row],[Totale Immissione in rete]:[Totale Consumi rimanenti]])","v":0},"HP",null,null,null,0]
["110307",11,{"$f":"+MIN(Contributo_cer[[#This Row],[Totale Immissione in rete]:[Totale Consumi rimanenti]])","v":0},"HP",null,null,null,0]
["110308",11,{"$f":"+MIN(Contributo_cer[[#This Row],[Totale Immissione in rete]:[Totale Consumi rimanenti]])","v":0},"HP",null,null,null,0]
["110309",11,{"$f":"+MIN(Contributo_cer[[#This Row],[Totale Immissione in rete]:[Totale Consumi rimanenti]])","v":0},"HP",null,null,null,0]
["110310",11,{"$f":"+MIN(Contributo_cer[[#This Row],[Totale Immissione in rete]:[Totale Consumi rimanenti]])","v":0},"HP",null,null,null,0]
["110311",11,{"$f":"+MIN(Contributo_cer[[#This Row],[Totale Immissione in rete]:[Totale Consumi rimanenti]])","v":0},"HP",null,null,null,0]
["110312",11,{"$f":"+MIN(Contributo_cer[[#This Row],[Totale Immissione in rete]:[Totale Consumi rimanenti]])","v":0},"HP",null,null,null,0]
["110313",11,{"$f":"+MIN(Contributo_cer[[#This Row],[Totale Immissione in rete]:[Totale Consumi rimanenti]])","v":0},"HP",null,null,null,0]
["110314",11,{"$f":"+MIN(Contributo_cer[[#This Row],[Totale Immissione in rete]:[Totale Consumi rimanenti]])","v":0},"HP",null,null,null,0]
["110315",11,{"$f":"+MIN(Contributo_cer[[#This Row],[Totale Immissione in rete]:[Totale Consumi rimanenti]])","v":0},"HP",null,null,null,0]
["110316",11,{"$f":"+MIN(Contributo_cer[[#This Row],[Totale Immissione in rete]:[Totale Consumi rimanenti]])","v":0},"HP",null,null,null,0]
["110317",11,{"$f":"+MIN(Contributo_cer[[#This Row],[Totale Immissione in rete]:[Totale Consumi rimanenti]])","v":0},"HP",null,null,null,0]
["110318",11,{"$f":"+MIN(Contributo_cer[[#This Row],[Totale Immissione in rete]:[Totale Consumi rimanenti]])","v":0},"HP",null,null,null,0]
["110319",11,{"$f":"+MIN(Contributo_cer[[#This Row],[Totale Immissione in rete]:[Totale Consumi rimanenti]])","v":0},"HP",null,null,null,0]
["110320",11,{"$f":"+MIN(Contributo_cer[[#This Row],[Totale Immissione in rete]:[Totale Consumi rimanenti]])","v":0},"HP",null,null,null,0]
["110321",11,{"$f":"+MIN(Contributo_cer[[#This Row],[Totale Immissione in rete]:[Totale Consumi rimanenti]])","v":0},"HP",null,null,null,0]
["110322",11,{"$f":"+MIN(Contributo_cer[[#This Row],[Totale Immissione in rete]:[Totale Consumi rimanenti]])","v":0},"HC",null,null,null,0]
["110323",11,{"$f":"+MIN(Contributo_cer[[#This Row],[Totale Immissione in rete]:[Totale Consumi rimanenti]])","v":0},"HC",null,null,null,0]
["110400",11,{"$f":"+MIN(Contributo_cer[[#This Row],[Totale Immissione in rete]:[Totale Consumi rimanenti]])","v":0},"HC",null,null,null,0]
["110401",11,{"$f":"+MIN(Contributo_cer[[#This Row],[Totale Immissione in rete]:[Totale Consumi rimanenti]])","v":0},"HC",null,null,null,0]
["110402",11,{"$f":"+MIN(Contributo_cer[[#This Row],[Totale Immissione in rete]:[Totale Consumi rimanenti]])","v":0},"HC",null,null,null,0]
["110403",11,{"$f":"+MIN(Contributo_cer[[#This Row],[Totale Immissione in rete]:[Totale Consumi rimanenti]])","v":0},"HC",null,null,null,0]
["110404",11,{"$f":"+MIN(Contributo_cer[[#This Row],[Totale Immissione in rete]:[Totale Consumi rimanenti]])","v":0},"HC",null,null,null,0]
["110405",11,{"$f":"+MIN(Contributo_cer[[#This Row],[Totale Immissione in rete]:[Totale Consumi rimanenti]])","v":0},"HC",null,null,null,0]
["110406",11,{"$f":"+MIN(Contributo_cer[[#This Row],[Totale Immissione in rete]:[Totale Consumi rimanenti]])","v":0},"HP",null,null,null,0]
["110407",11,{"$f":"+MIN(Contributo_cer[[#This Row],[Totale Immissione in rete]:[Totale Consumi rimanenti]])","v":0},"HP",null,null,null,0]
["110408",11,{"$f":"+MIN(Contributo_cer[[#This Row],[Totale Immissione in rete]:[Totale Consumi rimanenti]])","v":0},"HP",null,null,null,0]
["110409",11,{"$f":"+MIN(Contributo_cer[[#This Row],[Totale Immissione in rete]:[Totale Consumi rimanenti]])","v":0},"HP",null,null,null,0]
["110410",11,{"$f":"+MIN(Contributo_cer[[#This Row],[Totale Immissione in rete]:[Totale Consumi rimanenti]])","v":0},"HP",null,null,null,0]
["110411",11,{"$f":"+MIN(Contributo_cer[[#This Row],[Totale Immissione in rete]:[Totale Consumi rimanenti]])","v":0},"HP",null,null,null,0]
["110412",11,{"$f":"+MIN(Contributo_cer[[#This Row],[Totale Immissione in rete]:[Totale Consumi rimanenti]])","v":0},"HP",null,null,null,0]
["110413",11,{"$f":"+MIN(Contributo_cer[[#This Row],[Totale Immissione in rete]:[Totale Consumi rimanenti]])","v":0},"HP",null,null,null,0]
["110414",11,{"$f":"+MIN(Contributo_cer[[#This Row],[Totale Immissione in rete]:[Totale Consumi rimanenti]])","v":0},"HP",null,null,null,0]
["110415",11,{"$f":"+MIN(Contributo_cer[[#This Row],[Totale Immissione in rete]:[Totale Consumi rimanenti]])","v":0},"HP",null,null,null,0]
["110416",11,{"$f":"+MIN(Contributo_cer[[#This Row],[Totale Immissione in rete]:[Totale Consumi rimanenti]])","v":0},"HP",null,null,null,0]
["110417",11,{"$f":"+MIN(Contributo_cer[[#This Row],[Totale Immissione in rete]:[Totale Consumi rimanenti]])","v":0},"HP",null,null,null,0]
["110418",11,{"$f":"+MIN(Contributo_cer[[#This Row],[Totale Immissione in rete]:[Totale Consumi rimanenti]])","v":0},"HP",null,null,null,0]
["110419",11,{"$f":"+MIN(Contributo_cer[[#This Row],[Totale Immissione in rete]:[Totale Consumi rimanenti]])","v":0},"HP",null,null,null,0]
["110420",11,{"$f":"+MIN(Contributo_cer[[#This Row],[Totale Immissione in rete]:[Totale Consumi rimanenti]])","v":0},"HP",null,null,null,0]
["110421",11,{"$f":"+MIN(Contributo_cer[[#This Row],[Totale Immissione in rete]:[Totale Consumi rimanenti]])","v":0},"HP",null,null,null,0]
["110422",11,{"$f":"+MIN(Contributo_cer[[#This Row],[Totale Immissione in rete]:[Totale Consumi rimanenti]])","v":0},"HC",null,null,null,0]
["110423",11,{"$f":"+MIN(Contributo_cer[[#This Row],[Totale Immissione in rete]:[Totale Consumi rimanenti]])","v":0},"HC",null,null,null,0]
["110500",11,{"$f":"+MIN(Contributo_cer[[#This Row],[Totale Immissione in rete]:[Totale Consumi rimanenti]])","v":0},"HC",null,null,null,0]
["110501",11,{"$f":"+MIN(Contributo_cer[[#This Row],[Totale Immissione in rete]:[Totale Consumi rimanenti]])","v":0},"HC",null,null,null,0]
["110502",11,{"$f":"+MIN(Contributo_cer[[#This Row],[Totale Immissione in rete]:[Totale Consumi rimanenti]])","v":0},"HC",null,null,null,0]
["110503",11,{"$f":"+MIN(Contributo_cer[[#This Row],[Totale Immissione in rete]:[Totale Consumi rimanenti]])","v":0},"HC",null,null,null,0]
["110504",11,{"$f":"+MIN(Contributo_cer[[#This Row],[Totale Immissione in rete]:[Totale Consumi rimanenti]])","v":0},"HC",null,null,null,0]
["110505",11,{"$f":"+MIN(Contributo_cer[[#This Row],[Totale Immissione in rete]:[Totale Consumi rimanenti]])","v":0},"HC",null,null,null,0]
["110506",11,{"$f":"+MIN(Contributo_cer[[#This Row],[Totale Immissione in rete]:[Totale Consumi rimanenti]])","v":0},"HP",null,null,null,0]
["110507",11,{"$f":"+MIN(Contributo_cer[[#This Row],[Totale Immissione in rete]:[Totale Consumi rimanenti]])","v":0},"HP",null,null,null,0]
["110508",11,{"$f":"+MIN(Contributo_cer[[#This Row],[Totale Immissione in rete]:[Totale Consumi rimanenti]])","v":0},"HP",null,null,null,0]
["110509",11,{"$f":"+MIN(Contributo_cer[[#This Row],[Totale Immissione in rete]:[Totale Consumi rimanenti]])","v":0},"HP",null,null,null,0]
["110510",11,{"$f":"+MIN(Contributo_cer[[#This Row],[Totale Immissione in rete]:[Totale Consumi rimanenti]])","v":0},"HP",null,null,null,0]
["110511",11,{"$f":"+MIN(Contributo_cer[[#This Row],[Totale Immissione in rete]:[Totale Consumi rimanenti]])","v":0},"HP",null,null,null,0]
["110512",11,{"$f":"+MIN(Contributo_cer[[#This Row],[Totale Immissione in rete]:[Totale Consumi rimanenti]])","v":0},"HP",null,null,null,0]
["110513",11,{"$f":"+MIN(Contributo_cer[[#This Row],[Totale Immissione in rete]:[Totale Consumi rimanenti]])","v":0},"HP",null,null,null,0]
["110514",11,{"$f":"+MIN(Contributo_cer[[#This Row],[Totale Immissione in rete]:[Totale Consumi rimanenti]])","v":0},"HP",null,null,null,0]
["110515",11,{"$f":"+MIN(Contributo_cer[[#This Row],[Totale Immissione in rete]:[Totale Consumi rimanenti]])","v":0},"HP",null,null,null,0]
["110516",11,{"$f":"+MIN(Contributo_cer[[#This Row],[Totale Immissione in rete]:[Totale Consumi rimanenti]])","v":0},"HP",null,null,null,0]
["110517",11,{"$f":"+MIN(Contributo_cer[[#This Row],[Totale Immissione in rete]:[Totale Consumi rimanenti]])","v":0},"HP",null,null,null,0]
["110518",11,{"$f":"+MIN(Contributo_cer[[#This Row],[Totale Immissione in rete]:[Totale Consumi rimanenti]])","v":0},"HP",null,null,null,0]
["110519",11,{"$f":"+MIN(Contributo_cer[[#This Row],[Totale Immissione in rete]:[Totale Consumi rimanenti]])","v":0},"HP",null,null,null,0]
["110520",11,{"$f":"+MIN(Contributo_cer[[#This Row],[Totale Immissione in rete]:[Totale Consumi rimanenti]])","v":0},"HP",null,null,null,0]
["110521",11,{"$f":"+MIN(Contributo_cer[[#This Row],[Totale Immissione in rete]:[Totale Consumi rimanenti]])","v":0},"HP",null,null,null,0]
["110522",11,{"$f":"+MIN(Contributo_cer[[#This Row],[Totale Immissione in rete]:[Totale Consumi rimanenti]])","v":0},"HC",null,null,null,0]
["110523",11,{"$f":"+MIN(Contributo_cer[[#This Row],[Totale Immissione in rete]:[Totale Consumi rimanenti]])","v":0},"HC",null,null,null,0]
["110600",11,{"$f":"+MIN(Contributo_cer[[#This Row],[Totale Immissione in rete]:[Totale Consumi rimanenti]])","v":0},"HC",null,null,null,0]
["110601",11,{"$f":"+MIN(Contributo_cer[[#This Row],[Totale Immissione in rete]:[Totale Consumi rimanenti]])","v":0},"HC",null,null,null,0]
["110602",11,{"$f":"+MIN(Contributo_cer[[#This Row],[Totale Immissione in rete]:[Totale Consumi rimanenti]])","v":0},"HC",null,null,null,0]
["110603",11,{"$f":"+MIN(Contributo_cer[[#This Row],[Totale Immissione in rete]:[Totale Consumi rimanenti]])","v":0},"HC",null,null,null,0]
["110604",11,{"$f":"+MIN(Contributo_cer[[#This Row],[Totale Immissione in rete]:[Totale Consumi rimanenti]])","v":0},"HC",null,null,null,0]
["110605",11,{"$f":"+MIN(Contributo_cer[[#This Row],[Totale Immissione in rete]:[Totale Consumi rimanenti]])","v":0},"HC",null,null,null,0]
["110606",11,{"$f":"+MIN(Contributo_cer[[#This Row],[Totale Immissione in rete]:[Totale Consumi rimanenti]])","v":0},"HP",null,null,null,0]
["110607",11,{"$f":"+MIN(Contributo_cer[[#This Row],[Totale Immissione in rete]:[Totale Consumi rimanenti]])","v":0},"HP",null,null,null,0]
["110608",11,{"$f":"+MIN(Contributo_cer[[#This Row],[Totale Immissione in rete]:[Totale Consumi rimanenti]])","v":0},"HP",null,null,null,0]
["110609",11,{"$f":"+MIN(Contributo_cer[[#This Row],[Totale Immissione in rete]:[Totale Consumi rimanenti]])","v":0},"HP",null,null,null,0]
["110610",11,{"$f":"+MIN(Contributo_cer[[#This Row],[Totale Immissione in rete]:[Totale Consumi rimanenti]])","v":0},"HP",null,null,null,0]
["110611",11,{"$f":"+MIN(Contributo_cer[[#This Row],[Totale Immissione in rete]:[Totale Consumi rimanenti]])","v":0},"HP",null,null,null,0]
["110612",11,{"$f":"+MIN(Contributo_cer[[#This Row],[Totale Immissione in rete]:[Totale Consumi rimanenti]])","v":0},"HP",null,null,null,0]
["110613",11,{"$f":"+MIN(Contributo_cer[[#This Row],[Totale Immissione in rete]:[Totale Consumi rimanenti]])","v":0},"HP",null,null,null,0]
["110614",11,{"$f":"+MIN(Contributo_cer[[#This Row],[Totale Immissione in rete]:[Totale Consumi rimanenti]])","v":0},"HP",null,null,null,0]
["110615",11,{"$f":"+MIN(Contributo_cer[[#This Row],[Totale Immissione in rete]:[Totale Consumi rimanenti]])","v":0},"HP",null,null,null,0]
["110616",11,{"$f":"+MIN(Contributo_cer[[#This Row],[Totale Immissione in rete]:[Totale Consumi rimanenti]])","v":0},"HP",null,null,null,0]
["110617",11,{"$f":"+MIN(Contributo_cer[[#This Row],[Totale Immissione in rete]:[Totale Consumi rimanenti]])","v":0},"HP",null,null,null,0]
["110618",11,{"$f":"+MIN(Contributo_cer[[#This Row],[Totale Immissione in rete]:[Totale Consumi rimanenti]])","v":0},"HP",null,null,null,0]
["110619",11,{"$f":"+MIN(Contributo_cer[[#This Row],[Totale Immissione in rete]:[Totale Consumi rimanenti]])","v":0},"HP",null,null,null,0]
["110620",11,{"$f":"+MIN(Contributo_cer[[#This Row],[Totale Immissione in rete]:[Totale Consumi rimanenti]])","v":0},"HP",null,null,null,0]
["110621",11,{"$f":"+MIN(Contributo_cer[[#This Row],[Totale Immissione in rete]:[Totale Consumi rimanenti]])","v":0},"HP",null,null,null,0]
["110622",11,{"$f":"+MIN(Contributo_cer[[#This Row],[Totale Immissione in rete]:[Totale Consumi rimanenti]])","v":0},"HC",null,null,null,0]
["110623",11,{"$f":"+MIN(Contributo_cer[[#This Row],[Totale Immissione in rete]:[Totale Consumi rimanenti]])","v":0},"HC",null,null,null,0]
["110700",11,{"$f":"+MIN(Contributo_cer[[#This Row],[Totale Immissione in rete]:[Totale Consumi rimanenti]])","v":0},"HC",null,null,null,0]
["110701",11,{"$f":"+MIN(Contributo_cer[[#This Row],[Totale Immissione in rete]:[Totale Consumi rimanenti]])","v":0},"HC",null,null,null,0]
["110702",11,{"$f":"+MIN(Contributo_cer[[#This Row],[Totale Immissione in rete]:[Totale Consumi rimanenti]])","v":0},"HC",null,null,null,0]
["110703",11,{"$f":"+MIN(Contributo_cer[[#This Row],[Totale Immissione in rete]:[Totale Consumi rimanenti]])","v":0},"HC",null,null,null,0]
["110704",11,{"$f":"+MIN(Contributo_cer[[#This Row],[Totale Immissione in rete]:[Totale Consumi rimanenti]])","v":0},"HC",null,null,null,0]
["110705",11,{"$f":"+MIN(Contributo_cer[[#This Row],[Totale Immissione in rete]:[Totale Consumi rimanenti]])","v":0},"HC",null,null,null,0]
["110706",11,{"$f":"+MIN(Contributo_cer[[#This Row],[Totale Immissione in rete]:[Totale Consumi rimanenti]])","v":0},"HP",null,null,null,0]
["110707",11,{"$f":"+MIN(Contributo_cer[[#This Row],[Totale Immissione in rete]:[Totale Consumi rimanenti]])","v":0},"HP",null,null,null,0]
["110708",11,{"$f":"+MIN(Contributo_cer[[#This Row],[Totale Immissione in rete]:[Totale Consumi rimanenti]])","v":0},"HP",null,null,null,0]
["110709",11,{"$f":"+MIN(Contributo_cer[[#This Row],[Totale Immissione in rete]:[Totale Consumi rimanenti]])","v":0},"HP",null,null,null,0]
["110710",11,{"$f":"+MIN(Contributo_cer[[#This Row],[Totale Immissione in rete]:[Totale Consumi rimanenti]])","v":0},"HP",null,null,null,0]
["110711",11,{"$f":"+MIN(Contributo_cer[[#This Row],[Totale Immissione in rete]:[Totale Consumi rimanenti]])","v":0},"HP",null,null,null,0]
["110712",11,{"$f":"+MIN(Contributo_cer[[#This Row],[Totale Immissione in rete]:[Totale Consumi rimanenti]])","v":0},"HP",null,null,null,0]
["110713",11,{"$f":"+MIN(Contributo_cer[[#This Row],[Totale Immissione in rete]:[Totale Consumi rimanenti]])","v":0},"HP",null,null,null,0]
["110714",11,{"$f":"+MIN(Contributo_cer[[#This Row],[Totale Immissione in rete]:[Totale Consumi rimanenti]])","v":0},"HP",null,null,null,0]
["110715",11,{"$f":"+MIN(Contributo_cer[[#This Row],[Totale Immissione in rete]:[Totale Consumi rimanenti]])","v":0},"HP",null,null,null,0]
["110716",11,{"$f":"+MIN(Contributo_cer[[#This Row],[Totale Immissione in rete]:[Totale Consumi rimanenti]])","v":0},"HP",null,null,null,0]
["110717",11,{"$f":"+MIN(Contributo_cer[[#This Row],[Totale Immissione in rete]:[Totale Consumi rimanenti]])","v":0},"HP",null,null,null,0]
["110718",11,{"$f":"+MIN(Contributo_cer[[#This Row],[Totale Immissione in rete]:[Totale Consumi rimanenti]])","v":0},"HP",null,null,null,0]
["110719",11,{"$f":"+MIN(Contributo_cer[[#This Row],[Totale Immissione in rete]:[Totale Consumi rimanenti]])","v":0},"HP",null,null,null,0]
["110720",11,{"$f":"+MIN(Contributo_cer[[#This Row],[Totale Immissione in rete]:[Totale Consumi rimanenti]])","v":0},"HP",null,null,null,0]
["110721",11,{"$f":"+MIN(Contributo_cer[[#This Row],[Totale Immissione in rete]:[Totale Consumi rimanenti]])","v":0},"HP",null,null,null,0]
["110722",11,{"$f":"+MIN(Contributo_cer[[#This Row],[Totale Immissione in rete]:[Totale Consumi rimanenti]])","v":0},"HC",null,null,null,0]
["110723",11,{"$f":"+MIN(Contributo_cer[[#This Row],[Totale Immissione in rete]:[Totale Consumi rimanenti]])","v":0},"HC",null,null,null,0]
["110800",11,{"$f":"+MIN(Contributo_cer[[#This Row],[Totale Immissione in rete]:[Totale Consumi rimanenti]])","v":0},"HC",null,null,null,0]
["110801",11,{"$f":"+MIN(Contributo_cer[[#This Row],[Totale Immissione in rete]:[Totale Consumi rimanenti]])","v":0},"HC",null,null,null,0]
["110802",11,{"$f":"+MIN(Contributo_cer[[#This Row],[Totale Immissione in rete]:[Totale Consumi rimanenti]])","v":0},"HC",null,null,null,0]
["110803",11,{"$f":"+MIN(Contributo_cer[[#This Row],[Totale Immissione in rete]:[Totale Consumi rimanenti]])","v":0},"HC",null,null,null,0]
["110804",11,{"$f":"+MIN(Contributo_cer[[#This Row],[Totale Immissione in rete]:[Totale Consumi rimanenti]])","v":0},"HC",null,null,null,0]
["110805",11,{"$f":"+MIN(Contributo_cer[[#This Row],[Totale Immissione in rete]:[Totale Consumi rimanenti]])","v":0},"HC",null,null,null,0]
["110806",11,{"$f":"+MIN(Contributo_cer[[#This Row],[Totale Immissione in rete]:[Totale Consumi rimanenti]])","v":0},"HP",null,null,null,0]
["110807",11,{"$f":"+MIN(Contributo_cer[[#This Row],[Totale Immissione in rete]:[Totale Consumi rimanenti]])","v":0},"HP",null,null,null,0]
["110808",11,{"$f":"+MIN(Contributo_cer[[#This Row],[Totale Immissione in rete]:[Totale Consumi rimanenti]])","v":0},"HP",null,null,null,0]
["110809",11,{"$f":"+MIN(Contributo_cer[[#This Row],[Totale Immissione in rete]:[Totale Consumi rimanenti]])","v":0},"HP",null,null,null,0]
["110810",11,{"$f":"+MIN(Contributo_cer[[#This Row],[Totale Immissione in rete]:[Totale Consumi rimanenti]])","v":0},"HP",null,null,null,0]
["110811",11,{"$f":"+MIN(Contributo_cer[[#This Row],[Totale Immissione in rete]:[Totale Consumi rimanenti]])","v":0},"HP",null,null,null,0]
["110812",11,{"$f":"+MIN(Contributo_cer[[#This Row],[Totale Immissione in rete]:[Totale Consumi rimanenti]])","v":0},"HP",null,null,null,0]
["110813",11,{"$f":"+MIN(Contributo_cer[[#This Row],[Totale Immissione in rete]:[Totale Consumi rimanenti]])","v":0},"HP",null,null,null,0]
["110814",11,{"$f":"+MIN(Contributo_cer[[#This Row],[Totale Immissione in rete]:[Totale Consumi rimanenti]])","v":0},"HP",null,null,null,0]
["110815",11,{"$f":"+MIN(Contributo_cer[[#This Row],[Totale Immissione in rete]:[Totale Consumi rimanenti]])","v":0},"HP",null,null,null,0]
["110816",11,{"$f":"+MIN(Contributo_cer[[#This Row],[Totale Immissione in rete]:[Totale Consumi rimanenti]])","v":0},"HP",null,null,null,0]
["110817",11,{"$f":"+MIN(Contributo_cer[[#This Row],[Totale Immissione in rete]:[Totale Consumi rimanenti]])","v":0},"HP",null,null,null,0]
["110818",11,{"$f":"+MIN(Contributo_cer[[#This Row],[Totale Immissione in rete]:[Totale Consumi rimanenti]])","v":0},"HP",null,null,null,0]
["110819",11,{"$f":"+MIN(Contributo_cer[[#This Row],[Totale Immissione in rete]:[Totale Consumi rimanenti]])","v":0},"HP",null,null,null,0]
["110820",11,{"$f":"+MIN(Contributo_cer[[#This Row],[Totale Immissione in rete]:[Totale Consumi rimanenti]])","v":0},"HP",null,null,null,0]
["110821",11,{"$f":"+MIN(Contributo_cer[[#This Row],[Totale Immissione in rete]:[Totale Consumi rimanenti]])","v":0},"HP",null,null,null,0]
["110822",11,{"$f":"+MIN(Contributo_cer[[#This Row],[Totale Immissione in rete]:[Totale Consumi rimanenti]])","v":0},"HC",null,null,null,0]
["110823",11,{"$f":"+MIN(Contributo_cer[[#This Row],[Totale Immissione in rete]:[Totale Consumi rimanenti]])","v":0},"HC",null,null,null,0]
["110900",11,{"$f":"+MIN(Contributo_cer[[#This Row],[Totale Immissione in rete]:[Totale Consumi rimanenti]])","v":0},"HC",null,null,null,0]
["110901",11,{"$f":"+MIN(Contributo_cer[[#This Row],[Totale Immissione in rete]:[Totale Consumi rimanenti]])","v":0},"HC",null,null,null,0]
["110902",11,{"$f":"+MIN(Contributo_cer[[#This Row],[Totale Immissione in rete]:[Totale Consumi rimanenti]])","v":0},"HC",null,null,null,0]
["110903",11,{"$f":"+MIN(Contributo_cer[[#This Row],[Totale Immissione in rete]:[Totale Consumi rimanenti]])","v":0},"HC",null,null,null,0]
["110904",11,{"$f":"+MIN(Contributo_cer[[#This Row],[Totale Immissione in rete]:[Totale Consumi rimanenti]])","v":0},"HC",null,null,null,0]
["110905",11,{"$f":"+MIN(Contributo_cer[[#This Row],[Totale Immissione in rete]:[Totale Consumi rimanenti]])","v":0},"HC",null,null,null,0]
["110906",11,{"$f":"+MIN(Contributo_cer[[#This Row],[Totale Immissione in rete]:[Totale Consumi rimanenti]])","v":0},"HP",null,null,null,0]
["110907",11,{"$f":"+MIN(Contributo_cer[[#This Row],[Totale Immissione in rete]:[Totale Consumi rimanenti]])","v":0},"HP",null,null,null,0]
["110908",11,{"$f":"+MIN(Contributo_cer[[#This Row],[Totale Immissione in rete]:[Totale Consumi rimanenti]])","v":0},"HP",null,null,null,0]
["110909",11,{"$f":"+MIN(Contributo_cer[[#This Row],[Totale Immissione in rete]:[Totale Consumi rimanenti]])","v":0},"HP",null,null,null,0]
["110910",11,{"$f":"+MIN(Contributo_cer[[#This Row],[Totale Immissione in rete]:[Totale Consumi rimanenti]])","v":0},"HP",null,null,null,0]
["110911",11,{"$f":"+MIN(Contributo_cer[[#This Row],[Totale Immissione in rete]:[Totale Consumi rimanenti]])","v":0},"HP",null,null,null,0]
["110912",11,{"$f":"+MIN(Contributo_cer[[#This Row],[Totale Immissione in rete]:[Totale Consumi rimanenti]])","v":0},"HP",null,null,null,0]
["110913",11,{"$f":"+MIN(Contributo_cer[[#This Row],[Totale Immissione in rete]:[Totale Consumi rimanenti]])","v":0},"HP",null,null,null,0]
["110914",11,{"$f":"+MIN(Contributo_cer[[#This Row],[Totale Immissione in rete]:[Totale Consumi rimanenti]])","v":0},"HP",null,null,null,0]
["110915",11,{"$f":"+MIN(Contributo_cer[[#This Row],[Totale Immissione in rete]:[Totale Consumi rimanenti]])","v":0},"HP",null,null,null,0]
["110916",11,{"$f":"+MIN(Contributo_cer[[#This Row],[Totale Immissione in rete]:[Totale Consumi rimanenti]])","v":0},"HP",null,null,null,0]
["110917",11,{"$f":"+MIN(Contributo_cer[[#This Row],[Totale Immissione in rete]:[Totale Consumi rimanenti]])","v":0},"HP",null,null,null,0]
["110918",11,{"$f":"+MIN(Contributo_cer[[#This Row],[Totale Immissione in rete]:[Totale Consumi rimanenti]])","v":0},"HP",null,null,null,0]
["110919",11,{"$f":"+MIN(Contributo_cer[[#This Row],[Totale Immissione in rete]:[Totale Consumi rimanenti]])","v":0},"HP",null,null,null,0]
["110920",11,{"$f":"+MIN(Contributo_cer[[#This Row],[Totale Immissione in rete]:[Totale Consumi rimanenti]])","v":0},"HP",null,null,null,0]
["110921",11,{"$f":"+MIN(Contributo_cer[[#This Row],[Totale Immissione in rete]:[Totale Consumi rimanenti]])","v":0},"HP",null,null,null,0]
["110922",11,{"$f":"+MIN(Contributo_cer[[#This Row],[Totale Immissione in rete]:[Totale Consumi rimanenti]])","v":0},"HC",null,null,null,0]
["110923",11,{"$f":"+MIN(Contributo_cer[[#This Row],[Totale Immissione in rete]:[Totale Consumi rimanenti]])","v":0},"HC",null,null,null,0]
["111000",11,{"$f":"+MIN(Contributo_cer[[#This Row],[Totale Immissione in rete]:[Totale Consumi rimanenti]])","v":0},"HC",null,null,null,0]
["111001",11,{"$f":"+MIN(Contributo_cer[[#This Row],[Totale Immissione in rete]:[Totale Consumi rimanenti]])","v":0},"HC",null,null,null,0]
["111002",11,{"$f":"+MIN(Contributo_cer[[#This Row],[Totale Immissione in rete]:[Totale Consumi rimanenti]])","v":0},"HC",null,null,null,0]
["111003",11,{"$f":"+MIN(Contributo_cer[[#This Row],[Totale Immissione in rete]:[Totale Consumi rimanenti]])","v":0},"HC",null,null,null,0]
["111004",11,{"$f":"+MIN(Contributo_cer[[#This Row],[Totale Immissione in rete]:[Totale Consumi rimanenti]])","v":0},"HC",null,null,null,0]
["111005",11,{"$f":"+MIN(Contributo_cer[[#This Row],[Totale Immissione in rete]:[Totale Consumi rimanenti]])","v":0},"HC",null,null,null,0]
["111006",11,{"$f":"+MIN(Contributo_cer[[#This Row],[Totale Immissione in rete]:[Totale Consumi rimanenti]])","v":0},"HP",null,null,null,0]
["111007",11,{"$f":"+MIN(Contributo_cer[[#This Row],[Totale Immissione in rete]:[Totale Consumi rimanenti]])","v":0},"HP",null,null,null,0]
["111008",11,{"$f":"+MIN(Contributo_cer[[#This Row],[Totale Immissione in rete]:[Totale Consumi rimanenti]])","v":0},"HP",null,null,null,0]
["111009",11,{"$f":"+MIN(Contributo_cer[[#This Row],[Totale Immissione in rete]:[Totale Consumi rimanenti]])","v":0},"HP",null,null,null,0]
["111010",11,{"$f":"+MIN(Contributo_cer[[#This Row],[Totale Immissione in rete]:[Totale Consumi rimanenti]])","v":0},"HP",null,null,null,0]
["111011",11,{"$f":"+MIN(Contributo_cer[[#This Row],[Totale Immissione in rete]:[Totale Consumi rimanenti]])","v":0},"HP",null,null,null,0]
["111012",11,{"$f":"+MIN(Contributo_cer[[#This Row],[Totale Immissione in rete]:[Totale Consumi rimanenti]])","v":0},"HP",null,null,null,0]
["111013",11,{"$f":"+MIN(Contributo_cer[[#This Row],[Totale Immissione in rete]:[Totale Consumi rimanenti]])","v":0},"HP",null,null,null,0]
["111014",11,{"$f":"+MIN(Contributo_cer[[#This Row],[Totale Immissione in rete]:[Totale Consumi rimanenti]])","v":0},"HP",null,null,null,0]
["111015",11,{"$f":"+MIN(Contributo_cer[[#This Row],[Totale Immissione in rete]:[Totale Consumi rimanenti]])","v":0},"HP",null,null,null,0]
["111016",11,{"$f":"+MIN(Contributo_cer[[#This Row],[Totale Immissione in rete]:[Totale Consumi rimanenti]])","v":0},"HP",null,null,null,0]
["111017",11,{"$f":"+MIN(Contributo_cer[[#This Row],[Totale Immissione in rete]:[Totale Consumi rimanenti]])","v":0},"HP",null,null,null,0]
["111018",11,{"$f":"+MIN(Contributo_cer[[#This Row],[Totale Immissione in rete]:[Totale Consumi rimanenti]])","v":0},"HP",null,null,null,0]
["111019",11,{"$f":"+MIN(Contributo_cer[[#This Row],[Totale Immissione in rete]:[Totale Consumi rimanenti]])","v":0},"HP",null,null,null,0]
["111020",11,{"$f":"+MIN(Contributo_cer[[#This Row],[Totale Immissione in rete]:[Totale Consumi rimanenti]])","v":0},"HP",null,null,null,0]
["111021",11,{"$f":"+MIN(Contributo_cer[[#This Row],[Totale Immissione in rete]:[Totale Consumi rimanenti]])","v":0},"HP",null,null,null,0]
["111022",11,{"$f":"+MIN(Contributo_cer[[#This Row],[Totale Immissione in rete]:[Totale Consumi rimanenti]])","v":0},"HC",null,null,null,0]
["111023",11,{"$f":"+MIN(Contributo_cer[[#This Row],[Totale Immissione in rete]:[Totale Consumi rimanenti]])","v":0},"HC",null,null,null,0]
["111100",11,{"$f":"+MIN(Contributo_cer[[#This Row],[Totale Immissione in rete]:[Totale Consumi rimanenti]])","v":0},"HC",null,null,null,0]
["111101",11,{"$f":"+MIN(Contributo_cer[[#This Row],[Totale Immissione in rete]:[Totale Consumi rimanenti]])","v":0},"HC",null,null,null,0]
["111102",11,{"$f":"+MIN(Contributo_cer[[#This Row],[Totale Immissione in rete]:[Totale Consumi rimanenti]])","v":0},"HC",null,null,null,0]
["111103",11,{"$f":"+MIN(Contributo_cer[[#This Row],[Totale Immissione in rete]:[Totale Consumi rimanenti]])","v":0},"HC",null,null,null,0]
["111104",11,{"$f":"+MIN(Contributo_cer[[#This Row],[Totale Immissione in rete]:[Totale Consumi rimanenti]])","v":0},"HC",null,null,null,0]
["111105",11,{"$f":"+MIN(Contributo_cer[[#This Row],[Totale Immissione in rete]:[Totale Consumi rimanenti]])","v":0},"HC",null,null,null,0]
["111106",11,{"$f":"+MIN(Contributo_cer[[#This Row],[Totale Immissione in rete]:[Totale Consumi rimanenti]])","v":0},"HP",null,null,null,0]
["111107",11,{"$f":"+MIN(Contributo_cer[[#This Row],[Totale Immissione in rete]:[Totale Consumi rimanenti]])","v":0},"HP",null,null,null,0]
["111108",11,{"$f":"+MIN(Contributo_cer[[#This Row],[Totale Immissione in rete]:[Totale Consumi rimanenti]])","v":0},"HP",null,null,null,0]
["111109",11,{"$f":"+MIN(Contributo_cer[[#This Row],[Totale Immissione in rete]:[Totale Consumi rimanenti]])","v":0},"HP",null,null,null,0]
["111110",11,{"$f":"+MIN(Contributo_cer[[#This Row],[Totale Immissione in rete]:[Totale Consumi rimanenti]])","v":0},"HP",null,null,null,0]
["111111",11,{"$f":"+MIN(Contributo_cer[[#This Row],[Totale Immissione in rete]:[Totale Consumi rimanenti]])","v":0},"HP",null,null,null,0]
["111112",11,{"$f":"+MIN(Contributo_cer[[#This Row],[Totale Immissione in rete]:[Totale Consumi rimanenti]])","v":0},"HP",null,null,null,0]
["111113",11,{"$f":"+MIN(Contributo_cer[[#This Row],[Totale Immissione in rete]:[Totale Consumi rimanenti]])","v":0},"HP",null,null,null,0]
["111114",11,{"$f":"+MIN(Contributo_cer[[#This Row],[Totale Immissione in rete]:[Totale Consumi rimanenti]])","v":0},"HP",null,null,null,0]
["111115",11,{"$f":"+MIN(Contributo_cer[[#This Row],[Totale Immissione in rete]:[Totale Consumi rimanenti]])","v":0},"HP",null,null,null,0]
["111116",11,{"$f":"+MIN(Contributo_cer[[#This Row],[Totale Immissione in rete]:[Totale Consumi rimanenti]])","v":0},"HP",null,null,null,0]
["111117",11,{"$f":"+MIN(Contributo_cer[[#This Row],[Totale Immissione in rete]:[Totale Consumi rimanenti]])","v":0},"HP",null,null,null,0]
["111118",11,{"$f":"+MIN(Contributo_cer[[#This Row],[Totale Immissione in rete]:[Totale Consumi rimanenti]])","v":0},"HP",null,null,null,0]
["111119",11,{"$f":"+MIN(Contributo_cer[[#This Row],[Totale Immissione in rete]:[Totale Consumi rimanenti]])","v":0},"HP",null,null,null,0]
["111120",11,{"$f":"+MIN(Contributo_cer[[#This Row],[Totale Immissione in rete]:[Totale Consumi rimanenti]])","v":0},"HP",null,null,null,0]
["111121",11,{"$f":"+MIN(Contributo_cer[[#This Row],[Totale Immissione in rete]:[Totale Consumi rimanenti]])","v":0},"HP",null,null,null,0]
["111122",11,{"$f":"+MIN(Contributo_cer[[#This Row],[Totale Immissione in rete]:[Totale Consumi rimanenti]])","v":0},"HC",null,null,null,0]
["111123",11,{"$f":"+MIN(Contributo_cer[[#This Row],[Totale Immissione in rete]:[Totale Consumi rimanenti]])","v":0},"HC",null,null,null,0]
["111200",11,{"$f":"+MIN(Contributo_cer[[#This Row],[Totale Immissione in rete]:[Totale Consumi rimanenti]])","v":0},"HC",null,null,null,0]
["111201",11,{"$f":"+MIN(Contributo_cer[[#This Row],[Totale Immissione in rete]:[Totale Consumi rimanenti]])","v":0},"HC",null,null,null,0]
["111202",11,{"$f":"+MIN(Contributo_cer[[#This Row],[Totale Immissione in rete]:[Totale Consumi rimanenti]])","v":0},"HC",null,null,null,0]
["111203",11,{"$f":"+MIN(Contributo_cer[[#This Row],[Totale Immissione in rete]:[Totale Consumi rimanenti]])","v":0},"HC",null,null,null,0]
["111204",11,{"$f":"+MIN(Contributo_cer[[#This Row],[Totale Immissione in rete]:[Totale Consumi rimanenti]])","v":0},"HC",null,null,null,0]
["111205",11,{"$f":"+MIN(Contributo_cer[[#This Row],[Totale Immissione in rete]:[Totale Consumi rimanenti]])","v":0},"HC",null,null,null,0]
["111206",11,{"$f":"+MIN(Contributo_cer[[#This Row],[Totale Immissione in rete]:[Totale Consumi rimanenti]])","v":0},"HP",null,null,null,0]
["111207",11,{"$f":"+MIN(Contributo_cer[[#This Row],[Totale Immissione in rete]:[Totale Consumi rimanenti]])","v":0},"HP",null,null,null,0]
["111208",11,{"$f":"+MIN(Contributo_cer[[#This Row],[Totale Immissione in rete]:[Totale Consumi rimanenti]])","v":0},"HP",null,null,null,0]
["111209",11,{"$f":"+MIN(Contributo_cer[[#This Row],[Totale Immissione in rete]:[Totale Consumi rimanenti]])","v":0},"HP",null,null,null,0]
["111210",11,{"$f":"+MIN(Contributo_cer[[#This Row],[Totale Immissione in rete]:[Totale Consumi rimanenti]])","v":0},"HP",null,null,null,0]
["111211",11,{"$f":"+MIN(Contributo_cer[[#This Row],[Totale Immissione in rete]:[Totale Consumi rimanenti]])","v":0},"HP",null,null,null,0]
["111212",11,{"$f":"+MIN(Contributo_cer[[#This Row],[Totale Immissione in rete]:[Totale Consumi rimanenti]])","v":0},"HP",null,null,null,0]
["111213",11,{"$f":"+MIN(Contributo_cer[[#This Row],[Totale Immissione in rete]:[Totale Consumi rimanenti]])","v":0},"HP",null,null,null,0]
["111214",11,{"$f":"+MIN(Contributo_cer[[#This Row],[Totale Immissione in rete]:[Totale Consumi rimanenti]])","v":0},"HP",null,null,null,0]
["111215",11,{"$f":"+MIN(Contributo_cer[[#This Row],[Totale Immissione in rete]:[Totale Consumi rimanenti]])","v":0},"HP",null,null,null,0]
["111216",11,{"$f":"+MIN(Contributo_cer[[#This Row],[Totale Immissione in rete]:[Totale Consumi rimanenti]])","v":0},"HP",null,null,null,0]
["111217",11,{"$f":"+MIN(Contributo_cer[[#This Row],[Totale Immissione in rete]:[Totale Consumi rimanenti]])","v":0},"HP",null,null,null,0]
["111218",11,{"$f":"+MIN(Contributo_cer[[#This Row],[Totale Immissione in rete]:[Totale Consumi rimanenti]])","v":0},"HP",null,null,null,0]
["111219",11,{"$f":"+MIN(Contributo_cer[[#This Row],[Totale Immissione in rete]:[Totale Consumi rimanenti]])","v":0},"HP",null,null,null,0]
["111220",11,{"$f":"+MIN(Contributo_cer[[#This Row],[Totale Immissione in rete]:[Totale Consumi rimanenti]])","v":0},"HP",null,null,null,0]
["111221",11,{"$f":"+MIN(Contributo_cer[[#This Row],[Totale Immissione in rete]:[Totale Consumi rimanenti]])","v":0},"HP",null,null,null,0]
["111222",11,{"$f":"+MIN(Contributo_cer[[#This Row],[Totale Immissione in rete]:[Totale Consumi rimanenti]])","v":0},"HC",null,null,null,0]
["111223",11,{"$f":"+MIN(Contributo_cer[[#This Row],[Totale Immissione in rete]:[Totale Consumi rimanenti]])","v":0},"HC",null,null,null,0]
["111300",11,{"$f":"+MIN(Contributo_cer[[#This Row],[Totale Immissione in rete]:[Totale Consumi rimanenti]])","v":0},"HC",null,null,null,0]
["111301",11,{"$f":"+MIN(Contributo_cer[[#This Row],[Totale Immissione in rete]:[Totale Consumi rimanenti]])","v":0},"HC",null,null,null,0]
["111302",11,{"$f":"+MIN(Contributo_cer[[#This Row],[Totale Immissione in rete]:[Totale Consumi rimanenti]])","v":0},"HC",null,null,null,0]
["111303",11,{"$f":"+MIN(Contributo_cer[[#This Row],[Totale Immissione in rete]:[Totale Consumi rimanenti]])","v":0},"HC",null,null,null,0]
["111304",11,{"$f":"+MIN(Contributo_cer[[#This Row],[Totale Immissione in rete]:[Totale Consumi rimanenti]])","v":0},"HC",null,null,null,0]
["111305",11,{"$f":"+MIN(Contributo_cer[[#This Row],[Totale Immissione in rete]:[Totale Consumi rimanenti]])","v":0},"HC",null,null,null,0]
["111306",11,{"$f":"+MIN(Contributo_cer[[#This Row],[Totale Immissione in rete]:[Totale Consumi rimanenti]])","v":0},"HP",null,null,null,0]
["111307",11,{"$f":"+MIN(Contributo_cer[[#This Row],[Totale Immissione in rete]:[Totale Consumi rimanenti]])","v":0},"HP",null,null,null,0]
["111308",11,{"$f":"+MIN(Contributo_cer[[#This Row],[Totale Immissione in rete]:[Totale Consumi rimanenti]])","v":0},"HP",null,null,null,0]
["111309",11,{"$f":"+MIN(Contributo_cer[[#This Row],[Totale Immissione in rete]:[Totale Consumi rimanenti]])","v":0},"HP",null,null,null,0]
["111310",11,{"$f":"+MIN(Contributo_cer[[#This Row],[Totale Immissione in rete]:[Totale Consumi rimanenti]])","v":0},"HP",null,null,null,0]
["111311",11,{"$f":"+MIN(Contributo_cer[[#This Row],[Totale Immissione in rete]:[Totale Consumi rimanenti]])","v":0},"HP",null,null,null,0]
["111312",11,{"$f":"+MIN(Contributo_cer[[#This Row],[Totale Immissione in rete]:[Totale Consumi rimanenti]])","v":0},"HP",null,null,null,0]
["111313",11,{"$f":"+MIN(Contributo_cer[[#This Row],[Totale Immissione in rete]:[Totale Consumi rimanenti]])","v":0},"HP",null,null,null,0]
["111314",11,{"$f":"+MIN(Contributo_cer[[#This Row],[Totale Immissione in rete]:[Totale Consumi rimanenti]])","v":0},"HP",null,null,null,0]
["111315",11,{"$f":"+MIN(Contributo_cer[[#This Row],[Totale Immissione in rete]:[Totale Consumi rimanenti]])","v":0},"HP",null,null,null,0]
["111316",11,{"$f":"+MIN(Contributo_cer[[#This Row],[Totale Immissione in rete]:[Totale Consumi rimanenti]])","v":0},"HP",null,null,null,0]
["111317",11,{"$f":"+MIN(Contributo_cer[[#This Row],[Totale Immissione in rete]:[Totale Consumi rimanenti]])","v":0},"HP",null,null,null,0]
["111318",11,{"$f":"+MIN(Contributo_cer[[#This Row],[Totale Immissione in rete]:[Totale Consumi rimanenti]])","v":0},"HP",null,null,null,0]
["111319",11,{"$f":"+MIN(Contributo_cer[[#This Row],[Totale Immissione in rete]:[Totale Consumi rimanenti]])","v":0},"HP",null,null,null,0]
["111320",11,{"$f":"+MIN(Contributo_cer[[#This Row],[Totale Immissione in rete]:[Totale Consumi rimanenti]])","v":0},"HP",null,null,null,0]
["111321",11,{"$f":"+MIN(Contributo_cer[[#This Row],[Totale Immissione in rete]:[Totale Consumi rimanenti]])","v":0},"HP",null,null,null,0]
["111322",11,{"$f":"+MIN(Contributo_cer[[#This Row],[Totale Immissione in rete]:[Totale Consumi rimanenti]])","v":0},"HC",null,null,null,0]
["111323",11,{"$f":"+MIN(Contributo_cer[[#This Row],[Totale Immissione in rete]:[Totale Consumi rimanenti]])","v":0},"HC",null,null,null,0]
["111400",11,{"$f":"+MIN(Contributo_cer[[#This Row],[Totale Immissione in rete]:[Totale Consumi rimanenti]])","v":0},"HC",null,null,null,0]
["111401",11,{"$f":"+MIN(Contributo_cer[[#This Row],[Totale Immissione in rete]:[Totale Consumi rimanenti]])","v":0},"HC",null,null,null,0]
["111402",11,{"$f":"+MIN(Contributo_cer[[#This Row],[Totale Immissione in rete]:[Totale Consumi rimanenti]])","v":0},"HC",null,null,null,0]
["111403",11,{"$f":"+MIN(Contributo_cer[[#This Row],[Totale Immissione in rete]:[Totale Consumi rimanenti]])","v":0},"HC",null,null,null,0]
["111404",11,{"$f":"+MIN(Contributo_cer[[#This Row],[Totale Immissione in rete]:[Totale Consumi rimanenti]])","v":0},"HC",null,null,null,0]
["111405",11,{"$f":"+MIN(Contributo_cer[[#This Row],[Totale Immissione in rete]:[Totale Consumi rimanenti]])","v":0},"HC",null,null,null,0]
["111406",11,{"$f":"+MIN(Contributo_cer[[#This Row],[Totale Immissione in rete]:[Totale Consumi rimanenti]])","v":0},"HP",null,null,null,0]
["111407",11,{"$f":"+MIN(Contributo_cer[[#This Row],[Totale Immissione in rete]:[Totale Consumi rimanenti]])","v":0},"HP",null,null,null,0]
["111408",11,{"$f":"+MIN(Contributo_cer[[#This Row],[Totale Immissione in rete]:[Totale Consumi rimanenti]])","v":0},"HP",null,null,null,0]
["111409",11,{"$f":"+MIN(Contributo_cer[[#This Row],[Totale Immissione in rete]:[Totale Consumi rimanenti]])","v":0},"HP",null,null,null,0]
["111410",11,{"$f":"+MIN(Contributo_cer[[#This Row],[Totale Immissione in rete]:[Totale Consumi rimanenti]])","v":0},"HP",null,null,null,0]
["111411",11,{"$f":"+MIN(Contributo_cer[[#This Row],[Totale Immissione in rete]:[Totale Consumi rimanenti]])","v":0},"HP",null,null,null,0]
["111412",11,{"$f":"+MIN(Contributo_cer[[#This Row],[Totale Immissione in rete]:[Totale Consumi rimanenti]])","v":0},"HP",null,null,null,0]
["111413",11,{"$f":"+MIN(Contributo_cer[[#This Row],[Totale Immissione in rete]:[Totale Consumi rimanenti]])","v":0},"HP",null,null,null,0]
["111414",11,{"$f":"+MIN(Contributo_cer[[#This Row],[Totale Immissione in rete]:[Totale Consumi rimanenti]])","v":0},"HP",null,null,null,0]
["111415",11,{"$f":"+MIN(Contributo_cer[[#This Row],[Totale Immissione in rete]:[Totale Consumi rimanenti]])","v":0},"HP",null,null,null,0]
["111416",11,{"$f":"+MIN(Contributo_cer[[#This Row],[Totale Immissione in rete]:[Totale Consumi rimanenti]])","v":0},"HP",null,null,null,0]
["111417",11,{"$f":"+MIN(Contributo_cer[[#This Row],[Totale Immissione in rete]:[Totale Consumi rimanenti]])","v":0},"HP",null,null,null,0]
["111418",11,{"$f":"+MIN(Contributo_cer[[#This Row],[Totale Immissione in rete]:[Totale Consumi rimanenti]])","v":0},"HP",null,null,null,0]
["111419",11,{"$f":"+MIN(Contributo_cer[[#This Row],[Totale Immissione in rete]:[Totale Consumi rimanenti]])","v":0},"HP",null,null,null,0]
["111420",11,{"$f":"+MIN(Contributo_cer[[#This Row],[Totale Immissione in rete]:[Totale Consumi rimanenti]])","v":0},"HP",null,null,null,0]
["111421",11,{"$f":"+MIN(Contributo_cer[[#This Row],[Totale Immissione in rete]:[Totale Consumi rimanenti]])","v":0},"HP",null,null,null,0]
["111422",11,{"$f":"+MIN(Contributo_cer[[#This Row],[Totale Immissione in rete]:[Totale Consumi rimanenti]])","v":0},"HC",null,null,null,0]
["111423",11,{"$f":"+MIN(Contributo_cer[[#This Row],[Totale Immissione in rete]:[Totale Consumi rimanenti]])","v":0},"HC",null,null,null,0]
["111500",11,{"$f":"+MIN(Contributo_cer[[#This Row],[Totale Immissione in rete]:[Totale Consumi rimanenti]])","v":0},"HC",null,null,null,0]
["111501",11,{"$f":"+MIN(Contributo_cer[[#This Row],[Totale Immissione in rete]:[Totale Consumi rimanenti]])","v":0},"HC",null,null,null,0]
["111502",11,{"$f":"+MIN(Contributo_cer[[#This Row],[Totale Immissione in rete]:[Totale Consumi rimanenti]])","v":0},"HC",null,null,null,0]
["111503",11,{"$f":"+MIN(Contributo_cer[[#This Row],[Totale Immissione in rete]:[Totale Consumi rimanenti]])","v":0},"HC",null,null,null,0]
["111504",11,{"$f":"+MIN(Contributo_cer[[#This Row],[Totale Immissione in rete]:[Totale Consumi rimanenti]])","v":0},"HC",null,null,null,0]
["111505",11,{"$f":"+MIN(Contributo_cer[[#This Row],[Totale Immissione in rete]:[Totale Consumi rimanenti]])","v":0},"HC",null,null,null,0]
["111506",11,{"$f":"+MIN(Contributo_cer[[#This Row],[Totale Immissione in rete]:[Totale Consumi rimanenti]])","v":0},"HP",null,null,null,0]
["111507",11,{"$f":"+MIN(Contributo_cer[[#This Row],[Totale Immissione in rete]:[Totale Consumi rimanenti]])","v":0},"HP",null,null,null,0]
["111508",11,{"$f":"+MIN(Contributo_cer[[#This Row],[Totale Immissione in rete]:[Totale Consumi rimanenti]])","v":0},"HP",null,null,null,0]
["111509",11,{"$f":"+MIN(Contributo_cer[[#This Row],[Totale Immissione in rete]:[Totale Consumi rimanenti]])","v":0},"HP",null,null,null,0]
["111510",11,{"$f":"+MIN(Contributo_cer[[#This Row],[Totale Immissione in rete]:[Totale Consumi rimanenti]])","v":0},"HP",null,null,null,0]
["111511",11,{"$f":"+MIN(Contributo_cer[[#This Row],[Totale Immissione in rete]:[Totale Consumi rimanenti]])","v":0},"HP",null,null,null,0]
["111512",11,{"$f":"+MIN(Contributo_cer[[#This Row],[Totale Immissione in rete]:[Totale Consumi rimanenti]])","v":0},"HP",null,null,null,0]
["111513",11,{"$f":"+MIN(Contributo_cer[[#This Row],[Totale Immissione in rete]:[Totale Consumi rimanenti]])","v":0},"HP",null,null,null,0]
["111514",11,{"$f":"+MIN(Contributo_cer[[#This Row],[Totale Immissione in rete]:[Totale Consumi rimanenti]])","v":0},"HP",null,null,null,0]
["111515",11,{"$f":"+MIN(Contributo_cer[[#This Row],[Totale Immissione in rete]:[Totale Consumi rimanenti]])","v":0},"HP",null,null,null,0]
["111516",11,{"$f":"+MIN(Contributo_cer[[#This Row],[Totale Immissione in rete]:[Totale Consumi rimanenti]])","v":0},"HP",null,null,null,0]
["111517",11,{"$f":"+MIN(Contributo_cer[[#This Row],[Totale Immissione in rete]:[Totale Consumi rimanenti]])","v":0},"HP",null,null,null,0]
["111518",11,{"$f":"+MIN(Contributo_cer[[#This Row],[Totale Immissione in rete]:[Totale Consumi rimanenti]])","v":0},"HP",null,null,null,0]
["111519",11,{"$f":"+MIN(Contributo_cer[[#This Row],[Totale Immissione in rete]:[Totale Consumi rimanenti]])","v":0},"HP",null,null,null,0]
["111520",11,{"$f":"+MIN(Contributo_cer[[#This Row],[Totale Immissione in rete]:[Totale Consumi rimanenti]])","v":0},"HP",null,null,null,0]
["111521",11,{"$f":"+MIN(Contributo_cer[[#This Row],[Totale Immissione in rete]:[Totale Consumi rimanenti]])","v":0},"HP",null,null,null,0]
["111522",11,{"$f":"+MIN(Contributo_cer[[#This Row],[Totale Immissione in rete]:[Totale Consumi rimanenti]])","v":0},"HC",null,null,null,0]
["111523",11,{"$f":"+MIN(Contributo_cer[[#This Row],[Totale Immissione in rete]:[Totale Consumi rimanenti]])","v":0},"HC",null,null,null,0]
["111600",11,{"$f":"+MIN(Contributo_cer[[#This Row],[Totale Immissione in rete]:[Totale Consumi rimanenti]])","v":0},"HC",null,null,null,0]
["111601",11,{"$f":"+MIN(Contributo_cer[[#This Row],[Totale Immissione in rete]:[Totale Consumi rimanenti]])","v":0},"HC",null,null,null,0]
["111602",11,{"$f":"+MIN(Contributo_cer[[#This Row],[Totale Immissione in rete]:[Totale Consumi rimanenti]])","v":0},"HC",null,null,null,0]
["111603",11,{"$f":"+MIN(Contributo_cer[[#This Row],[Totale Immissione in rete]:[Totale Consumi rimanenti]])","v":0},"HC",null,null,null,0]
["111604",11,{"$f":"+MIN(Contributo_cer[[#This Row],[Totale Immissione in rete]:[Totale Consumi rimanenti]])","v":0},"HC",null,null,null,0]
["111605",11,{"$f":"+MIN(Contributo_cer[[#This Row],[Totale Immissione in rete]:[Totale Consumi rimanenti]])","v":0},"HC",null,null,null,0]
["111606",11,{"$f":"+MIN(Contributo_cer[[#This Row],[Totale Immissione in rete]:[Totale Consumi rimanenti]])","v":0},"HP",null,null,null,0]
["111607",11,{"$f":"+MIN(Contributo_cer[[#This Row],[Totale Immissione in rete]:[Totale Consumi rimanenti]])","v":0},"HP",null,null,null,0]
["111608",11,{"$f":"+MIN(Contributo_cer[[#This Row],[Totale Immissione in rete]:[Totale Consumi rimanenti]])","v":0},"HP",null,null,null,0]
["111609",11,{"$f":"+MIN(Contributo_cer[[#This Row],[Totale Immissione in rete]:[Totale Consumi rimanenti]])","v":0},"HP",null,null,null,0]
["111610",11,{"$f":"+MIN(Contributo_cer[[#This Row],[Totale Immissione in rete]:[Totale Consumi rimanenti]])","v":0},"HP",null,null,null,0]
["111611",11,{"$f":"+MIN(Contributo_cer[[#This Row],[Totale Immissione in rete]:[Totale Consumi rimanenti]])","v":0},"HP",null,null,null,0]
["111612",11,{"$f":"+MIN(Contributo_cer[[#This Row],[Totale Immissione in rete]:[Totale Consumi rimanenti]])","v":0},"HP",null,null,null,0]
["111613",11,{"$f":"+MIN(Contributo_cer[[#This Row],[Totale Immissione in rete]:[Totale Consumi rimanenti]])","v":0},"HP",null,null,null,0]
["111614",11,{"$f":"+MIN(Contributo_cer[[#This Row],[Totale Immissione in rete]:[Totale Consumi rimanenti]])","v":0},"HP",null,null,null,0]
["111615",11,{"$f":"+MIN(Contributo_cer[[#This Row],[Totale Immissione in rete]:[Totale Consumi rimanenti]])","v":0},"HP",null,null,null,0]
["111616",11,{"$f":"+MIN(Contributo_cer[[#This Row],[Totale Immissione in rete]:[Totale Consumi rimanenti]])","v":0},"HP",null,null,null,0]
["111617",11,{"$f":"+MIN(Contributo_cer[[#This Row],[Totale Immissione in rete]:[Totale Consumi rimanenti]])","v":0},"HP",null,null,null,0]
["111618",11,{"$f":"+MIN(Contributo_cer[[#This Row],[Totale Immissione in rete]:[Totale Consumi rimanenti]])","v":0},"HP",null,null,null,0]
["111619",11,{"$f":"+MIN(Contributo_cer[[#This Row],[Totale Immissione in rete]:[Totale Consumi rimanenti]])","v":0},"HP",null,null,null,0]
["111620",11,{"$f":"+MIN(Contributo_cer[[#This Row],[Totale Immissione in rete]:[Totale Consumi rimanenti]])","v":0},"HP",null,null,null,0]
["111621",11,{"$f":"+MIN(Contributo_cer[[#This Row],[Totale Immissione in rete]:[Totale Consumi rimanenti]])","v":0},"HP",null,null,null,0]
["111622",11,{"$f":"+MIN(Contributo_cer[[#This Row],[Totale Immissione in rete]:[Totale Consumi rimanenti]])","v":0},"HC",null,null,null,0]
["111623",11,{"$f":"+MIN(Contributo_cer[[#This Row],[Totale Immissione in rete]:[Totale Consumi rimanenti]])","v":0},"HC",null,null,null,0]
["111700",11,{"$f":"+MIN(Contributo_cer[[#This Row],[Totale Immissione in rete]:[Totale Consumi rimanenti]])","v":0},"HC",null,null,null,0]
["111701",11,{"$f":"+MIN(Contributo_cer[[#This Row],[Totale Immissione in rete]:[Totale Consumi rimanenti]])","v":0},"HC",null,null,null,0]
["111702",11,{"$f":"+MIN(Contributo_cer[[#This Row],[Totale Immissione in rete]:[Totale Consumi rimanenti]])","v":0},"HC",null,null,null,0]
["111703",11,{"$f":"+MIN(Contributo_cer[[#This Row],[Totale Immissione in rete]:[Totale Consumi rimanenti]])","v":0},"HC",null,null,null,0]
["111704",11,{"$f":"+MIN(Contributo_cer[[#This Row],[Totale Immissione in rete]:[Totale Consumi rimanenti]])","v":0},"HC",null,null,null,0]
["111705",11,{"$f":"+MIN(Contributo_cer[[#This Row],[Totale Immissione in rete]:[Totale Consumi rimanenti]])","v":0},"HC",null,null,null,0]
["111706",11,{"$f":"+MIN(Contributo_cer[[#This Row],[Totale Immissione in rete]:[Totale Consumi rimanenti]])","v":0},"HP",null,null,null,0]
["111707",11,{"$f":"+MIN(Contributo_cer[[#This Row],[Totale Immissione in rete]:[Totale Consumi rimanenti]])","v":0},"HP",null,null,null,0]
["111708",11,{"$f":"+MIN(Contributo_cer[[#This Row],[Totale Immissione in rete]:[Totale Consumi rimanenti]])","v":0},"HP",null,null,null,0]
["111709",11,{"$f":"+MIN(Contributo_cer[[#This Row],[Totale Immissione in rete]:[Totale Consumi rimanenti]])","v":0},"HP",null,null,null,0]
["111710",11,{"$f":"+MIN(Contributo_cer[[#This Row],[Totale Immissione in rete]:[Totale Consumi rimanenti]])","v":0},"HP",null,null,null,0]
["111711",11,{"$f":"+MIN(Contributo_cer[[#This Row],[Totale Immissione in rete]:[Totale Consumi rimanenti]])","v":0},"HP",null,null,null,0]
["111712",11,{"$f":"+MIN(Contributo_cer[[#This Row],[Totale Immissione in rete]:[Totale Consumi rimanenti]])","v":0},"HP",null,null,null,0]
["111713",11,{"$f":"+MIN(Contributo_cer[[#This Row],[Totale Immissione in rete]:[Totale Consumi rimanenti]])","v":0},"HP",null,null,null,0]
["111714",11,{"$f":"+MIN(Contributo_cer[[#This Row],[Totale Immissione in rete]:[Totale Consumi rimanenti]])","v":0},"HP",null,null,null,0]
["111715",11,{"$f":"+MIN(Contributo_cer[[#This Row],[Totale Immissione in rete]:[Totale Consumi rimanenti]])","v":0},"HP",null,null,null,0]
["111716",11,{"$f":"+MIN(Contributo_cer[[#This Row],[Totale Immissione in rete]:[Totale Consumi rimanenti]])","v":0},"HP",null,null,null,0]
["111717",11,{"$f":"+MIN(Contributo_cer[[#This Row],[Totale Immissione in rete]:[Totale Consumi rimanenti]])","v":0},"HP",null,null,null,0]
["111718",11,{"$f":"+MIN(Contributo_cer[[#This Row],[Totale Immissione in rete]:[Totale Consumi rimanenti]])","v":0},"HP",null,null,null,0]
["111719",11,{"$f":"+MIN(Contributo_cer[[#This Row],[Totale Immissione in rete]:[Totale Consumi rimanenti]])","v":0},"HP",null,null,null,0]
["111720",11,{"$f":"+MIN(Contributo_cer[[#This Row],[Totale Immissione in rete]:[Totale Consumi rimanenti]])","v":0},"HP",null,null,null,0]
["111721",11,{"$f":"+MIN(Contributo_cer[[#This Row],[Totale Immissione in rete]:[Totale Consumi rimanenti]])","v":0},"HP",null,null,null,0]
["111722",11,{"$f":"+MIN(Contributo_cer[[#This Row],[Totale Immissione in rete]:[Totale Consumi rimanenti]])","v":0},"HC",null,null,null,0]
["111723",11,{"$f":"+MIN(Contributo_cer[[#This Row],[Totale Immissione in rete]:[Totale Consumi rimanenti]])","v":0},"HC",null,null,null,0]
["111800",11,{"$f":"+MIN(Contributo_cer[[#This Row],[Totale Immissione in rete]:[Totale Consumi rimanenti]])","v":0},"HC",null,null,null,0]
["111801",11,{"$f":"+MIN(Contributo_cer[[#This Row],[Totale Immissione in rete]:[Totale Consumi rimanenti]])","v":0},"HC",null,null,null,0]
["111802",11,{"$f":"+MIN(Contributo_cer[[#This Row],[Totale Immissione in rete]:[Totale Consumi rimanenti]])","v":0},"HC",null,null,null,0]
["111803",11,{"$f":"+MIN(Contributo_cer[[#This Row],[Totale Immissione in rete]:[Totale Consumi rimanenti]])","v":0},"HC",null,null,null,0]
["111804",11,{"$f":"+MIN(Contributo_cer[[#This Row],[Totale Immissione in rete]:[Totale Consumi rimanenti]])","v":0},"HC",null,null,null,0]
["111805",11,{"$f":"+MIN(Contributo_cer[[#This Row],[Totale Immissione in rete]:[Totale Consumi rimanenti]])","v":0},"HC",null,null,null,0]
["111806",11,{"$f":"+MIN(Contributo_cer[[#This Row],[Totale Immissione in rete]:[Totale Consumi rimanenti]])","v":0},"HP",null,null,null,0]
["111807",11,{"$f":"+MIN(Contributo_cer[[#This Row],[Totale Immissione in rete]:[Totale Consumi rimanenti]])","v":0},"HP",null,null,null,0]
["111808",11,{"$f":"+MIN(Contributo_cer[[#This Row],[Totale Immissione in rete]:[Totale Consumi rimanenti]])","v":0},"HP",null,null,null,0]
["111809",11,{"$f":"+MIN(Contributo_cer[[#This Row],[Totale Immissione in rete]:[Totale Consumi rimanenti]])","v":0},"HP",null,null,null,0]
["111810",11,{"$f":"+MIN(Contributo_cer[[#This Row],[Totale Immissione in rete]:[Totale Consumi rimanenti]])","v":0},"HP",null,null,null,0]
["111811",11,{"$f":"+MIN(Contributo_cer[[#This Row],[Totale Immissione in rete]:[Totale Consumi rimanenti]])","v":0},"HP",null,null,null,0]
["111812",11,{"$f":"+MIN(Contributo_cer[[#This Row],[Totale Immissione in rete]:[Totale Consumi rimanenti]])","v":0},"HP",null,null,null,0]
["111813",11,{"$f":"+MIN(Contributo_cer[[#This Row],[Totale Immissione in rete]:[Totale Consumi rimanenti]])","v":0},"HP",null,null,null,0]
["111814",11,{"$f":"+MIN(Contributo_cer[[#This Row],[Totale Immissione in rete]:[Totale Consumi rimanenti]])","v":0},"HP",null,null,null,0]
["111815",11,{"$f":"+MIN(Contributo_cer[[#This Row],[Totale Immissione in rete]:[Totale Consumi rimanenti]])","v":0},"HP",null,null,null,0]
["111816",11,{"$f":"+MIN(Contributo_cer[[#This Row],[Totale Immissione in rete]:[Totale Consumi rimanenti]])","v":0},"HP",null,null,null,0]
["111817",11,{"$f":"+MIN(Contributo_cer[[#This Row],[Totale Immissione in rete]:[Totale Consumi rimanenti]])","v":0},"HP",null,null,null,0]
["111818",11,{"$f":"+MIN(Contributo_cer[[#This Row],[Totale Immissione in rete]:[Totale Consumi rimanenti]])","v":0},"HP",null,null,null,0]
["111819",11,{"$f":"+MIN(Contributo_cer[[#This Row],[Totale Immissione in rete]:[Totale Consumi rimanenti]])","v":0},"HP",null,null,null,0]
["111820",11,{"$f":"+MIN(Contributo_cer[[#This Row],[Totale Immissione in rete]:[Totale Consumi rimanenti]])","v":0},"HP",null,null,null,0]
["111821",11,{"$f":"+MIN(Contributo_cer[[#This Row],[Totale Immissione in rete]:[Totale Consumi rimanenti]])","v":0},"HP",null,null,null,0]
["111822",11,{"$f":"+MIN(Contributo_cer[[#This Row],[Totale Immissione in rete]:[Totale Consumi rimanenti]])","v":0},"HC",null,null,null,0]
["111823",11,{"$f":"+MIN(Contributo_cer[[#This Row],[Totale Immissione in rete]:[Totale Consumi rimanenti]])","v":0},"HC",null,null,null,0]
["111900",11,{"$f":"+MIN(Contributo_cer[[#This Row],[Totale Immissione in rete]:[Totale Consumi rimanenti]])","v":0},"HC",null,null,null,0]
["111901",11,{"$f":"+MIN(Contributo_cer[[#This Row],[Totale Immissione in rete]:[Totale Consumi rimanenti]])","v":0},"HC",null,null,null,0]
["111902",11,{"$f":"+MIN(Contributo_cer[[#This Row],[Totale Immissione in rete]:[Totale Consumi rimanenti]])","v":0},"HC",null,null,null,0]
["111903",11,{"$f":"+MIN(Contributo_cer[[#This Row],[Totale Immissione in rete]:[Totale Consumi rimanenti]])","v":0},"HC",null,null,null,0]
["111904",11,{"$f":"+MIN(Contributo_cer[[#This Row],[Totale Immissione in rete]:[Totale Consumi rimanenti]])","v":0},"HC",null,null,null,0]
["111905",11,{"$f":"+MIN(Contributo_cer[[#This Row],[Totale Immissione in rete]:[Totale Consumi rimanenti]])","v":0},"HC",null,null,null,0]
["111906",11,{"$f":"+MIN(Contributo_cer[[#This Row],[Totale Immissione in rete]:[Totale Consumi rimanenti]])","v":0},"HP",null,null,null,0]
["111907",11,{"$f":"+MIN(Contributo_cer[[#This Row],[Totale Immissione in rete]:[Totale Consumi rimanenti]])","v":0},"HP",null,null,null,0]
["111908",11,{"$f":"+MIN(Contributo_cer[[#This Row],[Totale Immissione in rete]:[Totale Consumi rimanenti]])","v":0},"HP",null,null,null,0]
["111909",11,{"$f":"+MIN(Contributo_cer[[#This Row],[Totale Immissione in rete]:[Totale Consumi rimanenti]])","v":0},"HP",null,null,null,0]
["111910",11,{"$f":"+MIN(Contributo_cer[[#This Row],[Totale Immissione in rete]:[Totale Consumi rimanenti]])","v":0},"HP",null,null,null,0]
["111911",11,{"$f":"+MIN(Contributo_cer[[#This Row],[Totale Immissione in rete]:[Totale Consumi rimanenti]])","v":0},"HP",null,null,null,0]
["111912",11,{"$f":"+MIN(Contributo_cer[[#This Row],[Totale Immissione in rete]:[Totale Consumi rimanenti]])","v":0},"HP",null,null,null,0]
["111913",11,{"$f":"+MIN(Contributo_cer[[#This Row],[Totale Immissione in rete]:[Totale Consumi rimanenti]])","v":0},"HP",null,null,null,0]
["111914",11,{"$f":"+MIN(Contributo_cer[[#This Row],[Totale Immissione in rete]:[Totale Consumi rimanenti]])","v":0},"HP",null,null,null,0]
["111915",11,{"$f":"+MIN(Contributo_cer[[#This Row],[Totale Immissione in rete]:[Totale Consumi rimanenti]])","v":0},"HP",null,null,null,0]
["111916",11,{"$f":"+MIN(Contributo_cer[[#This Row],[Totale Immissione in rete]:[Totale Consumi rimanenti]])","v":0},"HP",null,null,null,0]
["111917",11,{"$f":"+MIN(Contributo_cer[[#This Row],[Totale Immissione in rete]:[Totale Consumi rimanenti]])","v":0},"HP",null,null,null,0]
["111918",11,{"$f":"+MIN(Contributo_cer[[#This Row],[Totale Immissione in rete]:[Totale Consumi rimanenti]])","v":0},"HP",null,null,null,0]
["111919",11,{"$f":"+MIN(Contributo_cer[[#This Row],[Totale Immissione in rete]:[Totale Consumi rimanenti]])","v":0},"HP",null,null,null,0]
["111920",11,{"$f":"+MIN(Contributo_cer[[#This Row],[Totale Immissione in rete]:[Totale Consumi rimanenti]])","v":0},"HP",null,null,null,0]
["111921",11,{"$f":"+MIN(Contributo_cer[[#This Row],[Totale Immissione in rete]:[Totale Consumi rimanenti]])","v":0},"HP",null,null,null,0]
["111922",11,{"$f":"+MIN(Contributo_cer[[#This Row],[Totale Immissione in rete]:[Totale Consumi rimanenti]])","v":0},"HC",null,null,null,0]
["111923",11,{"$f":"+MIN(Contributo_cer[[#This Row],[Totale Immissione in rete]:[Totale Consumi rimanenti]])","v":0},"HC",null,null,null,0]
["112000",11,{"$f":"+MIN(Contributo_cer[[#This Row],[Totale Immissione in rete]:[Totale Consumi rimanenti]])","v":0},"HC",null,null,null,0]
["112001",11,{"$f":"+MIN(Contributo_cer[[#This Row],[Totale Immissione in rete]:[Totale Consumi rimanenti]])","v":0},"HC",null,null,null,0]
["112002",11,{"$f":"+MIN(Contributo_cer[[#This Row],[Totale Immissione in rete]:[Totale Consumi rimanenti]])","v":0},"HC",null,null,null,0]
["112003",11,{"$f":"+MIN(Contributo_cer[[#This Row],[Totale Immissione in rete]:[Totale Consumi rimanenti]])","v":0},"HC",null,null,null,0]
["112004",11,{"$f":"+MIN(Contributo_cer[[#This Row],[Totale Immissione in rete]:[Totale Consumi rimanenti]])","v":0},"HC",null,null,null,0]
["112005",11,{"$f":"+MIN(Contributo_cer[[#This Row],[Totale Immissione in rete]:[Totale Consumi rimanenti]])","v":0},"HC",null,null,null,0]
["112006",11,{"$f":"+MIN(Contributo_cer[[#This Row],[Totale Immissione in rete]:[Totale Consumi rimanenti]])","v":0},"HP",null,null,null,0]
["112007",11,{"$f":"+MIN(Contributo_cer[[#This Row],[Totale Immissione in rete]:[Totale Consumi rimanenti]])","v":0},"HP",null,null,null,0]
["112008",11,{"$f":"+MIN(Contributo_cer[[#This Row],[Totale Immissione in rete]:[Totale Consumi rimanenti]])","v":0},"HP",null,null,null,0]
["112009",11,{"$f":"+MIN(Contributo_cer[[#This Row],[Totale Immissione in rete]:[Totale Consumi rimanenti]])","v":0},"HP",null,null,null,0]
["112010",11,{"$f":"+MIN(Contributo_cer[[#This Row],[Totale Immissione in rete]:[Totale Consumi rimanenti]])","v":0},"HP",null,null,null,0]
["112011",11,{"$f":"+MIN(Contributo_cer[[#This Row],[Totale Immissione in rete]:[Totale Consumi rimanenti]])","v":0},"HP",null,null,null,0]
["112012",11,{"$f":"+MIN(Contributo_cer[[#This Row],[Totale Immissione in rete]:[Totale Consumi rimanenti]])","v":0},"HP",null,null,null,0]
["112013",11,{"$f":"+MIN(Contributo_cer[[#This Row],[Totale Immissione in rete]:[Totale Consumi rimanenti]])","v":0},"HP",null,null,null,0]
["112014",11,{"$f":"+MIN(Contributo_cer[[#This Row],[Totale Immissione in rete]:[Totale Consumi rimanenti]])","v":0},"HP",null,null,null,0]
["112015",11,{"$f":"+MIN(Contributo_cer[[#This Row],[Totale Immissione in rete]:[Totale Consumi rimanenti]])","v":0},"HP",null,null,null,0]
["112016",11,{"$f":"+MIN(Contributo_cer[[#This Row],[Totale Immissione in rete]:[Totale Consumi rimanenti]])","v":0},"HP",null,null,null,0]
["112017",11,{"$f":"+MIN(Contributo_cer[[#This Row],[Totale Immissione in rete]:[Totale Consumi rimanenti]])","v":0},"HP",null,null,null,0]
["112018",11,{"$f":"+MIN(Contributo_cer[[#This Row],[Totale Immissione in rete]:[Totale Consumi rimanenti]])","v":0},"HP",null,null,null,0]
["112019",11,{"$f":"+MIN(Contributo_cer[[#This Row],[Totale Immissione in rete]:[Totale Consumi rimanenti]])","v":0},"HP",null,null,null,0]
["112020",11,{"$f":"+MIN(Contributo_cer[[#This Row],[Totale Immissione in rete]:[Totale Consumi rimanenti]])","v":0},"HP",null,null,null,0]
["112021",11,{"$f":"+MIN(Contributo_cer[[#This Row],[Totale Immissione in rete]:[Totale Consumi rimanenti]])","v":0},"HP",null,null,null,0]
["112022",11,{"$f":"+MIN(Contributo_cer[[#This Row],[Totale Immissione in rete]:[Totale Consumi rimanenti]])","v":0},"HC",null,null,null,0]
["112023",11,{"$f":"+MIN(Contributo_cer[[#This Row],[Totale Immissione in rete]:[Totale Consumi rimanenti]])","v":0},"HC",null,null,null,0]
["112100",11,{"$f":"+MIN(Contributo_cer[[#This Row],[Totale Immissione in rete]:[Totale Consumi rimanenti]])","v":0},"HC",null,null,null,0]
["112101",11,{"$f":"+MIN(Contributo_cer[[#This Row],[Totale Immissione in rete]:[Totale Consumi rimanenti]])","v":0},"HC",null,null,null,0]
["112102",11,{"$f":"+MIN(Contributo_cer[[#This Row],[Totale Immissione in rete]:[Totale Consumi rimanenti]])","v":0},"HC",null,null,null,0]
["112103",11,{"$f":"+MIN(Contributo_cer[[#This Row],[Totale Immissione in rete]:[Totale Consumi rimanenti]])","v":0},"HC",null,null,null,0]
["112104",11,{"$f":"+MIN(Contributo_cer[[#This Row],[Totale Immissione in rete]:[Totale Consumi rimanenti]])","v":0},"HC",null,null,null,0]
["112105",11,{"$f":"+MIN(Contributo_cer[[#This Row],[Totale Immissione in rete]:[Totale Consumi rimanenti]])","v":0},"HC",null,null,null,0]
["112106",11,{"$f":"+MIN(Contributo_cer[[#This Row],[Totale Immissione in rete]:[Totale Consumi rimanenti]])","v":0},"HP",null,null,null,0]
["112107",11,{"$f":"+MIN(Contributo_cer[[#This Row],[Totale Immissione in rete]:[Totale Consumi rimanenti]])","v":0},"HP",null,null,null,0]
["112108",11,{"$f":"+MIN(Contributo_cer[[#This Row],[Totale Immissione in rete]:[Totale Consumi rimanenti]])","v":0},"HP",null,null,null,0]
["112109",11,{"$f":"+MIN(Contributo_cer[[#This Row],[Totale Immissione in rete]:[Totale Consumi rimanenti]])","v":0},"HP",null,null,null,0]
["112110",11,{"$f":"+MIN(Contributo_cer[[#This Row],[Totale Immissione in rete]:[Totale Consumi rimanenti]])","v":0},"HP",null,null,null,0]
["112111",11,{"$f":"+MIN(Contributo_cer[[#This Row],[Totale Immissione in rete]:[Totale Consumi rimanenti]])","v":0},"HP",null,null,null,0]
["112112",11,{"$f":"+MIN(Contributo_cer[[#This Row],[Totale Immissione in rete]:[Totale Consumi rimanenti]])","v":0},"HP",null,null,null,0]
["112113",11,{"$f":"+MIN(Contributo_cer[[#This Row],[Totale Immissione in rete]:[Totale Consumi rimanenti]])","v":0},"HP",null,null,null,0]
["112114",11,{"$f":"+MIN(Contributo_cer[[#This Row],[Totale Immissione in rete]:[Totale Consumi rimanenti]])","v":0},"HP",null,null,null,0]
["112115",11,{"$f":"+MIN(Contributo_cer[[#This Row],[Totale Immissione in rete]:[Totale Consumi rimanenti]])","v":0},"HP",null,null,null,0]
["112116",11,{"$f":"+MIN(Contributo_cer[[#This Row],[Totale Immissione in rete]:[Totale Consumi rimanenti]])","v":0},"HP",null,null,null,0]
["112117",11,{"$f":"+MIN(Contributo_cer[[#This Row],[Totale Immissione in rete]:[Totale Consumi rimanenti]])","v":0},"HP",null,null,null,0]
["112118",11,{"$f":"+MIN(Contributo_cer[[#This Row],[Totale Immissione in rete]:[Totale Consumi rimanenti]])","v":0},"HP",null,null,null,0]
["112119",11,{"$f":"+MIN(Contributo_cer[[#This Row],[Totale Immissione in rete]:[Totale Consumi rimanenti]])","v":0},"HP",null,null,null,0]
["112120",11,{"$f":"+MIN(Contributo_cer[[#This Row],[Totale Immissione in rete]:[Totale Consumi rimanenti]])","v":0},"HP",null,null,null,0]
["112121",11,{"$f":"+MIN(Contributo_cer[[#This Row],[Totale Immissione in rete]:[Totale Consumi rimanenti]])","v":0},"HP",null,null,null,0]
["112122",11,{"$f":"+MIN(Contributo_cer[[#This Row],[Totale Immissione in rete]:[Totale Consumi rimanenti]])","v":0},"HC",null,null,null,0]
["112123",11,{"$f":"+MIN(Contributo_cer[[#This Row],[Totale Immissione in rete]:[Totale Consumi rimanenti]])","v":0},"HC",null,null,null,0]
["112200",11,{"$f":"+MIN(Contributo_cer[[#This Row],[Totale Immissione in rete]:[Totale Consumi rimanenti]])","v":0},"HC",null,null,null,0]
["112201",11,{"$f":"+MIN(Contributo_cer[[#This Row],[Totale Immissione in rete]:[Totale Consumi rimanenti]])","v":0},"HC",null,null,null,0]
["112202",11,{"$f":"+MIN(Contributo_cer[[#This Row],[Totale Immissione in rete]:[Totale Consumi rimanenti]])","v":0},"HC",null,null,null,0]
["112203",11,{"$f":"+MIN(Contributo_cer[[#This Row],[Totale Immissione in rete]:[Totale Consumi rimanenti]])","v":0},"HC",null,null,null,0]
["112204",11,{"$f":"+MIN(Contributo_cer[[#This Row],[Totale Immissione in rete]:[Totale Consumi rimanenti]])","v":0},"HC",null,null,null,0]
["112205",11,{"$f":"+MIN(Contributo_cer[[#This Row],[Totale Immissione in rete]:[Totale Consumi rimanenti]])","v":0},"HC",null,null,null,0]
["112206",11,{"$f":"+MIN(Contributo_cer[[#This Row],[Totale Immissione in rete]:[Totale Consumi rimanenti]])","v":0},"HP",null,null,null,0]
["112207",11,{"$f":"+MIN(Contributo_cer[[#This Row],[Totale Immissione in rete]:[Totale Consumi rimanenti]])","v":0},"HP",null,null,null,0]
["112208",11,{"$f":"+MIN(Contributo_cer[[#This Row],[Totale Immissione in rete]:[Totale Consumi rimanenti]])","v":0},"HP",null,null,null,0]
["112209",11,{"$f":"+MIN(Contributo_cer[[#This Row],[Totale Immissione in rete]:[Totale Consumi rimanenti]])","v":0},"HP",null,null,null,0]
["112210",11,{"$f":"+MIN(Contributo_cer[[#This Row],[Totale Immissione in rete]:[Totale Consumi rimanenti]])","v":0},"HP",null,null,null,0]
["112211",11,{"$f":"+MIN(Contributo_cer[[#This Row],[Totale Immissione in rete]:[Totale Consumi rimanenti]])","v":0},"HP",null,null,null,0]
["112212",11,{"$f":"+MIN(Contributo_cer[[#This Row],[Totale Immissione in rete]:[Totale Consumi rimanenti]])","v":0},"HP",null,null,null,0]
["112213",11,{"$f":"+MIN(Contributo_cer[[#This Row],[Totale Immissione in rete]:[Totale Consumi rimanenti]])","v":0},"HP",null,null,null,0]
["112214",11,{"$f":"+MIN(Contributo_cer[[#This Row],[Totale Immissione in rete]:[Totale Consumi rimanenti]])","v":0},"HP",null,null,null,0]
["112215",11,{"$f":"+MIN(Contributo_cer[[#This Row],[Totale Immissione in rete]:[Totale Consumi rimanenti]])","v":0},"HP",null,null,null,0]
["112216",11,{"$f":"+MIN(Contributo_cer[[#This Row],[Totale Immissione in rete]:[Totale Consumi rimanenti]])","v":0},"HP",null,null,null,0]
["112217",11,{"$f":"+MIN(Contributo_cer[[#This Row],[Totale Immissione in rete]:[Totale Consumi rimanenti]])","v":0},"HP",null,null,null,0]
["112218",11,{"$f":"+MIN(Contributo_cer[[#This Row],[Totale Immissione in rete]:[Totale Consumi rimanenti]])","v":0},"HP",null,null,null,0]
["112219",11,{"$f":"+MIN(Contributo_cer[[#This Row],[Totale Immissione in rete]:[Totale Consumi rimanenti]])","v":0},"HP",null,null,null,0]
["112220",11,{"$f":"+MIN(Contributo_cer[[#This Row],[Totale Immissione in rete]:[Totale Consumi rimanenti]])","v":0},"HP",null,null,null,0]
["112221",11,{"$f":"+MIN(Contributo_cer[[#This Row],[Totale Immissione in rete]:[Totale Consumi rimanenti]])","v":0},"HP",null,null,null,0]
["112222",11,{"$f":"+MIN(Contributo_cer[[#This Row],[Totale Immissione in rete]:[Totale Consumi rimanenti]])","v":0},"HC",null,null,null,0]
["112223",11,{"$f":"+MIN(Contributo_cer[[#This Row],[Totale Immissione in rete]:[Totale Consumi rimanenti]])","v":0},"HC",null,null,null,0]
["112300",11,{"$f":"+MIN(Contributo_cer[[#This Row],[Totale Immissione in rete]:[Totale Consumi rimanenti]])","v":0},"HC",null,null,null,0]
["112301",11,{"$f":"+MIN(Contributo_cer[[#This Row],[Totale Immissione in rete]:[Totale Consumi rimanenti]])","v":0},"HC",null,null,null,0]
["112302",11,{"$f":"+MIN(Contributo_cer[[#This Row],[Totale Immissione in rete]:[Totale Consumi rimanenti]])","v":0},"HC",null,null,null,0]
["112303",11,{"$f":"+MIN(Contributo_cer[[#This Row],[Totale Immissione in rete]:[Totale Consumi rimanenti]])","v":0},"HC",null,null,null,0]
["112304",11,{"$f":"+MIN(Contributo_cer[[#This Row],[Totale Immissione in rete]:[Totale Consumi rimanenti]])","v":0},"HC",null,null,null,0]
["112305",11,{"$f":"+MIN(Contributo_cer[[#This Row],[Totale Immissione in rete]:[Totale Consumi rimanenti]])","v":0},"HC",null,null,null,0]
["112306",11,{"$f":"+MIN(Contributo_cer[[#This Row],[Totale Immissione in rete]:[Totale Consumi rimanenti]])","v":0},"HP",null,null,null,0]
["112307",11,{"$f":"+MIN(Contributo_cer[[#This Row],[Totale Immissione in rete]:[Totale Consumi rimanenti]])","v":0},"HP",null,null,null,0]
["112308",11,{"$f":"+MIN(Contributo_cer[[#This Row],[Totale Immissione in rete]:[Totale Consumi rimanenti]])","v":0},"HP",null,null,null,0]
["112309",11,{"$f":"+MIN(Contributo_cer[[#This Row],[Totale Immissione in rete]:[Totale Consumi rimanenti]])","v":0},"HP",null,null,null,0]
["112310",11,{"$f":"+MIN(Contributo_cer[[#This Row],[Totale Immissione in rete]:[Totale Consumi rimanenti]])","v":0},"HP",null,null,null,0]
["112311",11,{"$f":"+MIN(Contributo_cer[[#This Row],[Totale Immissione in rete]:[Totale Consumi rimanenti]])","v":0},"HP",null,null,null,0]
["112312",11,{"$f":"+MIN(Contributo_cer[[#This Row],[Totale Immissione in rete]:[Totale Consumi rimanenti]])","v":0},"HP",null,null,null,0]
["112313",11,{"$f":"+MIN(Contributo_cer[[#This Row],[Totale Immissione in rete]:[Totale Consumi rimanenti]])","v":0},"HP",null,null,null,0]
["112314",11,{"$f":"+MIN(Contributo_cer[[#This Row],[Totale Immissione in rete]:[Totale Consumi rimanenti]])","v":0},"HP",null,null,null,0]
["112315",11,{"$f":"+MIN(Contributo_cer[[#This Row],[Totale Immissione in rete]:[Totale Consumi rimanenti]])","v":0},"HP",null,null,null,0]
["112316",11,{"$f":"+MIN(Contributo_cer[[#This Row],[Totale Immissione in rete]:[Totale Consumi rimanenti]])","v":0},"HP",null,null,null,0]
["112317",11,{"$f":"+MIN(Contributo_cer[[#This Row],[Totale Immissione in rete]:[Totale Consumi rimanenti]])","v":0},"HP",null,null,null,0]
["112318",11,{"$f":"+MIN(Contributo_cer[[#This Row],[Totale Immissione in rete]:[Totale Consumi rimanenti]])","v":0},"HP",null,null,null,0]
["112319",11,{"$f":"+MIN(Contributo_cer[[#This Row],[Totale Immissione in rete]:[Totale Consumi rimanenti]])","v":0},"HP",null,null,null,0]
["112320",11,{"$f":"+MIN(Contributo_cer[[#This Row],[Totale Immissione in rete]:[Totale Consumi rimanenti]])","v":0},"HP",null,null,null,0]
["112321",11,{"$f":"+MIN(Contributo_cer[[#This Row],[Totale Immissione in rete]:[Totale Consumi rimanenti]])","v":0},"HP",null,null,null,0]
["112322",11,{"$f":"+MIN(Contributo_cer[[#This Row],[Totale Immissione in rete]:[Totale Consumi rimanenti]])","v":0},"HC",null,null,null,0]
["112323",11,{"$f":"+MIN(Contributo_cer[[#This Row],[Totale Immissione in rete]:[Totale Consumi rimanenti]])","v":0},"HC",null,null,null,0]
["112400",11,{"$f":"+MIN(Contributo_cer[[#This Row],[Totale Immissione in rete]:[Totale Consumi rimanenti]])","v":0},"HC",null,null,null,0]
["112401",11,{"$f":"+MIN(Contributo_cer[[#This Row],[Totale Immissione in rete]:[Totale Consumi rimanenti]])","v":0},"HC",null,null,null,0]
["112402",11,{"$f":"+MIN(Contributo_cer[[#This Row],[Totale Immissione in rete]:[Totale Consumi rimanenti]])","v":0},"HC",null,null,null,0]
["112403",11,{"$f":"+MIN(Contributo_cer[[#This Row],[Totale Immissione in rete]:[Totale Consumi rimanenti]])","v":0},"HC",null,null,null,0]
["112404",11,{"$f":"+MIN(Contributo_cer[[#This Row],[Totale Immissione in rete]:[Totale Consumi rimanenti]])","v":0},"HC",null,null,null,0]
["112405",11,{"$f":"+MIN(Contributo_cer[[#This Row],[Totale Immissione in rete]:[Totale Consumi rimanenti]])","v":0},"HC",null,null,null,0]
["112406",11,{"$f":"+MIN(Contributo_cer[[#This Row],[Totale Immissione in rete]:[Totale Consumi rimanenti]])","v":0},"HP",null,null,null,0]
["112407",11,{"$f":"+MIN(Contributo_cer[[#This Row],[Totale Immissione in rete]:[Totale Consumi rimanenti]])","v":0},"HP",null,null,null,0]
["112408",11,{"$f":"+MIN(Contributo_cer[[#This Row],[Totale Immissione in rete]:[Totale Consumi rimanenti]])","v":0},"HP",null,null,null,0]
["112409",11,{"$f":"+MIN(Contributo_cer[[#This Row],[Totale Immissione in rete]:[Totale Consumi rimanenti]])","v":0},"HP",null,null,null,0]
["112410",11,{"$f":"+MIN(Contributo_cer[[#This Row],[Totale Immissione in rete]:[Totale Consumi rimanenti]])","v":0},"HP",null,null,null,0]
["112411",11,{"$f":"+MIN(Contributo_cer[[#This Row],[Totale Immissione in rete]:[Totale Consumi rimanenti]])","v":0},"HP",null,null,null,0]
["112412",11,{"$f":"+MIN(Contributo_cer[[#This Row],[Totale Immissione in rete]:[Totale Consumi rimanenti]])","v":0},"HP",null,null,null,0]
["112413",11,{"$f":"+MIN(Contributo_cer[[#This Row],[Totale Immissione in rete]:[Totale Consumi rimanenti]])","v":0},"HP",null,null,null,0]
["112414",11,{"$f":"+MIN(Contributo_cer[[#This Row],[Totale Immissione in rete]:[Totale Consumi rimanenti]])","v":0},"HP",null,null,null,0]
["112415",11,{"$f":"+MIN(Contributo_cer[[#This Row],[Totale Immissione in rete]:[Totale Consumi rimanenti]])","v":0},"HP",null,null,null,0]
["112416",11,{"$f":"+MIN(Contributo_cer[[#This Row],[Totale Immissione in rete]:[Totale Consumi rimanenti]])","v":0},"HP",null,null,null,0]
["112417",11,{"$f":"+MIN(Contributo_cer[[#This Row],[Totale Immissione in rete]:[Totale Consumi rimanenti]])","v":0},"HP",null,null,null,0]
["112418",11,{"$f":"+MIN(Contributo_cer[[#This Row],[Totale Immissione in rete]:[Totale Consumi rimanenti]])","v":0},"HP",null,null,null,0]
["112419",11,{"$f":"+MIN(Contributo_cer[[#This Row],[Totale Immissione in rete]:[Totale Consumi rimanenti]])","v":0},"HP",null,null,null,0]
["112420",11,{"$f":"+MIN(Contributo_cer[[#This Row],[Totale Immissione in rete]:[Totale Consumi rimanenti]])","v":0},"HP",null,null,null,0]
["112421",11,{"$f":"+MIN(Contributo_cer[[#This Row],[Totale Immissione in rete]:[Totale Consumi rimanenti]])","v":0},"HP",null,null,null,0]
["112422",11,{"$f":"+MIN(Contributo_cer[[#This Row],[Totale Immissione in rete]:[Totale Consumi rimanenti]])","v":0},"HC",null,null,null,0]
["112423",11,{"$f":"+MIN(Contributo_cer[[#This Row],[Totale Immissione in rete]:[Totale Consumi rimanenti]])","v":0},"HC",null,null,null,0]
["112500",11,{"$f":"+MIN(Contributo_cer[[#This Row],[Totale Immissione in rete]:[Totale Consumi rimanenti]])","v":0},"HC",null,null,null,0]
["112501",11,{"$f":"+MIN(Contributo_cer[[#This Row],[Totale Immissione in rete]:[Totale Consumi rimanenti]])","v":0},"HC",null,null,null,0]
["112502",11,{"$f":"+MIN(Contributo_cer[[#This Row],[Totale Immissione in rete]:[Totale Consumi rimanenti]])","v":0},"HC",null,null,null,0]
["112503",11,{"$f":"+MIN(Contributo_cer[[#This Row],[Totale Immissione in rete]:[Totale Consumi rimanenti]])","v":0},"HC",null,null,null,0]
["112504",11,{"$f":"+MIN(Contributo_cer[[#This Row],[Totale Immissione in rete]:[Totale Consumi rimanenti]])","v":0},"HC",null,null,null,0]
["112505",11,{"$f":"+MIN(Contributo_cer[[#This Row],[Totale Immissione in rete]:[Totale Consumi rimanenti]])","v":0},"HC",null,null,null,0]
["112506",11,{"$f":"+MIN(Contributo_cer[[#This Row],[Totale Immissione in rete]:[Totale Consumi rimanenti]])","v":0},"HP",null,null,null,0]
["112507",11,{"$f":"+MIN(Contributo_cer[[#This Row],[Totale Immissione in rete]:[Totale Consumi rimanenti]])","v":0},"HP",null,null,null,0]
["112508",11,{"$f":"+MIN(Contributo_cer[[#This Row],[Totale Immissione in rete]:[Totale Consumi rimanenti]])","v":0},"HP",null,null,null,0]
["112509",11,{"$f":"+MIN(Contributo_cer[[#This Row],[Totale Immissione in rete]:[Totale Consumi rimanenti]])","v":0},"HP",null,null,null,0]
["112510",11,{"$f":"+MIN(Contributo_cer[[#This Row],[Totale Immissione in rete]:[Totale Consumi rimanenti]])","v":0},"HP",null,null,null,0]
["112511",11,{"$f":"+MIN(Contributo_cer[[#This Row],[Totale Immissione in rete]:[Totale Consumi rimanenti]])","v":0},"HP",null,null,null,0]
["112512",11,{"$f":"+MIN(Contributo_cer[[#This Row],[Totale Immissione in rete]:[Totale Consumi rimanenti]])","v":0},"HP",null,null,null,0]
["112513",11,{"$f":"+MIN(Contributo_cer[[#This Row],[Totale Immissione in rete]:[Totale Consumi rimanenti]])","v":0},"HP",null,null,null,0]
["112514",11,{"$f":"+MIN(Contributo_cer[[#This Row],[Totale Immissione in rete]:[Totale Consumi rimanenti]])","v":0},"HP",null,null,null,0]
["112515",11,{"$f":"+MIN(Contributo_cer[[#This Row],[Totale Immissione in rete]:[Totale Consumi rimanenti]])","v":0},"HP",null,null,null,0]
["112516",11,{"$f":"+MIN(Contributo_cer[[#This Row],[Totale Immissione in rete]:[Totale Consumi rimanenti]])","v":0},"HP",null,null,null,0]
["112517",11,{"$f":"+MIN(Contributo_cer[[#This Row],[Totale Immissione in rete]:[Totale Consumi rimanenti]])","v":0},"HP",null,null,null,0]
["112518",11,{"$f":"+MIN(Contributo_cer[[#This Row],[Totale Immissione in rete]:[Totale Consumi rimanenti]])","v":0},"HP",null,null,null,0]
["112519",11,{"$f":"+MIN(Contributo_cer[[#This Row],[Totale Immissione in rete]:[Totale Consumi rimanenti]])","v":0},"HP",null,null,null,0]
["112520",11,{"$f":"+MIN(Contributo_cer[[#This Row],[Totale Immissione in rete]:[Totale Consumi rimanenti]])","v":0},"HP",null,null,null,0]
["112521",11,{"$f":"+MIN(Contributo_cer[[#This Row],[Totale Immissione in rete]:[Totale Consumi rimanenti]])","v":0},"HP",null,null,null,0]
["112522",11,{"$f":"+MIN(Contributo_cer[[#This Row],[Totale Immissione in rete]:[Totale Consumi rimanenti]])","v":0},"HC",null,null,null,0]
["112523",11,{"$f":"+MIN(Contributo_cer[[#This Row],[Totale Immissione in rete]:[Totale Consumi rimanenti]])","v":0},"HC",null,null,null,0]
["112600",11,{"$f":"+MIN(Contributo_cer[[#This Row],[Totale Immissione in rete]:[Totale Consumi rimanenti]])","v":0},"HC",null,null,null,0]
["112601",11,{"$f":"+MIN(Contributo_cer[[#This Row],[Totale Immissione in rete]:[Totale Consumi rimanenti]])","v":0},"HC",null,null,null,0]
["112602",11,{"$f":"+MIN(Contributo_cer[[#This Row],[Totale Immissione in rete]:[Totale Consumi rimanenti]])","v":0},"HC",null,null,null,0]
["112603",11,{"$f":"+MIN(Contributo_cer[[#This Row],[Totale Immissione in rete]:[Totale Consumi rimanenti]])","v":0},"HC",null,null,null,0]
["112604",11,{"$f":"+MIN(Contributo_cer[[#This Row],[Totale Immissione in rete]:[Totale Consumi rimanenti]])","v":0},"HC",null,null,null,0]
["112605",11,{"$f":"+MIN(Contributo_cer[[#This Row],[Totale Immissione in rete]:[Totale Consumi rimanenti]])","v":0},"HC",null,null,null,0]
["112606",11,{"$f":"+MIN(Contributo_cer[[#This Row],[Totale Immissione in rete]:[Totale Consumi rimanenti]])","v":0},"HP",null,null,null,0]
["112607",11,{"$f":"+MIN(Contributo_cer[[#This Row],[Totale Immissione in rete]:[Totale Consumi rimanenti]])","v":0},"HP",null,null,null,0]
["112608",11,{"$f":"+MIN(Contributo_cer[[#This Row],[Totale Immissione in rete]:[Totale Consumi rimanenti]])","v":0},"HP",null,null,null,0]
["112609",11,{"$f":"+MIN(Contributo_cer[[#This Row],[Totale Immissione in rete]:[Totale Consumi rimanenti]])","v":0},"HP",null,null,null,0]
["112610",11,{"$f":"+MIN(Contributo_cer[[#This Row],[Totale Immissione in rete]:[Totale Consumi rimanenti]])","v":0},"HP",null,null,null,0]
["112611",11,{"$f":"+MIN(Contributo_cer[[#This Row],[Totale Immissione in rete]:[Totale Consumi rimanenti]])","v":0},"HP",null,null,null,0]
["112612",11,{"$f":"+MIN(Contributo_cer[[#This Row],[Totale Immissione in rete]:[Totale Consumi rimanenti]])","v":0},"HP",null,null,null,0]
["112613",11,{"$f":"+MIN(Contributo_cer[[#This Row],[Totale Immissione in rete]:[Totale Consumi rimanenti]])","v":0},"HP",null,null,null,0]
["112614",11,{"$f":"+MIN(Contributo_cer[[#This Row],[Totale Immissione in rete]:[Totale Consumi rimanenti]])","v":0},"HP",null,null,null,0]
["112615",11,{"$f":"+MIN(Contributo_cer[[#This Row],[Totale Immissione in rete]:[Totale Consumi rimanenti]])","v":0},"HP",null,null,null,0]
["112616",11,{"$f":"+MIN(Contributo_cer[[#This Row],[Totale Immissione in rete]:[Totale Consumi rimanenti]])","v":0},"HP",null,null,null,0]
["112617",11,{"$f":"+MIN(Contributo_cer[[#This Row],[Totale Immissione in rete]:[Totale Consumi rimanenti]])","v":0},"HP",null,null,null,0]
["112618",11,{"$f":"+MIN(Contributo_cer[[#This Row],[Totale Immissione in rete]:[Totale Consumi rimanenti]])","v":0},"HP",null,null,null,0]
["112619",11,{"$f":"+MIN(Contributo_cer[[#This Row],[Totale Immissione in rete]:[Totale Consumi rimanenti]])","v":0},"HP",null,null,null,0]
["112620",11,{"$f":"+MIN(Contributo_cer[[#This Row],[Totale Immissione in rete]:[Totale Consumi rimanenti]])","v":0},"HP",null,null,null,0]
["112621",11,{"$f":"+MIN(Contributo_cer[[#This Row],[Totale Immissione in rete]:[Totale Consumi rimanenti]])","v":0},"HP",null,null,null,0]
["112622",11,{"$f":"+MIN(Contributo_cer[[#This Row],[Totale Immissione in rete]:[Totale Consumi rimanenti]])","v":0},"HC",null,null,null,0]
["112623",11,{"$f":"+MIN(Contributo_cer[[#This Row],[Totale Immissione in rete]:[Totale Consumi rimanenti]])","v":0},"HC",null,null,null,0]
["112700",11,{"$f":"+MIN(Contributo_cer[[#This Row],[Totale Immissione in rete]:[Totale Consumi rimanenti]])","v":0},"HC",null,null,null,0]
["112701",11,{"$f":"+MIN(Contributo_cer[[#This Row],[Totale Immissione in rete]:[Totale Consumi rimanenti]])","v":0},"HC",null,null,null,0]
["112702",11,{"$f":"+MIN(Contributo_cer[[#This Row],[Totale Immissione in rete]:[Totale Consumi rimanenti]])","v":0},"HC",null,null,null,0]
["112703",11,{"$f":"+MIN(Contributo_cer[[#This Row],[Totale Immissione in rete]:[Totale Consumi rimanenti]])","v":0},"HC",null,null,null,0]
["112704",11,{"$f":"+MIN(Contributo_cer[[#This Row],[Totale Immissione in rete]:[Totale Consumi rimanenti]])","v":0},"HC",null,null,null,0]
["112705",11,{"$f":"+MIN(Contributo_cer[[#This Row],[Totale Immissione in rete]:[Totale Consumi rimanenti]])","v":0},"HC",null,null,null,0]
["112706",11,{"$f":"+MIN(Contributo_cer[[#This Row],[Totale Immissione in rete]:[Totale Consumi rimanenti]])","v":0},"HP",null,null,null,0]
["112707",11,{"$f":"+MIN(Contributo_cer[[#This Row],[Totale Immissione in rete]:[Totale Consumi rimanenti]])","v":0},"HP",null,null,null,0]
["112708",11,{"$f":"+MIN(Contributo_cer[[#This Row],[Totale Immissione in rete]:[Totale Consumi rimanenti]])","v":0},"HP",null,null,null,0]
["112709",11,{"$f":"+MIN(Contributo_cer[[#This Row],[Totale Immissione in rete]:[Totale Consumi rimanenti]])","v":0},"HP",null,null,null,0]
["112710",11,{"$f":"+MIN(Contributo_cer[[#This Row],[Totale Immissione in rete]:[Totale Consumi rimanenti]])","v":0},"HP",null,null,null,0]
["112711",11,{"$f":"+MIN(Contributo_cer[[#This Row],[Totale Immissione in rete]:[Totale Consumi rimanenti]])","v":0},"HP",null,null,null,0]
["112712",11,{"$f":"+MIN(Contributo_cer[[#This Row],[Totale Immissione in rete]:[Totale Consumi rimanenti]])","v":0},"HP",null,null,null,0]
["112713",11,{"$f":"+MIN(Contributo_cer[[#This Row],[Totale Immissione in rete]:[Totale Consumi rimanenti]])","v":0},"HP",null,null,null,0]
["112714",11,{"$f":"+MIN(Contributo_cer[[#This Row],[Totale Immissione in rete]:[Totale Consumi rimanenti]])","v":0},"HP",null,null,null,0]
["112715",11,{"$f":"+MIN(Contributo_cer[[#This Row],[Totale Immissione in rete]:[Totale Consumi rimanenti]])","v":0},"HP",null,null,null,0]
["112716",11,{"$f":"+MIN(Contributo_cer[[#This Row],[Totale Immissione in rete]:[Totale Consumi rimanenti]])","v":0},"HP",null,null,null,0]
["112717",11,{"$f":"+MIN(Contributo_cer[[#This Row],[Totale Immissione in rete]:[Totale Consumi rimanenti]])","v":0},"HP",null,null,null,0]
["112718",11,{"$f":"+MIN(Contributo_cer[[#This Row],[Totale Immissione in rete]:[Totale Consumi rimanenti]])","v":0},"HP",null,null,null,0]
["112719",11,{"$f":"+MIN(Contributo_cer[[#This Row],[Totale Immissione in rete]:[Totale Consumi rimanenti]])","v":0},"HP",null,null,null,0]
["112720",11,{"$f":"+MIN(Contributo_cer[[#This Row],[Totale Immissione in rete]:[Totale Consumi rimanenti]])","v":0},"HP",null,null,null,0]
["112721",11,{"$f":"+MIN(Contributo_cer[[#This Row],[Totale Immissione in rete]:[Totale Consumi rimanenti]])","v":0},"HP",null,null,null,0]
["112722",11,{"$f":"+MIN(Contributo_cer[[#This Row],[Totale Immissione in rete]:[Totale Consumi rimanenti]])","v":0},"HC",null,null,null,0]
["112723",11,{"$f":"+MIN(Contributo_cer[[#This Row],[Totale Immissione in rete]:[Totale Consumi rimanenti]])","v":0},"HC",null,null,null,0]
["112800",11,{"$f":"+MIN(Contributo_cer[[#This Row],[Totale Immissione in rete]:[Totale Consumi rimanenti]])","v":0},"HC",null,null,null,0]
["112801",11,{"$f":"+MIN(Contributo_cer[[#This Row],[Totale Immissione in rete]:[Totale Consumi rimanenti]])","v":0},"HC",null,null,null,0]
["112802",11,{"$f":"+MIN(Contributo_cer[[#This Row],[Totale Immissione in rete]:[Totale Consumi rimanenti]])","v":0},"HC",null,null,null,0]
["112803",11,{"$f":"+MIN(Contributo_cer[[#This Row],[Totale Immissione in rete]:[Totale Consumi rimanenti]])","v":0},"HC",null,null,null,0]
["112804",11,{"$f":"+MIN(Contributo_cer[[#This Row],[Totale Immissione in rete]:[Totale Consumi rimanenti]])","v":0},"HC",null,null,null,0]
["112805",11,{"$f":"+MIN(Contributo_cer[[#This Row],[Totale Immissione in rete]:[Totale Consumi rimanenti]])","v":0},"HC",null,null,null,0]
["112806",11,{"$f":"+MIN(Contributo_cer[[#This Row],[Totale Immissione in rete]:[Totale Consumi rimanenti]])","v":0},"HP",null,null,null,0]
["112807",11,{"$f":"+MIN(Contributo_cer[[#This Row],[Totale Immissione in rete]:[Totale Consumi rimanenti]])","v":0},"HP",null,null,null,0]
["112808",11,{"$f":"+MIN(Contributo_cer[[#This Row],[Totale Immissione in rete]:[Totale Consumi rimanenti]])","v":0},"HP",null,null,null,0]
["112809",11,{"$f":"+MIN(Contributo_cer[[#This Row],[Totale Immissione in rete]:[Totale Consumi rimanenti]])","v":0},"HP",null,null,null,0]
["112810",11,{"$f":"+MIN(Contributo_cer[[#This Row],[Totale Immissione in rete]:[Totale Consumi rimanenti]])","v":0},"HP",null,null,null,0]
["112811",11,{"$f":"+MIN(Contributo_cer[[#This Row],[Totale Immissione in rete]:[Totale Consumi rimanenti]])","v":0},"HP",null,null,null,0]
["112812",11,{"$f":"+MIN(Contributo_cer[[#This Row],[Totale Immissione in rete]:[Totale Consumi rimanenti]])","v":0},"HP",null,null,null,0]
["112813",11,{"$f":"+MIN(Contributo_cer[[#This Row],[Totale Immissione in rete]:[Totale Consumi rimanenti]])","v":0},"HP",null,null,null,0]
["112814",11,{"$f":"+MIN(Contributo_cer[[#This Row],[Totale Immissione in rete]:[Totale Consumi rimanenti]])","v":0},"HP",null,null,null,0]
["112815",11,{"$f":"+MIN(Contributo_cer[[#This Row],[Totale Immissione in rete]:[Totale Consumi rimanenti]])","v":0},"HP",null,null,null,0]
["112816",11,{"$f":"+MIN(Contributo_cer[[#This Row],[Totale Immissione in rete]:[Totale Consumi rimanenti]])","v":0},"HP",null,null,null,0]
["112817",11,{"$f":"+MIN(Contributo_cer[[#This Row],[Totale Immissione in rete]:[Totale Consumi rimanenti]])","v":0},"HP",null,null,null,0]
["112818",11,{"$f":"+MIN(Contributo_cer[[#This Row],[Totale Immissione in rete]:[Totale Consumi rimanenti]])","v":0},"HP",null,null,null,0]
["112819",11,{"$f":"+MIN(Contributo_cer[[#This Row],[Totale Immissione in rete]:[Totale Consumi rimanenti]])","v":0},"HP",null,null,null,0]
["112820",11,{"$f":"+MIN(Contributo_cer[[#This Row],[Totale Immissione in rete]:[Totale Consumi rimanenti]])","v":0},"HP",null,null,null,0]
["112821",11,{"$f":"+MIN(Contributo_cer[[#This Row],[Totale Immissione in rete]:[Totale Consumi rimanenti]])","v":0},"HP",null,null,null,0]
["112822",11,{"$f":"+MIN(Contributo_cer[[#This Row],[Totale Immissione in rete]:[Totale Consumi rimanenti]])","v":0},"HC",null,null,null,0]
["112823",11,{"$f":"+MIN(Contributo_cer[[#This Row],[Totale Immissione in rete]:[Totale Consumi rimanenti]])","v":0},"HC",null,null,null,0]
["112900",11,{"$f":"+MIN(Contributo_cer[[#This Row],[Totale Immissione in rete]:[Totale Consumi rimanenti]])","v":0},"HC",null,null,null,0]
["112901",11,{"$f":"+MIN(Contributo_cer[[#This Row],[Totale Immissione in rete]:[Totale Consumi rimanenti]])","v":0},"HC",null,null,null,0]
["112902",11,{"$f":"+MIN(Contributo_cer[[#This Row],[Totale Immissione in rete]:[Totale Consumi rimanenti]])","v":0},"HC",null,null,null,0]
["112903",11,{"$f":"+MIN(Contributo_cer[[#This Row],[Totale Immissione in rete]:[Totale Consumi rimanenti]])","v":0},"HC",null,null,null,0]
["112904",11,{"$f":"+MIN(Contributo_cer[[#This Row],[Totale Immissione in rete]:[Totale Consumi rimanenti]])","v":0},"HC",null,null,null,0]
["112905",11,{"$f":"+MIN(Contributo_cer[[#This Row],[Totale Immissione in rete]:[Totale Consumi rimanenti]])","v":0},"HC",null,null,null,0]
["112906",11,{"$f":"+MIN(Contributo_cer[[#This Row],[Totale Immissione in rete]:[Totale Consumi rimanenti]])","v":0},"HP",null,null,null,0]
["112907",11,{"$f":"+MIN(Contributo_cer[[#This Row],[Totale Immissione in rete]:[Totale Consumi rimanenti]])","v":0},"HP",null,null,null,0]
["112908",11,{"$f":"+MIN(Contributo_cer[[#This Row],[Totale Immissione in rete]:[Totale Consumi rimanenti]])","v":0},"HP",null,null,null,0]
["112909",11,{"$f":"+MIN(Contributo_cer[[#This Row],[Totale Immissione in rete]:[Totale Consumi rimanenti]])","v":0},"HP",null,null,null,0]
["112910",11,{"$f":"+MIN(Contributo_cer[[#This Row],[Totale Immissione in rete]:[Totale Consumi rimanenti]])","v":0},"HP",null,null,null,0]
["112911",11,{"$f":"+MIN(Contributo_cer[[#This Row],[Totale Immissione in rete]:[Totale Consumi rimanenti]])","v":0},"HP",null,null,null,0]
["112912",11,{"$f":"+MIN(Contributo_cer[[#This Row],[Totale Immissione in rete]:[Totale Consumi rimanenti]])","v":0},"HP",null,null,null,0]
["112913",11,{"$f":"+MIN(Contributo_cer[[#This Row],[Totale Immissione in rete]:[Totale Consumi rimanenti]])","v":0},"HP",null,null,null,0]
["112914",11,{"$f":"+MIN(Contributo_cer[[#This Row],[Totale Immissione in rete]:[Totale Consumi rimanenti]])","v":0},"HP",null,null,null,0]
["112915",11,{"$f":"+MIN(Contributo_cer[[#This Row],[Totale Immissione in rete]:[Totale Consumi rimanenti]])","v":0},"HP",null,null,null,0]
["112916",11,{"$f":"+MIN(Contributo_cer[[#This Row],[Totale Immissione in rete]:[Totale Consumi rimanenti]])","v":0},"HP",null,null,null,0]
["112917",11,{"$f":"+MIN(Contributo_cer[[#This Row],[Totale Immissione in rete]:[Totale Consumi rimanenti]])","v":0},"HP",null,null,null,0]
["112918",11,{"$f":"+MIN(Contributo_cer[[#This Row],[Totale Immissione in rete]:[Totale Consumi rimanenti]])","v":0},"HP",null,null,null,0]
["112919",11,{"$f":"+MIN(Contributo_cer[[#This Row],[Totale Immissione in rete]:[Totale Consumi rimanenti]])","v":0},"HP",null,null,null,0]
["112920",11,{"$f":"+MIN(Contributo_cer[[#This Row],[Totale Immissione in rete]:[Totale Consumi rimanenti]])","v":0},"HP",null,null,null,0]
["112921",11,{"$f":"+MIN(Contributo_cer[[#This Row],[Totale Immissione in rete]:[Totale Consumi rimanenti]])","v":0},"HP",null,null,null,0]
["112922",11,{"$f":"+MIN(Contributo_cer[[#This Row],[Totale Immissione in rete]:[Totale Consumi rimanenti]])","v":0},"HC",null,null,null,0]
["112923",11,{"$f":"+MIN(Contributo_cer[[#This Row],[Totale Immissione in rete]:[Totale Consumi rimanenti]])","v":0},"HC",null,null,null,0]
["113000",11,{"$f":"+MIN(Contributo_cer[[#This Row],[Totale Immissione in rete]:[Totale Consumi rimanenti]])","v":0},"HC",null,null,null,0]
["113001",11,{"$f":"+MIN(Contributo_cer[[#This Row],[Totale Immissione in rete]:[Totale Consumi rimanenti]])","v":0},"HC",null,null,null,0]
["113002",11,{"$f":"+MIN(Contributo_cer[[#This Row],[Totale Immissione in rete]:[Totale Consumi rimanenti]])","v":0},"HC",null,null,null,0]
["113003",11,{"$f":"+MIN(Contributo_cer[[#This Row],[Totale Immissione in rete]:[Totale Consumi rimanenti]])","v":0},"HC",null,null,null,0]
["113004",11,{"$f":"+MIN(Contributo_cer[[#This Row],[Totale Immissione in rete]:[Totale Consumi rimanenti]])","v":0},"HC",null,null,null,0]
["113005",11,{"$f":"+MIN(Contributo_cer[[#This Row],[Totale Immissione in rete]:[Totale Consumi rimanenti]])","v":0},"HC",null,null,null,0]
["113006",11,{"$f":"+MIN(Contributo_cer[[#This Row],[Totale Immissione in rete]:[Totale Consumi rimanenti]])","v":0},"HP",null,null,null,0]
["113007",11,{"$f":"+MIN(Contributo_cer[[#This Row],[Totale Immissione in rete]:[Totale Consumi rimanenti]])","v":0},"HP",null,null,null,0]
["113008",11,{"$f":"+MIN(Contributo_cer[[#This Row],[Totale Immissione in rete]:[Totale Consumi rimanenti]])","v":0},"HP",null,null,null,0]
["113009",11,{"$f":"+MIN(Contributo_cer[[#This Row],[Totale Immissione in rete]:[Totale Consumi rimanenti]])","v":0},"HP",null,null,null,0]
["113010",11,{"$f":"+MIN(Contributo_cer[[#This Row],[Totale Immissione in rete]:[Totale Consumi rimanenti]])","v":0},"HP",null,null,null,0]
["113011",11,{"$f":"+MIN(Contributo_cer[[#This Row],[Totale Immissione in rete]:[Totale Consumi rimanenti]])","v":0},"HP",null,null,null,0]
["113012",11,{"$f":"+MIN(Contributo_cer[[#This Row],[Totale Immissione in rete]:[Totale Consumi rimanenti]])","v":0},"HP",null,null,null,0]
["113013",11,{"$f":"+MIN(Contributo_cer[[#This Row],[Totale Immissione in rete]:[Totale Consumi rimanenti]])","v":0},"HP",null,null,null,0]
["113014",11,{"$f":"+MIN(Contributo_cer[[#This Row],[Totale Immissione in rete]:[Totale Consumi rimanenti]])","v":0},"HP",null,null,null,0]
["113015",11,{"$f":"+MIN(Contributo_cer[[#This Row],[Totale Immissione in rete]:[Totale Consumi rimanenti]])","v":0},"HP",null,null,null,0]
["113016",11,{"$f":"+MIN(Contributo_cer[[#This Row],[Totale Immissione in rete]:[Totale Consumi rimanenti]])","v":0},"HP",null,null,null,0]
["113017",11,{"$f":"+MIN(Contributo_cer[[#This Row],[Totale Immissione in rete]:[Totale Consumi rimanenti]])","v":0},"HP",null,null,null,0]
["113018",11,{"$f":"+MIN(Contributo_cer[[#This Row],[Totale Immissione in rete]:[Totale Consumi rimanenti]])","v":0},"HP",null,null,null,0]
["113019",11,{"$f":"+MIN(Contributo_cer[[#This Row],[Totale Immissione in rete]:[Totale Consumi rimanenti]])","v":0},"HP",null,null,null,0]
["113020",11,{"$f":"+MIN(Contributo_cer[[#This Row],[Totale Immissione in rete]:[Totale Consumi rimanenti]])","v":0},"HP",null,null,null,0]
["113021",11,{"$f":"+MIN(Contributo_cer[[#This Row],[Totale Immissione in rete]:[Totale Consumi rimanenti]])","v":0},"HP",null,null,null,0]
["113022",11,{"$f":"+MIN(Contributo_cer[[#This Row],[Totale Immissione in rete]:[Totale Consumi rimanenti]])","v":0},"HC",null,null,null,0]
["113023",11,{"$f":"+MIN(Contributo_cer[[#This Row],[Totale Immissione in rete]:[Totale Consumi rimanenti]])","v":0},"HC",null,null,null,0]
["120100",12,{"$f":"+MIN(Contributo_cer[[#This Row],[Totale Immissione in rete]:[Totale Consumi rimanenti]])","v":0},"HC",null,null,null,0]
["120101",12,{"$f":"+MIN(Contributo_cer[[#This Row],[Totale Immissione in rete]:[Totale Consumi rimanenti]])","v":0},"HC",null,null,null,0]
["120102",12,{"$f":"+MIN(Contributo_cer[[#This Row],[Totale Immissione in rete]:[Totale Consumi rimanenti]])","v":0},"HC",null,null,null,0]
["120103",12,{"$f":"+MIN(Contributo_cer[[#This Row],[Totale Immissione in rete]:[Totale Consumi rimanenti]])","v":0},"HC",null,null,null,0]
["120104",12,{"$f":"+MIN(Contributo_cer[[#This Row],[Totale Immissione in rete]:[Totale Consumi rimanenti]])","v":0},"HC",null,null,null,0]
["120105",12,{"$f":"+MIN(Contributo_cer[[#This Row],[Totale Immissione in rete]:[Totale Consumi rimanenti]])","v":0},"HC",null,null,null,0]
["120106",12,{"$f":"+MIN(Contributo_cer[[#This Row],[Totale Immissione in rete]:[Totale Consumi rimanenti]])","v":0},"HP",null,null,null,0]
["120107",12,{"$f":"+MIN(Contributo_cer[[#This Row],[Totale Immissione in rete]:[Totale Consumi rimanenti]])","v":0},"HP",null,null,null,0]
["120108",12,{"$f":"+MIN(Contributo_cer[[#This Row],[Totale Immissione in rete]:[Totale Consumi rimanenti]])","v":0},"HP",null,null,null,0]
["120109",12,{"$f":"+MIN(Contributo_cer[[#This Row],[Totale Immissione in rete]:[Totale Consumi rimanenti]])","v":0},"HP",null,null,null,0]
["120110",12,{"$f":"+MIN(Contributo_cer[[#This Row],[Totale Immissione in rete]:[Totale Consumi rimanenti]])","v":0},"HP",null,null,null,0]
["120111",12,{"$f":"+MIN(Contributo_cer[[#This Row],[Totale Immissione in rete]:[Totale Consumi rimanenti]])","v":0},"HP",null,null,null,0]
["120112",12,{"$f":"+MIN(Contributo_cer[[#This Row],[Totale Immissione in rete]:[Totale Consumi rimanenti]])","v":0},"HP",null,null,null,0]
["120113",12,{"$f":"+MIN(Contributo_cer[[#This Row],[Totale Immissione in rete]:[Totale Consumi rimanenti]])","v":0},"HP",null,null,null,0]
["120114",12,{"$f":"+MIN(Contributo_cer[[#This Row],[Totale Immissione in rete]:[Totale Consumi rimanenti]])","v":0},"HP",null,null,null,0]
["120115",12,{"$f":"+MIN(Contributo_cer[[#This Row],[Totale Immissione in rete]:[Totale Consumi rimanenti]])","v":0},"HP",null,null,null,0]
["120116",12,{"$f":"+MIN(Contributo_cer[[#This Row],[Totale Immissione in rete]:[Totale Consumi rimanenti]])","v":0},"HP",null,null,null,0]
["120117",12,{"$f":"+MIN(Contributo_cer[[#This Row],[Totale Immissione in rete]:[Totale Consumi rimanenti]])","v":0},"HP",null,null,null,0]
["120118",12,{"$f":"+MIN(Contributo_cer[[#This Row],[Totale Immissione in rete]:[Totale Consumi rimanenti]])","v":0},"HP",null,null,null,0]
["120119",12,{"$f":"+MIN(Contributo_cer[[#This Row],[Totale Immissione in rete]:[Totale Consumi rimanenti]])","v":0},"HP",null,null,null,0]
["120120",12,{"$f":"+MIN(Contributo_cer[[#This Row],[Totale Immissione in rete]:[Totale Consumi rimanenti]])","v":0},"HP",null,null,null,0]
["120121",12,{"$f":"+MIN(Contributo_cer[[#This Row],[Totale Immissione in rete]:[Totale Consumi rimanenti]])","v":0},"HP",null,null,null,0]
["120122",12,{"$f":"+MIN(Contributo_cer[[#This Row],[Totale Immissione in rete]:[Totale Consumi rimanenti]])","v":0},"HC",null,null,null,0]
["120123",12,{"$f":"+MIN(Contributo_cer[[#This Row],[Totale Immissione in rete]:[Totale Consumi rimanenti]])","v":0},"HC",null,null,null,0]
["120200",12,{"$f":"+MIN(Contributo_cer[[#This Row],[Totale Immissione in rete]:[Totale Consumi rimanenti]])","v":0},"HC",null,null,null,0]
["120201",12,{"$f":"+MIN(Contributo_cer[[#This Row],[Totale Immissione in rete]:[Totale Consumi rimanenti]])","v":0},"HC",null,null,null,0]
["120202",12,{"$f":"+MIN(Contributo_cer[[#This Row],[Totale Immissione in rete]:[Totale Consumi rimanenti]])","v":0},"HC",null,null,null,0]
["120203",12,{"$f":"+MIN(Contributo_cer[[#This Row],[Totale Immissione in rete]:[Totale Consumi rimanenti]])","v":0},"HC",null,null,null,0]
["120204",12,{"$f":"+MIN(Contributo_cer[[#This Row],[Totale Immissione in rete]:[Totale Consumi rimanenti]])","v":0},"HC",null,null,null,0]
["120205",12,{"$f":"+MIN(Contributo_cer[[#This Row],[Totale Immissione in rete]:[Totale Consumi rimanenti]])","v":0},"HC",null,null,null,0]
["120206",12,{"$f":"+MIN(Contributo_cer[[#This Row],[Totale Immissione in rete]:[Totale Consumi rimanenti]])","v":0},"HP",null,null,null,0]
["120207",12,{"$f":"+MIN(Contributo_cer[[#This Row],[Totale Immissione in rete]:[Totale Consumi rimanenti]])","v":0},"HP",null,null,null,0]
["120208",12,{"$f":"+MIN(Contributo_cer[[#This Row],[Totale Immissione in rete]:[Totale Consumi rimanenti]])","v":0},"HP",null,null,null,0]
["120209",12,{"$f":"+MIN(Contributo_cer[[#This Row],[Totale Immissione in rete]:[Totale Consumi rimanenti]])","v":0},"HP",null,null,null,0]
["120210",12,{"$f":"+MIN(Contributo_cer[[#This Row],[Totale Immissione in rete]:[Totale Consumi rimanenti]])","v":0},"HP",null,null,null,0]
["120211",12,{"$f":"+MIN(Contributo_cer[[#This Row],[Totale Immissione in rete]:[Totale Consumi rimanenti]])","v":0},"HP",null,null,null,0]
["120212",12,{"$f":"+MIN(Contributo_cer[[#This Row],[Totale Immissione in rete]:[Totale Consumi rimanenti]])","v":0},"HP",null,null,null,0]
["120213",12,{"$f":"+MIN(Contributo_cer[[#This Row],[Totale Immissione in rete]:[Totale Consumi rimanenti]])","v":0},"HP",null,null,null,0]
["120214",12,{"$f":"+MIN(Contributo_cer[[#This Row],[Totale Immissione in rete]:[Totale Consumi rimanenti]])","v":0},"HP",null,null,null,0]
["120215",12,{"$f":"+MIN(Contributo_cer[[#This Row],[Totale Immissione in rete]:[Totale Consumi rimanenti]])","v":0},"HP",null,null,null,0]
["120216",12,{"$f":"+MIN(Contributo_cer[[#This Row],[Totale Immissione in rete]:[Totale Consumi rimanenti]])","v":0},"HP",null,null,null,0]
["120217",12,{"$f":"+MIN(Contributo_cer[[#This Row],[Totale Immissione in rete]:[Totale Consumi rimanenti]])","v":0},"HP",null,null,null,0]
["120218",12,{"$f":"+MIN(Contributo_cer[[#This Row],[Totale Immissione in rete]:[Totale Consumi rimanenti]])","v":0},"HP",null,null,null,0]
["120219",12,{"$f":"+MIN(Contributo_cer[[#This Row],[Totale Immissione in rete]:[Totale Consumi rimanenti]])","v":0},"HP",null,null,null,0]
["120220",12,{"$f":"+MIN(Contributo_cer[[#This Row],[Totale Immissione in rete]:[Totale Consumi rimanenti]])","v":0},"HP",null,null,null,0]
["120221",12,{"$f":"+MIN(Contributo_cer[[#This Row],[Totale Immissione in rete]:[Totale Consumi rimanenti]])","v":0},"HP",null,null,null,0]
["120222",12,{"$f":"+MIN(Contributo_cer[[#This Row],[Totale Immissione in rete]:[Totale Consumi rimanenti]])","v":0},"HC",null,null,null,0]
["120223",12,{"$f":"+MIN(Contributo_cer[[#This Row],[Totale Immissione in rete]:[Totale Consumi rimanenti]])","v":0},"HC",null,null,null,0]
["120300",12,{"$f":"+MIN(Contributo_cer[[#This Row],[Totale Immissione in rete]:[Totale Consumi rimanenti]])","v":0},"HC",null,null,null,0]
["120301",12,{"$f":"+MIN(Contributo_cer[[#This Row],[Totale Immissione in rete]:[Totale Consumi rimanenti]])","v":0},"HC",null,null,null,0]
["120302",12,{"$f":"+MIN(Contributo_cer[[#This Row],[Totale Immissione in rete]:[Totale Consumi rimanenti]])","v":0},"HC",null,null,null,0]
["120303",12,{"$f":"+MIN(Contributo_cer[[#This Row],[Totale Immissione in rete]:[Totale Consumi rimanenti]])","v":0},"HC",null,null,null,0]
["120304",12,{"$f":"+MIN(Contributo_cer[[#This Row],[Totale Immissione in rete]:[Totale Consumi rimanenti]])","v":0},"HC",null,null,null,0]
["120305",12,{"$f":"+MIN(Contributo_cer[[#This Row],[Totale Immissione in rete]:[Totale Consumi rimanenti]])","v":0},"HC",null,null,null,0]
["120306",12,{"$f":"+MIN(Contributo_cer[[#This Row],[Totale Immissione in rete]:[Totale Consumi rimanenti]])","v":0},"HP",null,null,null,0]
["120307",12,{"$f":"+MIN(Contributo_cer[[#This Row],[Totale Immissione in rete]:[Totale Consumi rimanenti]])","v":0},"HP",null,null,null,0]
["120308",12,{"$f":"+MIN(Contributo_cer[[#This Row],[Totale Immissione in rete]:[Totale Consumi rimanenti]])","v":0},"HP",null,null,null,0]
["120309",12,{"$f":"+MIN(Contributo_cer[[#This Row],[Totale Immissione in rete]:[Totale Consumi rimanenti]])","v":0},"HP",null,null,null,0]
["120310",12,{"$f":"+MIN(Contributo_cer[[#This Row],[Totale Immissione in rete]:[Totale Consumi rimanenti]])","v":0},"HP",null,null,null,0]
["120311",12,{"$f":"+MIN(Contributo_cer[[#This Row],[Totale Immissione in rete]:[Totale Consumi rimanenti]])","v":0},"HP",null,null,null,0]
["120312",12,{"$f":"+MIN(Contributo_cer[[#This Row],[Totale Immissione in rete]:[Totale Consumi rimanenti]])","v":0},"HP",null,null,null,0]
["120313",12,{"$f":"+MIN(Contributo_cer[[#This Row],[Totale Immissione in rete]:[Totale Consumi rimanenti]])","v":0},"HP",null,null,null,0]
["120314",12,{"$f":"+MIN(Contributo_cer[[#This Row],[Totale Immissione in rete]:[Totale Consumi rimanenti]])","v":0},"HP",null,null,null,0]
["120315",12,{"$f":"+MIN(Contributo_cer[[#This Row],[Totale Immissione in rete]:[Totale Consumi rimanenti]])","v":0},"HP",null,null,null,0]
["120316",12,{"$f":"+MIN(Contributo_cer[[#This Row],[Totale Immissione in rete]:[Totale Consumi rimanenti]])","v":0},"HP",null,null,null,0]
["120317",12,{"$f":"+MIN(Contributo_cer[[#This Row],[Totale Immissione in rete]:[Totale Consumi rimanenti]])","v":0},"HP",null,null,null,0]
["120318",12,{"$f":"+MIN(Contributo_cer[[#This Row],[Totale Immissione in rete]:[Totale Consumi rimanenti]])","v":0},"HP",null,null,null,0]
["120319",12,{"$f":"+MIN(Contributo_cer[[#This Row],[Totale Immissione in rete]:[Totale Consumi rimanenti]])","v":0},"HP",null,null,null,0]
["120320",12,{"$f":"+MIN(Contributo_cer[[#This Row],[Totale Immissione in rete]:[Totale Consumi rimanenti]])","v":0},"HP",null,null,null,0]
["120321",12,{"$f":"+MIN(Contributo_cer[[#This Row],[Totale Immissione in rete]:[Totale Consumi rimanenti]])","v":0},"HP",null,null,null,0]
["120322",12,{"$f":"+MIN(Contributo_cer[[#This Row],[Totale Immissione in rete]:[Totale Consumi rimanenti]])","v":0},"HC",null,null,null,0]
["120323",12,{"$f":"+MIN(Contributo_cer[[#This Row],[Totale Immissione in rete]:[Totale Consumi rimanenti]])","v":0},"HC",null,null,null,0]
["120400",12,{"$f":"+MIN(Contributo_cer[[#This Row],[Totale Immissione in rete]:[Totale Consumi rimanenti]])","v":0},"HC",null,null,null,0]
["120401",12,{"$f":"+MIN(Contributo_cer[[#This Row],[Totale Immissione in rete]:[Totale Consumi rimanenti]])","v":0},"HC",null,null,null,0]
["120402",12,{"$f":"+MIN(Contributo_cer[[#This Row],[Totale Immissione in rete]:[Totale Consumi rimanenti]])","v":0},"HC",null,null,null,0]
["120403",12,{"$f":"+MIN(Contributo_cer[[#This Row],[Totale Immissione in rete]:[Totale Consumi rimanenti]])","v":0},"HC",null,null,null,0]
["120404",12,{"$f":"+MIN(Contributo_cer[[#This Row],[Totale Immissione in rete]:[Totale Consumi rimanenti]])","v":0},"HC",null,null,null,0]
["120405",12,{"$f":"+MIN(Contributo_cer[[#This Row],[Totale Immissione in rete]:[Totale Consumi rimanenti]])","v":0},"HC",null,null,null,0]
["120406",12,{"$f":"+MIN(Contributo_cer[[#This Row],[Totale Immissione in rete]:[Totale Consumi rimanenti]])","v":0},"HP",null,null,null,0]
["120407",12,{"$f":"+MIN(Contributo_cer[[#This Row],[Totale Immissione in rete]:[Totale Consumi rimanenti]])","v":0},"HP",null,null,null,0]
["120408",12,{"$f":"+MIN(Contributo_cer[[#This Row],[Totale Immissione in rete]:[Totale Consumi rimanenti]])","v":0},"HP",null,null,null,0]
["120409",12,{"$f":"+MIN(Contributo_cer[[#This Row],[Totale Immissione in rete]:[Totale Consumi rimanenti]])","v":0},"HP",null,null,null,0]
["120410",12,{"$f":"+MIN(Contributo_cer[[#This Row],[Totale Immissione in rete]:[Totale Consumi rimanenti]])","v":0},"HP",null,null,null,0]
["120411",12,{"$f":"+MIN(Contributo_cer[[#This Row],[Totale Immissione in rete]:[Totale Consumi rimanenti]])","v":0},"HP",null,null,null,0]
["120412",12,{"$f":"+MIN(Contributo_cer[[#This Row],[Totale Immissione in rete]:[Totale Consumi rimanenti]])","v":0},"HP",null,null,null,0]
["120413",12,{"$f":"+MIN(Contributo_cer[[#This Row],[Totale Immissione in rete]:[Totale Consumi rimanenti]])","v":0},"HP",null,null,null,0]
["120414",12,{"$f":"+MIN(Contributo_cer[[#This Row],[Totale Immissione in rete]:[Totale Consumi rimanenti]])","v":0},"HP",null,null,null,0]
["120415",12,{"$f":"+MIN(Contributo_cer[[#This Row],[Totale Immissione in rete]:[Totale Consumi rimanenti]])","v":0},"HP",null,null,null,0]
["120416",12,{"$f":"+MIN(Contributo_cer[[#This Row],[Totale Immissione in rete]:[Totale Consumi rimanenti]])","v":0},"HP",null,null,null,0]
["120417",12,{"$f":"+MIN(Contributo_cer[[#This Row],[Totale Immissione in rete]:[Totale Consumi rimanenti]])","v":0},"HP",null,null,null,0]
["120418",12,{"$f":"+MIN(Contributo_cer[[#This Row],[Totale Immissione in rete]:[Totale Consumi rimanenti]])","v":0},"HP",null,null,null,0]
["120419",12,{"$f":"+MIN(Contributo_cer[[#This Row],[Totale Immissione in rete]:[Totale Consumi rimanenti]])","v":0},"HP",null,null,null,0]
["120420",12,{"$f":"+MIN(Contributo_cer[[#This Row],[Totale Immissione in rete]:[Totale Consumi rimanenti]])","v":0},"HP",null,null,null,0]
["120421",12,{"$f":"+MIN(Contributo_cer[[#This Row],[Totale Immissione in rete]:[Totale Consumi rimanenti]])","v":0},"HP",null,null,null,0]
["120422",12,{"$f":"+MIN(Contributo_cer[[#This Row],[Totale Immissione in rete]:[Totale Consumi rimanenti]])","v":0},"HC",null,null,null,0]
["120423",12,{"$f":"+MIN(Contributo_cer[[#This Row],[Totale Immissione in rete]:[Totale Consumi rimanenti]])","v":0},"HC",null,null,null,0]
["120500",12,{"$f":"+MIN(Contributo_cer[[#This Row],[Totale Immissione in rete]:[Totale Consumi rimanenti]])","v":0},"HC",null,null,null,0]
["120501",12,{"$f":"+MIN(Contributo_cer[[#This Row],[Totale Immissione in rete]:[Totale Consumi rimanenti]])","v":0},"HC",null,null,null,0]
["120502",12,{"$f":"+MIN(Contributo_cer[[#This Row],[Totale Immissione in rete]:[Totale Consumi rimanenti]])","v":0},"HC",null,null,null,0]
["120503",12,{"$f":"+MIN(Contributo_cer[[#This Row],[Totale Immissione in rete]:[Totale Consumi rimanenti]])","v":0},"HC",null,null,null,0]
["120504",12,{"$f":"+MIN(Contributo_cer[[#This Row],[Totale Immissione in rete]:[Totale Consumi rimanenti]])","v":0},"HC",null,null,null,0]
["120505",12,{"$f":"+MIN(Contributo_cer[[#This Row],[Totale Immissione in rete]:[Totale Consumi rimanenti]])","v":0},"HC",null,null,null,0]
["120506",12,{"$f":"+MIN(Contributo_cer[[#This Row],[Totale Immissione in rete]:[Totale Consumi rimanenti]])","v":0},"HP",null,null,null,0]
["120507",12,{"$f":"+MIN(Contributo_cer[[#This Row],[Totale Immissione in rete]:[Totale Consumi rimanenti]])","v":0},"HP",null,null,null,0]
["120508",12,{"$f":"+MIN(Contributo_cer[[#This Row],[Totale Immissione in rete]:[Totale Consumi rimanenti]])","v":0},"HP",null,null,null,0]
["120509",12,{"$f":"+MIN(Contributo_cer[[#This Row],[Totale Immissione in rete]:[Totale Consumi rimanenti]])","v":0},"HP",null,null,null,0]
["120510",12,{"$f":"+MIN(Contributo_cer[[#This Row],[Totale Immissione in rete]:[Totale Consumi rimanenti]])","v":0},"HP",null,null,null,0]
["120511",12,{"$f":"+MIN(Contributo_cer[[#This Row],[Totale Immissione in rete]:[Totale Consumi rimanenti]])","v":0},"HP",null,null,null,0]
["120512",12,{"$f":"+MIN(Contributo_cer[[#This Row],[Totale Immissione in rete]:[Totale Consumi rimanenti]])","v":0},"HP",null,null,null,0]
["120513",12,{"$f":"+MIN(Contributo_cer[[#This Row],[Totale Immissione in rete]:[Totale Consumi rimanenti]])","v":0},"HP",null,null,null,0]
["120514",12,{"$f":"+MIN(Contributo_cer[[#This Row],[Totale Immissione in rete]:[Totale Consumi rimanenti]])","v":0},"HP",null,null,null,0]
["120515",12,{"$f":"+MIN(Contributo_cer[[#This Row],[Totale Immissione in rete]:[Totale Consumi rimanenti]])","v":0},"HP",null,null,null,0]
["120516",12,{"$f":"+MIN(Contributo_cer[[#This Row],[Totale Immissione in rete]:[Totale Consumi rimanenti]])","v":0},"HP",null,null,null,0]
["120517",12,{"$f":"+MIN(Contributo_cer[[#This Row],[Totale Immissione in rete]:[Totale Consumi rimanenti]])","v":0},"HP",null,null,null,0]
["120518",12,{"$f":"+MIN(Contributo_cer[[#This Row],[Totale Immissione in rete]:[Totale Consumi rimanenti]])","v":0},"HP",null,null,null,0]
["120519",12,{"$f":"+MIN(Contributo_cer[[#This Row],[Totale Immissione in rete]:[Totale Consumi rimanenti]])","v":0},"HP",null,null,null,0]
["120520",12,{"$f":"+MIN(Contributo_cer[[#This Row],[Totale Immissione in rete]:[Totale Consumi rimanenti]])","v":0},"HP",null,null,null,0]
["120521",12,{"$f":"+MIN(Contributo_cer[[#This Row],[Totale Immissione in rete]:[Totale Consumi rimanenti]])","v":0},"HP",null,null,null,0]
["120522",12,{"$f":"+MIN(Contributo_cer[[#This Row],[Totale Immissione in rete]:[Totale Consumi rimanenti]])","v":0},"HC",null,null,null,0]
["120523",12,{"$f":"+MIN(Contributo_cer[[#This Row],[Totale Immissione in rete]:[Totale Consumi rimanenti]])","v":0},"HC",null,null,null,0]
["120600",12,{"$f":"+MIN(Contributo_cer[[#This Row],[Totale Immissione in rete]:[Totale Consumi rimanenti]])","v":0},"HC",null,null,null,0]
["120601",12,{"$f":"+MIN(Contributo_cer[[#This Row],[Totale Immissione in rete]:[Totale Consumi rimanenti]])","v":0},"HC",null,null,null,0]
["120602",12,{"$f":"+MIN(Contributo_cer[[#This Row],[Totale Immissione in rete]:[Totale Consumi rimanenti]])","v":0},"HC",null,null,null,0]
["120603",12,{"$f":"+MIN(Contributo_cer[[#This Row],[Totale Immissione in rete]:[Totale Consumi rimanenti]])","v":0},"HC",null,null,null,0]
["120604",12,{"$f":"+MIN(Contributo_cer[[#This Row],[Totale Immissione in rete]:[Totale Consumi rimanenti]])","v":0},"HC",null,null,null,0]
["120605",12,{"$f":"+MIN(Contributo_cer[[#This Row],[Totale Immissione in rete]:[Totale Consumi rimanenti]])","v":0},"HC",null,null,null,0]
["120606",12,{"$f":"+MIN(Contributo_cer[[#This Row],[Totale Immissione in rete]:[Totale Consumi rimanenti]])","v":0},"HP",null,null,null,0]
["120607",12,{"$f":"+MIN(Contributo_cer[[#This Row],[Totale Immissione in rete]:[Totale Consumi rimanenti]])","v":0},"HP",null,null,null,0]
["120608",12,{"$f":"+MIN(Contributo_cer[[#This Row],[Totale Immissione in rete]:[Totale Consumi rimanenti]])","v":0},"HP",null,null,null,0]
["120609",12,{"$f":"+MIN(Contributo_cer[[#This Row],[Totale Immissione in rete]:[Totale Consumi rimanenti]])","v":0},"HP",null,null,null,0]
["120610",12,{"$f":"+MIN(Contributo_cer[[#This Row],[Totale Immissione in rete]:[Totale Consumi rimanenti]])","v":0},"HP",null,null,null,0]
["120611",12,{"$f":"+MIN(Contributo_cer[[#This Row],[Totale Immissione in rete]:[Totale Consumi rimanenti]])","v":0},"HP",null,null,null,0]
["120612",12,{"$f":"+MIN(Contributo_cer[[#This Row],[Totale Immissione in rete]:[Totale Consumi rimanenti]])","v":0},"HP",null,null,null,0]
["120613",12,{"$f":"+MIN(Contributo_cer[[#This Row],[Totale Immissione in rete]:[Totale Consumi rimanenti]])","v":0},"HP",null,null,null,0]
["120614",12,{"$f":"+MIN(Contributo_cer[[#This Row],[Totale Immissione in rete]:[Totale Consumi rimanenti]])","v":0},"HP",null,null,null,0]
["120615",12,{"$f":"+MIN(Contributo_cer[[#This Row],[Totale Immissione in rete]:[Totale Consumi rimanenti]])","v":0},"HP",null,null,null,0]
["120616",12,{"$f":"+MIN(Contributo_cer[[#This Row],[Totale Immissione in rete]:[Totale Consumi rimanenti]])","v":0},"HP",null,null,null,0]
["120617",12,{"$f":"+MIN(Contributo_cer[[#This Row],[Totale Immissione in rete]:[Totale Consumi rimanenti]])","v":0},"HP",null,null,null,0]
["120618",12,{"$f":"+MIN(Contributo_cer[[#This Row],[Totale Immissione in rete]:[Totale Consumi rimanenti]])","v":0},"HP",null,null,null,0]
["120619",12,{"$f":"+MIN(Contributo_cer[[#This Row],[Totale Immissione in rete]:[Totale Consumi rimanenti]])","v":0},"HP",null,null,null,0]
["120620",12,{"$f":"+MIN(Contributo_cer[[#This Row],[Totale Immissione in rete]:[Totale Consumi rimanenti]])","v":0},"HP",null,null,null,0]
["120621",12,{"$f":"+MIN(Contributo_cer[[#This Row],[Totale Immissione in rete]:[Totale Consumi rimanenti]])","v":0},"HP",null,null,null,0]
["120622",12,{"$f":"+MIN(Contributo_cer[[#This Row],[Totale Immissione in rete]:[Totale Consumi rimanenti]])","v":0},"HC",null,null,null,0]
["120623",12,{"$f":"+MIN(Contributo_cer[[#This Row],[Totale Immissione in rete]:[Totale Consumi rimanenti]])","v":0},"HC",null,null,null,0]
["120700",12,{"$f":"+MIN(Contributo_cer[[#This Row],[Totale Immissione in rete]:[Totale Consumi rimanenti]])","v":0},"HC",null,null,null,0]
["120701",12,{"$f":"+MIN(Contributo_cer[[#This Row],[Totale Immissione in rete]:[Totale Consumi rimanenti]])","v":0},"HC",null,null,null,0]
["120702",12,{"$f":"+MIN(Contributo_cer[[#This Row],[Totale Immissione in rete]:[Totale Consumi rimanenti]])","v":0},"HC",null,null,null,0]
["120703",12,{"$f":"+MIN(Contributo_cer[[#This Row],[Totale Immissione in rete]:[Totale Consumi rimanenti]])","v":0},"HC",null,null,null,0]
["120704",12,{"$f":"+MIN(Contributo_cer[[#This Row],[Totale Immissione in rete]:[Totale Consumi rimanenti]])","v":0},"HC",null,null,null,0]
["120705",12,{"$f":"+MIN(Contributo_cer[[#This Row],[Totale Immissione in rete]:[Totale Consumi rimanenti]])","v":0},"HC",null,null,null,0]
["120706",12,{"$f":"+MIN(Contributo_cer[[#This Row],[Totale Immissione in rete]:[Totale Consumi rimanenti]])","v":0},"HP",null,null,null,0]
["120707",12,{"$f":"+MIN(Contributo_cer[[#This Row],[Totale Immissione in rete]:[Totale Consumi rimanenti]])","v":0},"HP",null,null,null,0]
["120708",12,{"$f":"+MIN(Contributo_cer[[#This Row],[Totale Immissione in rete]:[Totale Consumi rimanenti]])","v":0},"HP",null,null,null,0]
["120709",12,{"$f":"+MIN(Contributo_cer[[#This Row],[Totale Immissione in rete]:[Totale Consumi rimanenti]])","v":0},"HP",null,null,null,0]
["120710",12,{"$f":"+MIN(Contributo_cer[[#This Row],[Totale Immissione in rete]:[Totale Consumi rimanenti]])","v":0},"HP",null,null,null,0]
["120711",12,{"$f":"+MIN(Contributo_cer[[#This Row],[Totale Immissione in rete]:[Totale Consumi rimanenti]])","v":0},"HP",null,null,null,0]
["120712",12,{"$f":"+MIN(Contributo_cer[[#This Row],[Totale Immissione in rete]:[Totale Consumi rimanenti]])","v":0},"HP",null,null,null,0]
["120713",12,{"$f":"+MIN(Contributo_cer[[#This Row],[Totale Immissione in rete]:[Totale Consumi rimanenti]])","v":0},"HP",null,null,null,0]
["120714",12,{"$f":"+MIN(Contributo_cer[[#This Row],[Totale Immissione in rete]:[Totale Consumi rimanenti]])","v":0},"HP",null,null,null,0]
["120715",12,{"$f":"+MIN(Contributo_cer[[#This Row],[Totale Immissione in rete]:[Totale Consumi rimanenti]])","v":0},"HP",null,null,null,0]
["120716",12,{"$f":"+MIN(Contributo_cer[[#This Row],[Totale Immissione in rete]:[Totale Consumi rimanenti]])","v":0},"HP",null,null,null,0]
["120717",12,{"$f":"+MIN(Contributo_cer[[#This Row],[Totale Immissione in rete]:[Totale Consumi rimanenti]])","v":0},"HP",null,null,null,0]
["120718",12,{"$f":"+MIN(Contributo_cer[[#This Row],[Totale Immissione in rete]:[Totale Consumi rimanenti]])","v":0},"HP",null,null,null,0]
["120719",12,{"$f":"+MIN(Contributo_cer[[#This Row],[Totale Immissione in rete]:[Totale Consumi rimanenti]])","v":0},"HP",null,null,null,0]
["120720",12,{"$f":"+MIN(Contributo_cer[[#This Row],[Totale Immissione in rete]:[Totale Consumi rimanenti]])","v":0},"HP",null,null,null,0]
["120721",12,{"$f":"+MIN(Contributo_cer[[#This Row],[Totale Immissione in rete]:[Totale Consumi rimanenti]])","v":0},"HP",null,null,null,0]
["120722",12,{"$f":"+MIN(Contributo_cer[[#This Row],[Totale Immissione in rete]:[Totale Consumi rimanenti]])","v":0},"HC",null,null,null,0]
["120723",12,{"$f":"+MIN(Contributo_cer[[#This Row],[Totale Immissione in rete]:[Totale Consumi rimanenti]])","v":0},"HC",null,null,null,0]
["120800",12,{"$f":"+MIN(Contributo_cer[[#This Row],[Totale Immissione in rete]:[Totale Consumi rimanenti]])","v":0},"HC",null,null,null,0]
["120801",12,{"$f":"+MIN(Contributo_cer[[#This Row],[Totale Immissione in rete]:[Totale Consumi rimanenti]])","v":0},"HC",null,null,null,0]
["120802",12,{"$f":"+MIN(Contributo_cer[[#This Row],[Totale Immissione in rete]:[Totale Consumi rimanenti]])","v":0},"HC",null,null,null,0]
["120803",12,{"$f":"+MIN(Contributo_cer[[#This Row],[Totale Immissione in rete]:[Totale Consumi rimanenti]])","v":0},"HC",null,null,null,0]
["120804",12,{"$f":"+MIN(Contributo_cer[[#This Row],[Totale Immissione in rete]:[Totale Consumi rimanenti]])","v":0},"HC",null,null,null,0]
["120805",12,{"$f":"+MIN(Contributo_cer[[#This Row],[Totale Immissione in rete]:[Totale Consumi rimanenti]])","v":0},"HC",null,null,null,0]
["120806",12,{"$f":"+MIN(Contributo_cer[[#This Row],[Totale Immissione in rete]:[Totale Consumi rimanenti]])","v":0},"HP",null,null,null,0]
["120807",12,{"$f":"+MIN(Contributo_cer[[#This Row],[Totale Immissione in rete]:[Totale Consumi rimanenti]])","v":0},"HP",null,null,null,0]
["120808",12,{"$f":"+MIN(Contributo_cer[[#This Row],[Totale Immissione in rete]:[Totale Consumi rimanenti]])","v":0},"HP",null,null,null,0]
["120809",12,{"$f":"+MIN(Contributo_cer[[#This Row],[Totale Immissione in rete]:[Totale Consumi rimanenti]])","v":0},"HP",null,null,null,0]
["120810",12,{"$f":"+MIN(Contributo_cer[[#This Row],[Totale Immissione in rete]:[Totale Consumi rimanenti]])","v":0},"HP",null,null,null,0]
["120811",12,{"$f":"+MIN(Contributo_cer[[#This Row],[Totale Immissione in rete]:[Totale Consumi rimanenti]])","v":0},"HP",null,null,null,0]
["120812",12,{"$f":"+MIN(Contributo_cer[[#This Row],[Totale Immissione in rete]:[Totale Consumi rimanenti]])","v":0},"HP",null,null,null,0]
["120813",12,{"$f":"+MIN(Contributo_cer[[#This Row],[Totale Immissione in rete]:[Totale Consumi rimanenti]])","v":0},"HP",null,null,null,0]
["120814",12,{"$f":"+MIN(Contributo_cer[[#This Row],[Totale Immissione in rete]:[Totale Consumi rimanenti]])","v":0},"HP",null,null,null,0]
["120815",12,{"$f":"+MIN(Contributo_cer[[#This Row],[Totale Immissione in rete]:[Totale Consumi rimanenti]])","v":0},"HP",null,null,null,0]
["120816",12,{"$f":"+MIN(Contributo_cer[[#This Row],[Totale Immissione in rete]:[Totale Consumi rimanenti]])","v":0},"HP",null,null,null,0]
["120817",12,{"$f":"+MIN(Contributo_cer[[#This Row],[Totale Immissione in rete]:[Totale Consumi rimanenti]])","v":0},"HP",null,null,null,0]
["120818",12,{"$f":"+MIN(Contributo_cer[[#This Row],[Totale Immissione in rete]:[Totale Consumi rimanenti]])","v":0},"HP",null,null,null,0]
["120819",12,{"$f":"+MIN(Contributo_cer[[#This Row],[Totale Immissione in rete]:[Totale Consumi rimanenti]])","v":0},"HP",null,null,null,0]
["120820",12,{"$f":"+MIN(Contributo_cer[[#This Row],[Totale Immissione in rete]:[Totale Consumi rimanenti]])","v":0},"HP",null,null,null,0]
["120821",12,{"$f":"+MIN(Contributo_cer[[#This Row],[Totale Immissione in rete]:[Totale Consumi rimanenti]])","v":0},"HP",null,null,null,0]
["120822",12,{"$f":"+MIN(Contributo_cer[[#This Row],[Totale Immissione in rete]:[Totale Consumi rimanenti]])","v":0},"HC",null,null,null,0]
["120823",12,{"$f":"+MIN(Contributo_cer[[#This Row],[Totale Immissione in rete]:[Totale Consumi rimanenti]])","v":0},"HC",null,null,null,0]
["120900",12,{"$f":"+MIN(Contributo_cer[[#This Row],[Totale Immissione in rete]:[Totale Consumi rimanenti]])","v":0},"HC",null,null,null,0]
["120901",12,{"$f":"+MIN(Contributo_cer[[#This Row],[Totale Immissione in rete]:[Totale Consumi rimanenti]])","v":0},"HC",null,null,null,0]
["120902",12,{"$f":"+MIN(Contributo_cer[[#This Row],[Totale Immissione in rete]:[Totale Consumi rimanenti]])","v":0},"HC",null,null,null,0]
["120903",12,{"$f":"+MIN(Contributo_cer[[#This Row],[Totale Immissione in rete]:[Totale Consumi rimanenti]])","v":0},"HC",null,null,null,0]
["120904",12,{"$f":"+MIN(Contributo_cer[[#This Row],[Totale Immissione in rete]:[Totale Consumi rimanenti]])","v":0},"HC",null,null,null,0]
["120905",12,{"$f":"+MIN(Contributo_cer[[#This Row],[Totale Immissione in rete]:[Totale Consumi rimanenti]])","v":0},"HC",null,null,null,0]
["120906",12,{"$f":"+MIN(Contributo_cer[[#This Row],[Totale Immissione in rete]:[Totale Consumi rimanenti]])","v":0},"HP",null,null,null,0]
["120907",12,{"$f":"+MIN(Contributo_cer[[#This Row],[Totale Immissione in rete]:[Totale Consumi rimanenti]])","v":0},"HP",null,null,null,0]
["120908",12,{"$f":"+MIN(Contributo_cer[[#This Row],[Totale Immissione in rete]:[Totale Consumi rimanenti]])","v":0},"HP",null,null,null,0]
["120909",12,{"$f":"+MIN(Contributo_cer[[#This Row],[Totale Immissione in rete]:[Totale Consumi rimanenti]])","v":0},"HP",null,null,null,0]
["120910",12,{"$f":"+MIN(Contributo_cer[[#This Row],[Totale Immissione in rete]:[Totale Consumi rimanenti]])","v":0},"HP",null,null,null,0]
["120911",12,{"$f":"+MIN(Contributo_cer[[#This Row],[Totale Immissione in rete]:[Totale Consumi rimanenti]])","v":0},"HP",null,null,null,0]
["120912",12,{"$f":"+MIN(Contributo_cer[[#This Row],[Totale Immissione in rete]:[Totale Consumi rimanenti]])","v":0},"HP",null,null,null,0]
["120913",12,{"$f":"+MIN(Contributo_cer[[#This Row],[Totale Immissione in rete]:[Totale Consumi rimanenti]])","v":0},"HP",null,null,null,0]
["120914",12,{"$f":"+MIN(Contributo_cer[[#This Row],[Totale Immissione in rete]:[Totale Consumi rimanenti]])","v":0},"HP",null,null,null,0]
["120915",12,{"$f":"+MIN(Contributo_cer[[#This Row],[Totale Immissione in rete]:[Totale Consumi rimanenti]])","v":0},"HP",null,null,null,0]
["120916",12,{"$f":"+MIN(Contributo_cer[[#This Row],[Totale Immissione in rete]:[Totale Consumi rimanenti]])","v":0},"HP",null,null,null,0]
["120917",12,{"$f":"+MIN(Contributo_cer[[#This Row],[Totale Immissione in rete]:[Totale Consumi rimanenti]])","v":0},"HP",null,null,null,0]
["120918",12,{"$f":"+MIN(Contributo_cer[[#This Row],[Totale Immissione in rete]:[Totale Consumi rimanenti]])","v":0},"HP",null,null,null,0]
["120919",12,{"$f":"+MIN(Contributo_cer[[#This Row],[Totale Immissione in rete]:[Totale Consumi rimanenti]])","v":0},"HP",null,null,null,0]
["120920",12,{"$f":"+MIN(Contributo_cer[[#This Row],[Totale Immissione in rete]:[Totale Consumi rimanenti]])","v":0},"HP",null,null,null,0]
["120921",12,{"$f":"+MIN(Contributo_cer[[#This Row],[Totale Immissione in rete]:[Totale Consumi rimanenti]])","v":0},"HP",null,null,null,0]
["120922",12,{"$f":"+MIN(Contributo_cer[[#This Row],[Totale Immissione in rete]:[Totale Consumi rimanenti]])","v":0},"HC",null,null,null,0]
["120923",12,{"$f":"+MIN(Contributo_cer[[#This Row],[Totale Immissione in rete]:[Totale Consumi rimanenti]])","v":0},"HC",null,null,null,0]
["121000",12,{"$f":"+MIN(Contributo_cer[[#This Row],[Totale Immissione in rete]:[Totale Consumi rimanenti]])","v":0},"HC",null,null,null,0]
["121001",12,{"$f":"+MIN(Contributo_cer[[#This Row],[Totale Immissione in rete]:[Totale Consumi rimanenti]])","v":0},"HC",null,null,null,0]
["121002",12,{"$f":"+MIN(Contributo_cer[[#This Row],[Totale Immissione in rete]:[Totale Consumi rimanenti]])","v":0},"HC",null,null,null,0]
["121003",12,{"$f":"+MIN(Contributo_cer[[#This Row],[Totale Immissione in rete]:[Totale Consumi rimanenti]])","v":0},"HC",null,null,null,0]
["121004",12,{"$f":"+MIN(Contributo_cer[[#This Row],[Totale Immissione in rete]:[Totale Consumi rimanenti]])","v":0},"HC",null,null,null,0]
["121005",12,{"$f":"+MIN(Contributo_cer[[#This Row],[Totale Immissione in rete]:[Totale Consumi rimanenti]])","v":0},"HC",null,null,null,0]
["121006",12,{"$f":"+MIN(Contributo_cer[[#This Row],[Totale Immissione in rete]:[Totale Consumi rimanenti]])","v":0},"HP",null,null,null,0]
["121007",12,{"$f":"+MIN(Contributo_cer[[#This Row],[Totale Immissione in rete]:[Totale Consumi rimanenti]])","v":0},"HP",null,null,null,0]
["121008",12,{"$f":"+MIN(Contributo_cer[[#This Row],[Totale Immissione in rete]:[Totale Consumi rimanenti]])","v":0},"HP",null,null,null,0]
["121009",12,{"$f":"+MIN(Contributo_cer[[#This Row],[Totale Immissione in rete]:[Totale Consumi rimanenti]])","v":0},"HP",null,null,null,0]
["121010",12,{"$f":"+MIN(Contributo_cer[[#This Row],[Totale Immissione in rete]:[Totale Consumi rimanenti]])","v":0},"HP",null,null,null,0]
["121011",12,{"$f":"+MIN(Contributo_cer[[#This Row],[Totale Immissione in rete]:[Totale Consumi rimanenti]])","v":0},"HP",null,null,null,0]
["121012",12,{"$f":"+MIN(Contributo_cer[[#This Row],[Totale Immissione in rete]:[Totale Consumi rimanenti]])","v":0},"HP",null,null,null,0]
["121013",12,{"$f":"+MIN(Contributo_cer[[#This Row],[Totale Immissione in rete]:[Totale Consumi rimanenti]])","v":0},"HP",null,null,null,0]
["121014",12,{"$f":"+MIN(Contributo_cer[[#This Row],[Totale Immissione in rete]:[Totale Consumi rimanenti]])","v":0},"HP",null,null,null,0]
["121015",12,{"$f":"+MIN(Contributo_cer[[#This Row],[Totale Immissione in rete]:[Totale Consumi rimanenti]])","v":0},"HP",null,null,null,0]
["121016",12,{"$f":"+MIN(Contributo_cer[[#This Row],[Totale Immissione in rete]:[Totale Consumi rimanenti]])","v":0},"HP",null,null,null,0]
["121017",12,{"$f":"+MIN(Contributo_cer[[#This Row],[Totale Immissione in rete]:[Totale Consumi rimanenti]])","v":0},"HP",null,null,null,0]
["121018",12,{"$f":"+MIN(Contributo_cer[[#This Row],[Totale Immissione in rete]:[Totale Consumi rimanenti]])","v":0},"HP",null,null,null,0]
["121019",12,{"$f":"+MIN(Contributo_cer[[#This Row],[Totale Immissione in rete]:[Totale Consumi rimanenti]])","v":0},"HP",null,null,null,0]
["121020",12,{"$f":"+MIN(Contributo_cer[[#This Row],[Totale Immissione in rete]:[Totale Consumi rimanenti]])","v":0},"HP",null,null,null,0]
["121021",12,{"$f":"+MIN(Contributo_cer[[#This Row],[Totale Immissione in rete]:[Totale Consumi rimanenti]])","v":0},"HP",null,null,null,0]
["121022",12,{"$f":"+MIN(Contributo_cer[[#This Row],[Totale Immissione in rete]:[Totale Consumi rimanenti]])","v":0},"HC",null,null,null,0]
["121023",12,{"$f":"+MIN(Contributo_cer[[#This Row],[Totale Immissione in rete]:[Totale Consumi rimanenti]])","v":0},"HC",null,null,null,0]
["121100",12,{"$f":"+MIN(Contributo_cer[[#This Row],[Totale Immissione in rete]:[Totale Consumi rimanenti]])","v":0},"HC",null,null,null,0]
["121101",12,{"$f":"+MIN(Contributo_cer[[#This Row],[Totale Immissione in rete]:[Totale Consumi rimanenti]])","v":0},"HC",null,null,null,0]
["121102",12,{"$f":"+MIN(Contributo_cer[[#This Row],[Totale Immissione in rete]:[Totale Consumi rimanenti]])","v":0},"HC",null,null,null,0]
["121103",12,{"$f":"+MIN(Contributo_cer[[#This Row],[Totale Immissione in rete]:[Totale Consumi rimanenti]])","v":0},"HC",null,null,null,0]
["121104",12,{"$f":"+MIN(Contributo_cer[[#This Row],[Totale Immissione in rete]:[Totale Consumi rimanenti]])","v":0},"HC",null,null,null,0]
["121105",12,{"$f":"+MIN(Contributo_cer[[#This Row],[Totale Immissione in rete]:[Totale Consumi rimanenti]])","v":0},"HC",null,null,null,0]
["121106",12,{"$f":"+MIN(Contributo_cer[[#This Row],[Totale Immissione in rete]:[Totale Consumi rimanenti]])","v":0},"HP",null,null,null,0]
["121107",12,{"$f":"+MIN(Contributo_cer[[#This Row],[Totale Immissione in rete]:[Totale Consumi rimanenti]])","v":0},"HP",null,null,null,0]
["121108",12,{"$f":"+MIN(Contributo_cer[[#This Row],[Totale Immissione in rete]:[Totale Consumi rimanenti]])","v":0},"HP",null,null,null,0]
["121109",12,{"$f":"+MIN(Contributo_cer[[#This Row],[Totale Immissione in rete]:[Totale Consumi rimanenti]])","v":0},"HP",null,null,null,0]
["121110",12,{"$f":"+MIN(Contributo_cer[[#This Row],[Totale Immissione in rete]:[Totale Consumi rimanenti]])","v":0},"HP",null,null,null,0]
["121111",12,{"$f":"+MIN(Contributo_cer[[#This Row],[Totale Immissione in rete]:[Totale Consumi rimanenti]])","v":0},"HP",null,null,null,0]
["121112",12,{"$f":"+MIN(Contributo_cer[[#This Row],[Totale Immissione in rete]:[Totale Consumi rimanenti]])","v":0},"HP",null,null,null,0]
["121113",12,{"$f":"+MIN(Contributo_cer[[#This Row],[Totale Immissione in rete]:[Totale Consumi rimanenti]])","v":0},"HP",null,null,null,0]
["121114",12,{"$f":"+MIN(Contributo_cer[[#This Row],[Totale Immissione in rete]:[Totale Consumi rimanenti]])","v":0},"HP",null,null,null,0]
["121115",12,{"$f":"+MIN(Contributo_cer[[#This Row],[Totale Immissione in rete]:[Totale Consumi rimanenti]])","v":0},"HP",null,null,null,0]
["121116",12,{"$f":"+MIN(Contributo_cer[[#This Row],[Totale Immissione in rete]:[Totale Consumi rimanenti]])","v":0},"HP",null,null,null,0]
["121117",12,{"$f":"+MIN(Contributo_cer[[#This Row],[Totale Immissione in rete]:[Totale Consumi rimanenti]])","v":0},"HP",null,null,null,0]
["121118",12,{"$f":"+MIN(Contributo_cer[[#This Row],[Totale Immissione in rete]:[Totale Consumi rimanenti]])","v":0},"HP",null,null,null,0]
["121119",12,{"$f":"+MIN(Contributo_cer[[#This Row],[Totale Immissione in rete]:[Totale Consumi rimanenti]])","v":0},"HP",null,null,null,0]
["121120",12,{"$f":"+MIN(Contributo_cer[[#This Row],[Totale Immissione in rete]:[Totale Consumi rimanenti]])","v":0},"HP",null,null,null,0]
["121121",12,{"$f":"+MIN(Contributo_cer[[#This Row],[Totale Immissione in rete]:[Totale Consumi rimanenti]])","v":0},"HP",null,null,null,0]
["121122",12,{"$f":"+MIN(Contributo_cer[[#This Row],[Totale Immissione in rete]:[Totale Consumi rimanenti]])","v":0},"HC",null,null,null,0]
["121123",12,{"$f":"+MIN(Contributo_cer[[#This Row],[Totale Immissione in rete]:[Totale Consumi rimanenti]])","v":0},"HC",null,null,null,0]
["121200",12,{"$f":"+MIN(Contributo_cer[[#This Row],[Totale Immissione in rete]:[Totale Consumi rimanenti]])","v":0},"HC",null,null,null,0]
["121201",12,{"$f":"+MIN(Contributo_cer[[#This Row],[Totale Immissione in rete]:[Totale Consumi rimanenti]])","v":0},"HC",null,null,null,0]
["121202",12,{"$f":"+MIN(Contributo_cer[[#This Row],[Totale Immissione in rete]:[Totale Consumi rimanenti]])","v":0},"HC",null,null,null,0]
["121203",12,{"$f":"+MIN(Contributo_cer[[#This Row],[Totale Immissione in rete]:[Totale Consumi rimanenti]])","v":0},"HC",null,null,null,0]
["121204",12,{"$f":"+MIN(Contributo_cer[[#This Row],[Totale Immissione in rete]:[Totale Consumi rimanenti]])","v":0},"HC",null,null,null,0]
["121205",12,{"$f":"+MIN(Contributo_cer[[#This Row],[Totale Immissione in rete]:[Totale Consumi rimanenti]])","v":0},"HC",null,null,null,0]
["121206",12,{"$f":"+MIN(Contributo_cer[[#This Row],[Totale Immissione in rete]:[Totale Consumi rimanenti]])","v":0},"HP",null,null,null,0]
["121207",12,{"$f":"+MIN(Contributo_cer[[#This Row],[Totale Immissione in rete]:[Totale Consumi rimanenti]])","v":0},"HP",null,null,null,0]
["121208",12,{"$f":"+MIN(Contributo_cer[[#This Row],[Totale Immissione in rete]:[Totale Consumi rimanenti]])","v":0},"HP",null,null,null,0]
["121209",12,{"$f":"+MIN(Contributo_cer[[#This Row],[Totale Immissione in rete]:[Totale Consumi rimanenti]])","v":0},"HP",null,null,null,0]
["121210",12,{"$f":"+MIN(Contributo_cer[[#This Row],[Totale Immissione in rete]:[Totale Consumi rimanenti]])","v":0},"HP",null,null,null,0]
["121211",12,{"$f":"+MIN(Contributo_cer[[#This Row],[Totale Immissione in rete]:[Totale Consumi rimanenti]])","v":0},"HP",null,null,null,0]
["121212",12,{"$f":"+MIN(Contributo_cer[[#This Row],[Totale Immissione in rete]:[Totale Consumi rimanenti]])","v":0},"HP",null,null,null,0]
["121213",12,{"$f":"+MIN(Contributo_cer[[#This Row],[Totale Immissione in rete]:[Totale Consumi rimanenti]])","v":0},"HP",null,null,null,0]
["121214",12,{"$f":"+MIN(Contributo_cer[[#This Row],[Totale Immissione in rete]:[Totale Consumi rimanenti]])","v":0},"HP",null,null,null,0]
["121215",12,{"$f":"+MIN(Contributo_cer[[#This Row],[Totale Immissione in rete]:[Totale Consumi rimanenti]])","v":0},"HP",null,null,null,0]
["121216",12,{"$f":"+MIN(Contributo_cer[[#This Row],[Totale Immissione in rete]:[Totale Consumi rimanenti]])","v":0},"HP",null,null,null,0]
["121217",12,{"$f":"+MIN(Contributo_cer[[#This Row],[Totale Immissione in rete]:[Totale Consumi rimanenti]])","v":0},"HP",null,null,null,0]
["121218",12,{"$f":"+MIN(Contributo_cer[[#This Row],[Totale Immissione in rete]:[Totale Consumi rimanenti]])","v":0},"HP",null,null,null,0]
["121219",12,{"$f":"+MIN(Contributo_cer[[#This Row],[Totale Immissione in rete]:[Totale Consumi rimanenti]])","v":0},"HP",null,null,null,0]
["121220",12,{"$f":"+MIN(Contributo_cer[[#This Row],[Totale Immissione in rete]:[Totale Consumi rimanenti]])","v":0},"HP",null,null,null,0]
["121221",12,{"$f":"+MIN(Contributo_cer[[#This Row],[Totale Immissione in rete]:[Totale Consumi rimanenti]])","v":0},"HP",null,null,null,0]
["121222",12,{"$f":"+MIN(Contributo_cer[[#This Row],[Totale Immissione in rete]:[Totale Consumi rimanenti]])","v":0},"HC",null,null,null,0]
["121223",12,{"$f":"+MIN(Contributo_cer[[#This Row],[Totale Immissione in rete]:[Totale Consumi rimanenti]])","v":0},"HC",null,null,null,0]
["121300",12,{"$f":"+MIN(Contributo_cer[[#This Row],[Totale Immissione in rete]:[Totale Consumi rimanenti]])","v":0},"HC",null,null,null,0]
["121301",12,{"$f":"+MIN(Contributo_cer[[#This Row],[Totale Immissione in rete]:[Totale Consumi rimanenti]])","v":0},"HC",null,null,null,0]
["121302",12,{"$f":"+MIN(Contributo_cer[[#This Row],[Totale Immissione in rete]:[Totale Consumi rimanenti]])","v":0},"HC",null,null,null,0]
["121303",12,{"$f":"+MIN(Contributo_cer[[#This Row],[Totale Immissione in rete]:[Totale Consumi rimanenti]])","v":0},"HC",null,null,null,0]
["121304",12,{"$f":"+MIN(Contributo_cer[[#This Row],[Totale Immissione in rete]:[Totale Consumi rimanenti]])","v":0},"HC",null,null,null,0]
["121305",12,{"$f":"+MIN(Contributo_cer[[#This Row],[Totale Immissione in rete]:[Totale Consumi rimanenti]])","v":0},"HC",null,null,null,0]
["121306",12,{"$f":"+MIN(Contributo_cer[[#This Row],[Totale Immissione in rete]:[Totale Consumi rimanenti]])","v":0},"HP",null,null,null,0]
["121307",12,{"$f":"+MIN(Contributo_cer[[#This Row],[Totale Immissione in rete]:[Totale Consumi rimanenti]])","v":0},"HP",null,null,null,0]
["121308",12,{"$f":"+MIN(Contributo_cer[[#This Row],[Totale Immissione in rete]:[Totale Consumi rimanenti]])","v":0},"HP",null,null,null,0]
["121309",12,{"$f":"+MIN(Contributo_cer[[#This Row],[Totale Immissione in rete]:[Totale Consumi rimanenti]])","v":0},"HP",null,null,null,0]
["121310",12,{"$f":"+MIN(Contributo_cer[[#This Row],[Totale Immissione in rete]:[Totale Consumi rimanenti]])","v":0},"HP",null,null,null,0]
["121311",12,{"$f":"+MIN(Contributo_cer[[#This Row],[Totale Immissione in rete]:[Totale Consumi rimanenti]])","v":0},"HP",null,null,null,0]
["121312",12,{"$f":"+MIN(Contributo_cer[[#This Row],[Totale Immissione in rete]:[Totale Consumi rimanenti]])","v":0},"HP",null,null,null,0]
["121313",12,{"$f":"+MIN(Contributo_cer[[#This Row],[Totale Immissione in rete]:[Totale Consumi rimanenti]])","v":0},"HP",null,null,null,0]
["121314",12,{"$f":"+MIN(Contributo_cer[[#This Row],[Totale Immissione in rete]:[Totale Consumi rimanenti]])","v":0},"HP",null,null,null,0]
["121315",12,{"$f":"+MIN(Contributo_cer[[#This Row],[Totale Immissione in rete]:[Totale Consumi rimanenti]])","v":0},"HP",null,null,null,0]
["121316",12,{"$f":"+MIN(Contributo_cer[[#This Row],[Totale Immissione in rete]:[Totale Consumi rimanenti]])","v":0},"HP",null,null,null,0]
["121317",12,{"$f":"+MIN(Contributo_cer[[#This Row],[Totale Immissione in rete]:[Totale Consumi rimanenti]])","v":0},"HP",null,null,null,0]
["121318",12,{"$f":"+MIN(Contributo_cer[[#This Row],[Totale Immissione in rete]:[Totale Consumi rimanenti]])","v":0},"HP",null,null,null,0]
["121319",12,{"$f":"+MIN(Contributo_cer[[#This Row],[Totale Immissione in rete]:[Totale Consumi rimanenti]])","v":0},"HP",null,null,null,0]
["121320",12,{"$f":"+MIN(Contributo_cer[[#This Row],[Totale Immissione in rete]:[Totale Consumi rimanenti]])","v":0},"HP",null,null,null,0]
["121321",12,{"$f":"+MIN(Contributo_cer[[#This Row],[Totale Immissione in rete]:[Totale Consumi rimanenti]])","v":0},"HP",null,null,null,0]
["121322",12,{"$f":"+MIN(Contributo_cer[[#This Row],[Totale Immissione in rete]:[Totale Consumi rimanenti]])","v":0},"HC",null,null,null,0]
["121323",12,{"$f":"+MIN(Contributo_cer[[#This Row],[Totale Immissione in rete]:[Totale Consumi rimanenti]])","v":0},"HC",null,null,null,0]
["121400",12,{"$f":"+MIN(Contributo_cer[[#This Row],[Totale Immissione in rete]:[Totale Consumi rimanenti]])","v":0},"HC",null,null,null,0]
["121401",12,{"$f":"+MIN(Contributo_cer[[#This Row],[Totale Immissione in rete]:[Totale Consumi rimanenti]])","v":0},"HC",null,null,null,0]
["121402",12,{"$f":"+MIN(Contributo_cer[[#This Row],[Totale Immissione in rete]:[Totale Consumi rimanenti]])","v":0},"HC",null,null,null,0]
["121403",12,{"$f":"+MIN(Contributo_cer[[#This Row],[Totale Immissione in rete]:[Totale Consumi rimanenti]])","v":0},"HC",null,null,null,0]
["121404",12,{"$f":"+MIN(Contributo_cer[[#This Row],[Totale Immissione in rete]:[Totale Consumi rimanenti]])","v":0},"HC",null,null,null,0]
["121405",12,{"$f":"+MIN(Contributo_cer[[#This Row],[Totale Immissione in rete]:[Totale Consumi rimanenti]])","v":0},"HC",null,null,null,0]
["121406",12,{"$f":"+MIN(Contributo_cer[[#This Row],[Totale Immissione in rete]:[Totale Consumi rimanenti]])","v":0},"HP",null,null,null,0]
["121407",12,{"$f":"+MIN(Contributo_cer[[#This Row],[Totale Immissione in rete]:[Totale Consumi rimanenti]])","v":0},"HP",null,null,null,0]
["121408",12,{"$f":"+MIN(Contributo_cer[[#This Row],[Totale Immissione in rete]:[Totale Consumi rimanenti]])","v":0},"HP",null,null,null,0]
["121409",12,{"$f":"+MIN(Contributo_cer[[#This Row],[Totale Immissione in rete]:[Totale Consumi rimanenti]])","v":0},"HP",null,null,null,0]
["121410",12,{"$f":"+MIN(Contributo_cer[[#This Row],[Totale Immissione in rete]:[Totale Consumi rimanenti]])","v":0},"HP",null,null,null,0]
["121411",12,{"$f":"+MIN(Contributo_cer[[#This Row],[Totale Immissione in rete]:[Totale Consumi rimanenti]])","v":0},"HP",null,null,null,0]
["121412",12,{"$f":"+MIN(Contributo_cer[[#This Row],[Totale Immissione in rete]:[Totale Consumi rimanenti]])","v":0},"HP",null,null,null,0]
["121413",12,{"$f":"+MIN(Contributo_cer[[#This Row],[Totale Immissione in rete]:[Totale Consumi rimanenti]])","v":0},"HP",null,null,null,0]
["121414",12,{"$f":"+MIN(Contributo_cer[[#This Row],[Totale Immissione in rete]:[Totale Consumi rimanenti]])","v":0},"HP",null,null,null,0]
["121415",12,{"$f":"+MIN(Contributo_cer[[#This Row],[Totale Immissione in rete]:[Totale Consumi rimanenti]])","v":0},"HP",null,null,null,0]
["121416",12,{"$f":"+MIN(Contributo_cer[[#This Row],[Totale Immissione in rete]:[Totale Consumi rimanenti]])","v":0},"HP",null,null,null,0]
["121417",12,{"$f":"+MIN(Contributo_cer[[#This Row],[Totale Immissione in rete]:[Totale Consumi rimanenti]])","v":0},"HP",null,null,null,0]
["121418",12,{"$f":"+MIN(Contributo_cer[[#This Row],[Totale Immissione in rete]:[Totale Consumi rimanenti]])","v":0},"HP",null,null,null,0]
["121419",12,{"$f":"+MIN(Contributo_cer[[#This Row],[Totale Immissione in rete]:[Totale Consumi rimanenti]])","v":0},"HP",null,null,null,0]
["121420",12,{"$f":"+MIN(Contributo_cer[[#This Row],[Totale Immissione in rete]:[Totale Consumi rimanenti]])","v":0},"HP",null,null,null,0]
["121421",12,{"$f":"+MIN(Contributo_cer[[#This Row],[Totale Immissione in rete]:[Totale Consumi rimanenti]])","v":0},"HP",null,null,null,0]
["121422",12,{"$f":"+MIN(Contributo_cer[[#This Row],[Totale Immissione in rete]:[Totale Consumi rimanenti]])","v":0},"HC",null,null,null,0]
["121423",12,{"$f":"+MIN(Contributo_cer[[#This Row],[Totale Immissione in rete]:[Totale Consumi rimanenti]])","v":0},"HC",null,null,null,0]
["121500",12,{"$f":"+MIN(Contributo_cer[[#This Row],[Totale Immissione in rete]:[Totale Consumi rimanenti]])","v":0},"HC",null,null,null,0]
["121501",12,{"$f":"+MIN(Contributo_cer[[#This Row],[Totale Immissione in rete]:[Totale Consumi rimanenti]])","v":0},"HC",null,null,null,0]
["121502",12,{"$f":"+MIN(Contributo_cer[[#This Row],[Totale Immissione in rete]:[Totale Consumi rimanenti]])","v":0},"HC",null,null,null,0]
["121503",12,{"$f":"+MIN(Contributo_cer[[#This Row],[Totale Immissione in rete]:[Totale Consumi rimanenti]])","v":0},"HC",null,null,null,0]
["121504",12,{"$f":"+MIN(Contributo_cer[[#This Row],[Totale Immissione in rete]:[Totale Consumi rimanenti]])","v":0},"HC",null,null,null,0]
["121505",12,{"$f":"+MIN(Contributo_cer[[#This Row],[Totale Immissione in rete]:[Totale Consumi rimanenti]])","v":0},"HC",null,null,null,0]
["121506",12,{"$f":"+MIN(Contributo_cer[[#This Row],[Totale Immissione in rete]:[Totale Consumi rimanenti]])","v":0},"HP",null,null,null,0]
["121507",12,{"$f":"+MIN(Contributo_cer[[#This Row],[Totale Immissione in rete]:[Totale Consumi rimanenti]])","v":0},"HP",null,null,null,0]
["121508",12,{"$f":"+MIN(Contributo_cer[[#This Row],[Totale Immissione in rete]:[Totale Consumi rimanenti]])","v":0},"HP",null,null,null,0]
["121509",12,{"$f":"+MIN(Contributo_cer[[#This Row],[Totale Immissione in rete]:[Totale Consumi rimanenti]])","v":0},"HP",null,null,null,0]
["121510",12,{"$f":"+MIN(Contributo_cer[[#This Row],[Totale Immissione in rete]:[Totale Consumi rimanenti]])","v":0},"HP",null,null,null,0]
["121511",12,{"$f":"+MIN(Contributo_cer[[#This Row],[Totale Immissione in rete]:[Totale Consumi rimanenti]])","v":0},"HP",null,null,null,0]
["121512",12,{"$f":"+MIN(Contributo_cer[[#This Row],[Totale Immissione in rete]:[Totale Consumi rimanenti]])","v":0},"HP",null,null,null,0]
["121513",12,{"$f":"+MIN(Contributo_cer[[#This Row],[Totale Immissione in rete]:[Totale Consumi rimanenti]])","v":0},"HP",null,null,null,0]
["121514",12,{"$f":"+MIN(Contributo_cer[[#This Row],[Totale Immissione in rete]:[Totale Consumi rimanenti]])","v":0},"HP",null,null,null,0]
["121515",12,{"$f":"+MIN(Contributo_cer[[#This Row],[Totale Immissione in rete]:[Totale Consumi rimanenti]])","v":0},"HP",null,null,null,0]
["121516",12,{"$f":"+MIN(Contributo_cer[[#This Row],[Totale Immissione in rete]:[Totale Consumi rimanenti]])","v":0},"HP",null,null,null,0]
["121517",12,{"$f":"+MIN(Contributo_cer[[#This Row],[Totale Immissione in rete]:[Totale Consumi rimanenti]])","v":0},"HP",null,null,null,0]
["121518",12,{"$f":"+MIN(Contributo_cer[[#This Row],[Totale Immissione in rete]:[Totale Consumi rimanenti]])","v":0},"HP",null,null,null,0]
["121519",12,{"$f":"+MIN(Contributo_cer[[#This Row],[Totale Immissione in rete]:[Totale Consumi rimanenti]])","v":0},"HP",null,null,null,0]
["121520",12,{"$f":"+MIN(Contributo_cer[[#This Row],[Totale Immissione in rete]:[Totale Consumi rimanenti]])","v":0},"HP",null,null,null,0]
["121521",12,{"$f":"+MIN(Contributo_cer[[#This Row],[Totale Immissione in rete]:[Totale Consumi rimanenti]])","v":0},"HP",null,null,null,0]
["121522",12,{"$f":"+MIN(Contributo_cer[[#This Row],[Totale Immissione in rete]:[Totale Consumi rimanenti]])","v":0},"HC",null,null,null,0]
["121523",12,{"$f":"+MIN(Contributo_cer[[#This Row],[Totale Immissione in rete]:[Totale Consumi rimanenti]])","v":0},"HC",null,null,null,0]
["121600",12,{"$f":"+MIN(Contributo_cer[[#This Row],[Totale Immissione in rete]:[Totale Consumi rimanenti]])","v":0},"HC",null,null,null,0]
["121601",12,{"$f":"+MIN(Contributo_cer[[#This Row],[Totale Immissione in rete]:[Totale Consumi rimanenti]])","v":0},"HC",null,null,null,0]
["121602",12,{"$f":"+MIN(Contributo_cer[[#This Row],[Totale Immissione in rete]:[Totale Consumi rimanenti]])","v":0},"HC",null,null,null,0]
["121603",12,{"$f":"+MIN(Contributo_cer[[#This Row],[Totale Immissione in rete]:[Totale Consumi rimanenti]])","v":0},"HC",null,null,null,0]
["121604",12,{"$f":"+MIN(Contributo_cer[[#This Row],[Totale Immissione in rete]:[Totale Consumi rimanenti]])","v":0},"HC",null,null,null,0]
["121605",12,{"$f":"+MIN(Contributo_cer[[#This Row],[Totale Immissione in rete]:[Totale Consumi rimanenti]])","v":0},"HC",null,null,null,0]
["121606",12,{"$f":"+MIN(Contributo_cer[[#This Row],[Totale Immissione in rete]:[Totale Consumi rimanenti]])","v":0},"HP",null,null,null,0]
["121607",12,{"$f":"+MIN(Contributo_cer[[#This Row],[Totale Immissione in rete]:[Totale Consumi rimanenti]])","v":0},"HP",null,null,null,0]
["121608",12,{"$f":"+MIN(Contributo_cer[[#This Row],[Totale Immissione in rete]:[Totale Consumi rimanenti]])","v":0},"HP",null,null,null,0]
["121609",12,{"$f":"+MIN(Contributo_cer[[#This Row],[Totale Immissione in rete]:[Totale Consumi rimanenti]])","v":0},"HP",null,null,null,0]
["121610",12,{"$f":"+MIN(Contributo_cer[[#This Row],[Totale Immissione in rete]:[Totale Consumi rimanenti]])","v":0},"HP",null,null,null,0]
["121611",12,{"$f":"+MIN(Contributo_cer[[#This Row],[Totale Immissione in rete]:[Totale Consumi rimanenti]])","v":0},"HP",null,null,null,0]
["121612",12,{"$f":"+MIN(Contributo_cer[[#This Row],[Totale Immissione in rete]:[Totale Consumi rimanenti]])","v":0},"HP",null,null,null,0]
["121613",12,{"$f":"+MIN(Contributo_cer[[#This Row],[Totale Immissione in rete]:[Totale Consumi rimanenti]])","v":0},"HP",null,null,null,0]
["121614",12,{"$f":"+MIN(Contributo_cer[[#This Row],[Totale Immissione in rete]:[Totale Consumi rimanenti]])","v":0},"HP",null,null,null,0]
["121615",12,{"$f":"+MIN(Contributo_cer[[#This Row],[Totale Immissione in rete]:[Totale Consumi rimanenti]])","v":0},"HP",null,null,null,0]
["121616",12,{"$f":"+MIN(Contributo_cer[[#This Row],[Totale Immissione in rete]:[Totale Consumi rimanenti]])","v":0},"HP",null,null,null,0]
["121617",12,{"$f":"+MIN(Contributo_cer[[#This Row],[Totale Immissione in rete]:[Totale Consumi rimanenti]])","v":0},"HP",null,null,null,0]
["121618",12,{"$f":"+MIN(Contributo_cer[[#This Row],[Totale Immissione in rete]:[Totale Consumi rimanenti]])","v":0},"HP",null,null,null,0]
["121619",12,{"$f":"+MIN(Contributo_cer[[#This Row],[Totale Immissione in rete]:[Totale Consumi rimanenti]])","v":0},"HP",null,null,null,0]
["121620",12,{"$f":"+MIN(Contributo_cer[[#This Row],[Totale Immissione in rete]:[Totale Consumi rimanenti]])","v":0},"HP",null,null,null,0]
["121621",12,{"$f":"+MIN(Contributo_cer[[#This Row],[Totale Immissione in rete]:[Totale Consumi rimanenti]])","v":0},"HP",null,null,null,0]
["121622",12,{"$f":"+MIN(Contributo_cer[[#This Row],[Totale Immissione in rete]:[Totale Consumi rimanenti]])","v":0},"HC",null,null,null,0]
["121623",12,{"$f":"+MIN(Contributo_cer[[#This Row],[Totale Immissione in rete]:[Totale Consumi rimanenti]])","v":0},"HC",null,null,null,0]
["121700",12,{"$f":"+MIN(Contributo_cer[[#This Row],[Totale Immissione in rete]:[Totale Consumi rimanenti]])","v":0},"HC",null,null,null,0]
["121701",12,{"$f":"+MIN(Contributo_cer[[#This Row],[Totale Immissione in rete]:[Totale Consumi rimanenti]])","v":0},"HC",null,null,null,0]
["121702",12,{"$f":"+MIN(Contributo_cer[[#This Row],[Totale Immissione in rete]:[Totale Consumi rimanenti]])","v":0},"HC",null,null,null,0]
["121703",12,{"$f":"+MIN(Contributo_cer[[#This Row],[Totale Immissione in rete]:[Totale Consumi rimanenti]])","v":0},"HC",null,null,null,0]
["121704",12,{"$f":"+MIN(Contributo_cer[[#This Row],[Totale Immissione in rete]:[Totale Consumi rimanenti]])","v":0},"HC",null,null,null,0]
["121705",12,{"$f":"+MIN(Contributo_cer[[#This Row],[Totale Immissione in rete]:[Totale Consumi rimanenti]])","v":0},"HC",null,null,null,0]
["121706",12,{"$f":"+MIN(Contributo_cer[[#This Row],[Totale Immissione in rete]:[Totale Consumi rimanenti]])","v":0},"HP",null,null,null,0]
["121707",12,{"$f":"+MIN(Contributo_cer[[#This Row],[Totale Immissione in rete]:[Totale Consumi rimanenti]])","v":0},"HP",null,null,null,0]
["121708",12,{"$f":"+MIN(Contributo_cer[[#This Row],[Totale Immissione in rete]:[Totale Consumi rimanenti]])","v":0},"HP",null,null,null,0]
["121709",12,{"$f":"+MIN(Contributo_cer[[#This Row],[Totale Immissione in rete]:[Totale Consumi rimanenti]])","v":0},"HP",null,null,null,0]
["121710",12,{"$f":"+MIN(Contributo_cer[[#This Row],[Totale Immissione in rete]:[Totale Consumi rimanenti]])","v":0},"HP",null,null,null,0]
["121711",12,{"$f":"+MIN(Contributo_cer[[#This Row],[Totale Immissione in rete]:[Totale Consumi rimanenti]])","v":0},"HP",null,null,null,0]
["121712",12,{"$f":"+MIN(Contributo_cer[[#This Row],[Totale Immissione in rete]:[Totale Consumi rimanenti]])","v":0},"HP",null,null,null,0]
["121713",12,{"$f":"+MIN(Contributo_cer[[#This Row],[Totale Immissione in rete]:[Totale Consumi rimanenti]])","v":0},"HP",null,null,null,0]
["121714",12,{"$f":"+MIN(Contributo_cer[[#This Row],[Totale Immissione in rete]:[Totale Consumi rimanenti]])","v":0},"HP",null,null,null,0]
["121715",12,{"$f":"+MIN(Contributo_cer[[#This Row],[Totale Immissione in rete]:[Totale Consumi rimanenti]])","v":0},"HP",null,null,null,0]
["121716",12,{"$f":"+MIN(Contributo_cer[[#This Row],[Totale Immissione in rete]:[Totale Consumi rimanenti]])","v":0},"HP",null,null,null,0]
["121717",12,{"$f":"+MIN(Contributo_cer[[#This Row],[Totale Immissione in rete]:[Totale Consumi rimanenti]])","v":0},"HP",null,null,null,0]
["121718",12,{"$f":"+MIN(Contributo_cer[[#This Row],[Totale Immissione in rete]:[Totale Consumi rimanenti]])","v":0},"HP",null,null,null,0]
["121719",12,{"$f":"+MIN(Contributo_cer[[#This Row],[Totale Immissione in rete]:[Totale Consumi rimanenti]])","v":0},"HP",null,null,null,0]
["121720",12,{"$f":"+MIN(Contributo_cer[[#This Row],[Totale Immissione in rete]:[Totale Consumi rimanenti]])","v":0},"HP",null,null,null,0]
["121721",12,{"$f":"+MIN(Contributo_cer[[#This Row],[Totale Immissione in rete]:[Totale Consumi rimanenti]])","v":0},"HP",null,null,null,0]
["121722",12,{"$f":"+MIN(Contributo_cer[[#This Row],[Totale Immissione in rete]:[Totale Consumi rimanenti]])","v":0},"HC",null,null,null,0]
["121723",12,{"$f":"+MIN(Contributo_cer[[#This Row],[Totale Immissione in rete]:[Totale Consumi rimanenti]])","v":0},"HC",null,null,null,0]
["121800",12,{"$f":"+MIN(Contributo_cer[[#This Row],[Totale Immissione in rete]:[Totale Consumi rimanenti]])","v":0},"HC",null,null,null,0]
["121801",12,{"$f":"+MIN(Contributo_cer[[#This Row],[Totale Immissione in rete]:[Totale Consumi rimanenti]])","v":0},"HC",null,null,null,0]
["121802",12,{"$f":"+MIN(Contributo_cer[[#This Row],[Totale Immissione in rete]:[Totale Consumi rimanenti]])","v":0},"HC",null,null,null,0]
["121803",12,{"$f":"+MIN(Contributo_cer[[#This Row],[Totale Immissione in rete]:[Totale Consumi rimanenti]])","v":0},"HC",null,null,null,0]
["121804",12,{"$f":"+MIN(Contributo_cer[[#This Row],[Totale Immissione in rete]:[Totale Consumi rimanenti]])","v":0},"HC",null,null,null,0]
["121805",12,{"$f":"+MIN(Contributo_cer[[#This Row],[Totale Immissione in rete]:[Totale Consumi rimanenti]])","v":0},"HC",null,null,null,0]
["121806",12,{"$f":"+MIN(Contributo_cer[[#This Row],[Totale Immissione in rete]:[Totale Consumi rimanenti]])","v":0},"HP",null,null,null,0]
["121807",12,{"$f":"+MIN(Contributo_cer[[#This Row],[Totale Immissione in rete]:[Totale Consumi rimanenti]])","v":0},"HP",null,null,null,0]
["121808",12,{"$f":"+MIN(Contributo_cer[[#This Row],[Totale Immissione in rete]:[Totale Consumi rimanenti]])","v":0},"HP",null,null,null,0]
["121809",12,{"$f":"+MIN(Contributo_cer[[#This Row],[Totale Immissione in rete]:[Totale Consumi rimanenti]])","v":0},"HP",null,null,null,0]
["121810",12,{"$f":"+MIN(Contributo_cer[[#This Row],[Totale Immissione in rete]:[Totale Consumi rimanenti]])","v":0},"HP",null,null,null,0]
["121811",12,{"$f":"+MIN(Contributo_cer[[#This Row],[Totale Immissione in rete]:[Totale Consumi rimanenti]])","v":0},"HP",null,null,null,0]
["121812",12,{"$f":"+MIN(Contributo_cer[[#This Row],[Totale Immissione in rete]:[Totale Consumi rimanenti]])","v":0},"HP",null,null,null,0]
["121813",12,{"$f":"+MIN(Contributo_cer[[#This Row],[Totale Immissione in rete]:[Totale Consumi rimanenti]])","v":0},"HP",null,null,null,0]
["121814",12,{"$f":"+MIN(Contributo_cer[[#This Row],[Totale Immissione in rete]:[Totale Consumi rimanenti]])","v":0},"HP",null,null,null,0]
["121815",12,{"$f":"+MIN(Contributo_cer[[#This Row],[Totale Immissione in rete]:[Totale Consumi rimanenti]])","v":0},"HP",null,null,null,0]
["121816",12,{"$f":"+MIN(Contributo_cer[[#This Row],[Totale Immissione in rete]:[Totale Consumi rimanenti]])","v":0},"HP",null,null,null,0]
["121817",12,{"$f":"+MIN(Contributo_cer[[#This Row],[Totale Immissione in rete]:[Totale Consumi rimanenti]])","v":0},"HP",null,null,null,0]
["121818",12,{"$f":"+MIN(Contributo_cer[[#This Row],[Totale Immissione in rete]:[Totale Consumi rimanenti]])","v":0},"HP",null,null,null,0]
["121819",12,{"$f":"+MIN(Contributo_cer[[#This Row],[Totale Immissione in rete]:[Totale Consumi rimanenti]])","v":0},"HP",null,null,null,0]
["121820",12,{"$f":"+MIN(Contributo_cer[[#This Row],[Totale Immissione in rete]:[Totale Consumi rimanenti]])","v":0},"HP",null,null,null,0]
["121821",12,{"$f":"+MIN(Contributo_cer[[#This Row],[Totale Immissione in rete]:[Totale Consumi rimanenti]])","v":0},"HP",null,null,null,0]
["121822",12,{"$f":"+MIN(Contributo_cer[[#This Row],[Totale Immissione in rete]:[Totale Consumi rimanenti]])","v":0},"HC",null,null,null,0]
["121823",12,{"$f":"+MIN(Contributo_cer[[#This Row],[Totale Immissione in rete]:[Totale Consumi rimanenti]])","v":0},"HC",null,null,null,0]
["121900",12,{"$f":"+MIN(Contributo_cer[[#This Row],[Totale Immissione in rete]:[Totale Consumi rimanenti]])","v":0},"HC",null,null,null,0]
["121901",12,{"$f":"+MIN(Contributo_cer[[#This Row],[Totale Immissione in rete]:[Totale Consumi rimanenti]])","v":0},"HC",null,null,null,0]
["121902",12,{"$f":"+MIN(Contributo_cer[[#This Row],[Totale Immissione in rete]:[Totale Consumi rimanenti]])","v":0},"HC",null,null,null,0]
["121903",12,{"$f":"+MIN(Contributo_cer[[#This Row],[Totale Immissione in rete]:[Totale Consumi rimanenti]])","v":0},"HC",null,null,null,0]
["121904",12,{"$f":"+MIN(Contributo_cer[[#This Row],[Totale Immissione in rete]:[Totale Consumi rimanenti]])","v":0},"HC",null,null,null,0]
["121905",12,{"$f":"+MIN(Contributo_cer[[#This Row],[Totale Immissione in rete]:[Totale Consumi rimanenti]])","v":0},"HC",null,null,null,0]
["121906",12,{"$f":"+MIN(Contributo_cer[[#This Row],[Totale Immissione in rete]:[Totale Consumi rimanenti]])","v":0},"HP",null,null,null,0]
["121907",12,{"$f":"+MIN(Contributo_cer[[#This Row],[Totale Immissione in rete]:[Totale Consumi rimanenti]])","v":0},"HP",null,null,null,0]
["121908",12,{"$f":"+MIN(Contributo_cer[[#This Row],[Totale Immissione in rete]:[Totale Consumi rimanenti]])","v":0},"HP",null,null,null,0]
["121909",12,{"$f":"+MIN(Contributo_cer[[#This Row],[Totale Immissione in rete]:[Totale Consumi rimanenti]])","v":0},"HP",null,null,null,0]
["121910",12,{"$f":"+MIN(Contributo_cer[[#This Row],[Totale Immissione in rete]:[Totale Consumi rimanenti]])","v":0},"HP",null,null,null,0]
["121911",12,{"$f":"+MIN(Contributo_cer[[#This Row],[Totale Immissione in rete]:[Totale Consumi rimanenti]])","v":0},"HP",null,null,null,0]
["121912",12,{"$f":"+MIN(Contributo_cer[[#This Row],[Totale Immissione in rete]:[Totale Consumi rimanenti]])","v":0},"HP",null,null,null,0]
["121913",12,{"$f":"+MIN(Contributo_cer[[#This Row],[Totale Immissione in rete]:[Totale Consumi rimanenti]])","v":0},"HP",null,null,null,0]
["121914",12,{"$f":"+MIN(Contributo_cer[[#This Row],[Totale Immissione in rete]:[Totale Consumi rimanenti]])","v":0},"HP",null,null,null,0]
["121915",12,{"$f":"+MIN(Contributo_cer[[#This Row],[Totale Immissione in rete]:[Totale Consumi rimanenti]])","v":0},"HP",null,null,null,0]
["121916",12,{"$f":"+MIN(Contributo_cer[[#This Row],[Totale Immissione in rete]:[Totale Consumi rimanenti]])","v":0},"HP",null,null,null,0]
["121917",12,{"$f":"+MIN(Contributo_cer[[#This Row],[Totale Immissione in rete]:[Totale Consumi rimanenti]])","v":0},"HP",null,null,null,0]
["121918",12,{"$f":"+MIN(Contributo_cer[[#This Row],[Totale Immissione in rete]:[Totale Consumi rimanenti]])","v":0},"HP",null,null,null,0]
["121919",12,{"$f":"+MIN(Contributo_cer[[#This Row],[Totale Immissione in rete]:[Totale Consumi rimanenti]])","v":0},"HP",null,null,null,0]
["121920",12,{"$f":"+MIN(Contributo_cer[[#This Row],[Totale Immissione in rete]:[Totale Consumi rimanenti]])","v":0},"HP",null,null,null,0]
["121921",12,{"$f":"+MIN(Contributo_cer[[#This Row],[Totale Immissione in rete]:[Totale Consumi rimanenti]])","v":0},"HP",null,null,null,0]
["121922",12,{"$f":"+MIN(Contributo_cer[[#This Row],[Totale Immissione in rete]:[Totale Consumi rimanenti]])","v":0},"HC",null,null,null,0]
["121923",12,{"$f":"+MIN(Contributo_cer[[#This Row],[Totale Immissione in rete]:[Totale Consumi rimanenti]])","v":0},"HC",null,null,null,0]
["122000",12,{"$f":"+MIN(Contributo_cer[[#This Row],[Totale Immissione in rete]:[Totale Consumi rimanenti]])","v":0},"HC",null,null,null,0]
["122001",12,{"$f":"+MIN(Contributo_cer[[#This Row],[Totale Immissione in rete]:[Totale Consumi rimanenti]])","v":0},"HC",null,null,null,0]
["122002",12,{"$f":"+MIN(Contributo_cer[[#This Row],[Totale Immissione in rete]:[Totale Consumi rimanenti]])","v":0},"HC",null,null,null,0]
["122003",12,{"$f":"+MIN(Contributo_cer[[#This Row],[Totale Immissione in rete]:[Totale Consumi rimanenti]])","v":0},"HC",null,null,null,0]
["122004",12,{"$f":"+MIN(Contributo_cer[[#This Row],[Totale Immissione in rete]:[Totale Consumi rimanenti]])","v":0},"HC",null,null,null,0]
["122005",12,{"$f":"+MIN(Contributo_cer[[#This Row],[Totale Immissione in rete]:[Totale Consumi rimanenti]])","v":0},"HC",null,null,null,0]
["122006",12,{"$f":"+MIN(Contributo_cer[[#This Row],[Totale Immissione in rete]:[Totale Consumi rimanenti]])","v":0},"HP",null,null,null,0]
["122007",12,{"$f":"+MIN(Contributo_cer[[#This Row],[Totale Immissione in rete]:[Totale Consumi rimanenti]])","v":0},"HP",null,null,null,0]
["122008",12,{"$f":"+MIN(Contributo_cer[[#This Row],[Totale Immissione in rete]:[Totale Consumi rimanenti]])","v":0},"HP",null,null,null,0]
["122009",12,{"$f":"+MIN(Contributo_cer[[#This Row],[Totale Immissione in rete]:[Totale Consumi rimanenti]])","v":0},"HP",null,null,null,0]
["122010",12,{"$f":"+MIN(Contributo_cer[[#This Row],[Totale Immissione in rete]:[Totale Consumi rimanenti]])","v":0},"HP",null,null,null,0]
["122011",12,{"$f":"+MIN(Contributo_cer[[#This Row],[Totale Immissione in rete]:[Totale Consumi rimanenti]])","v":0},"HP",null,null,null,0]
["122012",12,{"$f":"+MIN(Contributo_cer[[#This Row],[Totale Immissione in rete]:[Totale Consumi rimanenti]])","v":0},"HP",null,null,null,0]
["122013",12,{"$f":"+MIN(Contributo_cer[[#This Row],[Totale Immissione in rete]:[Totale Consumi rimanenti]])","v":0},"HP",null,null,null,0]
["122014",12,{"$f":"+MIN(Contributo_cer[[#This Row],[Totale Immissione in rete]:[Totale Consumi rimanenti]])","v":0},"HP",null,null,null,0]
["122015",12,{"$f":"+MIN(Contributo_cer[[#This Row],[Totale Immissione in rete]:[Totale Consumi rimanenti]])","v":0},"HP",null,null,null,0]
["122016",12,{"$f":"+MIN(Contributo_cer[[#This Row],[Totale Immissione in rete]:[Totale Consumi rimanenti]])","v":0},"HP",null,null,null,0]
["122017",12,{"$f":"+MIN(Contributo_cer[[#This Row],[Totale Immissione in rete]:[Totale Consumi rimanenti]])","v":0},"HP",null,null,null,0]
["122018",12,{"$f":"+MIN(Contributo_cer[[#This Row],[Totale Immissione in rete]:[Totale Consumi rimanenti]])","v":0},"HP",null,null,null,0]
["122019",12,{"$f":"+MIN(Contributo_cer[[#This Row],[Totale Immissione in rete]:[Totale Consumi rimanenti]])","v":0},"HP",null,null,null,0]
["122020",12,{"$f":"+MIN(Contributo_cer[[#This Row],[Totale Immissione in rete]:[Totale Consumi rimanenti]])","v":0},"HP",null,null,null,0]
["122021",12,{"$f":"+MIN(Contributo_cer[[#This Row],[Totale Immissione in rete]:[Totale Consumi rimanenti]])","v":0},"HP",null,null,null,0]
["122022",12,{"$f":"+MIN(Contributo_cer[[#This Row],[Totale Immissione in rete]:[Totale Consumi rimanenti]])","v":0},"HC",null,null,null,0]
["122023",12,{"$f":"+MIN(Contributo_cer[[#This Row],[Totale Immissione in rete]:[Totale Consumi rimanenti]])","v":0},"HC",null,null,null,0]
["122100",12,{"$f":"+MIN(Contributo_cer[[#This Row],[Totale Immissione in rete]:[Totale Consumi rimanenti]])","v":0},"HC",null,null,null,0]
["122101",12,{"$f":"+MIN(Contributo_cer[[#This Row],[Totale Immissione in rete]:[Totale Consumi rimanenti]])","v":0},"HC",null,null,null,0]
["122102",12,{"$f":"+MIN(Contributo_cer[[#This Row],[Totale Immissione in rete]:[Totale Consumi rimanenti]])","v":0},"HC",null,null,null,0]
["122103",12,{"$f":"+MIN(Contributo_cer[[#This Row],[Totale Immissione in rete]:[Totale Consumi rimanenti]])","v":0},"HC",null,null,null,0]
["122104",12,{"$f":"+MIN(Contributo_cer[[#This Row],[Totale Immissione in rete]:[Totale Consumi rimanenti]])","v":0},"HC",null,null,null,0]
["122105",12,{"$f":"+MIN(Contributo_cer[[#This Row],[Totale Immissione in rete]:[Totale Consumi rimanenti]])","v":0},"HC",null,null,null,0]
["122106",12,{"$f":"+MIN(Contributo_cer[[#This Row],[Totale Immissione in rete]:[Totale Consumi rimanenti]])","v":0},"HP",null,null,null,0]
["122107",12,{"$f":"+MIN(Contributo_cer[[#This Row],[Totale Immissione in rete]:[Totale Consumi rimanenti]])","v":0},"HP",null,null,null,0]
["122108",12,{"$f":"+MIN(Contributo_cer[[#This Row],[Totale Immissione in rete]:[Totale Consumi rimanenti]])","v":0},"HP",null,null,null,0]
["122109",12,{"$f":"+MIN(Contributo_cer[[#This Row],[Totale Immissione in rete]:[Totale Consumi rimanenti]])","v":0},"HP",null,null,null,0]
["122110",12,{"$f":"+MIN(Contributo_cer[[#This Row],[Totale Immissione in rete]:[Totale Consumi rimanenti]])","v":0},"HP",null,null,null,0]
["122111",12,{"$f":"+MIN(Contributo_cer[[#This Row],[Totale Immissione in rete]:[Totale Consumi rimanenti]])","v":0},"HP",null,null,null,0]
["122112",12,{"$f":"+MIN(Contributo_cer[[#This Row],[Totale Immissione in rete]:[Totale Consumi rimanenti]])","v":0},"HP",null,null,null,0]
["122113",12,{"$f":"+MIN(Contributo_cer[[#This Row],[Totale Immissione in rete]:[Totale Consumi rimanenti]])","v":0},"HP",null,null,null,0]
["122114",12,{"$f":"+MIN(Contributo_cer[[#This Row],[Totale Immissione in rete]:[Totale Consumi rimanenti]])","v":0},"HP",null,null,null,0]
["122115",12,{"$f":"+MIN(Contributo_cer[[#This Row],[Totale Immissione in rete]:[Totale Consumi rimanenti]])","v":0},"HP",null,null,null,0]
["122116",12,{"$f":"+MIN(Contributo_cer[[#This Row],[Totale Immissione in rete]:[Totale Consumi rimanenti]])","v":0},"HP",null,null,null,0]
["122117",12,{"$f":"+MIN(Contributo_cer[[#This Row],[Totale Immissione in rete]:[Totale Consumi rimanenti]])","v":0},"HP",null,null,null,0]
["122118",12,{"$f":"+MIN(Contributo_cer[[#This Row],[Totale Immissione in rete]:[Totale Consumi rimanenti]])","v":0},"HP",null,null,null,0]
["122119",12,{"$f":"+MIN(Contributo_cer[[#This Row],[Totale Immissione in rete]:[Totale Consumi rimanenti]])","v":0},"HP",null,null,null,0]
["122120",12,{"$f":"+MIN(Contributo_cer[[#This Row],[Totale Immissione in rete]:[Totale Consumi rimanenti]])","v":0},"HP",null,null,null,0]
["122121",12,{"$f":"+MIN(Contributo_cer[[#This Row],[Totale Immissione in rete]:[Totale Consumi rimanenti]])","v":0},"HP",null,null,null,0]
["122122",12,{"$f":"+MIN(Contributo_cer[[#This Row],[Totale Immissione in rete]:[Totale Consumi rimanenti]])","v":0},"HC",null,null,null,0]
["122123",12,{"$f":"+MIN(Contributo_cer[[#This Row],[Totale Immissione in rete]:[Totale Consumi rimanenti]])","v":0},"HC",null,null,null,0]
["122200",12,{"$f":"+MIN(Contributo_cer[[#This Row],[Totale Immissione in rete]:[Totale Consumi rimanenti]])","v":0},"HC",null,null,null,0]
["122201",12,{"$f":"+MIN(Contributo_cer[[#This Row],[Totale Immissione in rete]:[Totale Consumi rimanenti]])","v":0},"HC",null,null,null,0]
["122202",12,{"$f":"+MIN(Contributo_cer[[#This Row],[Totale Immissione in rete]:[Totale Consumi rimanenti]])","v":0},"HC",null,null,null,0]
["122203",12,{"$f":"+MIN(Contributo_cer[[#This Row],[Totale Immissione in rete]:[Totale Consumi rimanenti]])","v":0},"HC",null,null,null,0]
["122204",12,{"$f":"+MIN(Contributo_cer[[#This Row],[Totale Immissione in rete]:[Totale Consumi rimanenti]])","v":0},"HC",null,null,null,0]
["122205",12,{"$f":"+MIN(Contributo_cer[[#This Row],[Totale Immissione in rete]:[Totale Consumi rimanenti]])","v":0},"HC",null,null,null,0]
["122206",12,{"$f":"+MIN(Contributo_cer[[#This Row],[Totale Immissione in rete]:[Totale Consumi rimanenti]])","v":0},"HP",null,null,null,0]
["122207",12,{"$f":"+MIN(Contributo_cer[[#This Row],[Totale Immissione in rete]:[Totale Consumi rimanenti]])","v":0},"HP",null,null,null,0]
["122208",12,{"$f":"+MIN(Contributo_cer[[#This Row],[Totale Immissione in rete]:[Totale Consumi rimanenti]])","v":0},"HP",null,null,null,0]
["122209",12,{"$f":"+MIN(Contributo_cer[[#This Row],[Totale Immissione in rete]:[Totale Consumi rimanenti]])","v":0},"HP",null,null,null,0]
["122210",12,{"$f":"+MIN(Contributo_cer[[#This Row],[Totale Immissione in rete]:[Totale Consumi rimanenti]])","v":0},"HP",null,null,null,0]
["122211",12,{"$f":"+MIN(Contributo_cer[[#This Row],[Totale Immissione in rete]:[Totale Consumi rimanenti]])","v":0},"HP",null,null,null,0]
["122212",12,{"$f":"+MIN(Contributo_cer[[#This Row],[Totale Immissione in rete]:[Totale Consumi rimanenti]])","v":0},"HP",null,null,null,0]
["122213",12,{"$f":"+MIN(Contributo_cer[[#This Row],[Totale Immissione in rete]:[Totale Consumi rimanenti]])","v":0},"HP",null,null,null,0]
["122214",12,{"$f":"+MIN(Contributo_cer[[#This Row],[Totale Immissione in rete]:[Totale Consumi rimanenti]])","v":0},"HP",null,null,null,0]
["122215",12,{"$f":"+MIN(Contributo_cer[[#This Row],[Totale Immissione in rete]:[Totale Consumi rimanenti]])","v":0},"HP",null,null,null,0]
["122216",12,{"$f":"+MIN(Contributo_cer[[#This Row],[Totale Immissione in rete]:[Totale Consumi rimanenti]])","v":0},"HP",null,null,null,0]
["122217",12,{"$f":"+MIN(Contributo_cer[[#This Row],[Totale Immissione in rete]:[Totale Consumi rimanenti]])","v":0},"HP",null,null,null,0]
["122218",12,{"$f":"+MIN(Contributo_cer[[#This Row],[Totale Immissione in rete]:[Totale Consumi rimanenti]])","v":0},"HP",null,null,null,0]
["122219",12,{"$f":"+MIN(Contributo_cer[[#This Row],[Totale Immissione in rete]:[Totale Consumi rimanenti]])","v":0},"HP",null,null,null,0]
["122220",12,{"$f":"+MIN(Contributo_cer[[#This Row],[Totale Immissione in rete]:[Totale Consumi rimanenti]])","v":0},"HP",null,null,null,0]
["122221",12,{"$f":"+MIN(Contributo_cer[[#This Row],[Totale Immissione in rete]:[Totale Consumi rimanenti]])","v":0},"HP",null,null,null,0]
["122222",12,{"$f":"+MIN(Contributo_cer[[#This Row],[Totale Immissione in rete]:[Totale Consumi rimanenti]])","v":0},"HC",null,null,null,0]
["122223",12,{"$f":"+MIN(Contributo_cer[[#This Row],[Totale Immissione in rete]:[Totale Consumi rimanenti]])","v":0},"HC",null,null,null,0]
["122300",12,{"$f":"+MIN(Contributo_cer[[#This Row],[Totale Immissione in rete]:[Totale Consumi rimanenti]])","v":0},"HC",null,null,null,0]
["122301",12,{"$f":"+MIN(Contributo_cer[[#This Row],[Totale Immissione in rete]:[Totale Consumi rimanenti]])","v":0},"HC",null,null,null,0]
["122302",12,{"$f":"+MIN(Contributo_cer[[#This Row],[Totale Immissione in rete]:[Totale Consumi rimanenti]])","v":0},"HC",null,null,null,0]
["122303",12,{"$f":"+MIN(Contributo_cer[[#This Row],[Totale Immissione in rete]:[Totale Consumi rimanenti]])","v":0},"HC",null,null,null,0]
["122304",12,{"$f":"+MIN(Contributo_cer[[#This Row],[Totale Immissione in rete]:[Totale Consumi rimanenti]])","v":0},"HC",null,null,null,0]
["122305",12,{"$f":"+MIN(Contributo_cer[[#This Row],[Totale Immissione in rete]:[Totale Consumi rimanenti]])","v":0},"HC",null,null,null,0]
["122306",12,{"$f":"+MIN(Contributo_cer[[#This Row],[Totale Immissione in rete]:[Totale Consumi rimanenti]])","v":0},"HP",null,null,null,0]
["122307",12,{"$f":"+MIN(Contributo_cer[[#This Row],[Totale Immissione in rete]:[Totale Consumi rimanenti]])","v":0},"HP",null,null,null,0]
["122308",12,{"$f":"+MIN(Contributo_cer[[#This Row],[Totale Immissione in rete]:[Totale Consumi rimanenti]])","v":0},"HP",null,null,null,0]
["122309",12,{"$f":"+MIN(Contributo_cer[[#This Row],[Totale Immissione in rete]:[Totale Consumi rimanenti]])","v":0},"HP",null,null,null,0]
["122310",12,{"$f":"+MIN(Contributo_cer[[#This Row],[Totale Immissione in rete]:[Totale Consumi rimanenti]])","v":0},"HP",null,null,null,0]
["122311",12,{"$f":"+MIN(Contributo_cer[[#This Row],[Totale Immissione in rete]:[Totale Consumi rimanenti]])","v":0},"HP",null,null,null,0]
["122312",12,{"$f":"+MIN(Contributo_cer[[#This Row],[Totale Immissione in rete]:[Totale Consumi rimanenti]])","v":0},"HP",null,null,null,0]
["122313",12,{"$f":"+MIN(Contributo_cer[[#This Row],[Totale Immissione in rete]:[Totale Consumi rimanenti]])","v":0},"HP",null,null,null,0]
["122314",12,{"$f":"+MIN(Contributo_cer[[#This Row],[Totale Immissione in rete]:[Totale Consumi rimanenti]])","v":0},"HP",null,null,null,0]
["122315",12,{"$f":"+MIN(Contributo_cer[[#This Row],[Totale Immissione in rete]:[Totale Consumi rimanenti]])","v":0},"HP",null,null,null,0]
["122316",12,{"$f":"+MIN(Contributo_cer[[#This Row],[Totale Immissione in rete]:[Totale Consumi rimanenti]])","v":0},"HP",null,null,null,0]
["122317",12,{"$f":"+MIN(Contributo_cer[[#This Row],[Totale Immissione in rete]:[Totale Consumi rimanenti]])","v":0},"HP",null,null,null,0]
["122318",12,{"$f":"+MIN(Contributo_cer[[#This Row],[Totale Immissione in rete]:[Totale Consumi rimanenti]])","v":0},"HP",null,null,null,0]
["122319",12,{"$f":"+MIN(Contributo_cer[[#This Row],[Totale Immissione in rete]:[Totale Consumi rimanenti]])","v":0},"HP",null,null,null,0]
["122320",12,{"$f":"+MIN(Contributo_cer[[#This Row],[Totale Immissione in rete]:[Totale Consumi rimanenti]])","v":0},"HP",null,null,null,0]
["122321",12,{"$f":"+MIN(Contributo_cer[[#This Row],[Totale Immissione in rete]:[Totale Consumi rimanenti]])","v":0},"HP",null,null,null,0]
["122322",12,{"$f":"+MIN(Contributo_cer[[#This Row],[Totale Immissione in rete]:[Totale Consumi rimanenti]])","v":0},"HC",null,null,null,0]
["122323",12,{"$f":"+MIN(Contributo_cer[[#This Row],[Totale Immissione in rete]:[Totale Consumi rimanenti]])","v":0},"HC",null,null,null,0]
["122400",12,{"$f":"+MIN(Contributo_cer[[#This Row],[Totale Immissione in rete]:[Totale Consumi rimanenti]])","v":0},"HC",null,null,null,0]
["122401",12,{"$f":"+MIN(Contributo_cer[[#This Row],[Totale Immissione in rete]:[Totale Consumi rimanenti]])","v":0},"HC",null,null,null,0]
["122402",12,{"$f":"+MIN(Contributo_cer[[#This Row],[Totale Immissione in rete]:[Totale Consumi rimanenti]])","v":0},"HC",null,null,null,0]
["122403",12,{"$f":"+MIN(Contributo_cer[[#This Row],[Totale Immissione in rete]:[Totale Consumi rimanenti]])","v":0},"HC",null,null,null,0]
["122404",12,{"$f":"+MIN(Contributo_cer[[#This Row],[Totale Immissione in rete]:[Totale Consumi rimanenti]])","v":0},"HC",null,null,null,0]
["122405",12,{"$f":"+MIN(Contributo_cer[[#This Row],[Totale Immissione in rete]:[Totale Consumi rimanenti]])","v":0},"HC",null,null,null,0]
["122406",12,{"$f":"+MIN(Contributo_cer[[#This Row],[Totale Immissione in rete]:[Totale Consumi rimanenti]])","v":0},"HP",null,null,null,0]
["122407",12,{"$f":"+MIN(Contributo_cer[[#This Row],[Totale Immissione in rete]:[Totale Consumi rimanenti]])","v":0},"HP",null,null,null,0]
["122408",12,{"$f":"+MIN(Contributo_cer[[#This Row],[Totale Immissione in rete]:[Totale Consumi rimanenti]])","v":0},"HP",null,null,null,0]
["122409",12,{"$f":"+MIN(Contributo_cer[[#This Row],[Totale Immissione in rete]:[Totale Consumi rimanenti]])","v":0},"HP",null,null,null,0]
["122410",12,{"$f":"+MIN(Contributo_cer[[#This Row],[Totale Immissione in rete]:[Totale Consumi rimanenti]])","v":0},"HP",null,null,null,0]
["122411",12,{"$f":"+MIN(Contributo_cer[[#This Row],[Totale Immissione in rete]:[Totale Consumi rimanenti]])","v":0},"HP",null,null,null,0]
["122412",12,{"$f":"+MIN(Contributo_cer[[#This Row],[Totale Immissione in rete]:[Totale Consumi rimanenti]])","v":0},"HP",null,null,null,0]
["122413",12,{"$f":"+MIN(Contributo_cer[[#This Row],[Totale Immissione in rete]:[Totale Consumi rimanenti]])","v":0},"HP",null,null,null,0]
["122414",12,{"$f":"+MIN(Contributo_cer[[#This Row],[Totale Immissione in rete]:[Totale Consumi rimanenti]])","v":0},"HP",null,null,null,0]
["122415",12,{"$f":"+MIN(Contributo_cer[[#This Row],[Totale Immissione in rete]:[Totale Consumi rimanenti]])","v":0},"HP",null,null,null,0]
["122416",12,{"$f":"+MIN(Contributo_cer[[#This Row],[Totale Immissione in rete]:[Totale Consumi rimanenti]])","v":0},"HP",null,null,null,0]
["122417",12,{"$f":"+MIN(Contributo_cer[[#This Row],[Totale Immissione in rete]:[Totale Consumi rimanenti]])","v":0},"HP",null,null,null,0]
["122418",12,{"$f":"+MIN(Contributo_cer[[#This Row],[Totale Immissione in rete]:[Totale Consumi rimanenti]])","v":0},"HP",null,null,null,0]
["122419",12,{"$f":"+MIN(Contributo_cer[[#This Row],[Totale Immissione in rete]:[Totale Consumi rimanenti]])","v":0},"HP",null,null,null,0]
["122420",12,{"$f":"+MIN(Contributo_cer[[#This Row],[Totale Immissione in rete]:[Totale Consumi rimanenti]])","v":0},"HP",null,null,null,0]
["122421",12,{"$f":"+MIN(Contributo_cer[[#This Row],[Totale Immissione in rete]:[Totale Consumi rimanenti]])","v":0},"HP",null,null,null,0]
["122422",12,{"$f":"+MIN(Contributo_cer[[#This Row],[Totale Immissione in rete]:[Totale Consumi rimanenti]])","v":0},"HC",null,null,null,0]
["122423",12,{"$f":"+MIN(Contributo_cer[[#This Row],[Totale Immissione in rete]:[Totale Consumi rimanenti]])","v":0},"HC",null,null,null,0]
["122500",12,{"$f":"+MIN(Contributo_cer[[#This Row],[Totale Immissione in rete]:[Totale Consumi rimanenti]])","v":0},"HC",null,null,null,0]
["122501",12,{"$f":"+MIN(Contributo_cer[[#This Row],[Totale Immissione in rete]:[Totale Consumi rimanenti]])","v":0},"HC",null,null,null,0]
["122502",12,{"$f":"+MIN(Contributo_cer[[#This Row],[Totale Immissione in rete]:[Totale Consumi rimanenti]])","v":0},"HC",null,null,null,0]
["122503",12,{"$f":"+MIN(Contributo_cer[[#This Row],[Totale Immissione in rete]:[Totale Consumi rimanenti]])","v":0},"HC",null,null,null,0]
["122504",12,{"$f":"+MIN(Contributo_cer[[#This Row],[Totale Immissione in rete]:[Totale Consumi rimanenti]])","v":0},"HC",null,null,null,0]
["122505",12,{"$f":"+MIN(Contributo_cer[[#This Row],[Totale Immissione in rete]:[Totale Consumi rimanenti]])","v":0},"HC",null,null,null,0]
["122506",12,{"$f":"+MIN(Contributo_cer[[#This Row],[Totale Immissione in rete]:[Totale Consumi rimanenti]])","v":0},"HP",null,null,null,0]
["122507",12,{"$f":"+MIN(Contributo_cer[[#This Row],[Totale Immissione in rete]:[Totale Consumi rimanenti]])","v":0},"HP",null,null,null,0]
["122508",12,{"$f":"+MIN(Contributo_cer[[#This Row],[Totale Immissione in rete]:[Totale Consumi rimanenti]])","v":0},"HP",null,null,null,0]
["122509",12,{"$f":"+MIN(Contributo_cer[[#This Row],[Totale Immissione in rete]:[Totale Consumi rimanenti]])","v":0},"HP",null,null,null,0]
["122510",12,{"$f":"+MIN(Contributo_cer[[#This Row],[Totale Immissione in rete]:[Totale Consumi rimanenti]])","v":0},"HP",null,null,null,0]
["122511",12,{"$f":"+MIN(Contributo_cer[[#This Row],[Totale Immissione in rete]:[Totale Consumi rimanenti]])","v":0},"HP",null,null,null,0]
["122512",12,{"$f":"+MIN(Contributo_cer[[#This Row],[Totale Immissione in rete]:[Totale Consumi rimanenti]])","v":0},"HP",null,null,null,0]
["122513",12,{"$f":"+MIN(Contributo_cer[[#This Row],[Totale Immissione in rete]:[Totale Consumi rimanenti]])","v":0},"HP",null,null,null,0]
["122514",12,{"$f":"+MIN(Contributo_cer[[#This Row],[Totale Immissione in rete]:[Totale Consumi rimanenti]])","v":0},"HP",null,null,null,0]
["122515",12,{"$f":"+MIN(Contributo_cer[[#This Row],[Totale Immissione in rete]:[Totale Consumi rimanenti]])","v":0},"HP",null,null,null,0]
["122516",12,{"$f":"+MIN(Contributo_cer[[#This Row],[Totale Immissione in rete]:[Totale Consumi rimanenti]])","v":0},"HP",null,null,null,0]
["122517",12,{"$f":"+MIN(Contributo_cer[[#This Row],[Totale Immissione in rete]:[Totale Consumi rimanenti]])","v":0},"HP",null,null,null,0]
["122518",12,{"$f":"+MIN(Contributo_cer[[#This Row],[Totale Immissione in rete]:[Totale Consumi rimanenti]])","v":0},"HP",null,null,null,0]
["122519",12,{"$f":"+MIN(Contributo_cer[[#This Row],[Totale Immissione in rete]:[Totale Consumi rimanenti]])","v":0},"HP",null,null,null,0]
["122520",12,{"$f":"+MIN(Contributo_cer[[#This Row],[Totale Immissione in rete]:[Totale Consumi rimanenti]])","v":0},"HP",null,null,null,0]
["122521",12,{"$f":"+MIN(Contributo_cer[[#This Row],[Totale Immissione in rete]:[Totale Consumi rimanenti]])","v":0},"HP",null,null,null,0]
["122522",12,{"$f":"+MIN(Contributo_cer[[#This Row],[Totale Immissione in rete]:[Totale Consumi rimanenti]])","v":0},"HC",null,null,null,0]
["122523",12,{"$f":"+MIN(Contributo_cer[[#This Row],[Totale Immissione in rete]:[Totale Consumi rimanenti]])","v":0},"HC",null,null,null,0]
["122600",12,{"$f":"+MIN(Contributo_cer[[#This Row],[Totale Immissione in rete]:[Totale Consumi rimanenti]])","v":0},"HC",null,null,null,0]
["122601",12,{"$f":"+MIN(Contributo_cer[[#This Row],[Totale Immissione in rete]:[Totale Consumi rimanenti]])","v":0},"HC",null,null,null,0]
["122602",12,{"$f":"+MIN(Contributo_cer[[#This Row],[Totale Immissione in rete]:[Totale Consumi rimanenti]])","v":0},"HC",null,null,null,0]
["122603",12,{"$f":"+MIN(Contributo_cer[[#This Row],[Totale Immissione in rete]:[Totale Consumi rimanenti]])","v":0},"HC",null,null,null,0]
["122604",12,{"$f":"+MIN(Contributo_cer[[#This Row],[Totale Immissione in rete]:[Totale Consumi rimanenti]])","v":0},"HC",null,null,null,0]
["122605",12,{"$f":"+MIN(Contributo_cer[[#This Row],[Totale Immissione in rete]:[Totale Consumi rimanenti]])","v":0},"HC",null,null,null,0]
["122606",12,{"$f":"+MIN(Contributo_cer[[#This Row],[Totale Immissione in rete]:[Totale Consumi rimanenti]])","v":0},"HP",null,null,null,0]
["122607",12,{"$f":"+MIN(Contributo_cer[[#This Row],[Totale Immissione in rete]:[Totale Consumi rimanenti]])","v":0},"HP",null,null,null,0]
["122608",12,{"$f":"+MIN(Contributo_cer[[#This Row],[Totale Immissione in rete]:[Totale Consumi rimanenti]])","v":0},"HP",null,null,null,0]
["122609",12,{"$f":"+MIN(Contributo_cer[[#This Row],[Totale Immissione in rete]:[Totale Consumi rimanenti]])","v":0},"HP",null,null,null,0]
["122610",12,{"$f":"+MIN(Contributo_cer[[#This Row],[Totale Immissione in rete]:[Totale Consumi rimanenti]])","v":0},"HP",null,null,null,0]
["122611",12,{"$f":"+MIN(Contributo_cer[[#This Row],[Totale Immissione in rete]:[Totale Consumi rimanenti]])","v":0},"HP",null,null,null,0]
["122612",12,{"$f":"+MIN(Contributo_cer[[#This Row],[Totale Immissione in rete]:[Totale Consumi rimanenti]])","v":0},"HP",null,null,null,0]
["122613",12,{"$f":"+MIN(Contributo_cer[[#This Row],[Totale Immissione in rete]:[Totale Consumi rimanenti]])","v":0},"HP",null,null,null,0]
["122614",12,{"$f":"+MIN(Contributo_cer[[#This Row],[Totale Immissione in rete]:[Totale Consumi rimanenti]])","v":0},"HP",null,null,null,0]
["122615",12,{"$f":"+MIN(Contributo_cer[[#This Row],[Totale Immissione in rete]:[Totale Consumi rimanenti]])","v":0},"HP",null,null,null,0]
["122616",12,{"$f":"+MIN(Contributo_cer[[#This Row],[Totale Immissione in rete]:[Totale Consumi rimanenti]])","v":0},"HP",null,null,null,0]
["122617",12,{"$f":"+MIN(Contributo_cer[[#This Row],[Totale Immissione in rete]:[Totale Consumi rimanenti]])","v":0},"HP",null,null,null,0]
["122618",12,{"$f":"+MIN(Contributo_cer[[#This Row],[Totale Immissione in rete]:[Totale Consumi rimanenti]])","v":0},"HP",null,null,null,0]
["122619",12,{"$f":"+MIN(Contributo_cer[[#This Row],[Totale Immissione in rete]:[Totale Consumi rimanenti]])","v":0},"HP",null,null,null,0]
["122620",12,{"$f":"+MIN(Contributo_cer[[#This Row],[Totale Immissione in rete]:[Totale Consumi rimanenti]])","v":0},"HP",null,null,null,0]
["122621",12,{"$f":"+MIN(Contributo_cer[[#This Row],[Totale Immissione in rete]:[Totale Consumi rimanenti]])","v":0},"HP",null,null,null,0]
["122622",12,{"$f":"+MIN(Contributo_cer[[#This Row],[Totale Immissione in rete]:[Totale Consumi rimanenti]])","v":0},"HC",null,null,null,0]
["122623",12,{"$f":"+MIN(Contributo_cer[[#This Row],[Totale Immissione in rete]:[Totale Consumi rimanenti]])","v":0},"HC",null,null,null,0]
["122700",12,{"$f":"+MIN(Contributo_cer[[#This Row],[Totale Immissione in rete]:[Totale Consumi rimanenti]])","v":0},"HC",null,null,null,0]
["122701",12,{"$f":"+MIN(Contributo_cer[[#This Row],[Totale Immissione in rete]:[Totale Consumi rimanenti]])","v":0},"HC",null,null,null,0]
["122702",12,{"$f":"+MIN(Contributo_cer[[#This Row],[Totale Immissione in rete]:[Totale Consumi rimanenti]])","v":0},"HC",null,null,null,0]
["122703",12,{"$f":"+MIN(Contributo_cer[[#This Row],[Totale Immissione in rete]:[Totale Consumi rimanenti]])","v":0},"HC",null,null,null,0]
["122704",12,{"$f":"+MIN(Contributo_cer[[#This Row],[Totale Immissione in rete]:[Totale Consumi rimanenti]])","v":0},"HC",null,null,null,0]
["122705",12,{"$f":"+MIN(Contributo_cer[[#This Row],[Totale Immissione in rete]:[Totale Consumi rimanenti]])","v":0},"HC",null,null,null,0]
["122706",12,{"$f":"+MIN(Contributo_cer[[#This Row],[Totale Immissione in rete]:[Totale Consumi rimanenti]])","v":0},"HP",null,null,null,0]
["122707",12,{"$f":"+MIN(Contributo_cer[[#This Row],[Totale Immissione in rete]:[Totale Consumi rimanenti]])","v":0},"HP",null,null,null,0]
["122708",12,{"$f":"+MIN(Contributo_cer[[#This Row],[Totale Immissione in rete]:[Totale Consumi rimanenti]])","v":0},"HP",null,null,null,0]
["122709",12,{"$f":"+MIN(Contributo_cer[[#This Row],[Totale Immissione in rete]:[Totale Consumi rimanenti]])","v":0},"HP",null,null,null,0]
["122710",12,{"$f":"+MIN(Contributo_cer[[#This Row],[Totale Immissione in rete]:[Totale Consumi rimanenti]])","v":0},"HP",null,null,null,0]
["122711",12,{"$f":"+MIN(Contributo_cer[[#This Row],[Totale Immissione in rete]:[Totale Consumi rimanenti]])","v":0},"HP",null,null,null,0]
["122712",12,{"$f":"+MIN(Contributo_cer[[#This Row],[Totale Immissione in rete]:[Totale Consumi rimanenti]])","v":0},"HP",null,null,null,0]
["122713",12,{"$f":"+MIN(Contributo_cer[[#This Row],[Totale Immissione in rete]:[Totale Consumi rimanenti]])","v":0},"HP",null,null,null,0]
["122714",12,{"$f":"+MIN(Contributo_cer[[#This Row],[Totale Immissione in rete]:[Totale Consumi rimanenti]])","v":0},"HP",null,null,null,0]
["122715",12,{"$f":"+MIN(Contributo_cer[[#This Row],[Totale Immissione in rete]:[Totale Consumi rimanenti]])","v":0},"HP",null,null,null,0]
["122716",12,{"$f":"+MIN(Contributo_cer[[#This Row],[Totale Immissione in rete]:[Totale Consumi rimanenti]])","v":0},"HP",null,null,null,0]
["122717",12,{"$f":"+MIN(Contributo_cer[[#This Row],[Totale Immissione in rete]:[Totale Consumi rimanenti]])","v":0},"HP",null,null,null,0]
["122718",12,{"$f":"+MIN(Contributo_cer[[#This Row],[Totale Immissione in rete]:[Totale Consumi rimanenti]])","v":0},"HP",null,null,null,0]
["122719",12,{"$f":"+MIN(Contributo_cer[[#This Row],[Totale Immissione in rete]:[Totale Consumi rimanenti]])","v":0},"HP",null,null,null,0]
["122720",12,{"$f":"+MIN(Contributo_cer[[#This Row],[Totale Immissione in rete]:[Totale Consumi rimanenti]])","v":0},"HP",null,null,null,0]
["122721",12,{"$f":"+MIN(Contributo_cer[[#This Row],[Totale Immissione in rete]:[Totale Consumi rimanenti]])","v":0},"HP",null,null,null,0]
["122722",12,{"$f":"+MIN(Contributo_cer[[#This Row],[Totale Immissione in rete]:[Totale Consumi rimanenti]])","v":0},"HC",null,null,null,0]
["122723",12,{"$f":"+MIN(Contributo_cer[[#This Row],[Totale Immissione in rete]:[Totale Consumi rimanenti]])","v":0},"HC",null,null,null,0]
["122800",12,{"$f":"+MIN(Contributo_cer[[#This Row],[Totale Immissione in rete]:[Totale Consumi rimanenti]])","v":0},"HC",null,null,null,0]
["122801",12,{"$f":"+MIN(Contributo_cer[[#This Row],[Totale Immissione in rete]:[Totale Consumi rimanenti]])","v":0},"HC",null,null,null,0]
["122802",12,{"$f":"+MIN(Contributo_cer[[#This Row],[Totale Immissione in rete]:[Totale Consumi rimanenti]])","v":0},"HC",null,null,null,0]
["122803",12,{"$f":"+MIN(Contributo_cer[[#This Row],[Totale Immissione in rete]:[Totale Consumi rimanenti]])","v":0},"HC",null,null,null,0]
["122804",12,{"$f":"+MIN(Contributo_cer[[#This Row],[Totale Immissione in rete]:[Totale Consumi rimanenti]])","v":0},"HC",null,null,null,0]
["122805",12,{"$f":"+MIN(Contributo_cer[[#This Row],[Totale Immissione in rete]:[Totale Consumi rimanenti]])","v":0},"HC",null,null,null,0]
["122806",12,{"$f":"+MIN(Contributo_cer[[#This Row],[Totale Immissione in rete]:[Totale Consumi rimanenti]])","v":0},"HP",null,null,null,0]
["122807",12,{"$f":"+MIN(Contributo_cer[[#This Row],[Totale Immissione in rete]:[Totale Consumi rimanenti]])","v":0},"HP",null,null,null,0]
["122808",12,{"$f":"+MIN(Contributo_cer[[#This Row],[Totale Immissione in rete]:[Totale Consumi rimanenti]])","v":0},"HP",null,null,null,0]
["122809",12,{"$f":"+MIN(Contributo_cer[[#This Row],[Totale Immissione in rete]:[Totale Consumi rimanenti]])","v":0},"HP",null,null,null,0]
["122810",12,{"$f":"+MIN(Contributo_cer[[#This Row],[Totale Immissione in rete]:[Totale Consumi rimanenti]])","v":0},"HP",null,null,null,0]
["122811",12,{"$f":"+MIN(Contributo_cer[[#This Row],[Totale Immissione in rete]:[Totale Consumi rimanenti]])","v":0},"HP",null,null,null,0]
["122812",12,{"$f":"+MIN(Contributo_cer[[#This Row],[Totale Immissione in rete]:[Totale Consumi rimanenti]])","v":0},"HP",null,null,null,0]
["122813",12,{"$f":"+MIN(Contributo_cer[[#This Row],[Totale Immissione in rete]:[Totale Consumi rimanenti]])","v":0},"HP",null,null,null,0]
["122814",12,{"$f":"+MIN(Contributo_cer[[#This Row],[Totale Immissione in rete]:[Totale Consumi rimanenti]])","v":0},"HP",null,null,null,0]
["122815",12,{"$f":"+MIN(Contributo_cer[[#This Row],[Totale Immissione in rete]:[Totale Consumi rimanenti]])","v":0},"HP",null,null,null,0]
["122816",12,{"$f":"+MIN(Contributo_cer[[#This Row],[Totale Immissione in rete]:[Totale Consumi rimanenti]])","v":0},"HP",null,null,null,0]
["122817",12,{"$f":"+MIN(Contributo_cer[[#This Row],[Totale Immissione in rete]:[Totale Consumi rimanenti]])","v":0},"HP",null,null,null,0]
["122818",12,{"$f":"+MIN(Contributo_cer[[#This Row],[Totale Immissione in rete]:[Totale Consumi rimanenti]])","v":0},"HP",null,null,null,0]
["122819",12,{"$f":"+MIN(Contributo_cer[[#This Row],[Totale Immissione in rete]:[Totale Consumi rimanenti]])","v":0},"HP",null,null,null,0]
["122820",12,{"$f":"+MIN(Contributo_cer[[#This Row],[Totale Immissione in rete]:[Totale Consumi rimanenti]])","v":0},"HP",null,null,null,0]
["122821",12,{"$f":"+MIN(Contributo_cer[[#This Row],[Totale Immissione in rete]:[Totale Consumi rimanenti]])","v":0},"HP",null,null,null,0]
["122822",12,{"$f":"+MIN(Contributo_cer[[#This Row],[Totale Immissione in rete]:[Totale Consumi rimanenti]])","v":0},"HC",null,null,null,0]
["122823",12,{"$f":"+MIN(Contributo_cer[[#This Row],[Totale Immissione in rete]:[Totale Consumi rimanenti]])","v":0},"HC",null,null,null,0]
["122900",12,{"$f":"+MIN(Contributo_cer[[#This Row],[Totale Immissione in rete]:[Totale Consumi rimanenti]])","v":0},"HC",null,null,null,0]
["122901",12,{"$f":"+MIN(Contributo_cer[[#This Row],[Totale Immissione in rete]:[Totale Consumi rimanenti]])","v":0},"HC",null,null,null,0]
["122902",12,{"$f":"+MIN(Contributo_cer[[#This Row],[Totale Immissione in rete]:[Totale Consumi rimanenti]])","v":0},"HC",null,null,null,0]
["122903",12,{"$f":"+MIN(Contributo_cer[[#This Row],[Totale Immissione in rete]:[Totale Consumi rimanenti]])","v":0},"HC",null,null,null,0]
["122904",12,{"$f":"+MIN(Contributo_cer[[#This Row],[Totale Immissione in rete]:[Totale Consumi rimanenti]])","v":0},"HC",null,null,null,0]
["122905",12,{"$f":"+MIN(Contributo_cer[[#This Row],[Totale Immissione in rete]:[Totale Consumi rimanenti]])","v":0},"HC",null,null,null,0]
["122906",12,{"$f":"+MIN(Contributo_cer[[#This Row],[Totale Immissione in rete]:[Totale Consumi rimanenti]])","v":0},"HP",null,null,null,0]
["122907",12,{"$f":"+MIN(Contributo_cer[[#This Row],[Totale Immissione in rete]:[Totale Consumi rimanenti]])","v":0},"HP",null,null,null,0]
["122908",12,{"$f":"+MIN(Contributo_cer[[#This Row],[Totale Immissione in rete]:[Totale Consumi rimanenti]])","v":0},"HP",null,null,null,0]
["122909",12,{"$f":"+MIN(Contributo_cer[[#This Row],[Totale Immissione in rete]:[Totale Consumi rimanenti]])","v":0},"HP",null,null,null,0]
["122910",12,{"$f":"+MIN(Contributo_cer[[#This Row],[Totale Immissione in rete]:[Totale Consumi rimanenti]])","v":0},"HP",null,null,null,0]
["122911",12,{"$f":"+MIN(Contributo_cer[[#This Row],[Totale Immissione in rete]:[Totale Consumi rimanenti]])","v":0},"HP",null,null,null,0]
["122912",12,{"$f":"+MIN(Contributo_cer[[#This Row],[Totale Immissione in rete]:[Totale Consumi rimanenti]])","v":0},"HP",null,null,null,0]
["122913",12,{"$f":"+MIN(Contributo_cer[[#This Row],[Totale Immissione in rete]:[Totale Consumi rimanenti]])","v":0},"HP",null,null,null,0]
["122914",12,{"$f":"+MIN(Contributo_cer[[#This Row],[Totale Immissione in rete]:[Totale Consumi rimanenti]])","v":0},"HP",null,null,null,0]
["122915",12,{"$f":"+MIN(Contributo_cer[[#This Row],[Totale Immissione in rete]:[Totale Consumi rimanenti]])","v":0},"HP",null,null,null,0]
["122916",12,{"$f":"+MIN(Contributo_cer[[#This Row],[Totale Immissione in rete]:[Totale Consumi rimanenti]])","v":0},"HP",null,null,null,0]
["122917",12,{"$f":"+MIN(Contributo_cer[[#This Row],[Totale Immissione in rete]:[Totale Consumi rimanenti]])","v":0},"HP",null,null,null,0]
["122918",12,{"$f":"+MIN(Contributo_cer[[#This Row],[Totale Immissione in rete]:[Totale Consumi rimanenti]])","v":0},"HP",null,null,null,0]
["122919",12,{"$f":"+MIN(Contributo_cer[[#This Row],[Totale Immissione in rete]:[Totale Consumi rimanenti]])","v":0},"HP",null,null,null,0]
["122920",12,{"$f":"+MIN(Contributo_cer[[#This Row],[Totale Immissione in rete]:[Totale Consumi rimanenti]])","v":0},"HP",null,null,null,0]
["122921",12,{"$f":"+MIN(Contributo_cer[[#This Row],[Totale Immissione in rete]:[Totale Consumi rimanenti]])","v":0},"HP",null,null,null,0]
["122922",12,{"$f":"+MIN(Contributo_cer[[#This Row],[Totale Immissione in rete]:[Totale Consumi rimanenti]])","v":0},"HC",null,null,null,0]
["122923",12,{"$f":"+MIN(Contributo_cer[[#This Row],[Totale Immissione in rete]:[Totale Consumi rimanenti]])","v":0},"HC",null,null,null,0]
["123000",12,{"$f":"+MIN(Contributo_cer[[#This Row],[Totale Immissione in rete]:[Totale Consumi rimanenti]])","v":0},"HC",null,null,null,0]
["123001",12,{"$f":"+MIN(Contributo_cer[[#This Row],[Totale Immissione in rete]:[Totale Consumi rimanenti]])","v":0},"HC",null,null,null,0]
["123002",12,{"$f":"+MIN(Contributo_cer[[#This Row],[Totale Immissione in rete]:[Totale Consumi rimanenti]])","v":0},"HC",null,null,null,0]
["123003",12,{"$f":"+MIN(Contributo_cer[[#This Row],[Totale Immissione in rete]:[Totale Consumi rimanenti]])","v":0},"HC",null,null,null,0]
["123004",12,{"$f":"+MIN(Contributo_cer[[#This Row],[Totale Immissione in rete]:[Totale Consumi rimanenti]])","v":0},"HC",null,null,null,0]
["123005",12,{"$f":"+MIN(Contributo_cer[[#This Row],[Totale Immissione in rete]:[Totale Consumi rimanenti]])","v":0},"HC",null,null,null,0]
["123006",12,{"$f":"+MIN(Contributo_cer[[#This Row],[Totale Immissione in rete]:[Totale Consumi rimanenti]])","v":0},"HP",null,null,null,0]
["123007",12,{"$f":"+MIN(Contributo_cer[[#This Row],[Totale Immissione in rete]:[Totale Consumi rimanenti]])","v":0},"HP",null,null,null,0]
["123008",12,{"$f":"+MIN(Contributo_cer[[#This Row],[Totale Immissione in rete]:[Totale Consumi rimanenti]])","v":0},"HP",null,null,null,0]
["123009",12,{"$f":"+MIN(Contributo_cer[[#This Row],[Totale Immissione in rete]:[Totale Consumi rimanenti]])","v":0},"HP",null,null,null,0]
["123010",12,{"$f":"+MIN(Contributo_cer[[#This Row],[Totale Immissione in rete]:[Totale Consumi rimanenti]])","v":0},"HP",null,null,null,0]
["123011",12,{"$f":"+MIN(Contributo_cer[[#This Row],[Totale Immissione in rete]:[Totale Consumi rimanenti]])","v":0},"HP",null,null,null,0]
["123012",12,{"$f":"+MIN(Contributo_cer[[#This Row],[Totale Immissione in rete]:[Totale Consumi rimanenti]])","v":0},"HP",null,null,null,0]
["123013",12,{"$f":"+MIN(Contributo_cer[[#This Row],[Totale Immissione in rete]:[Totale Consumi rimanenti]])","v":0},"HP",null,null,null,0]
["123014",12,{"$f":"+MIN(Contributo_cer[[#This Row],[Totale Immissione in rete]:[Totale Consumi rimanenti]])","v":0},"HP",null,null,null,0]
["123015",12,{"$f":"+MIN(Contributo_cer[[#This Row],[Totale Immissione in rete]:[Totale Consumi rimanenti]])","v":0},"HP",null,null,null,0]
["123016",12,{"$f":"+MIN(Contributo_cer[[#This Row],[Totale Immissione in rete]:[Totale Consumi rimanenti]])","v":0},"HP",null,null,null,0]
["123017",12,{"$f":"+MIN(Contributo_cer[[#This Row],[Totale Immissione in rete]:[Totale Consumi rimanenti]])","v":0},"HP",null,null,null,0]
["123018",12,{"$f":"+MIN(Contributo_cer[[#This Row],[Totale Immissione in rete]:[Totale Consumi rimanenti]])","v":0},"HP",null,null,null,0]
["123019",12,{"$f":"+MIN(Contributo_cer[[#This Row],[Totale Immissione in rete]:[Totale Consumi rimanenti]])","v":0},"HP",null,null,null,0]
["123020",12,{"$f":"+MIN(Contributo_cer[[#This Row],[Totale Immissione in rete]:[Totale Consumi rimanenti]])","v":0},"HP",null,null,null,0]
["123021",12,{"$f":"+MIN(Contributo_cer[[#This Row],[Totale Immissione in rete]:[Totale Consumi rimanenti]])","v":0},"HP",null,null,null,0]
["123022",12,{"$f":"+MIN(Contributo_cer[[#This Row],[Totale Immissione in rete]:[Totale Consumi rimanenti]])","v":0},"HC",null,null,null,0]
["123023",12,{"$f":"+MIN(Contributo_cer[[#This Row],[Totale Immissione in rete]:[Totale Consumi rimanenti]])","v":0},"HC",null,null,null,0]
["123100",12,{"$f":"+MIN(Contributo_cer[[#This Row],[Totale Immissione in rete]:[Totale Consumi rimanenti]])","v":0},"HC",null,null,null,0]
["123101",12,{"$f":"+MIN(Contributo_cer[[#This Row],[Totale Immissione in rete]:[Totale Consumi rimanenti]])","v":0},"HC",null,null,null,0]
["123102",12,{"$f":"+MIN(Contributo_cer[[#This Row],[Totale Immissione in rete]:[Totale Consumi rimanenti]])","v":0},"HC",null,null,null,0]
["123103",12,{"$f":"+MIN(Contributo_cer[[#This Row],[Totale Immissione in rete]:[Totale Consumi rimanenti]])","v":0},"HC",null,null,null,0]
["123104",12,{"$f":"+MIN(Contributo_cer[[#This Row],[Totale Immissione in rete]:[Totale Consumi rimanenti]])","v":0},"HC",null,null,null,0]
["123105",12,{"$f":"+MIN(Contributo_cer[[#This Row],[Totale Immissione in rete]:[Totale Consumi rimanenti]])","v":0},"HC",null,null,null,0]
["123106",12,{"$f":"+MIN(Contributo_cer[[#This Row],[Totale Immissione in rete]:[Totale Consumi rimanenti]])","v":0},"HP",null,null,null,0]
["123107",12,{"$f":"+MIN(Contributo_cer[[#This Row],[Totale Immissione in rete]:[Totale Consumi rimanenti]])","v":0},"HP",null,null,null,0]
["123108",12,{"$f":"+MIN(Contributo_cer[[#This Row],[Totale Immissione in rete]:[Totale Consumi rimanenti]])","v":0},"HP",null,null,null,0]
["123109",12,{"$f":"+MIN(Contributo_cer[[#This Row],[Totale Immissione in rete]:[Totale Consumi rimanenti]])","v":0},"HP",null,null,null,0]
["123110",12,{"$f":"+MIN(Contributo_cer[[#This Row],[Totale Immissione in rete]:[Totale Consumi rimanenti]])","v":0},"HP",null,null,null,0]
["123111",12,{"$f":"+MIN(Contributo_cer[[#This Row],[Totale Immissione in rete]:[Totale Consumi rimanenti]])","v":0},"HP",null,null,null,0]
["123112",12,{"$f":"+MIN(Contributo_cer[[#This Row],[Totale Immissione in rete]:[Totale Consumi rimanenti]])","v":0},"HP",null,null,null,0]
["123113",12,{"$f":"+MIN(Contributo_cer[[#This Row],[Totale Immissione in rete]:[Totale Consumi rimanenti]])","v":0},"HP",null,null,null,0]
["123114",12,{"$f":"+MIN(Contributo_cer[[#This Row],[Totale Immissione in rete]:[Totale Consumi rimanenti]])","v":0},"HP",null,null,null,0]
["123115",12,{"$f":"+MIN(Contributo_cer[[#This Row],[Totale Immissione in rete]:[Totale Consumi rimanenti]])","v":0},"HP",null,null,null,0]
["123116",12,{"$f":"+MIN(Contributo_cer[[#This Row],[Totale Immissione in rete]:[Totale Consumi rimanenti]])","v":0},"HP",null,null,null,0]
["123117",12,{"$f":"+MIN(Contributo_cer[[#This Row],[Totale Immissione in rete]:[Totale Consumi rimanenti]])","v":0},"HP",null,null,null,0]
["123118",12,{"$f":"+MIN(Contributo_cer[[#This Row],[Totale Immissione in rete]:[Totale Consumi rimanenti]])","v":0},"HP",null,null,null,0]
["123119",12,{"$f":"+MIN(Contributo_cer[[#This Row],[Totale Immissione in rete]:[Totale Consumi rimanenti]])","v":0},"HP",null,null,null,0]
["123120",12,{"$f":"+MIN(Contributo_cer[[#This Row],[Totale Immissione in rete]:[Totale Consumi rimanenti]])","v":0},"HP",null,null,null,0]
["123121",12,{"$f":"+MIN(Contributo_cer[[#This Row],[Totale Immissione in rete]:[Totale Consumi rimanenti]])","v":0},"HP",null,null,null,0]
["123122",12,{"$f":"+MIN(Contributo_cer[[#This Row],[Totale Immissione in rete]:[Totale Consumi rimanenti]])","v":0},"HC",null,null,null,0]
["123123",12,{"$f":"+MIN(Contributo_cer[[#This Row],[Totale Immissione in rete]:[Totale Consumi rimanenti]])","v":0},"HC",null,null,null,0]
[]
[null,null,null,{"$f":"+SUM(#REF!)","v":{"$error":"#REF!"}},{"$f":"+SUM(#REF!)","v":{"$error":"#REF!"}},null,null,null,null,null,null,null,null,null,null,null,null,null,null,null,null,null,null,null,null,null,null,null,null,null,null,null,null,null,null,null,null,null,null,null,null,null,null,null,null,null,null,null,null,null,null,null,null,null,null,null,null,null,null,null,null,null,null,null,null,null,null,null,null,null,{"$f":"+SUM(#REF!)","v":{"$error":"#REF!"}},null,null,null,null,null,null,null,null,null,null,null,null,null,null,null,null,null,null,null,null,null,null,null,null,null,null,{"$f":"+SUM(#REF!)","v":{"$error":"#REF!"}},{"$f":"+SUM(#REF!)","v":{"$error":"#REF!"}},null,null,null,null,null,null,null,null,null,null,null,null,null,null,null,null,null,null,null,null,null,null,null,null,{"$f":"+SUM(#REF!)","v":{"$error":"#REF!"}},{"$f":"+SUM(#REF!)","v":{"$error":"#REF!"}},{"$f":"+SUM(#REF!)","v":{"$error":"#REF!"}},null,null,null,null,null,null,null,{"$f":"+SUM(#REF!)","v":{"$error":"#REF!"}},{"$f":"+SUM(#REF!)","v":{"$error":"#REF!"}},{"$f":"+SUM(#REF!)","v":{"$error":"#REF!"}},{"$f":"+SUM(#REF!)","v":{"$error":"#REF!"}},{"$f":"+SUM(#REF!)","v":{"$error":"#REF!"}},null,{"$f":"+SUM(#REF!)","v":{"$error":"#REF!"}},{"$f":"+SUM(#REF!)","v":{"$error":"#REF!"}},{"$f":"+SUM(#REF!)","v":{"$error":"#REF!"}},{"$f":"+SUM(#REF!)","v":{"$error":"#REF!"}},{"$f":"+SUM(#REF!)","v":{"$error":"#REF!"}},{"$f":"+SUM(#REF!)","v":{"$error":"#REF!"}},{"$f":"+SUM(#REF!)","v":{"$error":"#REF!"}},{"$f":"+SUM(#REF!)","v":{"$error":"#REF!"}},{"$f":"+SUM(#REF!)","v":{"$error":"#REF!"}},{"$f":"+SUM(#REF!)","v":{"$error":"#REF!"}},{"$f":"+SUM(#REF!)","v":{"$error":"#REF!"}},{"$f":"+SUM(#REF!)","v":{"$error":"#REF!"}},{"$f":"+SUM(#REF!)","v":{"$error":"#REF!"}},{"$f":"+SUM(#REF!)","v":{"$error":"#REF!"}},{"$f":"+SUM(#REF!)","v":{"$error":"#REF!"}},{"$f":"+SUM(#REF!)","v":{"$error":"#REF!"}},{"$f":"+SUM(#REF!)","v":{"$error":"#REF!"}},{"$f":"+SUM(#REF!)","v":{"$error":"#REF!"}},{"$f":"+SUM(#REF!)","v":{"$error":"#REF!"}},{"$f":"+SUM(#REF!)","v":{"$error":"#REF!"}},{"$f":"+SUM(#REF!)","v":{"$error":"#REF!"}},{"$f":"+SUM(Contributo_cer[[#All],[Totale Immissione in rete]])","v":0},{"$f":"+SUM(Contributo_cer[[#All],[Totale Consumi rimanenti]])","v":0},{"$f":"+SUM(#REF!)","v":{"$error":"#REF!"}},{"$f":"+SUM(#REF!)","v":{"$error":"#REF!"}},{"$f":"+SUM(#REF!)","v":{"$error":"#REF!"}},{"$f":"+SUM(#REF!)","v":{"$error":"#REF!"}},{"$f":"+SUM(#REF!)","v":{"$error":"#REF!"}},{"$f":"+SUM(#REF!)","v":{"$error":"#REF!"}},{"$f":"+SUM(#REF!)","v":{"$error":"#REF!"}},{"$f":"+SUM(#REF!)","v":{"$error":"#REF!"}},{"$f":"+SUM(#REF!)","v":{"$error":"#REF!"}},{"$f":"+SUM(#REF!)","v":{"$error":"#REF!"}},null,null,null,null,null,null,{"$f":"+SUM(#REF!)","v":{"$error":"#REF!"}},{"$f":"+SUM(#REF!)","v":{"$error":"#REF!"}},{"$f":"+SUM(#REF!)","v":{"$error":"#REF!"}},null,null,null,null,null,null,null,null,null,null,null,null,null,null,null,null,null,null,null,null,null,null,null,null,null,null,null,null,null,null,null,null,null,null,null,null,null,null,null,null,null,null,null,null,null,null,null,null,null,null,null,null,null,null,null,null,null,null,null,null,null,null,null,null,null,null,null,null,null,null,null,null,null,null,null,null,null,null,null,null,null,null,null,null,null,null,null,null,null,null,null,null,null,null,null,null,null,null,null,null,null,null,null,null,null,null,null,null,null,null,null,null,null,null,null,null,null,null,null,null,null,null,null,null,null,null,null,null,null,null,null,null,null,null,null,null,null,null,null,null,null,null,null,null,null,null,null,null,null,null,{"$f":"+SUM(#REF!)","v":{"$error":"#REF!"}},{"$f":"+SUM(#REF!)","v":{"$error":"#REF!"}},{"$f":"+SUM(Contributo_cer[[#All],[Totale Immissione in rete]])","v":0},{"$f":"+SUM(Contributo_cer[[#All],[Totale Consumi rimanenti]])","v":0},null,null,null,null,null,null,null,null,null,null,null,null,null,null,null,null,null,{"$f":"+SUM(Contributo_cer[[#All],[Totale Consumi rimanenti]])","v":0},null,{"$f":"+SUM(#REF!)","v":{"$error":"#REF!"}},{"$f":"+SUM(#REF!)","v":{"$error":"#REF!"}},{"$f":"+SUM(#REF!)","v":{"$error":"#REF!"}},{"$f":"+SUM(#REF!)","v":{"$error":"#REF!"}},{"$f":"+SUM(#REF!)","v":{"$error":"#REF!"}},{"$f":"+SUM(#REF!)","v":{"$error":"#REF!"}},{"$f":"+SUM(#REF!)","v":{"$error":"#REF!"}},{"$f":"+SUM(#REF!)","v":{"$error":"#REF!"}},{"$f":"+SUM(#REF!)","v":{"$error":"#REF!"}},{"$f":"+SUM(#REF!)","v":{"$error":"#REF!"}},{"$f":"+SUM(#REF!)","v":{"$error":"#REF!"}},{"$f":"+SUM(#REF!)","v":{"$error":"#REF!"}},null,{"$f":"+SUM(#REF!)","v":{"$error":"#REF!"}},{"$f":"+SUM(#REF!)","v":{"$error":"#REF!"}},{"$f":"+SUM(#REF!)","v":{"$error":"#REF!"}},{"$f":"+SUM(#REF!)","v":{"$error":"#REF!"}},{"$f":"+SUM(#REF!)","v":{"$error":"#REF!"}},{"$f":"+SUM(#REF!)","v":{"$error":"#REF!"}},{"$f":"+SUM(#REF!)","v":{"$error":"#REF!"}},{"$f":"+SUM(#REF!)","v":{"$error":"#REF!"}},{"$f":"+SUM(#REF!)","v":{"$error":"#REF!"}},null,{"$f":"+SUM(#REF!)","v":{"$error":"#REF!"}},null,null,null,null,null,null,null,null,null,null,null,null,null,null,null,null,null,null,null,null,null,null,null,null,null,null,null,null,null,null,null,null,null,null,null,null,null,{"$f":"+SUM(#REF!)","v":{"$error":"#REF!"}},{"$f":"+SUM(#REF!)","v":{"$error":"#REF!"}},{"$f":"+SUM(#REF!)","v":{"$error":"#REF!"}},{"$f":"+SUM(#REF!)","v":{"$error":"#REF!"}},{"$f":"+SUM(#REF!)","v":{"$error":"#REF!"}},{"$f":"+SUM(#REF!)","v":{"$error":"#REF!"}},{"$f":"+SUM(#REF!)","v":{"$error":"#REF!"}},{"$f":"+SUM(#REF!)","v":{"$error":"#REF!"}},{"$f":"+SUM(#REF!)","v":{"$error":"#REF!"}},{"$f":"+SUM(#REF!)","v":{"$error":"#REF!"}},{"$f":"+SUM(#REF!)","v":{"$error":"#REF!"}},{"$f":"+SUM(#REF!)","v":{"$error":"#REF!"}},{"$f":"+SUM(#REF!)","v":{"$error":"#REF!"}},{"$f":"+SUM(#REF!)","v":{"$error":"#REF!"}},{"$f":"+SUM(#REF!)","v":{"$error":"#REF!"}},{"$f":"+SUM(#REF!)","v":{"$error":"#REF!"}},{"$f":"+SUM(#REF!)","v":{"$error":"#REF!"}},{"$f":"+SUM(#REF!)","v":{"$error":"#REF!"}},{"$f":"+SUM(#REF!)","v":{"$error":"#REF!"}},{"$f":"+SUM(#REF!)","v":{"$error":"#REF!"}}]

{"sheet":"Pivot_2","index":7,"n_rows":49,"n_cols":27,"rows_kept":49,"cut":false,"hidden":true,"merged":[]}
[]
[]
[]
[]
[]
["mese","energia condivisa"]
[{"$f":"+_xlfn.GROUPBY(Contributo_cer[Colonna1],Contributo_cer[Somma Distribuzione],_xleta.SUM)","v":1},0]
[2,0]
[3,0]
[4,0]
[5,0]
[6,0]
[7,0]
[8,0]
[9,0]
[10,0]
[11,0]
[12,0]
["Total",0]
[]
["mese","Fabbisogno energetico[kWh]","Somma di produzione","Somma di immessa in rete","Somma di consumi rimanenti"]
[{"$f":"+_xlfn.GROUPBY(pivot_utente[mese],pivot_utente[[Somma di consumo]:[Somma di consumi rimanenti]],_xleta.SUM)","v":1},0,0,0,0]
[2,0,0,0,0]
[3,0,0,0,0]
[4,0,0,0,0]
[5,0,0,0,0]
[6,0,0,0,0]
[7,0,0,0,0]
[8,0,0,0,0]
[9,0,0,0,0]
[10,0,0,0,0]
[11,0,0,0,0]
[12,0,0,0,0]
["Total",0,0,0,0]
[]
[null,"01_User","02_User","03_User","04_User","05_User","06_User","07_User","08_User","09_User","10_User","11_User","12_User","13_User","14_User","15_User","16_User","17_User","18_User","19_User","20_User","21_User","22_User","23_User","24_User","25_User","energia non autoconsumata"]
[null,{"$f":"IFERROR(INDEX(Utente[INPUT], MATCH(1, (Utente[Source.Name.1]='OUTPUT OUTIL ENERGETIQUE'!F7) * (Utente[[Participant ]]=\"Nom du participant\"), 0)), \"\")","v":0},{"$f":"IFERROR(INDEX(Utente[INPUT], MATCH(1, (Utente[Source.Name.1]='OUTPUT OUTIL ENERGETIQUE'!F8) * (Utente[[Participant ]]=\"Nom du participant\"), 0)), \"\")","v":""},{"$f":"IFERROR(INDEX(Utente[INPUT], MATCH(1, (Utente[Source.Name.1]='OUTPUT OUTIL ENERGETIQUE'!F9) * (Utente[[Participant ]]=\"Nom du participant\"), 0)), \"\")","v":""},{"$f":"IFERROR(INDEX(Utente[INPUT], MATCH(1, (Utente[Source.Name.1]='OUTPUT OUTIL ENERGETIQUE'!F10) * (Utente[[Participant ]]=\"Nom du participant\"), 0)), \"\")","v":""},{"$f":"IFERROR(INDEX(Utente[[Participant ]], MATCH(1, (Utente[INPUT]='OUTPUT OUTIL ENERGETIQUE'!F11) * (Utente[Source.Name.1]=\"Nom du participant\"), 0)), \"\")","v":""},{"$f":"IFERROR(INDEX(Utente[[Participant ]], MATCH(1, (Utente[INPUT]='OUTPUT OUTIL ENERGETIQUE'!F12) * (Utente[Source.Name.1]=\"Nom du participant\"), 0)), \"\")","v":""},{"$f":"IFERROR(INDEX(Utente[INPUT], MATCH(1, (Utente[Source.Name.1]='OUTPUT OUTIL ENERGETIQUE'!F13) * (Utente[[Participant ]]=\"Nom du participant\"), 0)), \"\")","v":""},{"$f":"IFERROR(INDEX(Utente[INPUT], MATCH(1, (Utente[Source.Name.1]='OUTPUT OUTIL ENERGETIQUE'!F14) * (Utente[[Participant ]]=\"Nom du participant\"), 0)), \"\")","v":""},{"$f":"IFERROR(INDEX(Utente[Source.Name.1], MATCH(1, (Utente[[Participant ]]='OUTPUT OUTIL ENERGETIQUE'!F15) * (Utente[INPUT]=\"Nom du participant\"), 0)), \"\")","v":""},{"$f":"IFERROR(INDEX(Utente[Source.Name.1], MATCH(1, (Utente[[Participant ]]='OUTPUT OUTIL ENERGETIQUE'!F16) * (Utente[INPUT]=\"Nom du participant\"), 0)), \"\")","v":""},{"$f":"IFERROR(INDEX(Utente[[Participant ]], MATCH(1, (Utente[INPUT]='OUTPUT OUTIL ENERGETIQUE'!F17) * (Utente[Source.Name.1]=\"Nom du participant\"), 0)), \"\")","v":""},{"$f":"IFERROR(INDEX(Utente[[Participant ]], MATCH(1, (Utente[INPUT]='OUTPUT OUTIL ENERGETIQUE'!F18) * (Utente[Source.Name.1]=\"Nom du participant\"), 0)), \"\")","v":""},{"$f":"IFERROR(INDEX(Utente[INPUT], MATCH(1, (Utente[Source.Name.1]='OUTPUT OUTIL ENERGETIQUE'!F19) * (Utente[[Participant ]]=\"Nom du participant\"), 0)), \"\")","v":""},{"$f":"IFERROR(INDEX(Utente[INPUT], MATCH(1, (Utente[Source.Name.1]='OUTPUT OUTIL ENERGETIQUE'!F20) * (Utente[[Participant ]]=\"Nom du participant\"), 0)), \"\")","v":""},{"$f":"IFERROR(INDEX(Utente[Source.Name.1], MATCH(1, (Utente[[Participant ]]='OUTPUT OUTIL ENERGETIQUE'!F21) * (Utente[INPUT]=\"Nom du participant\"), 0)), \"\")","v":""},{"$f":"IFERROR(INDEX(Utente[Source.Name.1], MATCH(1, (Utente[[Participant ]]='OUTPUT OUTIL ENERGETIQUE'!F22) * (Utente[INPUT]=\"Nom du participant\"), 0)), \"\")","v":""},{"$f":"IFERROR(INDEX(Utente[[Participant ]], MATCH(1, (Utente[INPUT]='OUTPUT OUTIL ENERGETIQUE'!F23) * (Utente[Source.Name.1]=\"Nom du participant\"), 0)), \"\")","v":""},{"$f":"IFERROR(INDEX(Utente[[Participant ]], MATCH(1, (Utente[INPUT]='OUTPUT OUTIL ENERGETIQUE'!F24) * (Utente[Source.Name.1]=\"Nom du participant\"), 0)), \"\")","v":""},{"$f":"IFERROR(INDEX(Utente[INPUT], MATCH(1, (Utente[Source.Name.1]='OUTPUT OUTIL ENERGETIQUE'!F25) * (Utente[[Participant ]]=\"Nom du participant\"), 0)), \"\")","v":""},{"$f":"IFERROR(INDEX(Utente[INPUT], MATCH(1, (Utente[Source.Name.1]='OUTPUT OUTIL ENERGETIQUE'!F26) * (Utente[[Participant ]]=\"Nom du participant\"), 0)), \"\")","v":""},{"$f":"IFERROR(INDEX(Utente[Source.Name.1], MATCH(1, (Utente[[Participant ]]='OUTPUT OUTIL ENERGETIQUE'!F235) * (Utente[INPUT]=\"Nom du participant\"), 0)), \"\")","v":""},{"$f":"IFERROR(INDEX(Utente[Source.Name.1], MATCH(1, (Utente[[Participant ]]='OUTPUT OUTIL ENERGETIQUE'!F28) * (Utente[INPUT]=\"Nom du participant\"), 0)), \"\")","v":""},{"$f":"IFERROR(INDEX(Utente[[Participant ]], MATCH(1, (Utente[INPUT]='OUTPUT OUTIL ENERGETIQUE'!F29) * (Utente[Source.Name.1]=\"Nom du participant\"), 0)), \"\")","v":""},{"$f":"IFERROR(INDEX(Utente[[Participant ]], MATCH(1, (Utente[INPUT]='OUTPUT OUTIL ENERGETIQUE'!F30) * (Utente[Source.Name.1]=\"Nom du participant\"), 0)), \"\")","v":""},{"$f":"IFERROR(INDEX(Utente[INPUT], MATCH(1, (Utente[Source.Name.1]='OUTPUT OUTIL ENERGETIQUE'!F31) * (Utente[[Participant ]]=\"Nom du participant\"), 0)), \"\")","v":""},"énergie non autoconsommée"]
[1,{"$f":"IFERROR(INDEX(Distribuzione__2[somma], MATCH(1, (Distribuzione__2[mese]=Pivot_2!$A38) * (Distribuzione__2[Attributo]=Pivot_2!B$36), 0)),\"\")","v":0},{"$f":"IFERROR(INDEX(Distribuzione__2[somma], MATCH(1, (Distribuzione__2[mese]=Pivot_2!$A38) * (Distribuzione__2[Attributo]=Pivot_2!C$36), 0)),\"\")","v":""},{"$f":"IFERROR(INDEX(Distribuzione__2[somma], MATCH(1, (Distribuzione__2[mese]=Pivot_2!$A38) * (Distribuzione__2[Attributo]=Pivot_2!D$36), 0)),\"\")","v":""},{"$f":"IFERROR(INDEX(Distribuzione__2[somma], MATCH(1, (Distribuzione__2[mese]=Pivot_2!$A38) * (Distribuzione__2[Attributo]=Pivot_2!E$36), 0)),\"\")","v":""},{"$f":"IFERROR(INDEX(Distribuzione__2[somma], MATCH(1, (Distribuzione__2[mese]=Pivot_2!$A38) * (Distribuzione__2[Attributo]=Pivot_2!F$36), 0)),\"\")","v":""},{"$f":"IFERROR(INDEX(Distribuzione__2[somma], MATCH(1, (Distribuzione__2[mese]=Pivot_2!$A38) * (Distribuzione__2[Attributo]=Pivot_2!G$36), 0)),\"\")","v":""},{"$f":"IFERROR(INDEX(Distribuzione__2[somma], MATCH(1, (Distribuzione__2[mese]=Pivot_2!$A38) * (Distribuzione__2[Attributo]=Pivot_2!H$36), 0)),\"\")","v":""},{"$f":"IFERROR(INDEX(Distribuzione__2[somma], MATCH(1, (Distribuzione__2[mese]=Pivot_2!$A38) * (Distribuzione__2[Attributo]=Pivot_2!I$36), 0)),\"\")","v":""},{"$f":"IFERROR(INDEX(Distribuzione__2[somma], MATCH(1, (Distribuzione__2[mese]=Pivot_2!$A38) * (Distribuzione__2[Attributo]=Pivot_2!J$36), 0)),\"\")","v":""},{"$f":"IFERROR(INDEX(Distribuzione__2[somma], MATCH(1, (Distribuzione__2[mese]=Pivot_2!$A38) * (Distribuzione__2[Attributo]=Pivot_2!K$36), 0)),\"\")","v":""},{"$f":"IFERROR(INDEX(Distribuzione__2[somma], MATCH(1, (Distribuzione__2[mese]=Pivot_2!$A38) * (Distribuzione__2[Attributo]=Pivot_2!L$36), 0)),\"\")","v":""},{"$f":"IFERROR(INDEX(Distribuzione__2[somma], MATCH(1, (Distribuzione__2[mese]=Pivot_2!$A38) * (Distribuzione__2[Attributo]=Pivot_2!M$36), 0)),\"\")","v":""},{"$f":"IFERROR(INDEX(Distribuzione__2[somma], MATCH(1, (Distribuzione__2[mese]=Pivot_2!$A38) * (Distribuzione__2[Attributo]=Pivot_2!N$36), 0)),\"\")","v":""},{"$f":"IFERROR(INDEX(Distribuzione__2[somma], MATCH(1, (Distribuzione__2[mese]=Pivot_2!$A38) * (Distribuzione__2[Attributo]=Pivot_2!O$36), 0)),\"\")","v":""},{"$f":"IFERROR(INDEX(Distribuzione__2[somma], MATCH(1, (Distribuzione__2[mese]=Pivot_2!$A38) * (Distribuzione__2[Attributo]=Pivot_2!P$36), 0)),\"\")","v":""},{"$f":"IFERROR(INDEX(Distribuzione__2[somma], MATCH(1, (Distribuzione__2[mese]=Pivot_2!$A38) * (Distribuzione__2[Attributo]=Pivot_2!Q$36), 0)),\"\")","v":""},{"$f":"IFERROR(INDEX(Distribuzione__2[somma], MATCH(1, (Distribuzione__2[mese]=Pivot_2!$A38) * (Distribuzione__2[Attributo]=Pivot_2!R$36), 0)),\"\")","v":""},{"$f":"IFERROR(INDEX(Distribuzione__2[somma], MATCH(1, (Distribuzione__2[mese]=Pivot_2!$A38) * (Distribuzione__2[Attributo]=Pivot_2!S$36), 0)),\"\")","v":""},{"$f":"IFERROR(INDEX(Distribuzione__2[somma], MATCH(1, (Distribuzione__2[mese]=Pivot_2!$A38) * (Distribuzione__2[Attributo]=Pivot_2!T$36), 0)),\"\")","v":""},{"$f":"IFERROR(INDEX(Distribuzione__2[somma], MATCH(1, (Distribuzione__2[mese]=Pivot_2!$A38) * (Distribuzione__2[Attributo]=Pivot_2!U$36), 0)),\"\")","v":""},{"$f":"IFERROR(INDEX(Distribuzione__2[somma], MATCH(1, (Distribuzione__2[mese]=Pivot_2!$A38) * (Distribuzione__2[Attributo]=Pivot_2!V$36), 0)),\"\")","v":""},{"$f":"IFERROR(INDEX(Distribuzione__2[somma], MATCH(1, (Distribuzione__2[mese]=Pivot_2!$A38) * (Distribuzione__2[Attributo]=Pivot_2!W$36), 0)),\"\")","v":""},{"$f":"IFERROR(INDEX(Distribuzione__2[somma], MATCH(1, (Distribuzione__2[mese]=Pivot_2!$A38) * (Distribuzione__2[Attributo]=Pivot_2!X$36), 0)),\"\")","v":""},{"$f":"IFERROR(INDEX(Distribuzione__2[somma], MATCH(1, (Distribuzione__2[mese]=Pivot_2!$A38) * (Distribuzione__2[Attributo]=Pivot_2!Y$36), 0)),\"\")","v":""},{"$f":"IFERROR(INDEX(Distribuzione__2[somma], MATCH(1, (Distribuzione__2[mese]=Pivot_2!$A38) * (Distribuzione__2[Attributo]=Pivot_2!Z$36), 0)),\"\")","v":""},{"$f":"IFERROR(INDEX(Distribuzione__2[somma], MATCH(1, (Distribuzione__2[mese]=Pivot_2!$A38) * (Distribuzione__2[Attributo]=Pivot_2!AA$36), 0)),\"\")","v":0}]
[2,{"$f":"IFERROR(INDEX(Distribuzione__2[somma], MATCH(1, (Distribuzione__2[mese]=Pivot_2!$A39) * (Distribuzione__2[Attributo]=Pivot_2!B$36), 0)),\"\")","v":0},{"$f":"IFERROR(INDEX(Distribuzione__2[somma], MATCH(1, (Distribuzione__2[mese]=Pivot_2!$A39) * (Distribuzione__2[Attributo]=Pivot_2!C$36), 0)),\"\")","v":""},{"$f":"IFERROR(INDEX(Distribuzione__2[somma], MATCH(1, (Distribuzione__2[mese]=Pivot_2!$A39) * (Distribuzione__2[Attributo]=Pivot_2!D$36), 0)),\"\")","v":""},{"$f":"IFERROR(INDEX(Distribuzione__2[somma], MATCH(1, (Distribuzione__2[mese]=Pivot_2!$A39) * (Distribuzione__2[Attributo]=Pivot_2!E$36), 0)),\"\")","v":""},{"$f":"IFERROR(INDEX(Distribuzione__2[somma], MATCH(1, (Distribuzione__2[mese]=Pivot_2!$A39) * (Distribuzione__2[Attributo]=Pivot_2!F$36), 0)),\"\")","v":""},{"$f":"IFERROR(INDEX(Distribuzione__2[somma], MATCH(1, (Distribuzione__2[mese]=Pivot_2!$A39) * (Distribuzione__2[Attributo]=Pivot_2!G$36), 0)),\"\")","v":""},{"$f":"IFERROR(INDEX(Distribuzione__2[somma], MATCH(1, (Distribuzione__2[mese]=Pivot_2!$A39) * (Distribuzione__2[Attributo]=Pivot_2!H$36), 0)),\"\")","v":""},{"$f":"IFERROR(INDEX(Distribuzione__2[somma], MATCH(1, (Distribuzione__2[mese]=Pivot_2!$A39) * (Distribuzione__2[Attributo]=Pivot_2!I$36), 0)),\"\")","v":""},{"$f":"IFERROR(INDEX(Distribuzione__2[somma], MATCH(1, (Distribuzione__2[mese]=Pivot_2!$A39) * (Distribuzione__2[Attributo]=Pivot_2!J$36), 0)),\"\")","v":""},{"$f":"IFERROR(INDEX(Distribuzione__2[somma], MATCH(1, (Distribuzione__2[mese]=Pivot_2!$A39) * (Distribuzione__2[Attributo]=Pivot_2!K$36), 0)),\"\")","v":""},{"$f":"IFERROR(INDEX(Distribuzione__2[somma], MATCH(1, (Distribuzione__2[mese]=Pivot_2!$A39) * (Distribuzione__2[Attributo]=Pivot_2!L$36), 0)),\"\")","v":""},{"$f":"IFERROR(INDEX(Distribuzione__2[somma], MATCH(1, (Distribuzione__2[mese]=Pivot_2!$A39) * (Distribuzione__2[Attributo]=Pivot_2!M$36), 0)),\"\")","v":""},{"$f":"IFERROR(INDEX(Distribuzione__2[somma], MATCH(1, (Distribuzione__2[mese]=Pivot_2!$A39) * (Distribuzione__2[Attributo]=Pivot_2!N$36), 0)),\"\")","v":""},{"$f":"IFERROR(INDEX(Distribuzione__2[somma], MATCH(1, (Distribuzione__2[mese]=Pivot_2!$A39) * (Distribuzione__2[Attributo]=Pivot_2!O$36), 0)),\"\")","v":""},{"$f":"IFERROR(INDEX(Distribuzione__2[somma], MATCH(1, (Distribuzione__2[mese]=Pivot_2!$A39) * (Distribuzione__2[Attributo]=Pivot_2!P$36), 0)),\"\")","v":""},{"$f":"IFERROR(INDEX(Distribuzione__2[somma], MATCH(1, (Distribuzione__2[mese]=Pivot_2!$A39) * (Distribuzione__2[Attributo]=Pivot_2!Q$36), 0)),\"\")","v":""},{"$f":"IFERROR(INDEX(Distribuzione__2[somma], MATCH(1, (Distribuzione__2[mese]=Pivot_2!$A39) * (Distribuzione__2[Attributo]=Pivot_2!R$36), 0)),\"\")","v":""},{"$f":"IFERROR(INDEX(Distribuzione__2[somma], MATCH(1, (Distribuzione__2[mese]=Pivot_2!$A39) * (Distribuzione__2[Attributo]=Pivot_2!S$36), 0)),\"\")","v":""},{"$f":"IFERROR(INDEX(Distribuzione__2[somma], MATCH(1, (Distribuzione__2[mese]=Pivot_2!$A39) * (Distribuzione__2[Attributo]=Pivot_2!T$36), 0)),\"\")","v":""},{"$f":"IFERROR(INDEX(Distribuzione__2[somma], MATCH(1, (Distribuzione__2[mese]=Pivot_2!$A39) * (Distribuzione__2[Attributo]=Pivot_2!U$36), 0)),\"\")","v":""},{"$f":"IFERROR(INDEX(Distribuzione__2[somma], MATCH(1, (Distribuzione__2[mese]=Pivot_2!$A39) * (Distribuzione__2[Attributo]=Pivot_2!V$36), 0)),\"\")","v":""},{"$f":"IFERROR(INDEX(Distribuzione__2[somma], MATCH(1, (Distribuzione__2[mese]=Pivot_2!$A39) * (Distribuzione__2[Attributo]=Pivot_2!W$36), 0)),\"\")","v":""},{"$f":"IFERROR(INDEX(Distribuzione__2[somma], MATCH(1, (Distribuzione__2[mese]=Pivot_2!$A39) * (Distribuzione__2[Attributo]=Pivot_2!X$36), 0)),\"\")","v":""},{"$f":"IFERROR(INDEX(Distribuzione__2[somma], MATCH(1, (Distribuzione__2[mese]=Pivot_2!$A39) * (Distribuzione__2[Attributo]=Pivot_2!Y$36), 0)),\"\")","v":""},{"$f":"IFERROR(INDEX(Distribuzione__2[somma], MATCH(1, (Distribuzione__2[mese]=Pivot_2!$A39) * (Distribuzione__2[Attributo]=Pivot_2!Z$36), 0)),\"\")","v":""},{"$f":"IFERROR(INDEX(Distribuzione__2[somma], MATCH(1, (Distribuzione__2[mese]=Pivot_2!$A39) * (Distribuzione__2[Attributo]=Pivot_2!AA$36), 0)),\"\")","v":0}]
[3,{"$f":"IFERROR(INDEX(Distribuzione__2[somma], MATCH(1, (Distribuzione__2[mese]=Pivot_2!$A40) * (Distribuzione__2[Attributo]=Pivot_2!B$36), 0)),\"\")","v":0},{"$f":"IFERROR(INDEX(Distribuzione__2[somma], MATCH(1, (Distribuzione__2[mese]=Pivot_2!$A40) * (Distribuzione__2[Attributo]=Pivot_2!C$36), 0)),\"\")","v":""},{"$f":"IFERROR(INDEX(Distribuzione__2[somma], MATCH(1, (Distribuzione__2[mese]=Pivot_2!$A40) * (Distribuzione__2[Attributo]=Pivot_2!D$36), 0)),\"\")","v":""},{"$f":"IFERROR(INDEX(Distribuzione__2[somma], MATCH(1, (Distribuzione__2[mese]=Pivot_2!$A40) * (Distribuzione__2[Attributo]=Pivot_2!E$36), 0)),\"\")","v":""},{"$f":"IFERROR(INDEX(Distribuzione__2[somma], MATCH(1, (Distribuzione__2[mese]=Pivot_2!$A40) * (Distribuzione__2[Attributo]=Pivot_2!F$36), 0)),\"\")","v":""},{"$f":"IFERROR(INDEX(Distribuzione__2[somma], MATCH(1, (Distribuzione__2[mese]=Pivot_2!$A40) * (Distribuzione__2[Attributo]=Pivot_2!G$36), 0)),\"\")","v":""},{"$f":"IFERROR(INDEX(Distribuzione__2[somma], MATCH(1, (Distribuzione__2[mese]=Pivot_2!$A40) * (Distribuzione__2[Attributo]=Pivot_2!H$36), 0)),\"\")","v":""},{"$f":"IFERROR(INDEX(Distribuzione__2[somma], MATCH(1, (Distribuzione__2[mese]=Pivot_2!$A40) * (Distribuzione__2[Attributo]=Pivot_2!I$36), 0)),\"\")","v":""},{"$f":"IFERROR(INDEX(Distribuzione__2[somma], MATCH(1, (Distribuzione__2[mese]=Pivot_2!$A40) * (Distribuzione__2[Attributo]=Pivot_2!J$36), 0)),\"\")","v":""},{"$f":"IFERROR(INDEX(Distribuzione__2[somma], MATCH(1, (Distribuzione__2[mese]=Pivot_2!$A40) * (Distribuzione__2[Attributo]=Pivot_2!K$36), 0)),\"\")","v":""},{"$f":"IFERROR(INDEX(Distribuzione__2[somma], MATCH(1, (Distribuzione__2[mese]=Pivot_2!$A40) * (Distribuzione__2[Attributo]=Pivot_2!L$36), 0)),\"\")","v":""},{"$f":"IFERROR(INDEX(Distribuzione__2[somma], MATCH(1, (Distribuzione__2[mese]=Pivot_2!$A40) * (Distribuzione__2[Attributo]=Pivot_2!M$36), 0)),\"\")","v":""},{"$f":"IFERROR(INDEX(Distribuzione__2[somma], MATCH(1, (Distribuzione__2[mese]=Pivot_2!$A40) * (Distribuzione__2[Attributo]=Pivot_2!N$36), 0)),\"\")","v":""},{"$f":"IFERROR(INDEX(Distribuzione__2[somma], MATCH(1, (Distribuzione__2[mese]=Pivot_2!$A40) * (Distribuzione__2[Attributo]=Pivot_2!O$36), 0)),\"\")","v":""},{"$f":"IFERROR(INDEX(Distribuzione__2[somma], MATCH(1, (Distribuzione__2[mese]=Pivot_2!$A40) * (Distribuzione__2[Attributo]=Pivot_2!P$36), 0)),\"\")","v":""},{"$f":"IFERROR(INDEX(Distribuzione__2[somma], MATCH(1, (Distribuzione__2[mese]=Pivot_2!$A40) * (Distribuzione__2[Attributo]=Pivot_2!Q$36), 0)),\"\")","v":""},{"$f":"IFERROR(INDEX(Distribuzione__2[somma], MATCH(1, (Distribuzione__2[mese]=Pivot_2!$A40) * (Distribuzione__2[Attributo]=Pivot_2!R$36), 0)),\"\")","v":""},{"$f":"IFERROR(INDEX(Distribuzione__2[somma], MATCH(1, (Distribuzione__2[mese]=Pivot_2!$A40) * (Distribuzione__2[Attributo]=Pivot_2!S$36), 0)),\"\")","v":""},{"$f":"IFERROR(INDEX(Distribuzione__2[somma], MATCH(1, (Distribuzione__2[mese]=Pivot_2!$A40) * (Distribuzione__2[Attributo]=Pivot_2!T$36), 0)),\"\")","v":""},{"$f":"IFERROR(INDEX(Distribuzione__2[somma], MATCH(1, (Distribuzione__2[mese]=Pivot_2!$A40) * (Distribuzione__2[Attributo]=Pivot_2!U$36), 0)),\"\")","v":""},{"$f":"IFERROR(INDEX(Distribuzione__2[somma], MATCH(1, (Distribuzione__2[mese]=Pivot_2!$A40) * (Distribuzione__2[Attributo]=Pivot_2!V$36), 0)),\"\")","v":""},{"$f":"IFERROR(INDEX(Distribuzione__2[somma], MATCH(1, (Distribuzione__2[mese]=Pivot_2!$A40) * (Distribuzione__2[Attributo]=Pivot_2!W$36), 0)),\"\")","v":""},{"$f":"IFERROR(INDEX(Distribuzione__2[somma], MATCH(1, (Distribuzione__2[mese]=Pivot_2!$A40) * (Distribuzione__2[Attributo]=Pivot_2!X$36), 0)),\"\")","v":""},{"$f":"IFERROR(INDEX(Distribuzione__2[somma], MATCH(1, (Distribuzione__2[mese]=Pivot_2!$A40) * (Distribuzione__2[Attributo]=Pivot_2!Y$36), 0)),\"\")","v":""},{"$f":"IFERROR(INDEX(Distribuzione__2[somma], MATCH(1, (Distribuzione__2[mese]=Pivot_2!$A40) * (Distribuzione__2[Attributo]=Pivot_2!Z$36), 0)),\"\")","v":""},{"$f":"IFERROR(INDEX(Distribuzione__2[somma], MATCH(1, (Distribuzione__2[mese]=Pivot_2!$A40) * (Distribuzione__2[Attributo]=Pivot_2!AA$36), 0)),\"\")","v":0}]
[4,{"$f":"IFERROR(INDEX(Distribuzione__2[somma], MATCH(1, (Distribuzione__2[mese]=Pivot_2!$A41) * (Distribuzione__2[Attributo]=Pivot_2!B$36), 0)),\"\")","v":0},{"$f":"IFERROR(INDEX(Distribuzione__2[somma], MATCH(1, (Distribuzione__2[mese]=Pivot_2!$A41) * (Distribuzione__2[Attributo]=Pivot_2!C$36), 0)),\"\")","v":""},{"$f":"IFERROR(INDEX(Distribuzione__2[somma], MATCH(1, (Distribuzione__2[mese]=Pivot_2!$A41) * (Distribuzione__2[Attributo]=Pivot_2!D$36), 0)),\"\")","v":""},{"$f":"IFERROR(INDEX(Distribuzione__2[somma], MATCH(1, (Distribuzione__2[mese]=Pivot_2!$A41) * (Distribuzione__2[Attributo]=Pivot_2!E$36), 0)),\"\")","v":""},{"$f":"IFERROR(INDEX(Distribuzione__2[somma], MATCH(1, (Distribuzione__2[mese]=Pivot_2!$A41) * (Distribuzione__2[Attributo]=Pivot_2!F$36), 0)),\"\")","v":""},{"$f":"IFERROR(INDEX(Distribuzione__2[somma], MATCH(1, (Distribuzione__2[mese]=Pivot_2!$A41) * (Distribuzione__2[Attributo]=Pivot_2!G$36), 0)),\"\")","v":""},{"$f":"IFERROR(INDEX(Distribuzione__2[somma], MATCH(1, (Distribuzione__2[mese]=Pivot_2!$A41) * (Distribuzione__2[Attributo]=Pivot_2!H$36), 0)),\"\")","v":""},{"$f":"IFERROR(INDEX(Distribuzione__2[somma], MATCH(1, (Distribuzione__2[mese]=Pivot_2!$A41) * (Distribuzione__2[Attributo]=Pivot_2!I$36), 0)),\"\")","v":""},{"$f":"IFERROR(INDEX(Distribuzione__2[somma], MATCH(1, (Distribuzione__2[mese]=Pivot_2!$A41) * (Distribuzione__2[Attributo]=Pivot_2!J$36), 0)),\"\")","v":""},{"$f":"IFERROR(INDEX(Distribuzione__2[somma], MATCH(1, (Distribuzione__2[mese]=Pivot_2!$A41) * (Distribuzione__2[Attributo]=Pivot_2!K$36), 0)),\"\")","v":""},{"$f":"IFERROR(INDEX(Distribuzione__2[somma], MATCH(1, (Distribuzione__2[mese]=Pivot_2!$A41) * (Distribuzione__2[Attributo]=Pivot_2!L$36), 0)),\"\")","v":""},{"$f":"IFERROR(INDEX(Distribuzione__2[somma], MATCH(1, (Distribuzione__2[mese]=Pivot_2!$A41) * (Distribuzione__2[Attributo]=Pivot_2!M$36), 0)),\"\")","v":""},{"$f":"IFERROR(INDEX(Distribuzione__2[somma], MATCH(1, (Distribuzione__2[mese]=Pivot_2!$A41) * (Distribuzione__2[Attributo]=Pivot_2!N$36), 0)),\"\")","v":""},{"$f":"IFERROR(INDEX(Distribuzione__2[somma], MATCH(1, (Distribuzione__2[mese]=Pivot_2!$A41) * (Distribuzione__2[Attributo]=Pivot_2!O$36), 0)),\"\")","v":""},{"$f":"IFERROR(INDEX(Distribuzione__2[somma], MATCH(1, (Distribuzione__2[mese]=Pivot_2!$A41) * (Distribuzione__2[Attributo]=Pivot_2!P$36), 0)),\"\")","v":""},{"$f":"IFERROR(INDEX(Distribuzione__2[somma], MATCH(1, (Distribuzione__2[mese]=Pivot_2!$A41) * (Distribuzione__2[Attributo]=Pivot_2!Q$36), 0)),\"\")","v":""},{"$f":"IFERROR(INDEX(Distribuzione__2[somma], MATCH(1, (Distribuzione__2[mese]=Pivot_2!$A41) * (Distribuzione__2[Attributo]=Pivot_2!R$36), 0)),\"\")","v":""},{"$f":"IFERROR(INDEX(Distribuzione__2[somma], MATCH(1, (Distribuzione__2[mese]=Pivot_2!$A41) * (Distribuzione__2[Attributo]=Pivot_2!S$36), 0)),\"\")","v":""},{"$f":"IFERROR(INDEX(Distribuzione__2[somma], MATCH(1, (Distribuzione__2[mese]=Pivot_2!$A41) * (Distribuzione__2[Attributo]=Pivot_2!T$36), 0)),\"\")","v":""},{"$f":"IFERROR(INDEX(Distribuzione__2[somma], MATCH(1, (Distribuzione__2[mese]=Pivot_2!$A41) * (Distribuzione__2[Attributo]=Pivot_2!U$36), 0)),\"\")","v":""},{"$f":"IFERROR(INDEX(Distribuzione__2[somma], MATCH(1, (Distribuzione__2[mese]=Pivot_2!$A41) * (Distribuzione__2[Attributo]=Pivot_2!V$36), 0)),\"\")","v":""},{"$f":"IFERROR(INDEX(Distribuzione__2[somma], MATCH(1, (Distribuzione__2[mese]=Pivot_2!$A41) * (Distribuzione__2[Attributo]=Pivot_2!W$36), 0)),\"\")","v":""},{"$f":"IFERROR(INDEX(Distribuzione__2[somma], MATCH(1, (Distribuzione__2[mese]=Pivot_2!$A41) * (Distribuzione__2[Attributo]=Pivot_2!X$36), 0)),\"\")","v":""},{"$f":"IFERROR(INDEX(Distribuzione__2[somma], MATCH(1, (Distribuzione__2[mese]=Pivot_2!$A41) * (Distribuzione__2[Attributo]=Pivot_2!Y$36), 0)),\"\")","v":""},{"$f":"IFERROR(INDEX(Distribuzione__2[somma], MATCH(1, (Distribuzione__2[mese]=Pivot_2!$A41) * (Distribuzione__2[Attributo]=Pivot_2!Z$36), 0)),\"\")","v":""},{"$f":"IFERROR(INDEX(Distribuzione__2[somma], MATCH(1, (Distribuzione__2[mese]=Pivot_2!$A41) * (Distribuzione__2[Attributo]=Pivot_2!AA$36), 0)),\"\")","v":0}]
[5,{"$f":"IFERROR(INDEX(Distribuzione__2[somma], MATCH(1, (Distribuzione__2[mese]=Pivot_2!$A42) * (Distribuzione__2[Attributo]=Pivot_2!B$36), 0)),\"\")","v":0},{"$f":"IFERROR(INDEX(Distribuzione__2[somma], MATCH(1, (Distribuzione__2[mese]=Pivot_2!$A42) * (Distribuzione__2[Attributo]=Pivot_2!C$36), 0)),\"\")","v":""},{"$f":"IFERROR(INDEX(Distribuzione__2[somma], MATCH(1, (Distribuzione__2[mese]=Pivot_2!$A42) * (Distribuzione__2[Attributo]=Pivot_2!D$36), 0)),\"\")","v":""},{"$f":"IFERROR(INDEX(Distribuzione__2[somma], MATCH(1, (Distribuzione__2[mese]=Pivot_2!$A42) * (Distribuzione__2[Attributo]=Pivot_2!E$36), 0)),\"\")","v":""},{"$f":"IFERROR(INDEX(Distribuzione__2[somma], MATCH(1, (Distribuzione__2[mese]=Pivot_2!$A42) * (Distribuzione__2[Attributo]=Pivot_2!F$36), 0)),\"\")","v":""},{"$f":"IFERROR(INDEX(Distribuzione__2[somma], MATCH(1, (Distribuzione__2[mese]=Pivot_2!$A42) * (Distribuzione__2[Attributo]=Pivot_2!G$36), 0)),\"\")","v":""},{"$f":"IFERROR(INDEX(Distribuzione__2[somma], MATCH(1, (Distribuzione__2[mese]=Pivot_2!$A42) * (Distribuzione__2[Attributo]=Pivot_2!H$36), 0)),\"\")","v":""},{"$f":"IFERROR(INDEX(Distribuzione__2[somma], MATCH(1, (Distribuzione__2[mese]=Pivot_2!$A42) * (Distribuzione__2[Attributo]=Pivot_2!I$36), 0)),\"\")","v":""},{"$f":"IFERROR(INDEX(Distribuzione__2[somma], MATCH(1, (Distribuzione__2[mese]=Pivot_2!$A42) * (Distribuzione__2[Attributo]=Pivot_2!J$36), 0)),\"\")","v":""},{"$f":"IFERROR(INDEX(Distribuzione__2[somma], MATCH(1, (Distribuzione__2[mese]=Pivot_2!$A42) * (Distribuzione__2[Attributo]=Pivot_2!K$36), 0)),\"\")","v":""},{"$f":"IFERROR(INDEX(Distribuzione__2[somma], MATCH(1, (Distribuzione__2[mese]=Pivot_2!$A42) * (Distribuzione__2[Attributo]=Pivot_2!L$36), 0)),\"\")","v":""},{"$f":"IFERROR(INDEX(Distribuzione__2[somma], MATCH(1, (Distribuzione__2[mese]=Pivot_2!$A42) * (Distribuzione__2[Attributo]=Pivot_2!M$36), 0)),\"\")","v":""},{"$f":"IFERROR(INDEX(Distribuzione__2[somma], MATCH(1, (Distribuzione__2[mese]=Pivot_2!$A42) * (Distribuzione__2[Attributo]=Pivot_2!N$36), 0)),\"\")","v":""},{"$f":"IFERROR(INDEX(Distribuzione__2[somma], MATCH(1, (Distribuzione__2[mese]=Pivot_2!$A42) * (Distribuzione__2[Attributo]=Pivot_2!O$36), 0)),\"\")","v":""},{"$f":"IFERROR(INDEX(Distribuzione__2[somma], MATCH(1, (Distribuzione__2[mese]=Pivot_2!$A42) * (Distribuzione__2[Attributo]=Pivot_2!P$36), 0)),\"\")","v":""},{"$f":"IFERROR(INDEX(Distribuzione__2[somma], MATCH(1, (Distribuzione__2[mese]=Pivot_2!$A42) * (Distribuzione__2[Attributo]=Pivot_2!Q$36), 0)),\"\")","v":""},{"$f":"IFERROR(INDEX(Distribuzione__2[somma], MATCH(1, (Distribuzione__2[mese]=Pivot_2!$A42) * (Distribuzione__2[Attributo]=Pivot_2!R$36), 0)),\"\")","v":""},{"$f":"IFERROR(INDEX(Distribuzione__2[somma], MATCH(1, (Distribuzione__2[mese]=Pivot_2!$A42) * (Distribuzione__2[Attributo]=Pivot_2!S$36), 0)),\"\")","v":""},{"$f":"IFERROR(INDEX(Distribuzione__2[somma], MATCH(1, (Distribuzione__2[mese]=Pivot_2!$A42) * (Distribuzione__2[Attributo]=Pivot_2!T$36), 0)),\"\")","v":""},{"$f":"IFERROR(INDEX(Distribuzione__2[somma], MATCH(1, (Distribuzione__2[mese]=Pivot_2!$A42) * (Distribuzione__2[Attributo]=Pivot_2!U$36), 0)),\"\")","v":""},{"$f":"IFERROR(INDEX(Distribuzione__2[somma], MATCH(1, (Distribuzione__2[mese]=Pivot_2!$A42) * (Distribuzione__2[Attributo]=Pivot_2!V$36), 0)),\"\")","v":""},{"$f":"IFERROR(INDEX(Distribuzione__2[somma], MATCH(1, (Distribuzione__2[mese]=Pivot_2!$A42) * (Distribuzione__2[Attributo]=Pivot_2!W$36), 0)),\"\")","v":""},{"$f":"IFERROR(INDEX(Distribuzione__2[somma], MATCH(1, (Distribuzione__2[mese]=Pivot_2!$A42) * (Distribuzione__2[Attributo]=Pivot_2!X$36), 0)),\"\")","v":""},{"$f":"IFERROR(INDEX(Distribuzione__2[somma], MATCH(1, (Distribuzione__2[mese]=Pivot_2!$A42) * (Distribuzione__2[Attributo]=Pivot_2!Y$36), 0)),\"\")","v":""},{"$f":"IFERROR(INDEX(Distribuzione__2[somma], MATCH(1, (Distribuzione__2[mese]=Pivot_2!$A42) * (Distribuzione__2[Attributo]=Pivot_2!Z$36), 0)),\"\")","v":""},{"$f":"IFERROR(INDEX(Distribuzione__2[somma], MATCH(1, (Distribuzione__2[mese]=Pivot_2!$A42) * (Distribuzione__2[Attributo]=Pivot_2!AA$36), 0)),\"\")","v":0}]
[6,{"$f":"IFERROR(INDEX(Distribuzione__2[somma], MATCH(1, (Distribuzione__2[mese]=Pivot_2!$A43) * (Distribuzione__2[Attributo]=Pivot_2!B$36), 0)),\"\")","v":0},{"$f":"IFERROR(INDEX(Distribuzione__2[somma], MATCH(1, (Distribuzione__2[mese]=Pivot_2!$A43) * (Distribuzione__2[Attributo]=Pivot_2!C$36), 0)),\"\")","v":""},{"$f":"IFERROR(INDEX(Distribuzione__2[somma], MATCH(1, (Distribuzione__2[mese]=Pivot_2!$A43) * (Distribuzione__2[Attributo]=Pivot_2!D$36), 0)),\"\")","v":""},{"$f":"IFERROR(INDEX(Distribuzione__2[somma], MATCH(1, (Distribuzione__2[mese]=Pivot_2!$A43) * (Distribuzione__2[Attributo]=Pivot_2!E$36), 0)),\"\")","v":""},{"$f":"IFERROR(INDEX(Distribuzione__2[somma], MATCH(1, (Distribuzione__2[mese]=Pivot_2!$A43) * (Distribuzione__2[Attributo]=Pivot_2!F$36), 0)),\"\")","v":""},{"$f":"IFERROR(INDEX(Distribuzione__2[somma], MATCH(1, (Distribuzione__2[mese]=Pivot_2!$A43) * (Distribuzione__2[Attributo]=Pivot_2!G$36), 0)),\"\")","v":""},{"$f":"IFERROR(INDEX(Distribuzione__2[somma], MATCH(1, (Distribuzione__2[mese]=Pivot_2!$A43) * (Distribuzione__2[Attributo]=Pivot_2!H$36), 0)),\"\")","v":""},{"$f":"IFERROR(INDEX(Distribuzione__2[somma], MATCH(1, (Distribuzione__2[mese]=Pivot_2!$A43) * (Distribuzione__2[Attributo]=Pivot_2!I$36), 0)),\"\")","v":""},{"$f":"IFERROR(INDEX(Distribuzione__2[somma], MATCH(1, (Distribuzione__2[mese]=Pivot_2!$A43) * (Distribuzione__2[Attributo]=Pivot_2!J$36), 0)),\"\")","v":""},{"$f":"IFERROR(INDEX(Distribuzione__2[somma], MATCH(1, (Distribuzione__2[mese]=Pivot_2!$A43) * (Distribuzione__2[Attributo]=Pivot_2!K$36), 0)),\"\")","v":""},{"$f":"IFERROR(INDEX(Distribuzione__2[somma], MATCH(1, (Distribuzione__2[mese]=Pivot_2!$A43) * (Distribuzione__2[Attributo]=Pivot_2!L$36), 0)),\"\")","v":""},{"$f":"IFERROR(INDEX(Distribuzione__2[somma], MATCH(1, (Distribuzione__2[mese]=Pivot_2!$A43) * (Distribuzione__2[Attributo]=Pivot_2!M$36), 0)),\"\")","v":""},{"$f":"IFERROR(INDEX(Distribuzione__2[somma], MATCH(1, (Distribuzione__2[mese]=Pivot_2!$A43) * (Distribuzione__2[Attributo]=Pivot_2!N$36), 0)),\"\")","v":""},{"$f":"IFERROR(INDEX(Distribuzione__2[somma], MATCH(1, (Distribuzione__2[mese]=Pivot_2!$A43) * (Distribuzione__2[Attributo]=Pivot_2!O$36), 0)),\"\")","v":""},{"$f":"IFERROR(INDEX(Distribuzione__2[somma], MATCH(1, (Distribuzione__2[mese]=Pivot_2!$A43) * (Distribuzione__2[Attributo]=Pivot_2!P$36), 0)),\"\")","v":""},{"$f":"IFERROR(INDEX(Distribuzione__2[somma], MATCH(1, (Distribuzione__2[mese]=Pivot_2!$A43) * (Distribuzione__2[Attributo]=Pivot_2!Q$36), 0)),\"\")","v":""},{"$f":"IFERROR(INDEX(Distribuzione__2[somma], MATCH(1, (Distribuzione__2[mese]=Pivot_2!$A43) * (Distribuzione__2[Attributo]=Pivot_2!R$36), 0)),\"\")","v":""},{"$f":"IFERROR(INDEX(Distribuzione__2[somma], MATCH(1, (Distribuzione__2[mese]=Pivot_2!$A43) * (Distribuzione__2[Attributo]=Pivot_2!S$36), 0)),\"\")","v":""},{"$f":"IFERROR(INDEX(Distribuzione__2[somma], MATCH(1, (Distribuzione__2[mese]=Pivot_2!$A43) * (Distribuzione__2[Attributo]=Pivot_2!T$36), 0)),\"\")","v":""},{"$f":"IFERROR(INDEX(Distribuzione__2[somma], MATCH(1, (Distribuzione__2[mese]=Pivot_2!$A43) * (Distribuzione__2[Attributo]=Pivot_2!U$36), 0)),\"\")","v":""},{"$f":"IFERROR(INDEX(Distribuzione__2[somma], MATCH(1, (Distribuzione__2[mese]=Pivot_2!$A43) * (Distribuzione__2[Attributo]=Pivot_2!V$36), 0)),\"\")","v":""},{"$f":"IFERROR(INDEX(Distribuzione__2[somma], MATCH(1, (Distribuzione__2[mese]=Pivot_2!$A43) * (Distribuzione__2[Attributo]=Pivot_2!W$36), 0)),\"\")","v":""},{"$f":"IFERROR(INDEX(Distribuzione__2[somma], MATCH(1, (Distribuzione__2[mese]=Pivot_2!$A43) * (Distribuzione__2[Attributo]=Pivot_2!X$36), 0)),\"\")","v":""},{"$f":"IFERROR(INDEX(Distribuzione__2[somma], MATCH(1, (Distribuzione__2[mese]=Pivot_2!$A43) * (Distribuzione__2[Attributo]=Pivot_2!Y$36), 0)),\"\")","v":""},{"$f":"IFERROR(INDEX(Distribuzione__2[somma], MATCH(1, (Distribuzione__2[mese]=Pivot_2!$A43) * (Distribuzione__2[Attributo]=Pivot_2!Z$36), 0)),\"\")","v":""},{"$f":"IFERROR(INDEX(Distribuzione__2[somma], MATCH(1, (Distribuzione__2[mese]=Pivot_2!$A43) * (Distribuzione__2[Attributo]=Pivot_2!AA$36), 0)),\"\")","v":0}]
[7,{"$f":"IFERROR(INDEX(Distribuzione__2[somma], MATCH(1, (Distribuzione__2[mese]=Pivot_2!$A44) * (Distribuzione__2[Attributo]=Pivot_2!B$36), 0)),\"\")","v":0},{"$f":"IFERROR(INDEX(Distribuzione__2[somma], MATCH(1, (Distribuzione__2[mese]=Pivot_2!$A44) * (Distribuzione__2[Attributo]=Pivot_2!C$36), 0)),\"\")","v":""},{"$f":"IFERROR(INDEX(Distribuzione__2[somma], MATCH(1, (Distribuzione__2[mese]=Pivot_2!$A44) * (Distribuzione__2[Attributo]=Pivot_2!D$36), 0)),\"\")","v":""},{"$f":"IFERROR(INDEX(Distribuzione__2[somma], MATCH(1, (Distribuzione__2[mese]=Pivot_2!$A44) * (Distribuzione__2[Attributo]=Pivot_2!E$36), 0)),\"\")","v":""},{"$f":"IFERROR(INDEX(Distribuzione__2[somma], MATCH(1, (Distribuzione__2[mese]=Pivot_2!$A44) * (Distribuzione__2[Attributo]=Pivot_2!F$36), 0)),\"\")","v":""},{"$f":"IFERROR(INDEX(Distribuzione__2[somma], MATCH(1, (Distribuzione__2[mese]=Pivot_2!$A44) * (Distribuzione__2[Attributo]=Pivot_2!G$36), 0)),\"\")","v":""},{"$f":"IFERROR(INDEX(Distribuzione__2[somma], MATCH(1, (Distribuzione__2[mese]=Pivot_2!$A44) * (Distribuzione__2[Attributo]=Pivot_2!H$36), 0)),\"\")","v":""},{"$f":"IFERROR(INDEX(Distribuzione__2[somma], MATCH(1, (Distribuzione__2[mese]=Pivot_2!$A44) * (Distribuzione__2[Attributo]=Pivot_2!I$36), 0)),\"\")","v":""},{"$f":"IFERROR(INDEX(Distribuzione__2[somma], MATCH(1, (Distribuzione__2[mese]=Pivot_2!$A44) * (Distribuzione__2[Attributo]=Pivot_2!J$36), 0)),\"\")","v":""},{"$f":"IFERROR(INDEX(Distribuzione__2[somma], MATCH(1, (Distribuzione__2[mese]=Pivot_2!$A44) * (Distribuzione__2[Attributo]=Pivot_2!K$36), 0)),\"\")","v":""},{"$f":"IFERROR(INDEX(Distribuzione__2[somma], MATCH(1, (Distribuzione__2[mese]=Pivot_2!$A44) * (Distribuzione__2[Attributo]=Pivot_2!L$36), 0)),\"\")","v":""},{"$f":"IFERROR(INDEX(Distribuzione__2[somma], MATCH(1, (Distribuzione__2[mese]=Pivot_2!$A44) * (Distribuzione__2[Attributo]=Pivot_2!M$36), 0)),\"\")","v":""},{"$f":"IFERROR(INDEX(Distribuzione__2[somma], MATCH(1, (Distribuzione__2[mese]=Pivot_2!$A44) * (Distribuzione__2[Attributo]=Pivot_2!N$36), 0)),\"\")","v":""},{"$f":"IFERROR(INDEX(Distribuzione__2[somma], MATCH(1, (Distribuzione__2[mese]=Pivot_2!$A44) * (Distribuzione__2[Attributo]=Pivot_2!O$36), 0)),\"\")","v":""},{"$f":"IFERROR(INDEX(Distribuzione__2[somma], MATCH(1, (Distribuzione__2[mese]=Pivot_2!$A44) * (Distribuzione__2[Attributo]=Pivot_2!P$36), 0)),\"\")","v":""},{"$f":"IFERROR(INDEX(Distribuzione__2[somma], MATCH(1, (Distribuzione__2[mese]=Pivot_2!$A44) * (Distribuzione__2[Attributo]=Pivot_2!Q$36), 0)),\"\")","v":""},{"$f":"IFERROR(INDEX(Distribuzione__2[somma], MATCH(1, (Distribuzione__2[mese]=Pivot_2!$A44) * (Distribuzione__2[Attributo]=Pivot_2!R$36), 0)),\"\")","v":""},{"$f":"IFERROR(INDEX(Distribuzione__2[somma], MATCH(1, (Distribuzione__2[mese]=Pivot_2!$A44) * (Distribuzione__2[Attributo]=Pivot_2!S$36), 0)),\"\")","v":""},{"$f":"IFERROR(INDEX(Distribuzione__2[somma], MATCH(1, (Distribuzione__2[mese]=Pivot_2!$A44) * (Distribuzione__2[Attributo]=Pivot_2!T$36), 0)),\"\")","v":""},{"$f":"IFERROR(INDEX(Distribuzione__2[somma], MATCH(1, (Distribuzione__2[mese]=Pivot_2!$A44) * (Distribuzione__2[Attributo]=Pivot_2!U$36), 0)),\"\")","v":""},{"$f":"IFERROR(INDEX(Distribuzione__2[somma], MATCH(1, (Distribuzione__2[mese]=Pivot_2!$A44) * (Distribuzione__2[Attributo]=Pivot_2!V$36), 0)),\"\")","v":""},{"$f":"IFERROR(INDEX(Distribuzione__2[somma], MATCH(1, (Distribuzione__2[mese]=Pivot_2!$A44) * (Distribuzione__2[Attributo]=Pivot_2!W$36), 0)),\"\")","v":""},{"$f":"IFERROR(INDEX(Distribuzione__2[somma], MATCH(1, (Distribuzione__2[mese]=Pivot_2!$A44) * (Distribuzione__2[Attributo]=Pivot_2!X$36), 0)),\"\")","v":""},{"$f":"IFERROR(INDEX(Distribuzione__2[somma], MATCH(1, (Distribuzione__2[mese]=Pivot_2!$A44) * (Distribuzione__2[Attributo]=Pivot_2!Y$36), 0)),\"\")","v":""},{"$f":"IFERROR(INDEX(Distribuzione__2[somma], MATCH(1, (Distribuzione__2[mese]=Pivot_2!$A44) * (Distribuzione__2[Attributo]=Pivot_2!Z$36), 0)),\"\")","v":""},{"$f":"IFERROR(INDEX(Distribuzione__2[somma], MATCH(1, (Distribuzione__2[mese]=Pivot_2!$A44) * (Distribuzione__2[Attributo]=Pivot_2!AA$36), 0)),\"\")","v":0}]
[8,{"$f":"IFERROR(INDEX(Distribuzione__2[somma], MATCH(1, (Distribuzione__2[mese]=Pivot_2!$A45) * (Distribuzione__2[Attributo]=Pivot_2!B$36), 0)),\"\")","v":0},{"$f":"IFERROR(INDEX(Distribuzione__2[somma], MATCH(1, (Distribuzione__2[mese]=Pivot_2!$A45) * (Distribuzione__2[Attributo]=Pivot_2!C$36), 0)),\"\")","v":""},{"$f":"IFERROR(INDEX(Distribuzione__2[somma], MATCH(1, (Distribuzione__2[mese]=Pivot_2!$A45) * (Distribuzione__2[Attributo]=Pivot_2!D$36), 0)),\"\")","v":""},{"$f":"IFERROR(INDEX(Distribuzione__2[somma], MATCH(1, (Distribuzione__2[mese]=Pivot_2!$A45) * (Distribuzione__2[Attributo]=Pivot_2!E$36), 0)),\"\")","v":""},{"$f":"IFERROR(INDEX(Distribuzione__2[somma], MATCH(1, (Distribuzione__2[mese]=Pivot_2!$A45) * (Distribuzione__2[Attributo]=Pivot_2!F$36), 0)),\"\")","v":""},{"$f":"IFERROR(INDEX(Distribuzione__2[somma], MATCH(1, (Distribuzione__2[mese]=Pivot_2!$A45) * (Distribuzione__2[Attributo]=Pivot_2!G$36), 0)),\"\")","v":""},{"$f":"IFERROR(INDEX(Distribuzione__2[somma], MATCH(1, (Distribuzione__2[mese]=Pivot_2!$A45) * (Distribuzione__2[Attributo]=Pivot_2!H$36), 0)),\"\")","v":""},{"$f":"IFERROR(INDEX(Distribuzione__2[somma], MATCH(1, (Distribuzione__2[mese]=Pivot_2!$A45) * (Distribuzione__2[Attributo]=Pivot_2!I$36), 0)),\"\")","v":""},{"$f":"IFERROR(INDEX(Distribuzione__2[somma], MATCH(1, (Distribuzione__2[mese]=Pivot_2!$A45) * (Distribuzione__2[Attributo]=Pivot_2!J$36), 0)),\"\")","v":""},{"$f":"IFERROR(INDEX(Distribuzione__2[somma], MATCH(1, (Distribuzione__2[mese]=Pivot_2!$A45) * (Distribuzione__2[Attributo]=Pivot_2!K$36), 0)),\"\")","v":""},{"$f":"IFERROR(INDEX(Distribuzione__2[somma], MATCH(1, (Distribuzione__2[mese]=Pivot_2!$A45) * (Distribuzione__2[Attributo]=Pivot_2!L$36), 0)),\"\")","v":""},{"$f":"IFERROR(INDEX(Distribuzione__2[somma], MATCH(1, (Distribuzione__2[mese]=Pivot_2!$A45) * (Distribuzione__2[Attributo]=Pivot_2!M$36), 0)),\"\")","v":""},{"$f":"IFERROR(INDEX(Distribuzione__2[somma], MATCH(1, (Distribuzione__2[mese]=Pivot_2!$A45) * (Distribuzione__2[Attributo]=Pivot_2!N$36), 0)),\"\")","v":""},{"$f":"IFERROR(INDEX(Distribuzione__2[somma], MATCH(1, (Distribuzione__2[mese]=Pivot_2!$A45) * (Distribuzione__2[Attributo]=Pivot_2!O$36), 0)),\"\")","v":""},{"$f":"IFERROR(INDEX(Distribuzione__2[somma], MATCH(1, (Distribuzione__2[mese]=Pivot_2!$A45) * (Distribuzione__2[Attributo]=Pivot_2!P$36), 0)),\"\")","v":""},{"$f":"IFERROR(INDEX(Distribuzione__2[somma], MATCH(1, (Distribuzione__2[mese]=Pivot_2!$A45) * (Distribuzione__2[Attributo]=Pivot_2!Q$36), 0)),\"\")","v":""},{"$f":"IFERROR(INDEX(Distribuzione__2[somma], MATCH(1, (Distribuzione__2[mese]=Pivot_2!$A45) * (Distribuzione__2[Attributo]=Pivot_2!R$36), 0)),\"\")","v":""},{"$f":"IFERROR(INDEX(Distribuzione__2[somma], MATCH(1, (Distribuzione__2[mese]=Pivot_2!$A45) * (Distribuzione__2[Attributo]=Pivot_2!S$36), 0)),\"\")","v":""},{"$f":"IFERROR(INDEX(Distribuzione__2[somma], MATCH(1, (Distribuzione__2[mese]=Pivot_2!$A45) * (Distribuzione__2[Attributo]=Pivot_2!T$36), 0)),\"\")","v":""},{"$f":"IFERROR(INDEX(Distribuzione__2[somma], MATCH(1, (Distribuzione__2[mese]=Pivot_2!$A45) * (Distribuzione__2[Attributo]=Pivot_2!U$36), 0)),\"\")","v":""},{"$f":"IFERROR(INDEX(Distribuzione__2[somma], MATCH(1, (Distribuzione__2[mese]=Pivot_2!$A45) * (Distribuzione__2[Attributo]=Pivot_2!V$36), 0)),\"\")","v":""},{"$f":"IFERROR(INDEX(Distribuzione__2[somma], MATCH(1, (Distribuzione__2[mese]=Pivot_2!$A45) * (Distribuzione__2[Attributo]=Pivot_2!W$36), 0)),\"\")","v":""},{"$f":"IFERROR(INDEX(Distribuzione__2[somma], MATCH(1, (Distribuzione__2[mese]=Pivot_2!$A45) * (Distribuzione__2[Attributo]=Pivot_2!X$36), 0)),\"\")","v":""},{"$f":"IFERROR(INDEX(Distribuzione__2[somma], MATCH(1, (Distribuzione__2[mese]=Pivot_2!$A45) * (Distribuzione__2[Attributo]=Pivot_2!Y$36), 0)),\"\")","v":""},{"$f":"IFERROR(INDEX(Distribuzione__2[somma], MATCH(1, (Distribuzione__2[mese]=Pivot_2!$A45) * (Distribuzione__2[Attributo]=Pivot_2!Z$36), 0)),\"\")","v":""},{"$f":"IFERROR(INDEX(Distribuzione__2[somma], MATCH(1, (Distribuzione__2[mese]=Pivot_2!$A45) * (Distribuzione__2[Attributo]=Pivot_2!AA$36), 0)),\"\")","v":0}]
[9,{"$f":"IFERROR(INDEX(Distribuzione__2[somma], MATCH(1, (Distribuzione__2[mese]=Pivot_2!$A46) * (Distribuzione__2[Attributo]=Pivot_2!B$36), 0)),\"\")","v":0},{"$f":"IFERROR(INDEX(Distribuzione__2[somma], MATCH(1, (Distribuzione__2[mese]=Pivot_2!$A46) * (Distribuzione__2[Attributo]=Pivot_2!C$36), 0)),\"\")","v":""},{"$f":"IFERROR(INDEX(Distribuzione__2[somma], MATCH(1, (Distribuzione__2[mese]=Pivot_2!$A46) * (Distribuzione__2[Attributo]=Pivot_2!D$36), 0)),\"\")","v":""},{"$f":"IFERROR(INDEX(Distribuzione__2[somma], MATCH(1, (Distribuzione__2[mese]=Pivot_2!$A46) * (Distribuzione__2[Attributo]=Pivot_2!E$36), 0)),\"\")","v":""},{"$f":"IFERROR(INDEX(Distribuzione__2[somma], MATCH(1, (Distribuzione__2[mese]=Pivot_2!$A46) * (Distribuzione__2[Attributo]=Pivot_2!F$36), 0)),\"\")","v":""},{"$f":"IFERROR(INDEX(Distribuzione__2[somma], MATCH(1, (Distribuzione__2[mese]=Pivot_2!$A46) * (Distribuzione__2[Attributo]=Pivot_2!G$36), 0)),\"\")","v":""},{"$f":"IFERROR(INDEX(Distribuzione__2[somma], MATCH(1, (Distribuzione__2[mese]=Pivot_2!$A46) * (Distribuzione__2[Attributo]=Pivot_2!H$36), 0)),\"\")","v":""},{"$f":"IFERROR(INDEX(Distribuzione__2[somma], MATCH(1, (Distribuzione__2[mese]=Pivot_2!$A46) * (Distribuzione__2[Attributo]=Pivot_2!I$36), 0)),\"\")","v":""},{"$f":"IFERROR(INDEX(Distribuzione__2[somma], MATCH(1, (Distribuzione__2[mese]=Pivot_2!$A46) * (Distribuzione__2[Attributo]=Pivot_2!J$36), 0)),\"\")","v":""},{"$f":"IFERROR(INDEX(Distribuzione__2[somma], MATCH(1, (Distribuzione__2[mese]=Pivot_2!$A46) * (Distribuzione__2[Attributo]=Pivot_2!K$36), 0)),\"\")","v":""},{"$f":"IFERROR(INDEX(Distribuzione__2[somma], MATCH(1, (Distribuzione__2[mese]=Pivot_2!$A46) * (Distribuzione__2[Attributo]=Pivot_2!L$36), 0)),\"\")","v":""},{"$f":"IFERROR(INDEX(Distribuzione__2[somma], MATCH(1, (Distribuzione__2[mese]=Pivot_2!$A46) * (Distribuzione__2[Attributo]=Pivot_2!M$36), 0)),\"\")","v":""},{"$f":"IFERROR(INDEX(Distribuzione__2[somma], MATCH(1, (Distribuzione__2[mese]=Pivot_2!$A46) * (Distribuzione__2[Attributo]=Pivot_2!N$36), 0)),\"\")","v":""},{"$f":"IFERROR(INDEX(Distribuzione__2[somma], MATCH(1, (Distribuzione__2[mese]=Pivot_2!$A46) * (Distribuzione__2[Attributo]=Pivot_2!O$36), 0)),\"\")","v":""},{"$f":"IFERROR(INDEX(Distribuzione__2[somma], MATCH(1, (Distribuzione__2[mese]=Pivot_2!$A46) * (Distribuzione__2[Attributo]=Pivot_2!P$36), 0)),\"\")","v":""},{"$f":"IFERROR(INDEX(Distribuzione__2[somma], MATCH(1, (Distribuzione__2[mese]=Pivot_2!$A46) * (Distribuzione__2[Attributo]=Pivot_2!Q$36), 0)),\"\")","v":""},{"$f":"IFERROR(INDEX(Distribuzione__2[somma], MATCH(1, (Distribuzione__2[mese]=Pivot_2!$A46) * (Distribuzione__2[Attributo]=Pivot_2!R$36), 0)),\"\")","v":""},{"$f":"IFERROR(INDEX(Distribuzione__2[somma], MATCH(1, (Distribuzione__2[mese]=Pivot_2!$A46) * (Distribuzione__2[Attributo]=Pivot_2!S$36), 0)),\"\")","v":""},{"$f":"IFERROR(INDEX(Distribuzione__2[somma], MATCH(1, (Distribuzione__2[mese]=Pivot_2!$A46) * (Distribuzione__2[Attributo]=Pivot_2!T$36), 0)),\"\")","v":""},{"$f":"IFERROR(INDEX(Distribuzione__2[somma], MATCH(1, (Distribuzione__2[mese]=Pivot_2!$A46) * (Distribuzione__2[Attributo]=Pivot_2!U$36), 0)),\"\")","v":""},{"$f":"IFERROR(INDEX(Distribuzione__2[somma], MATCH(1, (Distribuzione__2[mese]=Pivot_2!$A46) * (Distribuzione__2[Attributo]=Pivot_2!V$36), 0)),\"\")","v":""},{"$f":"IFERROR(INDEX(Distribuzione__2[somma], MATCH(1, (Distribuzione__2[mese]=Pivot_2!$A46) * (Distribuzione__2[Attributo]=Pivot_2!W$36), 0)),\"\")","v":""},{"$f":"IFERROR(INDEX(Distribuzione__2[somma], MATCH(1, (Distribuzione__2[mese]=Pivot_2!$A46) * (Distribuzione__2[Attributo]=Pivot_2!X$36), 0)),\"\")","v":""},{"$f":"IFERROR(INDEX(Distribuzione__2[somma], MATCH(1, (Distribuzione__2[mese]=Pivot_2!$A46) * (Distribuzione__2[Attributo]=Pivot_2!Y$36), 0)),\"\")","v":""},{"$f":"IFERROR(INDEX(Distribuzione__2[somma], MATCH(1, (Distribuzione__2[mese]=Pivot_2!$A46) * (Distribuzione__2[Attributo]=Pivot_2!Z$36), 0)),\"\")","v":""},{"$f":"IFERROR(INDEX(Distribuzione__2[somma], MATCH(1, (Distribuzione__2[mese]=Pivot_2!$A46) * (Distribuzione__2[Attributo]=Pivot_2!AA$36), 0)),\"\")","v":0}]
[10,{"$f":"IFERROR(INDEX(Distribuzione__2[somma], MATCH(1, (Distribuzione__2[mese]=Pivot_2!$A47) * (Distribuzione__2[Attributo]=Pivot_2!B$36), 0)),\"\")","v":0},{"$f":"IFERROR(INDEX(Distribuzione__2[somma], MATCH(1, (Distribuzione__2[mese]=Pivot_2!$A47) * (Distribuzione__2[Attributo]=Pivot_2!C$36), 0)),\"\")","v":""},{"$f":"IFERROR(INDEX(Distribuzione__2[somma], MATCH(1, (Distribuzione__2[mese]=Pivot_2!$A47) * (Distribuzione__2[Attributo]=Pivot_2!D$36), 0)),\"\")","v":""},{"$f":"IFERROR(INDEX(Distribuzione__2[somma], MATCH(1, (Distribuzione__2[mese]=Pivot_2!$A47) * (Distribuzione__2[Attributo]=Pivot_2!E$36), 0)),\"\")","v":""},{"$f":"IFERROR(INDEX(Distribuzione__2[somma], MATCH(1, (Distribuzione__2[mese]=Pivot_2!$A47) * (Distribuzione__2[Attributo]=Pivot_2!F$36), 0)),\"\")","v":""},{"$f":"IFERROR(INDEX(Distribuzione__2[somma], MATCH(1, (Distribuzione__2[mese]=Pivot_2!$A47) * (Distribuzione__2[Attributo]=Pivot_2!G$36), 0)),\"\")","v":""},{"$f":"IFERROR(INDEX(Distribuzione__2[somma], MATCH(1, (Distribuzione__2[mese]=Pivot_2!$A47) * (Distribuzione__2[Attributo]=Pivot_2!H$36), 0)),\"\")","v":""},{"$f":"IFERROR(INDEX(Distribuzione__2[somma], MATCH(1, (Distribuzione__2[mese]=Pivot_2!$A47) * (Distribuzione__2[Attributo]=Pivot_2!I$36), 0)),\"\")","v":""},{"$f":"IFERROR(INDEX(Distribuzione__2[somma], MATCH(1, (Distribuzione__2[mese]=Pivot_2!$A47) * (Distribuzione__2[Attributo]=Pivot_2!J$36), 0)),\"\")","v":""},{"$f":"IFERROR(INDEX(Distribuzione__2[somma], MATCH(1, (Distribuzione__2[mese]=Pivot_2!$A47) * (Distribuzione__2[Attributo]=Pivot_2!K$36), 0)),\"\")","v":""},{"$f":"IFERROR(INDEX(Distribuzione__2[somma], MATCH(1, (Distribuzione__2[mese]=Pivot_2!$A47) * (Distribuzione__2[Attributo]=Pivot_2!L$36), 0)),\"\")","v":""},{"$f":"IFERROR(INDEX(Distribuzione__2[somma], MATCH(1, (Distribuzione__2[mese]=Pivot_2!$A47) * (Distribuzione__2[Attributo]=Pivot_2!M$36), 0)),\"\")","v":""},{"$f":"IFERROR(INDEX(Distribuzione__2[somma], MATCH(1, (Distribuzione__2[mese]=Pivot_2!$A47) * (Distribuzione__2[Attributo]=Pivot_2!N$36), 0)),\"\")","v":""},{"$f":"IFERROR(INDEX(Distribuzione__2[somma], MATCH(1, (Distribuzione__2[mese]=Pivot_2!$A47) * (Distribuzione__2[Attributo]=Pivot_2!O$36), 0)),\"\")","v":""},{"$f":"IFERROR(INDEX(Distribuzione__2[somma], MATCH(1, (Distribuzione__2[mese]=Pivot_2!$A47) * (Distribuzione__2[Attributo]=Pivot_2!P$36), 0)),\"\")","v":""},{"$f":"IFERROR(INDEX(Distribuzione__2[somma], MATCH(1, (Distribuzione__2[mese]=Pivot_2!$A47) * (Distribuzione__2[Attributo]=Pivot_2!Q$36), 0)),\"\")","v":""},{"$f":"IFERROR(INDEX(Distribuzione__2[somma], MATCH(1, (Distribuzione__2[mese]=Pivot_2!$A47) * (Distribuzione__2[Attributo]=Pivot_2!R$36), 0)),\"\")","v":""},{"$f":"IFERROR(INDEX(Distribuzione__2[somma], MATCH(1, (Distribuzione__2[mese]=Pivot_2!$A47) * (Distribuzione__2[Attributo]=Pivot_2!S$36), 0)),\"\")","v":""},{"$f":"IFERROR(INDEX(Distribuzione__2[somma], MATCH(1, (Distribuzione__2[mese]=Pivot_2!$A47) * (Distribuzione__2[Attributo]=Pivot_2!T$36), 0)),\"\")","v":""},{"$f":"IFERROR(INDEX(Distribuzione__2[somma], MATCH(1, (Distribuzione__2[mese]=Pivot_2!$A47) * (Distribuzione__2[Attributo]=Pivot_2!U$36), 0)),\"\")","v":""},{"$f":"IFERROR(INDEX(Distribuzione__2[somma], MATCH(1, (Distribuzione__2[mese]=Pivot_2!$A47) * (Distribuzione__2[Attributo]=Pivot_2!V$36), 0)),\"\")","v":""},{"$f":"IFERROR(INDEX(Distribuzione__2[somma], MATCH(1, (Distribuzione__2[mese]=Pivot_2!$A47) * (Distribuzione__2[Attributo]=Pivot_2!W$36), 0)),\"\")","v":""},{"$f":"IFERROR(INDEX(Distribuzione__2[somma], MATCH(1, (Distribuzione__2[mese]=Pivot_2!$A47) * (Distribuzione__2[Attributo]=Pivot_2!X$36), 0)),\"\")","v":""},{"$f":"IFERROR(INDEX(Distribuzione__2[somma], MATCH(1, (Distribuzione__2[mese]=Pivot_2!$A47) * (Distribuzione__2[Attributo]=Pivot_2!Y$36), 0)),\"\")","v":""},{"$f":"IFERROR(INDEX(Distribuzione__2[somma], MATCH(1, (Distribuzione__2[mese]=Pivot_2!$A47) * (Distribuzione__2[Attributo]=Pivot_2!Z$36), 0)),\"\")","v":""},{"$f":"IFERROR(INDEX(Distribuzione__2[somma], MATCH(1, (Distribuzione__2[mese]=Pivot_2!$A47) * (Distribuzione__2[Attributo]=Pivot_2!AA$36), 0)),\"\")","v":0}]
[11,{"$f":"IFERROR(INDEX(Distribuzione__2[somma], MATCH(1, (Distribuzione__2[mese]=Pivot_2!$A48) * (Distribuzione__2[Attributo]=Pivot_2!B$36), 0)),\"\")","v":0},{"$f":"IFERROR(INDEX(Distribuzione__2[somma], MATCH(1, (Distribuzione__2[mese]=Pivot_2!$A48) * (Distribuzione__2[Attributo]=Pivot_2!C$36), 0)),\"\")","v":""},{"$f":"IFERROR(INDEX(Distribuzione__2[somma], MATCH(1, (Distribuzione__2[mese]=Pivot_2!$A48) * (Distribuzione__2[Attributo]=Pivot_2!D$36), 0)),\"\")","v":""},{"$f":"IFERROR(INDEX(Distribuzione__2[somma], MATCH(1, (Distribuzione__2[mese]=Pivot_2!$A48) * (Distribuzione__2[Attributo]=Pivot_2!E$36), 0)),\"\")","v":""},{"$f":"IFERROR(INDEX(Distribuzione__2[somma], MATCH(1, (Distribuzione__2[mese]=Pivot_2!$A48) * (Distribuzione__2[Attributo]=Pivot_2!F$36), 0)),\"\")","v":""},{"$f":"IFERROR(INDEX(Distribuzione__2[somma], MATCH(1, (Distribuzione__2[mese]=Pivot_2!$A48) * (Distribuzione__2[Attributo]=Pivot_2!G$36), 0)),\"\")","v":""},{"$f":"IFERROR(INDEX(Distribuzione__2[somma], MATCH(1, (Distribuzione__2[mese]=Pivot_2!$A48) * (Distribuzione__2[Attributo]=Pivot_2!H$36), 0)),\"\")","v":""},{"$f":"IFERROR(INDEX(Distribuzione__2[somma], MATCH(1, (Distribuzione__2[mese]=Pivot_2!$A48) * (Distribuzione__2[Attributo]=Pivot_2!I$36), 0)),\"\")","v":""},{"$f":"IFERROR(INDEX(Distribuzione__2[somma], MATCH(1, (Distribuzione__2[mese]=Pivot_2!$A48) * (Distribuzione__2[Attributo]=Pivot_2!J$36), 0)),\"\")","v":""},{"$f":"IFERROR(INDEX(Distribuzione__2[somma], MATCH(1, (Distribuzione__2[mese]=Pivot_2!$A48) * (Distribuzione__2[Attributo]=Pivot_2!K$36), 0)),\"\")","v":""},{"$f":"IFERROR(INDEX(Distribuzione__2[somma], MATCH(1, (Distribuzione__2[mese]=Pivot_2!$A48) * (Distribuzione__2[Attributo]=Pivot_2!L$36), 0)),\"\")","v":""},{"$f":"IFERROR(INDEX(Distribuzione__2[somma], MATCH(1, (Distribuzione__2[mese]=Pivot_2!$A48) * (Distribuzione__2[Attributo]=Pivot_2!M$36), 0)),\"\")","v":""},{"$f":"IFERROR(INDEX(Distribuzione__2[somma], MATCH(1, (Distribuzione__2[mese]=Pivot_2!$A48) * (Distribuzione__2[Attributo]=Pivot_2!N$36), 0)),\"\")","v":""},{"$f":"IFERROR(INDEX(Distribuzione__2[somma], MATCH(1, (Distribuzione__2[mese]=Pivot_2!$A48) * (Distribuzione__2[Attributo]=Pivot_2!O$36), 0)),\"\")","v":""},{"$f":"IFERROR(INDEX(Distribuzione__2[somma], MATCH(1, (Distribuzione__2[mese]=Pivot_2!$A48) * (Distribuzione__2[Attributo]=Pivot_2!P$36), 0)),\"\")","v":""},{"$f":"IFERROR(INDEX(Distribuzione__2[somma], MATCH(1, (Distribuzione__2[mese]=Pivot_2!$A48) * (Distribuzione__2[Attributo]=Pivot_2!Q$36), 0)),\"\")","v":""},{"$f":"IFERROR(INDEX(Distribuzione__2[somma], MATCH(1, (Distribuzione__2[mese]=Pivot_2!$A48) * (Distribuzione__2[Attributo]=Pivot_2!R$36), 0)),\"\")","v":""},{"$f":"IFERROR(INDEX(Distribuzione__2[somma], MATCH(1, (Distribuzione__2[mese]=Pivot_2!$A48) * (Distribuzione__2[Attributo]=Pivot_2!S$36), 0)),\"\")","v":""},{"$f":"IFERROR(INDEX(Distribuzione__2[somma], MATCH(1, (Distribuzione__2[mese]=Pivot_2!$A48) * (Distribuzione__2[Attributo]=Pivot_2!T$36), 0)),\"\")","v":""},{"$f":"IFERROR(INDEX(Distribuzione__2[somma], MATCH(1, (Distribuzione__2[mese]=Pivot_2!$A48) * (Distribuzione__2[Attributo]=Pivot_2!U$36), 0)),\"\")","v":""},{"$f":"IFERROR(INDEX(Distribuzione__2[somma], MATCH(1, (Distribuzione__2[mese]=Pivot_2!$A48) * (Distribuzione__2[Attributo]=Pivot_2!V$36), 0)),\"\")","v":""},{"$f":"IFERROR(INDEX(Distribuzione__2[somma], MATCH(1, (Distribuzione__2[mese]=Pivot_2!$A48) * (Distribuzione__2[Attributo]=Pivot_2!W$36), 0)),\"\")","v":""},{"$f":"IFERROR(INDEX(Distribuzione__2[somma], MATCH(1, (Distribuzione__2[mese]=Pivot_2!$A48) * (Distribuzione__2[Attributo]=Pivot_2!X$36), 0)),\"\")","v":""},{"$f":"IFERROR(INDEX(Distribuzione__2[somma], MATCH(1, (Distribuzione__2[mese]=Pivot_2!$A48) * (Distribuzione__2[Attributo]=Pivot_2!Y$36), 0)),\"\")","v":""},{"$f":"IFERROR(INDEX(Distribuzione__2[somma], MATCH(1, (Distribuzione__2[mese]=Pivot_2!$A48) * (Distribuzione__2[Attributo]=Pivot_2!Z$36), 0)),\"\")","v":""},{"$f":"IFERROR(INDEX(Distribuzione__2[somma], MATCH(1, (Distribuzione__2[mese]=Pivot_2!$A48) * (Distribuzione__2[Attributo]=Pivot_2!AA$36), 0)),\"\")","v":0}]
[12,{"$f":"IFERROR(INDEX(Distribuzione__2[somma], MATCH(1, (Distribuzione__2[mese]=Pivot_2!$A49) * (Distribuzione__2[Attributo]=Pivot_2!B$36), 0)),\"\")","v":0},{"$f":"IFERROR(INDEX(Distribuzione__2[somma], MATCH(1, (Distribuzione__2[mese]=Pivot_2!$A49) * (Distribuzione__2[Attributo]=Pivot_2!C$36), 0)),\"\")","v":""},{"$f":"IFERROR(INDEX(Distribuzione__2[somma], MATCH(1, (Distribuzione__2[mese]=Pivot_2!$A49) * (Distribuzione__2[Attributo]=Pivot_2!D$36), 0)),\"\")","v":""},{"$f":"IFERROR(INDEX(Distribuzione__2[somma], MATCH(1, (Distribuzione__2[mese]=Pivot_2!$A49) * (Distribuzione__2[Attributo]=Pivot_2!E$36), 0)),\"\")","v":""},{"$f":"IFERROR(INDEX(Distribuzione__2[somma], MATCH(1, (Distribuzione__2[mese]=Pivot_2!$A49) * (Distribuzione__2[Attributo]=Pivot_2!F$36), 0)),\"\")","v":""},{"$f":"IFERROR(INDEX(Distribuzione__2[somma], MATCH(1, (Distribuzione__2[mese]=Pivot_2!$A49) * (Distribuzione__2[Attributo]=Pivot_2!G$36), 0)),\"\")","v":""},{"$f":"IFERROR(INDEX(Distribuzione__2[somma], MATCH(1, (Distribuzione__2[mese]=Pivot_2!$A49) * (Distribuzione__2[Attributo]=Pivot_2!H$36), 0)),\"\")","v":""},{"$f":"IFERROR(INDEX(Distribuzione__2[somma], MATCH(1, (Distribuzione__2[mese]=Pivot_2!$A49) * (Distribuzione__2[Attributo]=Pivot_2!I$36), 0)),\"\")","v":""},{"$f":"IFERROR(INDEX(Distribuzione__2[somma], MATCH(1, (Distribuzione__2[mese]=Pivot_2!$A49) * (Distribuzione__2[Attributo]=Pivot_2!J$36), 0)),\"\")","v":""},{"$f":"IFERROR(INDEX(Distribuzione__2[somma], MATCH(1, (Distribuzione__2[mese]=Pivot_2!$A49) * (Distribuzione__2[Attributo]=Pivot_2!K$36), 0)),\"\")","v":""},{"$f":"IFERROR(INDEX(Distribuzione__2[somma], MATCH(1, (Distribuzione__2[mese]=Pivot_2!$A49) * (Distribuzione__2[Attributo]=Pivot_2!L$36), 0)),\"\")","v":""},{"$f":"IFERROR(INDEX(Distribuzione__2[somma], MATCH(1, (Distribuzione__2[mese]=Pivot_2!$A49) * (Distribuzione__2[Attributo]=Pivot_2!M$36), 0)),\"\")","v":""},{"$f":"IFERROR(INDEX(Distribuzione__2[somma], MATCH(1, (Distribuzione__2[mese]=Pivot_2!$A49) * (Distribuzione__2[Attributo]=Pivot_2!N$36), 0)),\"\")","v":""},{"$f":"IFERROR(INDEX(Distribuzione__2[somma], MATCH(1, (Distribuzione__2[mese]=Pivot_2!$A49) * (Distribuzione__2[Attributo]=Pivot_2!O$36), 0)),\"\")","v":""},{"$f":"IFERROR(INDEX(Distribuzione__2[somma], MATCH(1, (Distribuzione__2[mese]=Pivot_2!$A49) * (Distribuzione__2[Attributo]=Pivot_2!P$36), 0)),\"\")","v":""},{"$f":"IFERROR(INDEX(Distribuzione__2[somma], MATCH(1, (Distribuzione__2[mese]=Pivot_2!$A49) * (Distribuzione__2[Attributo]=Pivot_2!Q$36), 0)),\"\")","v":""},{"$f":"IFERROR(INDEX(Distribuzione__2[somma], MATCH(1, (Distribuzione__2[mese]=Pivot_2!$A49) * (Distribuzione__2[Attributo]=Pivot_2!R$36), 0)),\"\")","v":""},{"$f":"IFERROR(INDEX(Distribuzione__2[somma], MATCH(1, (Distribuzione__2[mese]=Pivot_2!$A49) * (Distribuzione__2[Attributo]=Pivot_2!S$36), 0)),\"\")","v":""},{"$f":"IFERROR(INDEX(Distribuzione__2[somma], MATCH(1, (Distribuzione__2[mese]=Pivot_2!$A49) * (Distribuzione__2[Attributo]=Pivot_2!T$36), 0)),\"\")","v":""},{"$f":"IFERROR(INDEX(Distribuzione__2[somma], MATCH(1, (Distribuzione__2[mese]=Pivot_2!$A49) * (Distribuzione__2[Attributo]=Pivot_2!U$36), 0)),\"\")","v":""},{"$f":"IFERROR(INDEX(Distribuzione__2[somma], MATCH(1, (Distribuzione__2[mese]=Pivot_2!$A49) * (Distribuzione__2[Attributo]=Pivot_2!V$36), 0)),\"\")","v":""},{"$f":"IFERROR(INDEX(Distribuzione__2[somma], MATCH(1, (Distribuzione__2[mese]=Pivot_2!$A49) * (Distribuzione__2[Attributo]=Pivot_2!W$36), 0)),\"\")","v":""},{"$f":"IFERROR(INDEX(Distribuzione__2[somma], MATCH(1, (Distribuzione__2[mese]=Pivot_2!$A49) * (Distribuzione__2[Attributo]=Pivot_2!X$36), 0)),\"\")","v":""},{"$f":"IFERROR(INDEX(Distribuzione__2[somma], MATCH(1, (Distribuzione__2[mese]=Pivot_2!$A49) * (Distribuzione__2[Attributo]=Pivot_2!Y$36), 0)),\"\")","v":""},{"$f":"IFERROR(INDEX(Distribuzione__2[somma], MATCH(1, (Distribuzione__2[mese]=Pivot_2!$A49) * (Distribuzione__2[Attributo]=Pivot_2!Z$36), 0)),\"\")","v":""},{"$f":"IFERROR(INDEX(Distribuzione__2[somma], MATCH(1, (Distribuzione__2[mese]=Pivot_2!$A49) * (Distribuzione__2[Attributo]=Pivot_2!AA$36), 0)),\"\")","v":0}]

{"sheet":"output_utente_back","index":8,"n_rows":6,"n_cols":3,"rows_kept":6,"cut":false,"hidden":true,"merged":[]}
["Source.Name.1","output","Colonna1"]
["01_User","autoconsumo"]
["01_User","autosufficenza"]
["01_User","produzione",0]
["01_User","somma consumi"]
["01_User","energia immessa in cer"]

{"sheet":"Contributo cer (2)","index":9,"n_rows":366,"n_cols":3,"rows_kept":366,"cut":false,"hidden":true,"merged":[]}
["MM","Giorno","autoconsumo %"]
[1,1]
[1,2]
[1,3]
[1,4]
[1,5]
[1,6]
[1,7]
[1,8]
[1,9]
[1,10]
[1,11]
[1,12]
[1,13]
[1,14]
[1,15]
[1,16]
[1,17]
[1,18]
[1,19]
[1,20]
[1,21]
[1,22]
[1,23]
[1,24]
[1,25]
[1,26]
[1,27]
[1,28]
[1,29]
[1,30]
[1,31]
[2,1]
[2,2]
[2,3]
[2,4]
[2,5]
[2,6]
[2,7]
[2,8]
[2,9]
[2,10]
[2,11]
[2,12]
[2,13]
[2,14]
[2,15]
[2,16]
[2,17]
[2,18]
[2,19]
[2,20]
[2,21]
[2,22]
[2,23]
[2,24]
[2,25]
[2,26]
[2,27]
[2,28]
[3,1]
[3,2]
[3,3]
[3,4]
[3,5]
[3,6]
[3,7]
[3,8]
[3,9]
[3,10]
[3,11]
[3,12]
[3,13]
[3,14]
[3,15]
[3,16]
[3,17]
[3,18]
[3,19]
[3,20]
[3,21]
[3,22]
[3,23]
[3,24]
[3,25]
[3,26]
[3,27]
[3,28]
[3,29]
[3,30]
[3,31]
[4,1]
[4,2]
[4,3]
[4,4]
[4,5]
[4,6]
[4,7]
[4,8]
[4,9]
[4,10]
[4,11]
[4,12]
[4,13]
[4,14]
[4,15]
[4,16]
[4,17]
[4,18]
[4,19]
[4,20]
[4,21]
[4,22]
[4,23]
[4,24]
[4,25]
[4,26]
[4,27]
[4,28]
[4,29]
[4,30]
[5,1]
[5,2]
[5,3]
[5,4]
[5,5]
[5,6]
[5,7]
[5,8]
[5,9]
[5,10]
[5,11]
[5,12]
[5,13]
[5,14]
[5,15]
[5,16]
[5,17]
[5,18]
[5,19]
[5,20]
[5,21]
[5,22]
[5,23]
[5,24]
[5,25]
[5,26]
[5,27]
[5,28]
[5,29]
[5,30]
[5,31]
[6,1]
[6,2]
[6,3]
[6,4]
[6,5]
[6,6]
[6,7]
[6,8]
[6,9]
[6,10]
[6,11]
[6,12]
[6,13]
[6,14]
[6,15]
[6,16]
[6,17]
[6,18]
[6,19]
[6,20]
[6,21]
[6,22]
[6,23]
[6,24]
[6,25]
[6,26]
[6,27]
[6,28]
[6,29]
[6,30]
[7,1]
[7,2]
[7,3]
[7,4]
[7,5]
[7,6]
[7,7]
[7,8]
[7,9]
[7,10]
[7,11]
[7,12]
[7,13]
[7,14]
[7,15]
[7,16]
[7,17]
[7,18]
[7,19]
[7,20]
[7,21]
[7,22]
[7,23]
[7,24]
[7,25]
[7,26]
[7,27]
[7,28]
[7,29]
[7,30]
[7,31]
[8,1]
[8,2]
[8,3]
[8,4]
[8,5]
[8,6]
[8,7]
[8,8]
[8,9]
[8,10]
[8,11]
[8,12]
[8,13]
[8,14]
[8,15]
[8,16]
[8,17]
[8,18]
[8,19]
[8,20]
[8,21]
[8,22]
[8,23]
[8,24]
[8,25]
[8,26]
[8,27]
[8,28]
[8,29]
[8,30]
[8,31]
[9,1]
[9,2]
[9,3]
[9,4]
[9,5]
[9,6]
[9,7]
[9,8]
[9,9]
[9,10]
[9,11]
[9,12]
[9,13]
[9,14]
[9,15]
[9,16]
[9,17]
[9,18]
[9,19]
[9,20]
[9,21]
[9,22]
[9,23]
[9,24]
[9,25]
[9,26]
[9,27]
[9,28]
[9,29]
[9,30]
[10,1]
[10,2]
[10,3]
[10,4]
[10,5]
[10,6]
[10,7]
[10,8]
[10,9]
[10,10]
[10,11]
[10,12]
[10,13]
[10,14]
[10,15]
[10,16]
[10,17]
[10,18]
[10,19]
[10,20]
[10,21]
[10,22]
[10,23]
[10,24]
[10,25]
[10,26]
[10,27]
[10,28]
[10,29]
[10,30]
[10,31]
[11,1]
[11,2]
[11,3]
[11,4]
[11,5]
[11,6]
[11,7]
[11,8]
[11,9]
[11,10]
[11,11]
[11,12]
[11,13]
[11,14]
[11,15]
[11,16]
[11,17]
[11,18]
[11,19]
[11,20]
[11,21]
[11,22]
[11,23]
[11,24]
[11,25]
[11,26]
[11,27]
[11,28]
[11,29]
[11,30]
[12,1]
[12,2]
[12,3]
[12,4]
[12,5]
[12,6]
[12,7]
[12,8]
[12,9]
[12,10]
[12,11]
[12,12]
[12,13]
[12,14]
[12,15]
[12,16]
[12,17]
[12,18]
[12,19]
[12,20]
[12,21]
[12,22]
[12,23]
[12,24]
[12,25]
[12,26]
[12,27]
[12,28]
[12,29]
[12,30]
[12,31]

{"sheet":"impianto_HYDRO","index":10,"n_rows":7,"n_cols":3,"rows_kept":7,"cut":false,"hidden":true,"merged":[]}
["Source.Name.1","hydroélectrique","Caractéristiques"]
["01_User","Type d'installation"]
["01_User","Type de masse d'eau"]
["01_User","Puissance du générateur [kW]"]
["01_User","Débit d'exploitation autorisé [m^3/s]"]
["01_User","débit de la rivière [m^3/s]"]
["01_User","Hauteur de chute nette [m]"]

{"sheet":"orario","index":11,"n_rows":2,"n_cols":4,"rows_kept":2,"cut":false,"hidden":true,"merged":[]}
["Source.Name.1","Type de production d'énergie","Puissance installée [kW]","Unité de mesure Production"]
["01_User"]

{"sheet":"COPYRIGHT","index":12,"n_rows":8,"n_cols":5,"rows_kept":8,"cut":false,"hidden":false,"merged":[[3,3,3,4],[4,1,7,1],[4,3,4,4],[5,2,5,4],[6,2,6,4],[7,2,7,4]]}
[]
[null,"AUTEURS","Association des Centrales Villageoises & ENVIPARK",{"$error":"#VALUE!"},{"$error":"#VALUE!"}]
[null,"Date","2025-05-01","VERSION","V1"]
[null,"Statut outil","Public"]
[null,"Conditions d’utilisation","Cet outil a été créé dans le cadre du projet RECROSSES, projet de coopération transfrontalière franco-italienne du programme Interreg ALCOTRA.",{"$error":"#VALUE!"}]
[null,null,"Cet outil est diffusé en libre accès depuis le site www.centralesvillageoises.fr "]
[null,null,"Il peut être exploité dans le cadre de la licence CC-by-sa 4.0. En savoir plus"]
[null,null,"Les résultats donnés par cet outil sont indicatifs et n'engagent en rien ses auteurs.\nToute proposition d'amélioration ou de correctif est la bienvenue à l'adresse association@centralesvillageoises.fr"]

{"sheet":"MODE D'EMPLOI","index":13,"n_rows":8,"n_cols":10,"rows_kept":8,"cut":false,"hidden":false,"merged":[[0,0,0,6],[3,0,3,7],[5,0,5,7],[7,0,7,7]]}
["OUTIL DE SIMULATION ENERGETIQUE ET ECONOMIQUE POUR LES COMMUNAUTES D'ENERGIE PORTANT UN PROJET D'AUTOCONSOMMATION COLLECTIVE",null,null,null,null,null,null,{"$error":"#VALUE!"}]
[]
["PRESENTATION DE L'OUTIL"]
["Cet outil a été créé dans le cadre du projet RECROSSES - programme Interreg ALCOTRA, par ENVIPARK et l'Association des Centrales Villageoises.\nIl a pour objectif d'aider les Communautés d'Energie Renouvelables (CER) françaises et italiennes à simuler les caractéristiques énergétiques et économiques de leurs projets de partage d'énergie via les mécanismes réglementaires mis en place dans ces deux pays. Deux versions de l'outil ont été réalisées pour traduire les spécificités de chaque pays.\nCôté français, il vise donc à simuler les opérations d'autoconsommation collective avec une clé statique ou dynamique par défaut (deux fichiers distincts), et a l'ambition d'être un outil d'aide à la décision pour la définition du périmètre de l'opération ACC et des tarifs de vente."]
["FONCTIONNEMENT DE L'OUTIL"]
["1. Préparation des fichiers \"input\"\nL'outil s'appuie sur des fichiers nommés \"01_User\", \"02_User\", etc. qui rassemblent les information énergétique de chaque participant à l'opération ACC. \nLes fichiers utilisant des macros, l'utilisateur doit préalablement les autoriser sur les fichiers (clic droit sur le fichier, Paramètres et cocher la case \"débloquer\".\nL'utilisateur doit donc commencer compléter ces fichiers (1 par participant à l'opération ACC : dupliquer le fichier vierge et incrémenter leur nom) avant d'utiliser le présent fichier.\nUne fois les fichiers \"XX_User\" complétés, l'utilisateur doit les placer dans un sous-dossier dédié (nommé \"input\"), situé dans le même dossier que le présent fichier.\n\n2. Analyse énergétique\nL'analyse est automatique : il suffit de cliquer sur la petite icône en forme de Terre dans l'onglet \"OUTPUT OUTIL ENERGETIQUE\" et l'outil va automatiquement effectuer l'analyse énergétique à partir des données d'entrées contenues dans les fichiers \"XX_User\".\n\n3. Analyse économique\nL’utilisateur est invité à compléter des informations dans les onglets « INPUT » du présent fichier, colorés en orange. Seules les cases colorées en jaune pale doivent être complétées.\nL’utilisateur peut enfin visualiser les analyses économiques dans les onglets colorés en vert. Les calculs sont automatiques dans ces onglets.\n\nLes schémas ci-dessous présentent l'architecture de l'outil et le lien entre les fichiers / onglets.",null,null,null,null,null,null,null,null," "]
[]
["Commentaire : Comme illustré avec les flèches ci-dessus, la démarche est itérative : il faut commencer par fixer les tarifs ACC dans l'onglet dédié, mais il y a ensuite un enjeu à les modifier pour optimiser l'équilibre économique et la répartition des bénéfices entre consommateurs et producteur."]

{"sheet":"OUTPUT OUTIL ENERGETIQUE","index":14,"n_rows":53,"n_cols":70,"rows_kept":53,"cut":false,"hidden":false,"merged":[[2,6,2,11],[50,10,51,16],[4,29,4,33],[4,24,4,28],[4,19,4,23],[4,14,4,18]]}
["ONGLET OUTPUT DE L'ANALYSE ENERGETIQUE"]
[]
[null,null,null,null,null,null,"Commentaire : comme expliqué dans l'onglet \"Mode d'emploi\", ce fichier est paramétré pour rapatrier l'ensemble des données énergétiques entrées dans les fichiers input (\"XX_User\") et faire l'analyse énergétique du projet d'autoconsommation collective. En cliquant sur la Terre, l'outil lancer les calculs automatiques. Patentez quelques minutes, puis les tableaux ci-dessous devraient se compléter"]
[]
["DETAILS ENERGETIQUES DE L'OPERATION ACC A L'ECHELLE DE CHAQUE PARTICIPANT",null,null,null,null,null,null,null,null,null,null,null,null,null,"Détail de la consommation des participants - avant ACI",null,null,null,null,"Détail de la consommation des participants - après ACI",null,null,null,null,"Détail des consommations en ACC",null,null,null,null,"Détail des consommations auprès du fournisseur historique"]
["Nom du participant","type d'énergie","nombre d'utilisateurs","puissance installée [kW]","% de réparition clé statique","Output","Demande d'énergie [kWh]","Énergie soutirée [kWh]","Énergie produite [kWh]","Énergie autoconsommée directement (ACI) [kWh]","Énergie injectée dans le réseau [kWh]","Energie consommée en ACC [kWh]","Taux d'autoproduction (pour ACI)","Taux d'autoconsommation (pour ACI)","HP","HC","HCB","HPB","BASE","HP","HC","HCB","HPB","BASE","HP","HC","HCB","HPB","BASE","HP","HC","HCB","HPB","BASE",null,"Pourcentage de la production autoconsommée par chaque consommateur"]
[{"$f":"IFERROR(INDEX(Utente[INPUT], MATCH(1, (Utente[Source.Name.1]='OUTPUT OUTIL ENERGETIQUE'!F7) * (Utente[[Participant ]]=\"Nom du participant\"), 0)), \"\")","v":0},{"$f":"IFERROR(\n    IF(\n        INDEX(Utente[INPUT], MATCH(1, (Utente[Source.Name.1]=F7) * (Utente[[Participant ]]=\"Type de production d'énergie\"), 0)) = 0,\n        INDEX(orario[Type de production d''énergie], MATCH(1, (orario[Source.Name.1]=F7) * 1, 0)),\n        INDEX(Utente[INPUT], MATCH(1, (Utente[Source.Name.1]=F7) * (Utente[[Participant ]]=\"Type de production d'énergie\"), 0))\n    ),\n    \"\"\n)","v":""},{"$f":"IFERROR(1+INDEX(Utente[INPUT], MATCH(1, (Utente[Source.Name.1]=F7) * (Utente[[Participant ]]=\"Nombre d'autres participants similaires\"), 0)),\"\")","v":1},{"$f":"IFERROR(INDEX(impianto_FV[Installation 1]+impianto_FV[Installation 2]+impianto_FV[Installation 3]+impianto_FV[Installation 4], MATCH(1, (impianto_FV[Source.Name.1]=F7) * (impianto_FV[Photovoltaïque]=\"Puissance installée [kW]\"), 0))+INDEX(impianto_HYDRO[Caractéristiques], MATCH(1, (impianto_HYDRO[Source.Name.1]=F7) * (impianto_HYDRO[hydroélectrique]=\"Puissance du générateur [kW]\"), 0))+INDEX(orario[Puissance installée '[kW']], MATCH(1, (orario[Source.Name.1]=F7) * 1, 0)),\"\")","v":""},{"$f":"IFERROR(INDEX(Utente[INPUT], MATCH(1, (Utente[Source.Name.1]=F7) * (Utente[[Participant ]]=\"en cas de clé statique, indiquer le coefficient de répartition \"), 0)),\"\")","v":0},"01_User",{"$f":"IFERROR(INDEX(output_utente[Colonna1], MATCH(1, (output_utente[Source.Name.1]='OUTPUT OUTIL ENERGETIQUE'!F7) * (output_utente[output]=\"somma consumi\"), 0)), \"\")","v":0},{"$f":"IF(J7=\"\",\"\",+G7-J7)","v":0},{"$f":"IFERROR(INDEX(output_utente[Colonna1], MATCH(1, (output_utente[Source.Name.1]='OUTPUT OUTIL ENERGETIQUE'!F7) * (output_utente[output]=\"produzione\"), 0)), \"\")","v":0},{"$f":"IF(N7=\"\",\"\",+I7*N7)","v":0},{"$f":"IFERROR(INDEX(output_utente[Colonna1], MATCH(1, (output_utente[Source.Name.1]='OUTPUT OUTIL ENERGETIQUE'!F7) * (output_utente[output]=\"energia immessa in cer\"), 0)), \"\")","v":0},{"$f":"IFERROR(INDEX(Distribuzione[Somma], MATCH(1, (Distribuzione[User]='OUTPUT OUTIL ENERGETIQUE'!F7)*1, 0)), \"\")","v":0},{"$f":"IFERROR(INDEX(output_utente[Colonna1], MATCH(1, (output_utente[Source.Name.1]='OUTPUT OUTIL ENERGETIQUE'!F7) * (output_utente[output]=\"autosufficenza\"), 0)), \"\")","v":0},{"$f":"IFERROR(INDEX(output_utente[Colonna1], MATCH(1, (output_utente[Source.Name.1]='OUTPUT OUTIL ENERGETIQUE'!F7) * (output_utente[output]=\"autoconsumo\"), 0)), \"\")","v":0},{"$f":"IFERROR(SUMIF(INDIRECT(\"Contributo_cer[\" & $F7 & \" - Fasce Francesi stagionalità]\"),'OUTPUT OUTIL ENERGETIQUE'!$O$6,INDIRECT(\"Contributo_cer[\" & $F7 & \" - consumo]\")),\"\")","v":0},{"$f":"IFERROR(SUMIF(INDIRECT(\"Contributo_cer[\" & F7 & \" - Fasce Francesi stagionalità]\"),'OUTPUT OUTIL ENERGETIQUE'!$P$6,INDIRECT(\"Contributo_cer[\" & F7 & \" - consumo]\")),\"\")","v":0},{"$f":"IFERROR(SUMIF(INDIRECT(\"Contributo_cer[\" & F7 & \" - Fasce Francesi stagionalità]\"),'OUTPUT OUTIL ENERGETIQUE'!$Q$6,INDIRECT(\"Contributo_cer[\" & F7 & \" - consumo]\")),\"\")","v":0},{"$f":"IFERROR(SUMIF(INDIRECT(\"Contributo_cer[\" & F7 & \" - Fasce Francesi stagionalità]\"),'OUTPUT OUTIL ENERGETIQUE'!$R$6,INDIRECT(\"Contributo_cer[\" & F7 & \" - consumo]\")),\"\")","v":0},{"$f":"IFERROR(SUMIF(INDIRECT(\"Contributo_cer[\" & F7 & \" - Fasce Francesi stagionalità]\"),'OUTPUT OUTIL ENERGETIQUE'!$S$6,INDIRECT(\"Contributo_cer[\" & F7 & \" - consumo]\")),\"\")","v":0},{"$f":"IFERROR(SUMIF(INDIRECT(\"Contributo_cer[\" & F7 & \" - Fasce Francesi stagionalità]\"),'OUTPUT OUTIL ENERGETIQUE'!$T$6,INDIRECT(\"Contributo_cer[\" & F7 & \" - consumi rimanenti]\")),\"\")","v":0},{"$f":"IFERROR(SUMIF(INDIRECT(\"Contributo_cer[\" & F7 & \" - Fasce Francesi stagionalità]\"),'OUTPUT OUTIL ENERGETIQUE'!$U$6,INDIRECT(\"Contributo_cer[\" & F7 & \" - consumi rimanenti]\")),\"\")","v":0},{"$f":"IFERROR(SUMIF(INDIRECT(\"Contributo_cer[\" & F7 & \" - Fasce Francesi stagionalità]\"),'OUTPUT OUTIL ENERGETIQUE'!$V$6,INDIRECT(\"Contributo_cer[\" & F7 & \" - consumi rimanenti]\")),\"\")","v":0},{"$f":"IFERROR(SUMIF(INDIRECT(\"Contributo_cer[\" & F7 & \" - Fasce Francesi stagionalità]\"),'OUTPUT OUTIL ENERGETIQUE'!$W$6,INDIRECT(\"Contributo_cer[\" & F7 & \" - consumi rimanenti]\")),\"\")","v":0},{"$f":"IFERROR(SUMIF(INDIRECT(\"Contributo_cer[\" & F7 & \" - Fasce Francesi stagionalità]\"),'OUTPUT OUTIL ENERGETIQUE'!$X$6,INDIRECT(\"Contributo_cer[\" & F7 & \" - consumi rimanenti]\")),\"\")","v":0},{"$f":"IFERROR(SUMIF(INDIRECT(\"Contributo_cer[\" & F7 & \" - Fasce Francesi stagionalità]\"), 'OUTPUT OUTIL ENERGETIQUE'!$Y$6, INDIRECT(\"Contributo_cer[Distribuzione - \" & F7 & \" - consumi rimanenti]\")),\"\")","v":0},{"$f":"IFERROR(SUMIF(INDIRECT(\"Contributo_cer[\" & F7 & \" - Fasce Francesi stagionalità]\"), 'OUTPUT OUTIL ENERGETIQUE'!$Z$6, INDIRECT(\"Contributo_cer[Distribuzione - \" & F7 & \" - consumi rimanenti]\")),\"\")","v":0},{"$f":"IFERROR(SUMIF(INDIRECT(\"Contributo_cer[\" & F7 & \" - Fasce Francesi stagionalità]\"), 'OUTPUT OUTIL ENERGETIQUE'!$AA$6, INDIRECT(\"Contributo_cer[Distribuzione - \" & F7 & \" - consumi rimanenti]\")),\"\")","v":0},{"$f":"IFERROR(SUMIF(INDIRECT(\"Contributo_cer[\" & F7 & \" - Fasce Francesi stagionalità]\"), 'OUTPUT OUTIL ENERGETIQUE'!$AB$6, INDIRECT(\"Contributo_cer[Distribuzione - \" & F7 & \" - consumi rimanenti]\")),\"\")","v":0},{"$f":"IFERROR(SUMIF(INDIRECT(\"Contributo_cer[\" & F7 & \" - Fasce Francesi stagionalità]\"), 'OUTPUT OUTIL ENERGETIQUE'!$AC$6, INDIRECT(\"Contributo_cer[Distribuzione - \" & F7 & \" - consumi rimanenti]\")),\"\")","v":0},{"$f":"IFERROR(+T7-Y7,\"\")","v":0},{"$f":"IFERROR(+U7-Z7,\"\")","v":0},0,0,0,null,{"$f":"IFERROR(+L7/$K$32,\"\")","v":""},null,null,null,"TAUX D'AUTOCONSOMMATION A L'ECHELLE DE L'OPERATON ACC POUR CHAQUE JOUR DE L'ANNEE"]
[{"$f":"IFERROR(INDEX(Utente[INPUT], MATCH(1, (Utente[Source.Name.1]='OUTPUT OUTIL ENERGETIQUE'!F8) * (Utente[[Participant ]]=\"Nom du participant\"), 0)), \"\")","v":""},{"$f":"IFERROR(\n    IF(\n        INDEX(Utente[INPUT], MATCH(1, (Utente[Source.Name.1]=F8) * (Utente[[Participant ]]=\"Type de production d'énergie\"), 0)) = 0,\n        INDEX(orario[Type de production d''énergie], MATCH(1, (orario[Source.Name.1]=F8) * 1, 0)),\n        INDEX(Utente[INPUT], MATCH(1, (Utente[Source.Name.1]=F8) * (Utente[[Participant ]]=\"Type de production d'énergie\"), 0))\n    ),\n    \"\"\n)","v":""},{"$f":"IFERROR(1+INDEX(Utente[INPUT], MATCH(1, (Utente[Source.Name.1]=F8) * (Utente[[Participant ]]=\"Nombre d'autres participants similaires\"), 0)),\"\")","v":""},{"$f":"IFERROR(INDEX(impianto_FV[Installation 1]+impianto_FV[Installation 2]+impianto_FV[Installation 3]+impianto_FV[Installation 4], MATCH(1, (impianto_FV[Source.Name.1]=F8) * (impianto_FV[Photovoltaïque]=\"Puissance installée [kW]\"), 0))+INDEX(impianto_HYDRO[Caractéristiques], MATCH(1, (impianto_HYDRO[Source.Name.1]=F8) * (impianto_HYDRO[hydroélectrique]=\"Puissance du générateur [kW]\"), 0))+INDEX(orario[Puissance installée '[kW']], MATCH(1, (orario[Source.Name.1]=F8) * 1, 0)),\"\")","v":""},{"$f":"IFERROR(INDEX(Utente[INPUT], MATCH(1, (Utente[Source.Name.1]=F8) * (Utente[[Participant ]]=\"en cas de clé statique, indiquer le coefficient de répartition \"), 0)),\"\")","v":""},"02_User",{"$f":"IFERROR(INDEX(output_utente[Colonna1], MATCH(1, (output_utente[Source.Name.1]='OUTPUT OUTIL ENERGETIQUE'!F8) * (output_utente[output]=\"somma consumi\"), 0)), \"\")","v":""},"",{"$f":"IFERROR(INDEX(output_utente[Colonna1], MATCH(1, (output_utente[Source.Name.1]='OUTPUT OUTIL ENERGETIQUE'!F8) * (output_utente[output]=\"produzione\"), 0)), \"\")","v":""},"",{"$f":"IFERROR(INDEX(output_utente[Colonna1], MATCH(1, (output_utente[Source.Name.1]='OUTPUT OUTIL ENERGETIQUE'!F8) * (output_utente[output]=\"energia immessa in cer\"), 0)), \"\")","v":""},{"$f":"IFERROR(INDEX(Distribuzione[Somma], MATCH(1, (Distribuzione[User]='OUTPUT OUTIL ENERGETIQUE'!F8)*1, 0)), \"\")","v":""},{"$f":"IFERROR(INDEX(output_utente[Colonna1], MATCH(1, (output_utente[Source.Name.1]='OUTPUT OUTIL ENERGETIQUE'!F8) * (output_utente[output]=\"autosufficenza\"), 0)), \"\")","v":""},{"$f":"IFERROR(INDEX(output_utente[Colonna1], MATCH(1, (output_utente[Source.Name.1]='OUTPUT OUTIL ENERGETIQUE'!F8) * (output_utente[output]=\"autoconsumo\"), 0)), \"\")","v":""},{"$f":"IFERROR(SUMIF(INDIRECT(\"Contributo_cer[\" & $F8 & \" - Fasce Francesi stagionalità]\"),'OUTPUT OUTIL ENERGETIQUE'!$O$6,INDIRECT(\"Contributo_cer[\" & $F8 & \" - consumo]\")),\"\")","v":""},{"$f":"IFERROR(SUMIF(INDIRECT(\"Contributo_cer[\" & F8 & \" - Fasce Francesi stagionalità]\"),'OUTPUT OUTIL ENERGETIQUE'!$P$6,INDIRECT(\"Contributo_cer[\" & F8 & \" - consumo]\")),\"\")","v":""},{"$f":"IFERROR(SUMIF(INDIRECT(\"Contributo_cer[\" & F8 & \" - Fasce Francesi stagionalità]\"),'OUTPUT OUTIL ENERGETIQUE'!$Q$6,INDIRECT(\"Contributo_cer[\" & F8 & \" - consumo]\")),\"\")","v":""},{"$f":"IFERROR(SUMIF(INDIRECT(\"Contributo_cer[\" & F8 & \" - Fasce Francesi stagionalità]\"),'OUTPUT OUTIL ENERGETIQUE'!$R$6,INDIRECT(\"Contributo_cer[\" & F8 & \" - consumo]\")),\"\")","v":""},{"$f":"IFERROR(SUMIF(INDIRECT(\"Contributo_cer[\" & F8 & \" - Fasce Francesi stagionalità]\"),'OUTPUT OUTIL ENERGETIQUE'!$S$6,INDIRECT(\"Contributo_cer[\" & F8 & \" - consumo]\")),\"\")","v":""},{"$f":"IFERROR(SUMIF(INDIRECT(\"Contributo_cer[\" & F8 & \" - Fasce Francesi stagionalità]\"),'OUTPUT OUTIL ENERGETIQUE'!$T$6,INDIRECT(\"Contributo_cer[\" & F8 & \" - consumi rimanenti]\")),\"\")","v":""},{"$f":"IFERROR(SUMIF(INDIRECT(\"Contributo_cer[\" & F8 & \" - Fasce Francesi stagionalità]\"),'OUTPUT OUTIL ENERGETIQUE'!$U$6,INDIRECT(\"Contributo_cer[\" & F8 & \" - consumi rimanenti]\")),\"\")","v":""},{"$f":"IFERROR(SUMIF(INDIRECT(\"Contributo_cer[\" & F8 & \" - Fasce Francesi stagionalità]\"),'OUTPUT OUTIL ENERGETIQUE'!$V$6,INDIRECT(\"Contributo_cer[\" & F8 & \" - consumi rimanenti]\")),\"\")","v":""},{"$f":"IFERROR(SUMIF(INDIRECT(\"Contributo_cer[\" & F8 & \" - Fasce Francesi stagionalità]\"),'OUTPUT OUTIL ENERGETIQUE'!$W$6,INDIRECT(\"Contributo_cer[\" & F8 & \" - consumi rimanenti]\")),\"\")","v":""},{"$f":"IFERROR(SUMIF(INDIRECT(\"Contributo_cer[\" & F8 & \" - Fasce Francesi stagionalità]\"),'OUTPUT OUTIL ENERGETIQUE'!$X$6,INDIRECT(\"Contributo_cer[\" & F8 & \" - consumi rimanenti]\")),\"\")","v":""},{"$f":"IFERROR(SUMIF(INDIRECT(\"Contributo_cer[\" & F8 & \" - Fasce Francesi stagionalità]\"), 'OUTPUT OUTIL ENERGETIQUE'!$Y$6, INDIRECT(\"Contributo_cer[Distribuzione - \" & F8 & \" - consumi rimanenti]\")),\"\")","v":""},{"$f":"IFERROR(SUMIF(INDIRECT(\"Contributo_cer[\" & F8 & \" - Fasce Francesi stagionalità]\"), 'OUTPUT OUTIL ENERGETIQUE'!$Z$6, INDIRECT(\"Contributo_cer[Distribuzione - \" & F8 & \" - consumi rimanenti]\")),\"\")","v":""},{"$f":"IFERROR(SUMIF(INDIRECT(\"Contributo_cer[\" & F8 & \" - Fasce Francesi stagionalità]\"), 'OUTPUT OUTIL ENERGETIQUE'!$AA$6, INDIRECT(\"Contributo_cer[Distribuzione - \" & F8 & \" - consumi rimanenti]\")),\"\")","v":""},{"$f":"IFERROR(SUMIF(INDIRECT(\"Contributo_cer[\" & F8 & \" - Fasce Francesi stagionalità]\"), 'OUTPUT OUTIL ENERGETIQUE'!$AB$6, INDIRECT(\"Contributo_cer[Distribuzione - \" & F8 & \" - consumi rimanenti]\")),\"\")","v":""},{"$f":"IFERROR(SUMIF(INDIRECT(\"Contributo_cer[\" & F8 & \" - Fasce Francesi stagionalità]\"), 'OUTPUT OUTIL ENERGETIQUE'!$AC$6, INDIRECT(\"Contributo_cer[Distribuzione - \" & F8 & \" - consumi rimanenti]\")),\"\")","v":""},{"$f":"IFERROR(+T8-Y8,\"\")","v":""},"","","","",null,{"$f":"IFERROR(+L8/$K$32,\"\")","v":""}]
[{"$f":"IFERROR(INDEX(Utente[INPUT], MATCH(1, (Utente[Source.Name.1]='OUTPUT OUTIL ENERGETIQUE'!F9) * (Utente[[Participant ]]=\"Nom du participant\"), 0)), \"\")","v":""},{"$f":"IFERROR(\n    IF(\n        INDEX(Utente[INPUT], MATCH(1, (Utente[Source.Name.1]=F9) * (Utente[[Participant ]]=\"Type de production d'énergie\"), 0)) = 0,\n        INDEX(orario[Type de production d''énergie], MATCH(1, (orario[Source.Name.1]=F9) * 1, 0)),\n        INDEX(Utente[INPUT], MATCH(1, (Utente[Source.Name.1]=F9) * (Utente[[Participant ]]=\"Type de production d'énergie\"), 0))\n    ),\n    \"\"\n)","v":""},{"$f":"IFERROR(1+INDEX(Utente[INPUT], MATCH(1, (Utente[Source.Name.1]=F9) * (Utente[[Participant ]]=\"Nombre d'autres participants similaires\"), 0)),\"\")","v":""},{"$f":"IFERROR(INDEX(impianto_FV[Installation 1]+impianto_FV[Installation 2]+impianto_FV[Installation 3]+impianto_FV[Installation 4], MATCH(1, (impianto_FV[Source.Name.1]=F9) * (impianto_FV[Photovoltaïque]=\"Puissance installée [kW]\"), 0))+INDEX(impianto_HYDRO[Caractéristiques], MATCH(1, (impianto_HYDRO[Source.Name.1]=F9) * (impianto_HYDRO[hydroélectrique]=\"Puissance du générateur [kW]\"), 0))+INDEX(orario[Puissance installée '[kW']], MATCH(1, (orario[Source.Name.1]=F9) * 1, 0)),\"\")","v":""},{"$f":"IFERROR(INDEX(Utente[INPUT], MATCH(1, (Utente[Source.Name.1]=F9) * (Utente[[Participant ]]=\"en cas de clé statique, indiquer le coefficient de répartition \"), 0)),\"\")","v":""},"03_User",{"$f":"IFERROR(INDEX(output_utente[Colonna1], MATCH(1, (output_utente[Source.Name.1]='OUTPUT OUTIL ENERGETIQUE'!F9) * (output_utente[output]=\"somma consumi\"), 0)), \"\")","v":""},"",{"$f":"IFERROR(INDEX(output_utente[Colonna1], MATCH(1, (output_utente[Source.Name.1]='OUTPUT OUTIL ENERGETIQUE'!F9) * (output_utente[output]=\"produzione\"), 0)), \"\")","v":""},"",{"$f":"IFERROR(INDEX(output_utente[Colonna1], MATCH(1, (output_utente[Source.Name.1]='OUTPUT OUTIL ENERGETIQUE'!F9) * (output_utente[output]=\"energia immessa in cer\"), 0)), \"\")","v":""},{"$f":"IFERROR(INDEX(Distribuzione[Somma], MATCH(1, (Distribuzione[User]='OUTPUT OUTIL ENERGETIQUE'!F9)*1, 0)), \"\")","v":""},{"$f":"IFERROR(INDEX(output_utente[Colonna1], MATCH(1, (output_utente[Source.Name.1]='OUTPUT OUTIL ENERGETIQUE'!F9) * (output_utente[output]=\"autosufficenza\"), 0)), \"\")","v":""},{"$f":"IFERROR(INDEX(output_utente[Colonna1], MATCH(1, (output_utente[Source.Name.1]='OUTPUT OUTIL ENERGETIQUE'!F9) * (output_utente[output]=\"autoconsumo\"), 0)), \"\")","v":""},{"$f":"IFERROR(SUMIF(INDIRECT(\"Contributo_cer[\" & $F9 & \" - Fasce Francesi stagionalità]\"),'OUTPUT OUTIL ENERGETIQUE'!$O$6,INDIRECT(\"Contributo_cer[\" & $F9 & \" - consumo]\")),\"\")","v":""},{"$f":"IFERROR(SUMIF(INDIRECT(\"Contributo_cer[\" & F9 & \" - Fasce Francesi stagionalità]\"),'OUTPUT OUTIL ENERGETIQUE'!$P$6,INDIRECT(\"Contributo_cer[\" & F9 & \" - consumo]\")),\"\")","v":""},{"$f":"IFERROR(SUMIF(INDIRECT(\"Contributo_cer[\" & F9 & \" - Fasce Francesi stagionalità]\"),'OUTPUT OUTIL ENERGETIQUE'!$Q$6,INDIRECT(\"Contributo_cer[\" & F9 & \" - consumo]\")),\"\")","v":""},{"$f":"IFERROR(SUMIF(INDIRECT(\"Contributo_cer[\" & F9 & \" - Fasce Francesi stagionalità]\"),'OUTPUT OUTIL ENERGETIQUE'!$R$6,INDIRECT(\"Contributo_cer[\" & F9 & \" - consumo]\")),\"\")","v":""},{"$f":"IFERROR(SUMIF(INDIRECT(\"Contributo_cer[\" & F9 & \" - Fasce Francesi stagionalità]\"),'OUTPUT OUTIL ENERGETIQUE'!$S$6,INDIRECT(\"Contributo_cer[\" & F9 & \" - consumo]\")),\"\")","v":""},{"$f":"IFERROR(SUMIF(INDIRECT(\"Contributo_cer[\" & F9 & \" - Fasce Francesi stagionalità]\"),'OUTPUT OUTIL ENERGETIQUE'!$T$6,INDIRECT(\"Contributo_cer[\" & F9 & \" - consumi rimanenti]\")),\"\")","v":""},{"$f":"IFERROR(SUMIF(INDIRECT(\"Contributo_cer[\" & F9 & \" - Fasce Francesi stagionalità]\"),'OUTPUT OUTIL ENERGETIQUE'!$U$6,INDIRECT(\"Contributo_cer[\" & F9 & \" - consumi rimanenti]\")),\"\")","v":""},{"$f":"IFERROR(SUMIF(INDIRECT(\"Contributo_cer[\" & F9 & \" - Fasce Francesi stagionalità]\"),'OUTPUT OUTIL ENERGETIQUE'!$V$6,INDIRECT(\"Contributo_cer[\" & F9 & \" - consumi rimanenti]\")),\"\")","v":""},{"$f":"IFERROR(SUMIF(INDIRECT(\"Contributo_cer[\" & F9 & \" - Fasce Francesi stagionalità]\"),'OUTPUT OUTIL ENERGETIQUE'!$W$6,INDIRECT(\"Contributo_cer[\" & F9 & \" - consumi rimanenti]\")),\"\")","v":""},{"$f":"IFERROR(SUMIF(INDIRECT(\"Contributo_cer[\" & F9 & \" - Fasce Francesi stagionalità]\"),'OUTPUT OUTIL ENERGETIQUE'!$X$6,INDIRECT(\"Contributo_cer[\" & F9 & \" - consumi rimanenti]\")),\"\")","v":""},{"$f":"IFERROR(SUMIF(INDIRECT(\"Contributo_cer[\" & F9 & \" - Fasce Francesi stagionalità]\"), 'OUTPUT OUTIL ENERGETIQUE'!$Y$6, INDIRECT(\"Contributo_cer[Distribuzione - \" & F9 & \" - consumi rimanenti]\")),\"\")","v":""},{"$f":"IFERROR(SUMIF(INDIRECT(\"Contributo_cer[\" & F9 & \" - Fasce Francesi stagionalità]\"), 'OUTPUT OUTIL ENERGETIQUE'!$Z$6, INDIRECT(\"Contributo_cer[Distribuzione - \" & F9 & \" - consumi rimanenti]\")),\"\")","v":""},{"$f":"IFERROR(SUMIF(INDIRECT(\"Contributo_cer[\" & F9 & \" - Fasce Francesi stagionalità]\"), 'OUTPUT OUTIL ENERGETIQUE'!$AA$6, INDIRECT(\"Contributo_cer[Distribuzione - \" & F9 & \" - consumi rimanenti]\")),\"\")","v":""},{"$f":"IFERROR(SUMIF(INDIRECT(\"Contributo_cer[\" & F9 & \" - Fasce Francesi stagionalità]\"), 'OUTPUT OUTIL ENERGETIQUE'!$AB$6, INDIRECT(\"Contributo_cer[Distribuzione - \" & F9 & \" - consumi rimanenti]\")),\"\")","v":""},{"$f":"IFERROR(SUMIF(INDIRECT(\"Contributo_cer[\" & F9 & \" - Fasce Francesi stagionalità]\"), 'OUTPUT OUTIL ENERGETIQUE'!$AC$6, INDIRECT(\"Contributo_cer[Distribuzione - \" & F9 & \" - consumi rimanenti]\")),\"\")","v":""},"","","","","",null,""]
[{"$f":"IFERROR(INDEX(Utente[INPUT], MATCH(1, (Utente[Source.Name.1]='OUTPUT OUTIL ENERGETIQUE'!F10) * (Utente[[Participant ]]=\"Nom du participant\"), 0)), \"\")","v":""},{"$f":"IFERROR(\n    IF(\n        INDEX(Utente[INPUT], MATCH(1, (Utente[Source.Name.1]=F10) * (Utente[[Participant ]]=\"Type de production d'énergie\"), 0)) = 0,\n        INDEX(orario[Type de production d''énergie], MATCH(1, (orario[Source.Name.1]=F10) * 1, 0)),\n        INDEX(Utente[INPUT], MATCH(1, (Utente[Source.Name.1]=F10) * (Utente[[Participant ]]=\"Type de production d'énergie\"), 0))\n    ),\n    \"\"\n)","v":""},{"$f":"IFERROR(1+INDEX(Utente[INPUT], MATCH(1, (Utente[Source.Name.1]=F10) * (Utente[[Participant ]]=\"Nombre d'autres participants similaires\"), 0)),\"\")","v":""},{"$f":"IFERROR(INDEX(impianto_FV[Installation 1]+impianto_FV[Installation 2]+impianto_FV[Installation 3]+impianto_FV[Installation 4], MATCH(1, (impianto_FV[Source.Name.1]=F10) * (impianto_FV[Photovoltaïque]=\"Puissance installée [kW]\"), 0))+INDEX(impianto_HYDRO[Caractéristiques], MATCH(1, (impianto_HYDRO[Source.Name.1]=F10) * (impianto_HYDRO[hydroélectrique]=\"Puissance du générateur [kW]\"), 0))+INDEX(orario[Puissance installée '[kW']], MATCH(1, (orario[Source.Name.1]=F10) * 1, 0)),\"\")","v":""},{"$f":"IFERROR(INDEX(Utente[INPUT], MATCH(1, (Utente[Source.Name.1]=F10) * (Utente[[Participant ]]=\"en cas de clé statique, indiquer le coefficient de répartition \"), 0)),\"\")","v":""},"04_User",{"$f":"IFERROR(INDEX(output_utente[Colonna1], MATCH(1, (output_utente[Source.Name.1]='OUTPUT OUTIL ENERGETIQUE'!F10) * (output_utente[output]=\"somma consumi\"), 0)), \"\")","v":""},"",{"$f":"IFERROR(INDEX(output_utente[Colonna1], MATCH(1, (output_utente[Source.Name.1]='OUTPUT OUTIL ENERGETIQUE'!F10) * (output_utente[output]=\"produzione\"), 0)), \"\")","v":""},"",{"$f":"IFERROR(INDEX(output_utente[Colonna1], MATCH(1, (output_utente[Source.Name.1]='OUTPUT OUTIL ENERGETIQUE'!F10) * (output_utente[output]=\"energia immessa in cer\"), 0)), \"\")","v":""},{"$f":"IFERROR(INDEX(Distribuzione[Somma], MATCH(1, (Distribuzione[User]='OUTPUT OUTIL ENERGETIQUE'!F10)*1, 0)), \"\")","v":""},{"$f":"IFERROR(INDEX(output_utente[Colonna1], MATCH(1, (output_utente[Source.Name.1]='OUTPUT OUTIL ENERGETIQUE'!F10) * (output_utente[output]=\"autosufficenza\"), 0)), \"\")","v":""},{"$f":"IFERROR(INDEX(output_utente[Colonna1], MATCH(1, (output_utente[Source.Name.1]='OUTPUT OUTIL ENERGETIQUE'!F10) * (output_utente[output]=\"autoconsumo\"), 0)), \"\")","v":""},{"$f":"IFERROR(SUMIF(INDIRECT(\"Contributo_cer[\" & $F10 & \" - Fasce Francesi stagionalità]\"),'OUTPUT OUTIL ENERGETIQUE'!$O$6,INDIRECT(\"Contributo_cer[\" & $F10 & \" - consumo]\")),\"\")","v":""},{"$f":"IFERROR(SUMIF(INDIRECT(\"Contributo_cer[\" & F10 & \" - Fasce Francesi stagionalità]\"),'OUTPUT OUTIL ENERGETIQUE'!$P$6,INDIRECT(\"Contributo_cer[\" & F10 & \" - consumo]\")),\"\")","v":""},{"$f":"IFERROR(SUMIF(INDIRECT(\"Contributo_cer[\" & F10 & \" - Fasce Francesi stagionalità]\"),'OUTPUT OUTIL ENERGETIQUE'!$Q$6,INDIRECT(\"Contributo_cer[\" & F10 & \" - consumo]\")),\"\")","v":""},{"$f":"IFERROR(SUMIF(INDIRECT(\"Contributo_cer[\" & F10 & \" - Fasce Francesi stagionalità]\"),'OUTPUT OUTIL ENERGETIQUE'!$R$6,INDIRECT(\"Contributo_cer[\" & F10 & \" - consumo]\")),\"\")","v":""},{"$f":"IFERROR(SUMIF(INDIRECT(\"Contributo_cer[\" & F10 & \" - Fasce Francesi stagionalità]\"),'OUTPUT OUTIL ENERGETIQUE'!$S$6,INDIRECT(\"Contributo_cer[\" & F10 & \" - consumo]\")),\"\")","v":""},{"$f":"IFERROR(SUMIF(INDIRECT(\"Contributo_cer[\" & F10 & \" - Fasce Francesi stagionalità]\"),'OUTPUT OUTIL ENERGETIQUE'!$T$6,INDIRECT(\"Contributo_cer[\" & F10 & \" - consumi rimanenti]\")),\"\")","v":""},{"$f":"IFERROR(SUMIF(INDIRECT(\"Contributo_cer[\" & F10 & \" - Fasce Francesi stagionalità]\"),'OUTPUT OUTIL ENERGETIQUE'!$U$6,INDIRECT(\"Contributo_cer[\" & F10 & \" - consumi rimanenti]\")),\"\")","v":""},{"$f":"IFERROR(SUMIF(INDIRECT(\"Contributo_cer[\" & F10 & \" - Fasce Francesi stagionalità]\"),'OUTPUT OUTIL ENERGETIQUE'!$V$6,INDIRECT(\"Contributo_cer[\" & F10 & \" - consumi rimanenti]\")),\"\")","v":""},{"$f":"IFERROR(SUMIF(INDIRECT(\"Contributo_cer[\" & F10 & \" - Fasce Francesi stagionalità]\"),'OUTPUT OUTIL ENERGETIQUE'!$W$6,INDIRECT(\"Contributo_cer[\" & F10 & \" - consumi rimanenti]\")),\"\")","v":""},{"$f":"IFERROR(SUMIF(INDIRECT(\"Contributo_cer[\" & F10 & \" - Fasce Francesi stagionalità]\"),'OUTPUT OUTIL ENERGETIQUE'!$X$6,INDIRECT(\"Contributo_cer[\" & F10 & \" - consumi rimanenti]\")),\"\")","v":""},{"$f":"IFERROR(SUMIF(INDIRECT(\"Contributo_cer[\" & F10 & \" - Fasce Francesi stagionalità]\"), 'OUTPUT OUTIL ENERGETIQUE'!$Y$6, INDIRECT(\"Contributo_cer[Distribuzione - \" & F10 & \" - consumi rimanenti]\")),\"\")","v":""},{"$f":"IFERROR(SUMIF(INDIRECT(\"Contributo_cer[\" & F10 & \" - Fasce Francesi stagionalità]\"), 'OUTPUT OUTIL ENERGETIQUE'!$Z$6, INDIRECT(\"Contributo_cer[Distribuzione - \" & F10 & \" - consumi rimanenti]\")),\"\")","v":""},{"$f":"IFERROR(SUMIF(INDIRECT(\"Contributo_cer[\" & F10 & \" - Fasce Francesi stagionalità]\"), 'OUTPUT OUTIL ENERGETIQUE'!$AA$6, INDIRECT(\"Contributo_cer[Distribuzione - \" & F10 & \" - consumi rimanenti]\")),\"\")","v":""},{"$f":"IFERROR(SUMIF(INDIRECT(\"Contributo_cer[\" & F10 & \" - Fasce Francesi stagionalità]\"), 'OUTPUT OUTIL ENERGETIQUE'!$AB$6, INDIRECT(\"Contributo_cer[Distribuzione - \" & F10 & \" - consumi rimanenti]\")),\"\")","v":""},{"$f":"IFERROR(SUMIF(INDIRECT(\"Contributo_cer[\" & F10 & \" - Fasce Francesi stagionalità]\"), 'OUTPUT OUTIL ENERGETIQUE'!$AC$6, INDIRECT(\"Contributo_cer[Distribuzione - \" & F10 & \" - consumi rimanenti]\")),\"\")","v":""},"","","","","",null,"",null,null,null,1,2,3,4,5,6,7,8,9,10,11,12,13,14,15,16,17,18,19,20,21,22,23,24,25,26,27,28,29,30,31]
[{"$f":"IFERROR(INDEX(Utente[INPUT], MATCH(1, (Utente[Source.Name.1]='OUTPUT OUTIL ENERGETIQUE'!F11) * (Utente[[Participant ]]=\"Nom du participant\"), 0)), \"\")","v":""},{"$f":"IFERROR(\n    IF(\n        INDEX(Utente[INPUT], MATCH(1, (Utente[Source.Name.1]=F11) * (Utente[[Participant ]]=\"Type de production d'énergie\"), 0)) = 0,\n        INDEX(orario[Type de production d''énergie], MATCH(1, (orario[Source.Name.1]=F11) * 1, 0)),\n        INDEX(Utente[INPUT], MATCH(1, (Utente[Source.Name.1]=F11) * (Utente[[Participant ]]=\"Type de production d'énergie\"), 0))\n    ),\n    \"\"\n)","v":""},{"$f":"IFERROR(1+INDEX(Utente[INPUT], MATCH(1, (Utente[Source.Name.1]=F11) * (Utente[[Participant ]]=\"Nombre d'autres participants similaires\"), 0)),\"\")","v":""},{"$f":"IFERROR(INDEX(impianto_FV[Installation 1]+impianto_FV[Installation 2]+impianto_FV[Installation 3]+impianto_FV[Installation 4], MATCH(1, (impianto_FV[Source.Name.1]=F11) * (impianto_FV[Photovoltaïque]=\"Puissance installée [kW]\"), 0))+INDEX(impianto_HYDRO[Caractéristiques], MATCH(1, (impianto_HYDRO[Source.Name.1]=F11) * (impianto_HYDRO[hydroélectrique]=\"Puissance du générateur [kW]\"), 0))+INDEX(orario[Puissance installée '[kW']], MATCH(1, (orario[Source.Name.1]=F11) * 1, 0)),\"\")","v":""},{"$f":"IFERROR(INDEX(Utente[INPUT], MATCH(1, (Utente[Source.Name.1]=F11) * (Utente[[Participant ]]=\"en cas de clé statique, indiquer le coefficient de répartition \"), 0)),\"\")","v":""},"05_User",{"$f":"IFERROR(INDEX(output_utente[Colonna1], MATCH(1, (output_utente[Source.Name.1]='OUTPUT OUTIL ENERGETIQUE'!F11) * (output_utente[output]=\"somma consumi\"), 0)), \"\")","v":""},"",{"$f":"IFERROR(INDEX(output_utente[Colonna1], MATCH(1, (output_utente[Source.Name.1]='OUTPUT OUTIL ENERGETIQUE'!F11) * (output_utente[output]=\"produzione\"), 0)), \"\")","v":""},"",{"$f":"IFERROR(INDEX(output_utente[Colonna1], MATCH(1, (output_utente[Source.Name.1]='OUTPUT OUTIL ENERGETIQUE'!F11) * (output_utente[output]=\"energia immessa in cer\"), 0)), \"\")","v":""},{"$f":"IFERROR(INDEX(Distribuzione[Somma], MATCH(1, (Distribuzione[User]='OUTPUT OUTIL ENERGETIQUE'!F11)*1, 0)), \"\")","v":""},{"$f":"IFERROR(INDEX(output_utente[Colonna1], MATCH(1, (output_utente[Source.Name.1]='OUTPUT OUTIL ENERGETIQUE'!F11) * (output_utente[output]=\"autosufficenza\"), 0)), \"\")","v":""},{"$f":"IFERROR(INDEX(output_utente[Colonna1], MATCH(1, (output_utente[Source.Name.1]='OUTPUT OUTIL ENERGETIQUE'!F11) * (output_utente[output]=\"autoconsumo\"), 0)), \"\")","v":""},{"$f":"IFERROR(SUMIF(INDIRECT(\"Contributo_cer[\" & $F11 & \" - Fasce Francesi stagionalità]\"),'OUTPUT OUTIL ENERGETIQUE'!$O$6,INDIRECT(\"Contributo_cer[\" & $F11 & \" - consumo]\")),\"\")","v":""},{"$f":"IFERROR(SUMIF(INDIRECT(\"Contributo_cer[\" & F11 & \" - Fasce Francesi stagionalità]\"),'OUTPUT OUTIL ENERGETIQUE'!$P$6,INDIRECT(\"Contributo_cer[\" & F11 & \" - consumo]\")),\"\")","v":""},{"$f":"IFERROR(SUMIF(INDIRECT(\"Contributo_cer[\" & F11 & \" - Fasce Francesi stagionalità]\"),'OUTPUT OUTIL ENERGETIQUE'!$Q$6,INDIRECT(\"Contributo_cer[\" & F11 & \" - consumo]\")),\"\")","v":""},{"$f":"IFERROR(SUMIF(INDIRECT(\"Contributo_cer[\" & F11 & \" - Fasce Francesi stagionalità]\"),'OUTPUT OUTIL ENERGETIQUE'!$R$6,INDIRECT(\"Contributo_cer[\" & F11 & \" - consumo]\")),\"\")","v":""},{"$f":"IFERROR(SUMIF(INDIRECT(\"Contributo_cer[\" & F11 & \" - Fasce Francesi stagionalità]\"),'OUTPUT OUTIL ENERGETIQUE'!$S$6,INDIRECT(\"Contributo_cer[\" & F11 & \" - consumo]\")),\"\")","v":""},{"$f":"IFERROR(SUMIF(INDIRECT(\"Contributo_cer[\" & F11 & \" - Fasce Francesi stagionalità]\"),'OUTPUT OUTIL ENERGETIQUE'!$T$6,INDIRECT(\"Contributo_cer[\" & F11 & \" - consumi rimanenti]\")),\"\")","v":""},{"$f":"IFERROR(SUMIF(INDIRECT(\"Contributo_cer[\" & F11 & \" - Fasce Francesi stagionalità]\"),'OUTPUT OUTIL ENERGETIQUE'!$U$6,INDIRECT(\"Contributo_cer[\" & F11 & \" - consumi rimanenti]\")),\"\")","v":""},{"$f":"IFERROR(SUMIF(INDIRECT(\"Contributo_cer[\" & F11 & \" - Fasce Francesi stagionalità]\"),'OUTPUT OUTIL ENERGETIQUE'!$V$6,INDIRECT(\"Contributo_cer[\" & F11 & \" - consumi rimanenti]\")),\"\")","v":""},{"$f":"IFERROR(SUMIF(INDIRECT(\"Contributo_cer[\" & F11 & \" - Fasce Francesi stagionalità]\"),'OUTPUT OUTIL ENERGETIQUE'!$W$6,INDIRECT(\"Contributo_cer[\" & F11 & \" - consumi rimanenti]\")),\"\")","v":""},{"$f":"IFERROR(SUMIF(INDIRECT(\"Contributo_cer[\" & F11 & \" - Fasce Francesi stagionalità]\"),'OUTPUT OUTIL ENERGETIQUE'!$X$6,INDIRECT(\"Contributo_cer[\" & F11 & \" - consumi rimanenti]\")),\"\")","v":""},{"$f":"IFERROR(SUMIF(INDIRECT(\"Contributo_cer[\" & F11 & \" - Fasce Francesi stagionalità]\"), 'OUTPUT OUTIL ENERGETIQUE'!$Y$6, INDIRECT(\"Contributo_cer[Distribuzione - \" & F11 & \" - consumi rimanenti]\")),\"\")","v":""},{"$f":"IFERROR(SUMIF(INDIRECT(\"Contributo_cer[\" & F11 & \" - Fasce Francesi stagionalità]\"), 'OUTPUT OUTIL ENERGETIQUE'!$Z$6, INDIRECT(\"Contributo_cer[Distribuzione - \" & F11 & \" - consumi rimanenti]\")),\"\")","v":""},{"$f":"IFERROR(SUMIF(INDIRECT(\"Contributo_cer[\" & F11 & \" - Fasce Francesi stagionalità]\"), 'OUTPUT OUTIL ENERGETIQUE'!$AA$6, INDIRECT(\"Contributo_cer[Distribuzione - \" & F11 & \" - consumi rimanenti]\")),\"\")","v":""},{"$f":"IFERROR(SUMIF(INDIRECT(\"Contributo_cer[\" & F11 & \" - Fasce Francesi stagionalità]\"), 'OUTPUT OUTIL ENERGETIQUE'!$AB$6, INDIRECT(\"Contributo_cer[Distribuzione - \" & F11 & \" - consumi rimanenti]\")),\"\")","v":""},{"$f":"IFERROR(SUMIF(INDIRECT(\"Contributo_cer[\" & F11 & \" - Fasce Francesi stagionalità]\"), 'OUTPUT OUTIL ENERGETIQUE'!$AC$6, INDIRECT(\"Contributo_cer[Distribuzione - \" & F11 & \" - consumi rimanenti]\")),\"\")","v":""},"","","","","",null,"",null,"janvier",1,{"$f":"IFERROR(INDEX(Contributo_cer__2[autoconsumo %], MATCH(1, (Contributo_cer__2[MM]='OUTPUT OUTIL ENERGETIQUE'!$AM11) * (Contributo_cer__2[Giorno]='OUTPUT OUTIL ENERGETIQUE'!AN$10), 0)), \"\")","v":0},{"$f":"IFERROR(INDEX(Contributo_cer__2[autoconsumo %], MATCH(1, (Contributo_cer__2[MM]='OUTPUT OUTIL ENERGETIQUE'!$AM11) * (Contributo_cer__2[Giorno]='OUTPUT OUTIL ENERGETIQUE'!AO$10), 0)), \"\")","v":0},{"$f":"IFERROR(INDEX(Contributo_cer__2[autoconsumo %], MATCH(1, (Contributo_cer__2[MM]='OUTPUT OUTIL ENERGETIQUE'!$AM11) * (Contributo_cer__2[Giorno]='OUTPUT OUTIL ENERGETIQUE'!AP$10), 0)), \"\")","v":0},{"$f":"IFERROR(INDEX(Contributo_cer__2[autoconsumo %], MATCH(1, (Contributo_cer__2[MM]='OUTPUT OUTIL ENERGETIQUE'!$AM11) * (Contributo_cer__2[Giorno]='OUTPUT OUTIL ENERGETIQUE'!AQ$10), 0)), \"\")","v":0},{"$f":"IFERROR(INDEX(Contributo_cer__2[autoconsumo %], MATCH(1, (Contributo_cer__2[MM]='OUTPUT OUTIL ENERGETIQUE'!$AM11) * (Contributo_cer__2[Giorno]='OUTPUT OUTIL ENERGETIQUE'!AR$10), 0)), \"\")","v":0},{"$f":"IFERROR(INDEX(Contributo_cer__2[autoconsumo %], MATCH(1, (Contributo_cer__2[MM]='OUTPUT OUTIL ENERGETIQUE'!$AM11) * (Contributo_cer__2[Giorno]='OUTPUT OUTIL ENERGETIQUE'!AS$10), 0)), \"\")","v":0},{"$f":"IFERROR(INDEX(Contributo_cer__2[autoconsumo %], MATCH(1, (Contributo_cer__2[MM]='OUTPUT OUTIL ENERGETIQUE'!$AM11) * (Contributo_cer__2[Giorno]='OUTPUT OUTIL ENERGETIQUE'!AT$10), 0)), \"\")","v":0},{"$f":"IFERROR(INDEX(Contributo_cer__2[autoconsumo %], MATCH(1, (Contributo_cer__2[MM]='OUTPUT OUTIL ENERGETIQUE'!$AM11) * (Contributo_cer__2[Giorno]='OUTPUT OUTIL ENERGETIQUE'!AU$10), 0)), \"\")","v":0},{"$f":"IFERROR(INDEX(Contributo_cer__2[autoconsumo %], MATCH(1, (Contributo_cer__2[MM]='OUTPUT OUTIL ENERGETIQUE'!$AM11) * (Contributo_cer__2[Giorno]='OUTPUT OUTIL ENERGETIQUE'!AV$10), 0)), \"\")","v":0},{"$f":"IFERROR(INDEX(Contributo_cer__2[autoconsumo %], MATCH(1, (Contributo_cer__2[MM]='OUTPUT OUTIL ENERGETIQUE'!$AM11) * (Contributo_cer__2[Giorno]='OUTPUT OUTIL ENERGETIQUE'!AW$10), 0)), \"\")","v":0},{"$f":"IFERROR(INDEX(Contributo_cer__2[autoconsumo %], MATCH(1, (Contributo_cer__2[MM]='OUTPUT OUTIL ENERGETIQUE'!$AM11) * (Contributo_cer__2[Giorno]='OUTPUT OUTIL ENERGETIQUE'!AX$10), 0)), \"\")","v":0},{"$f":"IFERROR(INDEX(Contributo_cer__2[autoconsumo %], MATCH(1, (Contributo_cer__2[MM]='OUTPUT OUTIL ENERGETIQUE'!$AM11) * (Contributo_cer__2[Giorno]='OUTPUT OUTIL ENERGETIQUE'!AY$10), 0)), \"\")","v":0},{"$f":"IFERROR(INDEX(Contributo_cer__2[autoconsumo %], MATCH(1, (Contributo_cer__2[MM]='OUTPUT OUTIL ENERGETIQUE'!$AM11) * (Contributo_cer__2[Giorno]='OUTPUT OUTIL ENERGETIQUE'!AZ$10), 0)), \"\")","v":0},{"$f":"IFERROR(INDEX(Contributo_cer__2[autoconsumo %], MATCH(1, (Contributo_cer__2[MM]='OUTPUT OUTIL ENERGETIQUE'!$AM11) * (Contributo_cer__2[Giorno]='OUTPUT OUTIL ENERGETIQUE'!BA$10), 0)), \"\")","v":0},{"$f":"IFERROR(INDEX(Contributo_cer__2[autoconsumo %], MATCH(1, (Contributo_cer__2[MM]='OUTPUT OUTIL ENERGETIQUE'!$AM11) * (Contributo_cer__2[Giorno]='OUTPUT OUTIL ENERGETIQUE'!BB$10), 0)), \"\")","v":0},{"$f":"IFERROR(INDEX(Contributo_cer__2[autoconsumo %], MATCH(1, (Contributo_cer__2[MM]='OUTPUT OUTIL ENERGETIQUE'!$AM11) * (Contributo_cer__2[Giorno]='OUTPUT OUTIL ENERGETIQUE'!BC$10), 0)), \"\")","v":0},{"$f":"IFERROR(INDEX(Contributo_cer__2[autoconsumo %], MATCH(1, (Contributo_cer__2[MM]='OUTPUT OUTIL ENERGETIQUE'!$AM11) * (Contributo_cer__2[Giorno]='OUTPUT OUTIL ENERGETIQUE'!BD$10), 0)), \"\")","v":0},{"$f":"IFERROR(INDEX(Contributo_cer__2[autoconsumo %], MATCH(1, (Contributo_cer__2[MM]='OUTPUT OUTIL ENERGETIQUE'!$AM11) * (Contributo_cer__2[Giorno]='OUTPUT OUTIL ENERGETIQUE'!BE$10), 0)), \"\")","v":0},{"$f":"IFERROR(INDEX(Contributo_cer__2[autoconsumo %], MATCH(1, (Contributo_cer__2[MM]='OUTPUT OUTIL ENERGETIQUE'!$AM11) * (Contributo_cer__2[Giorno]='OUTPUT OUTIL ENERGETIQUE'!BF$10), 0)), \"\")","v":0},{"$f":"IFERROR(INDEX(Contributo_cer__2[autoconsumo %], MATCH(1, (Contributo_cer__2[MM]='OUTPUT OUTIL ENERGETIQUE'!$AM11) * (Contributo_cer__2[Giorno]='OUTPUT OUTIL ENERGETIQUE'!BG$10), 0)), \"\")","v":0},{"$f":"IFERROR(INDEX(Contributo_cer__2[autoconsumo %], MATCH(1, (Contributo_cer__2[MM]='OUTPUT OUTIL ENERGETIQUE'!$AM11) * (Contributo_cer__2[Giorno]='OUTPUT OUTIL ENERGETIQUE'!BH$10), 0)), \"\")","v":0},{"$f":"IFERROR(INDEX(Contributo_cer__2[autoconsumo %], MATCH(1, (Contributo_cer__2[MM]='OUTPUT OUTIL ENERGETIQUE'!$AM11) * (Contributo_cer__2[Giorno]='OUTPUT OUTIL ENERGETIQUE'!BI$10), 0)), \"\")","v":0},{"$f":"IFERROR(INDEX(Contributo_cer__2[autoconsumo %], MATCH(1, (Contributo_cer__2[MM]='OUTPUT OUTIL ENERGETIQUE'!$AM11) * (Contributo_cer__2[Giorno]='OUTPUT OUTIL ENERGETIQUE'!BJ$10), 0)), \"\")","v":0},{"$f":"IFERROR(INDEX(Contributo_cer__2[autoconsumo %], MATCH(1, (Contributo_cer__2[MM]='OUTPUT OUTIL ENERGETIQUE'!$AM11) * (Contributo_cer__2[Giorno]='OUTPUT OUTIL ENERGETIQUE'!BK$10), 0)), \"\")","v":0},{"$f":"IFERROR(INDEX(Contributo_cer__2[autoconsumo %], MATCH(1, (Contributo_cer__2[MM]='OUTPUT OUTIL ENERGETIQUE'!$AM11) * (Contributo_cer__2[Giorno]='OUTPUT OUTIL ENERGETIQUE'!BL$10), 0)), \"\")","v":0},{"$f":"IFERROR(INDEX(Contributo_cer__2[autoconsumo %], MATCH(1, (Contributo_cer__2[MM]='OUTPUT OUTIL ENERGETIQUE'!$AM11) * (Contributo_cer__2[Giorno]='OUTPUT OUTIL ENERGETIQUE'!BM$10), 0)), \"\")","v":0},{"$f":"IFERROR(INDEX(Contributo_cer__2[autoconsumo %], MATCH(1, (Contributo_cer__2[MM]='OUTPUT OUTIL ENERGETIQUE'!$AM11) * (Contributo_cer__2[Giorno]='OUTPUT OUTIL ENERGETIQUE'!BN$10), 0)), \"\")","v":0},{"$f":"IFERROR(INDEX(Contributo_cer__2[autoconsumo %], MATCH(1, (Contributo_cer__2[MM]='OUTPUT OUTIL ENERGETIQUE'!$AM11) * (Contributo_cer__2[Giorno]='OUTPUT OUTIL ENERGETIQUE'!BO$10), 0)), \"\")","v":0},{"$f":"IFERROR(INDEX(Contributo_cer__2[autoconsumo %], MATCH(1, (Contributo_cer__2[MM]='OUTPUT OUTIL ENERGETIQUE'!$AM11) * (Contributo_cer__2[Giorno]='OUTPUT OUTIL ENERGETIQUE'!BP$10), 0)), \"\")","v":0},{"$f":"IFERROR(INDEX(Contributo_cer__2[autoconsumo %], MATCH(1, (Contributo_cer__2[MM]='OUTPUT OUTIL ENERGETIQUE'!$AM11) * (Contributo_cer__2[Giorno]='OUTPUT OUTIL ENERGETIQUE'!BQ$10), 0)), \"\")","v":0},{"$f":"IFERROR(INDEX(Contributo_cer__2[autoconsumo %], MATCH(1, (Contributo_cer__2[MM]='OUTPUT OUTIL ENERGETIQUE'!$AM11) * (Contributo_cer__2[Giorno]='OUTPUT OUTIL ENERGETIQUE'!BR$10), 0)), \"\")","v":0}]
[{"$f":"IFERROR(INDEX(Utente[INPUT], MATCH(1, (Utente[Source.Name.1]='OUTPUT OUTIL ENERGETIQUE'!F12) * (Utente[[Participant ]]=\"Nom du participant\"), 0)), \"\")","v":""},{"$f":"IFERROR(\n    IF(\n        INDEX(Utente[INPUT], MATCH(1, (Utente[Source.Name.1]=F12) * (Utente[[Participant ]]=\"Type de production d'énergie\"), 0)) = 0,\n        INDEX(orario[Type de production d''énergie], MATCH(1, (orario[Source.Name.1]=F12) * 1, 0)),\n        INDEX(Utente[INPUT], MATCH(1, (Utente[Source.Name.1]=F12) * (Utente[[Participant ]]=\"Type de production d'énergie\"), 0))\n    ),\n    \"\"\n)","v":""},{"$f":"IFERROR(1+INDEX(Utente[INPUT], MATCH(1, (Utente[Source.Name.1]=F12) * (Utente[[Participant ]]=\"Nombre d'autres participants similaires\"), 0)),\"\")","v":""},{"$f":"IFERROR(INDEX(impianto_FV[Installation 1]+impianto_FV[Installation 2]+impianto_FV[Installation 3]+impianto_FV[Installation 4], MATCH(1, (impianto_FV[Source.Name.1]=F12) * (impianto_FV[Photovoltaïque]=\"Puissance installée [kW]\"), 0))+INDEX(impianto_HYDRO[Caractéristiques], MATCH(1, (impianto_HYDRO[Source.Name.1]=F12) * (impianto_HYDRO[hydroélectrique]=\"Puissance du générateur [kW]\"), 0))+INDEX(orario[Puissance installée '[kW']], MATCH(1, (orario[Source.Name.1]=F12) * 1, 0)),\"\")","v":""},{"$f":"IFERROR(INDEX(Utente[INPUT], MATCH(1, (Utente[Source.Name.1]=F12) * (Utente[[Participant ]]=\"en cas de clé statique, indiquer le coefficient de répartition \"), 0)),\"\")","v":""},"06_User",{"$f":"IFERROR(INDEX(output_utente[Colonna1], MATCH(1, (output_utente[Source.Name.1]='OUTPUT OUTIL ENERGETIQUE'!F12) * (output_utente[output]=\"somma consumi\"), 0)), \"\")","v":""},{"$f":"IF(J12=\"\",\"\",+G12-J12)","v":""},{"$f":"IFERROR(INDEX(output_utente[Colonna1], MATCH(1, (output_utente[Source.Name.1]='OUTPUT OUTIL ENERGETIQUE'!F12) * (output_utente[output]=\"produzione\"), 0)), \"\")","v":""},{"$f":"IF(N12=\"\",\"\",+I12*N12)","v":""},{"$f":"IFERROR(INDEX(output_utente[Colonna1], MATCH(1, (output_utente[Source.Name.1]='OUTPUT OUTIL ENERGETIQUE'!F12) * (output_utente[output]=\"energia immessa in cer\"), 0)), \"\")","v":""},{"$f":"IFERROR(INDEX(Distribuzione[Somma], MATCH(1, (Distribuzione[User]='OUTPUT OUTIL ENERGETIQUE'!F12)*1, 0)), \"\")","v":""},{"$f":"IFERROR(INDEX(output_utente[Colonna1], MATCH(1, (output_utente[Source.Name.1]='OUTPUT OUTIL ENERGETIQUE'!F12) * (output_utente[output]=\"autosufficenza\"), 0)), \"\")","v":""},{"$f":"IFERROR(INDEX(output_utente[Colonna1], MATCH(1, (output_utente[Source.Name.1]='OUTPUT OUTIL ENERGETIQUE'!F12) * (output_utente[output]=\"autoconsumo\"), 0)), \"\")","v":""},{"$f":"IFERROR(SUMIF(INDIRECT(\"Contributo_cer[\" & $F12 & \" - Fasce Francesi stagionalità]\"),'OUTPUT OUTIL ENERGETIQUE'!$O$6,INDIRECT(\"Contributo_cer[\" & $F12 & \" - consumo]\")),\"\")","v":""},{"$f":"IFERROR(SUMIF(INDIRECT(\"Contributo_cer[\" & F12 & \" - Fasce Francesi stagionalità]\"),'OUTPUT OUTIL ENERGETIQUE'!$P$6,INDIRECT(\"Contributo_cer[\" & F12 & \" - consumo]\")),\"\")","v":""},{"$f":"IFERROR(SUMIF(INDIRECT(\"Contributo_cer[\" & F12 & \" - Fasce Francesi stagionalità]\"),'OUTPUT OUTIL ENERGETIQUE'!$Q$6,INDIRECT(\"Contributo_cer[\" & F12 & \" - consumo]\")),\"\")","v":""},{"$f":"IFERROR(SUMIF(INDIRECT(\"Contributo_cer[\" & F12 & \" - Fasce Francesi stagionalità]\"),'OUTPUT OUTIL ENERGETIQUE'!$R$6,INDIRECT(\"Contributo_cer[\" & F12 & \" - consumo]\")),\"\")","v":""},{"$f":"IFERROR(SUMIF(INDIRECT(\"Contributo_cer[\" & F12 & \" - Fasce Francesi stagionalità]\"),'OUTPUT OUTIL ENERGETIQUE'!$S$6,INDIRECT(\"Contributo_cer[\" & F12 & \" - consumo]\")),\"\")","v":""},{"$f":"IFERROR(SUMIF(INDIRECT(\"Contributo_cer[\" & F12 & \" - Fasce Francesi stagionalità]\"),'OUTPUT OUTIL ENERGETIQUE'!$T$6,INDIRECT(\"Contributo_cer[\" & F12 & \" - consumi rimanenti]\")),\"\")","v":""},{"$f":"IFERROR(SUMIF(INDIRECT(\"Contributo_cer[\" & F12 & \" - Fasce Francesi stagionalità]\"),'OUTPUT OUTIL ENERGETIQUE'!$U$6,INDIRECT(\"Contributo_cer[\" & F12 & \" - consumi rimanenti]\")),\"\")","v":""},{"$f":"IFERROR(SUMIF(INDIRECT(\"Contributo_cer[\" & F12 & \" - Fasce Francesi stagionalità]\"),'OUTPUT OUTIL ENERGETIQUE'!$V$6,INDIRECT(\"Contributo_cer[\" & F12 & \" - consumi rimanenti]\")),\"\")","v":""},{"$f":"IFERROR(SUMIF(INDIRECT(\"Contributo_cer[\" & F12 & \" - Fasce Francesi stagionalità]\"),'OUTPUT OUTIL ENERGETIQUE'!$W$6,INDIRECT(\"Contributo_cer[\" & F12 & \" - consumi rimanenti]\")),\"\")","v":""},{"$f":"IFERROR(SUMIF(INDIRECT(\"Contributo_cer[\" & F12 & \" - Fasce Francesi stagionalità]\"),'OUTPUT OUTIL ENERGETIQUE'!$X$6,INDIRECT(\"Contributo_cer[\" & F12 & \" - consumi rimanenti]\")),\"\")","v":""},{"$f":"IFERROR(SUMIF(INDIRECT(\"Contributo_cer[\" & F12 & \" - Fasce Francesi stagionalità]\"), 'OUTPUT OUTIL ENERGETIQUE'!$Y$6, INDIRECT(\"Contributo_cer[Distribuzione - \" & F12 & \" - consumi rimanenti]\")),\"\")","v":""},{"$f":"IFERROR(SUMIF(INDIRECT(\"Contributo_cer[\" & F12 & \" - Fasce Francesi stagionalità]\"), 'OUTPUT OUTIL ENERGETIQUE'!$Z$6, INDIRECT(\"Contributo_cer[Distribuzione - \" & F12 & \" - consumi rimanenti]\")),\"\")","v":""},{"$f":"IFERROR(SUMIF(INDIRECT(\"Contributo_cer[\" & F12 & \" - Fasce Francesi stagionalità]\"), 'OUTPUT OUTIL ENERGETIQUE'!$AA$6, INDIRECT(\"Contributo_cer[Distribuzione - \" & F12 & \" - consumi rimanenti]\")),\"\")","v":""},{"$f":"IFERROR(SUMIF(INDIRECT(\"Contributo_cer[\" & F12 & \" - Fasce Francesi stagionalità]\"), 'OUTPUT OUTIL ENERGETIQUE'!$AB$6, INDIRECT(\"Contributo_cer[Distribuzione - \" & F12 & \" - consumi rimanenti]\")),\"\")","v":""},{"$f":"IFERROR(SUMIF(INDIRECT(\"Contributo_cer[\" & F12 & \" - Fasce Francesi stagionalità]\"), 'OUTPUT OUTIL ENERGETIQUE'!$AC$6, INDIRECT(\"Contributo_cer[Distribuzione - \" & F12 & \" - consumi rimanenti]\")),\"\")","v":""},"","","","",{"$f":"IFERROR(+X12-AC12,\"\")","v":""},null,"",null,"février",2,{"$f":"IFERROR(INDEX(Contributo_cer__2[autoconsumo %], MATCH(1, (Contributo_cer__2[MM]='OUTPUT OUTIL ENERGETIQUE'!$AM12) * (Contributo_cer__2[Giorno]='OUTPUT OUTIL ENERGETIQUE'!AN$10), 0)), \"\")","v":0},{"$f":"IFERROR(INDEX(Contributo_cer__2[autoconsumo %], MATCH(1, (Contributo_cer__2[MM]='OUTPUT OUTIL ENERGETIQUE'!$AM12) * (Contributo_cer__2[Giorno]='OUTPUT OUTIL ENERGETIQUE'!AO$10), 0)), \"\")","v":0},{"$f":"IFERROR(INDEX(Contributo_cer__2[autoconsumo %], MATCH(1, (Contributo_cer__2[MM]='OUTPUT OUTIL ENERGETIQUE'!$AM12) * (Contributo_cer__2[Giorno]='OUTPUT OUTIL ENERGETIQUE'!AP$10), 0)), \"\")","v":0},{"$f":"IFERROR(INDEX(Contributo_cer__2[autoconsumo %], MATCH(1, (Contributo_cer__2[MM]='OUTPUT OUTIL ENERGETIQUE'!$AM12) * (Contributo_cer__2[Giorno]='OUTPUT OUTIL ENERGETIQUE'!AQ$10), 0)), \"\")","v":0},{"$f":"IFERROR(INDEX(Contributo_cer__2[autoconsumo %], MATCH(1, (Contributo_cer__2[MM]='OUTPUT OUTIL ENERGETIQUE'!$AM12) * (Contributo_cer__2[Giorno]='OUTPUT OUTIL ENERGETIQUE'!AR$10), 0)), \"\")","v":0},{"$f":"IFERROR(INDEX(Contributo_cer__2[autoconsumo %], MATCH(1, (Contributo_cer__2[MM]='OUTPUT OUTIL ENERGETIQUE'!$AM12) * (Contributo_cer__2[Giorno]='OUTPUT OUTIL ENERGETIQUE'!AS$10), 0)), \"\")","v":0},{"$f":"IFERROR(INDEX(Contributo_cer__2[autoconsumo %], MATCH(1, (Contributo_cer__2[MM]='OUTPUT OUTIL ENERGETIQUE'!$AM12) * (Contributo_cer__2[Giorno]='OUTPUT OUTIL ENERGETIQUE'!AT$10), 0)), \"\")","v":0},{"$f":"IFERROR(INDEX(Contributo_cer__2[autoconsumo %], MATCH(1, (Contributo_cer__2[MM]='OUTPUT OUTIL ENERGETIQUE'!$AM12) * (Contributo_cer__2[Giorno]='OUTPUT OUTIL ENERGETIQUE'!AU$10), 0)), \"\")","v":0},{"$f":"IFERROR(INDEX(Contributo_cer__2[autoconsumo %], MATCH(1, (Contributo_cer__2[MM]='OUTPUT OUTIL ENERGETIQUE'!$AM12) * (Contributo_cer__2[Giorno]='OUTPUT OUTIL ENERGETIQUE'!AV$10), 0)), \"\")","v":0},{"$f":"IFERROR(INDEX(Contributo_cer__2[autoconsumo %], MATCH(1, (Contributo_cer__2[MM]='OUTPUT OUTIL ENERGETIQUE'!$AM12) * (Contributo_cer__2[Giorno]='OUTPUT OUTIL ENERGETIQUE'!AW$10), 0)), \"\")","v":0},{"$f":"IFERROR(INDEX(Contributo_cer__2[autoconsumo %], MATCH(1, (Contributo_cer__2[MM]='OUTPUT OUTIL ENERGETIQUE'!$AM12) * (Contributo_cer__2[Giorno]='OUTPUT OUTIL ENERGETIQUE'!AX$10), 0)), \"\")","v":0},{"$f":"IFERROR(INDEX(Contributo_cer__2[autoconsumo %], MATCH(1, (Contributo_cer__2[MM]='OUTPUT OUTIL ENERGETIQUE'!$AM12) * (Contributo_cer__2[Giorno]='OUTPUT OUTIL ENERGETIQUE'!AY$10), 0)), \"\")","v":0},{"$f":"IFERROR(INDEX(Contributo_cer__2[autoconsumo %], MATCH(1, (Contributo_cer__2[MM]='OUTPUT OUTIL ENERGETIQUE'!$AM12) * (Contributo_cer__2[Giorno]='OUTPUT OUTIL ENERGETIQUE'!AZ$10), 0)), \"\")","v":0},{"$f":"IFERROR(INDEX(Contributo_cer__2[autoconsumo %], MATCH(1, (Contributo_cer__2[MM]='OUTPUT OUTIL ENERGETIQUE'!$AM12) * (Contributo_cer__2[Giorno]='OUTPUT OUTIL ENERGETIQUE'!BA$10), 0)), \"\")","v":0},{"$f":"IFERROR(INDEX(Contributo_cer__2[autoconsumo %], MATCH(1, (Contributo_cer__2[MM]='OUTPUT OUTIL ENERGETIQUE'!$AM12) * (Contributo_cer__2[Giorno]='OUTPUT OUTIL ENERGETIQUE'!BB$10), 0)), \"\")","v":0},{"$f":"IFERROR(INDEX(Contributo_cer__2[autoconsumo %], MATCH(1, (Contributo_cer__2[MM]='OUTPUT OUTIL ENERGETIQUE'!$AM12) * (Contributo_cer__2[Giorno]='OUTPUT OUTIL ENERGETIQUE'!BC$10), 0)), \"\")","v":0},{"$f":"IFERROR(INDEX(Contributo_cer__2[autoconsumo %], MATCH(1, (Contributo_cer__2[MM]='OUTPUT OUTIL ENERGETIQUE'!$AM12) * (Contributo_cer__2[Giorno]='OUTPUT OUTIL ENERGETIQUE'!BD$10), 0)), \"\")","v":0},{"$f":"IFERROR(INDEX(Contributo_cer__2[autoconsumo %], MATCH(1, (Contributo_cer__2[MM]='OUTPUT OUTIL ENERGETIQUE'!$AM12) * (Contributo_cer__2[Giorno]='OUTPUT OUTIL ENERGETIQUE'!BE$10), 0)), \"\")","v":0},{"$f":"IFERROR(INDEX(Contributo_cer__2[autoconsumo %], MATCH(1, (Contributo_cer__2[MM]='OUTPUT OUTIL ENERGETIQUE'!$AM12) * (Contributo_cer__2[Giorno]='OUTPUT OUTIL ENERGETIQUE'!BF$10), 0)), \"\")","v":0},{"$f":"IFERROR(INDEX(Contributo_cer__2[autoconsumo %], MATCH(1, (Contributo_cer__2[MM]='OUTPUT OUTIL ENERGETIQUE'!$AM12) * (Contributo_cer__2[Giorno]='OUTPUT OUTIL ENERGETIQUE'!BG$10), 0)), \"\")","v":0},{"$f":"IFERROR(INDEX(Contributo_cer__2[autoconsumo %], MATCH(1, (Contributo_cer__2[MM]='OUTPUT OUTIL ENERGETIQUE'!$AM12) * (Contributo_cer__2[Giorno]='OUTPUT OUTIL ENERGETIQUE'!BH$10), 0)), \"\")","v":0},{"$f":"IFERROR(INDEX(Contributo_cer__2[autoconsumo %], MATCH(1, (Contributo_cer__2[MM]='OUTPUT OUTIL ENERGETIQUE'!$AM12) * (Contributo_cer__2[Giorno]='OUTPUT OUTIL ENERGETIQUE'!BI$10), 0)), \"\")","v":0},{"$f":"IFERROR(INDEX(Contributo_cer__2[autoconsumo %], MATCH(1, (Contributo_cer__2[MM]='OUTPUT OUTIL ENERGETIQUE'!$AM12) * (Contributo_cer__2[Giorno]='OUTPUT OUTIL ENERGETIQUE'!BJ$10), 0)), \"\")","v":0},{"$f":"IFERROR(INDEX(Contributo_cer__2[autoconsumo %], MATCH(1, (Contributo_cer__2[MM]='OUTPUT OUTIL ENERGETIQUE'!$AM12) * (Contributo_cer__2[Giorno]='OUTPUT OUTIL ENERGETIQUE'!BK$10), 0)), \"\")","v":0},{"$f":"IFERROR(INDEX(Contributo_cer__2[autoconsumo %], MATCH(1, (Contributo_cer__2[MM]='OUTPUT OUTIL ENERGETIQUE'!$AM12) * (Contributo_cer__2[Giorno]='OUTPUT OUTIL ENERGETIQUE'!BL$10), 0)), \"\")","v":0},{"$f":"IFERROR(INDEX(Contributo_cer__2[autoconsumo %], MATCH(1, (Contributo_cer__2[MM]='OUTPUT OUTIL ENERGETIQUE'!$AM12) * (Contributo_cer__2[Giorno]='OUTPUT OUTIL ENERGETIQUE'!BM$10), 0)), \"\")","v":0},{"$f":"IFERROR(INDEX(Contributo_cer__2[autoconsumo %], MATCH(1, (Contributo_cer__2[MM]='OUTPUT OUTIL ENERGETIQUE'!$AM12) * (Contributo_cer__2[Giorno]='OUTPUT OUTIL ENERGETIQUE'!BN$10), 0)), \"\")","v":0},{"$f":"IFERROR(INDEX(Contributo_cer__2[autoconsumo %], MATCH(1, (Contributo_cer__2[MM]='OUTPUT OUTIL ENERGETIQUE'!$AM12) * (Contributo_cer__2[Giorno]='OUTPUT OUTIL ENERGETIQUE'!BO$10), 0)), \"\")","v":0},{"$f":"IFERROR(INDEX(Contributo_cer__2[autoconsumo %], MATCH(1, (Contributo_cer__2[MM]='OUTPUT OUTIL ENERGETIQUE'!$AM12) * (Contributo_cer__2[Giorno]='OUTPUT OUTIL ENERGETIQUE'!BP$10), 0)), \"\")","v":""},{"$f":"IFERROR(INDEX(Contributo_cer__2[autoconsumo %], MATCH(1, (Contributo_cer__2[MM]='OUTPUT OUTIL ENERGETIQUE'!$AM12) * (Contributo_cer__2[Giorno]='OUTPUT OUTIL ENERGETIQUE'!BQ$10), 0)), \"\")","v":""},{"$f":"IFERROR(INDEX(Contributo_cer__2[autoconsumo %], MATCH(1, (Contributo_cer__2[MM]='OUTPUT OUTIL ENERGETIQUE'!$AM12) * (Contributo_cer__2[Giorno]='OUTPUT OUTIL ENERGETIQUE'!BR$10), 0)), \"\")","v":""}]
[{"$f":"IFERROR(INDEX(Utente[INPUT], MATCH(1, (Utente[Source.Name.1]='OUTPUT OUTIL ENERGETIQUE'!F13) * (Utente[[Participant ]]=\"Nom du participant\"), 0)), \"\")","v":""},{"$f":"IFERROR(\n    IF(\n        INDEX(Utente[INPUT], MATCH(1, (Utente[Source.Name.1]=F13) * (Utente[[Participant ]]=\"Type de production d'énergie\"), 0)) = 0,\n        INDEX(orario[Type de production d''énergie], MATCH(1, (orario[Source.Name.1]=F13) * 1, 0)),\n        INDEX(Utente[INPUT], MATCH(1, (Utente[Source.Name.1]=F13) * (Utente[[Participant ]]=\"Type de production d'énergie\"), 0))\n    ),\n    \"\"\n)","v":""},{"$f":"IFERROR(1+INDEX(Utente[INPUT], MATCH(1, (Utente[Source.Name.1]=F13) * (Utente[[Participant ]]=\"Nombre d'autres participants similaires\"), 0)),\"\")","v":""},{"$f":"IFERROR(INDEX(impianto_FV[Installation 1]+impianto_FV[Installation 2]+impianto_FV[Installation 3]+impianto_FV[Installation 4], MATCH(1, (impianto_FV[Source.Name.1]=F13) * (impianto_FV[Photovoltaïque]=\"Puissance installée [kW]\"), 0))+INDEX(impianto_HYDRO[Caractéristiques], MATCH(1, (impianto_HYDRO[Source.Name.1]=F13) * (impianto_HYDRO[hydroélectrique]=\"Puissance du générateur [kW]\"), 0))+INDEX(orario[Puissance installée '[kW']], MATCH(1, (orario[Source.Name.1]=F13) * 1, 0)),\"\")","v":""},{"$f":"IFERROR(INDEX(Utente[INPUT], MATCH(1, (Utente[Source.Name.1]=F13) * (Utente[[Participant ]]=\"en cas de clé statique, indiquer le coefficient de répartition \"), 0)),\"\")","v":""},"07_User",{"$f":"IFERROR(INDEX(output_utente[Colonna1], MATCH(1, (output_utente[Source.Name.1]='OUTPUT OUTIL ENERGETIQUE'!F13) * (output_utente[output]=\"somma consumi\"), 0)), \"\")","v":""},"",{"$f":"IFERROR(INDEX(output_utente[Colonna1], MATCH(1, (output_utente[Source.Name.1]='OUTPUT OUTIL ENERGETIQUE'!F13) * (output_utente[output]=\"produzione\"), 0)), \"\")","v":""},"",{"$f":"IFERROR(INDEX(output_utente[Colonna1], MATCH(1, (output_utente[Source.Name.1]='OUTPUT OUTIL ENERGETIQUE'!F13) * (output_utente[output]=\"energia immessa in cer\"), 0)), \"\")","v":""},{"$f":"IFERROR(INDEX(Distribuzione[Somma], MATCH(1, (Distribuzione[User]='OUTPUT OUTIL ENERGETIQUE'!F13)*1, 0)), \"\")","v":""},{"$f":"IFERROR(INDEX(output_utente[Colonna1], MATCH(1, (output_utente[Source.Name.1]='OUTPUT OUTIL ENERGETIQUE'!F13) * (output_utente[output]=\"autosufficenza\"), 0)), \"\")","v":""},{"$f":"IFERROR(INDEX(output_utente[Colonna1], MATCH(1, (output_utente[Source.Name.1]='OUTPUT OUTIL ENERGETIQUE'!F13) * (output_utente[output]=\"autoconsumo\"), 0)), \"\")","v":""},{"$f":"IFERROR(SUMIF(INDIRECT(\"Contributo_cer[\" & $F13 & \" - Fasce Francesi stagionalità]\"),'OUTPUT OUTIL ENERGETIQUE'!$O$6,INDIRECT(\"Contributo_cer[\" & $F13 & \" - consumo]\")),\"\")","v":""},{"$f":"IFERROR(SUMIF(INDIRECT(\"Contributo_cer[\" & F13 & \" - Fasce Francesi stagionalità]\"),'OUTPUT OUTIL ENERGETIQUE'!$P$6,INDIRECT(\"Contributo_cer[\" & F13 & \" - consumo]\")),\"\")","v":""},{"$f":"IFERROR(SUMIF(INDIRECT(\"Contributo_cer[\" & F13 & \" - Fasce Francesi stagionalità]\"),'OUTPUT OUTIL ENERGETIQUE'!$Q$6,INDIRECT(\"Contributo_cer[\" & F13 & \" - consumo]\")),\"\")","v":""},{"$f":"IFERROR(SUMIF(INDIRECT(\"Contributo_cer[\" & F13 & \" - Fasce Francesi stagionalità]\"),'OUTPUT OUTIL ENERGETIQUE'!$R$6,INDIRECT(\"Contributo_cer[\" & F13 & \" - consumo]\")),\"\")","v":""},{"$f":"IFERROR(SUMIF(INDIRECT(\"Contributo_cer[\" & F13 & \" - Fasce Francesi stagionalità]\"),'OUTPUT OUTIL ENERGETIQUE'!$S$6,INDIRECT(\"Contributo_cer[\" & F13 & \" - consumo]\")),\"\")","v":""},{"$f":"IFERROR(SUMIF(INDIRECT(\"Contributo_cer[\" & F13 & \" - Fasce Francesi stagionalità]\"),'OUTPUT OUTIL ENERGETIQUE'!$T$6,INDIRECT(\"Contributo_cer[\" & F13 & \" - consumi rimanenti]\")),\"\")","v":""},{"$f":"IFERROR(SUMIF(INDIRECT(\"Contributo_cer[\" & F13 & \" - Fasce Francesi stagionalità]\"),'OUTPUT OUTIL ENERGETIQUE'!$U$6,INDIRECT(\"Contributo_cer[\" & F13 & \" - consumi rimanenti]\")),\"\")","v":""},{"$f":"IFERROR(SUMIF(INDIRECT(\"Contributo_cer[\" & F13 & \" - Fasce Francesi stagionalità]\"),'OUTPUT OUTIL ENERGETIQUE'!$V$6,INDIRECT(\"Contributo_cer[\" & F13 & \" - consumi rimanenti]\")),\"\")","v":""},{"$f":"IFERROR(SUMIF(INDIRECT(\"Contributo_cer[\" & F13 & \" - Fasce Francesi stagionalità]\"),'OUTPUT OUTIL ENERGETIQUE'!$W$6,INDIRECT(\"Contributo_cer[\" & F13 & \" - consumi rimanenti]\")),\"\")","v":""},{"$f":"IFERROR(SUMIF(INDIRECT(\"Contributo_cer[\" & F13 & \" - Fasce Francesi stagionalità]\"),'OUTPUT OUTIL ENERGETIQUE'!$X$6,INDIRECT(\"Contributo_cer[\" & F13 & \" - consumi rimanenti]\")),\"\")","v":""},{"$f":"IFERROR(SUMIF(INDIRECT(\"Contributo_cer[\" & F13 & \" - Fasce Francesi stagionalità]\"), 'OUTPUT OUTIL ENERGETIQUE'!$Y$6, INDIRECT(\"Contributo_cer[Distribuzione - \" & F13 & \" - consumi rimanenti]\")),\"\")","v":""},{"$f":"IFERROR(SUMIF(INDIRECT(\"Contributo_cer[\" & F13 & \" - Fasce Francesi stagionalità]\"), 'OUTPUT OUTIL ENERGETIQUE'!$Z$6, INDIRECT(\"Contributo_cer[Distribuzione - \" & F13 & \" - consumi rimanenti]\")),\"\")","v":""},{"$f":"IFERROR(SUMIF(INDIRECT(\"Contributo_cer[\" & F13 & \" - Fasce Francesi stagionalità]\"), 'OUTPUT OUTIL ENERGETIQUE'!$AA$6, INDIRECT(\"Contributo_cer[Distribuzione - \" & F13 & \" - consumi rimanenti]\")),\"\")","v":""},{"$f":"IFERROR(SUMIF(INDIRECT(\"Contributo_cer[\" & F13 & \" - Fasce Francesi stagionalità]\"), 'OUTPUT OUTIL ENERGETIQUE'!$AB$6, INDIRECT(\"Contributo_cer[Distribuzione - \" & F13 & \" - consumi rimanenti]\")),\"\")","v":""},{"$f":"IFERROR(SUMIF(INDIRECT(\"Contributo_cer[\" & F13 & \" - Fasce Francesi stagionalità]\"), 'OUTPUT OUTIL ENERGETIQUE'!$AC$6, INDIRECT(\"Contributo_cer[Distribuzione - \" & F13 & \" - consumi rimanenti]\")),\"\")","v":""},"","","","","",null,"",null,"mars",3,{"$f":"IFERROR(INDEX(Contributo_cer__2[autoconsumo %], MATCH(1, (Contributo_cer__2[MM]='OUTPUT OUTIL ENERGETIQUE'!$AM13) * (Contributo_cer__2[Giorno]='OUTPUT OUTIL ENERGETIQUE'!AN$10), 0)), \"\")","v":0},{"$f":"IFERROR(INDEX(Contributo_cer__2[autoconsumo %], MATCH(1, (Contributo_cer__2[MM]='OUTPUT OUTIL ENERGETIQUE'!$AM13) * (Contributo_cer__2[Giorno]='OUTPUT OUTIL ENERGETIQUE'!AO$10), 0)), \"\")","v":0},{"$f":"IFERROR(INDEX(Contributo_cer__2[autoconsumo %], MATCH(1, (Contributo_cer__2[MM]='OUTPUT OUTIL ENERGETIQUE'!$AM13) * (Contributo_cer__2[Giorno]='OUTPUT OUTIL ENERGETIQUE'!AP$10), 0)), \"\")","v":0},{"$f":"IFERROR(INDEX(Contributo_cer__2[autoconsumo %], MATCH(1, (Contributo_cer__2[MM]='OUTPUT OUTIL ENERGETIQUE'!$AM13) * (Contributo_cer__2[Giorno]='OUTPUT OUTIL ENERGETIQUE'!AQ$10), 0)), \"\")","v":0},{"$f":"IFERROR(INDEX(Contributo_cer__2[autoconsumo %], MATCH(1, (Contributo_cer__2[MM]='OUTPUT OUTIL ENERGETIQUE'!$AM13) * (Contributo_cer__2[Giorno]='OUTPUT OUTIL ENERGETIQUE'!AR$10), 0)), \"\")","v":0},{"$f":"IFERROR(INDEX(Contributo_cer__2[autoconsumo %], MATCH(1, (Contributo_cer__2[MM]='OUTPUT OUTIL ENERGETIQUE'!$AM13) * (Contributo_cer__2[Giorno]='OUTPUT OUTIL ENERGETIQUE'!AS$10), 0)), \"\")","v":0},{"$f":"IFERROR(INDEX(Contributo_cer__2[autoconsumo %], MATCH(1, (Contributo_cer__2[MM]='OUTPUT OUTIL ENERGETIQUE'!$AM13) * (Contributo_cer__2[Giorno]='OUTPUT OUTIL ENERGETIQUE'!AT$10), 0)), \"\")","v":0},{"$f":"IFERROR(INDEX(Contributo_cer__2[autoconsumo %], MATCH(1, (Contributo_cer__2[MM]='OUTPUT OUTIL ENERGETIQUE'!$AM13) * (Contributo_cer__2[Giorno]='OUTPUT OUTIL ENERGETIQUE'!AU$10), 0)), \"\")","v":0},{"$f":"IFERROR(INDEX(Contributo_cer__2[autoconsumo %], MATCH(1, (Contributo_cer__2[MM]='OUTPUT OUTIL ENERGETIQUE'!$AM13) * (Contributo_cer__2[Giorno]='OUTPUT OUTIL ENERGETIQUE'!AV$10), 0)), \"\")","v":0},{"$f":"IFERROR(INDEX(Contributo_cer__2[autoconsumo %], MATCH(1, (Contributo_cer__2[MM]='OUTPUT OUTIL ENERGETIQUE'!$AM13) * (Contributo_cer__2[Giorno]='OUTPUT OUTIL ENERGETIQUE'!AW$10), 0)), \"\")","v":0},{"$f":"IFERROR(INDEX(Contributo_cer__2[autoconsumo %], MATCH(1, (Contributo_cer__2[MM]='OUTPUT OUTIL ENERGETIQUE'!$AM13) * (Contributo_cer__2[Giorno]='OUTPUT OUTIL ENERGETIQUE'!AX$10), 0)), \"\")","v":0},{"$f":"IFERROR(INDEX(Contributo_cer__2[autoconsumo %], MATCH(1, (Contributo_cer__2[MM]='OUTPUT OUTIL ENERGETIQUE'!$AM13) * (Contributo_cer__2[Giorno]='OUTPUT OUTIL ENERGETIQUE'!AY$10), 0)), \"\")","v":0},{"$f":"IFERROR(INDEX(Contributo_cer__2[autoconsumo %], MATCH(1, (Contributo_cer__2[MM]='OUTPUT OUTIL ENERGETIQUE'!$AM13) * (Contributo_cer__2[Giorno]='OUTPUT OUTIL ENERGETIQUE'!AZ$10), 0)), \"\")","v":0},{"$f":"IFERROR(INDEX(Contributo_cer__2[autoconsumo %], MATCH(1, (Contributo_cer__2[MM]='OUTPUT OUTIL ENERGETIQUE'!$AM13) * (Contributo_cer__2[Giorno]='OUTPUT OUTIL ENERGETIQUE'!BA$10), 0)), \"\")","v":0},{"$f":"IFERROR(INDEX(Contributo_cer__2[autoconsumo %], MATCH(1, (Contributo_cer__2[MM]='OUTPUT OUTIL ENERGETIQUE'!$AM13) * (Contributo_cer__2[Giorno]='OUTPUT OUTIL ENERGETIQUE'!BB$10), 0)), \"\")","v":0},{"$f":"IFERROR(INDEX(Contributo_cer__2[autoconsumo %], MATCH(1, (Contributo_cer__2[MM]='OUTPUT OUTIL ENERGETIQUE'!$AM13) * (Contributo_cer__2[Giorno]='OUTPUT OUTIL ENERGETIQUE'!BC$10), 0)), \"\")","v":0},{"$f":"IFERROR(INDEX(Contributo_cer__2[autoconsumo %], MATCH(1, (Contributo_cer__2[MM]='OUTPUT OUTIL ENERGETIQUE'!$AM13) * (Contributo_cer__2[Giorno]='OUTPUT OUTIL ENERGETIQUE'!BD$10), 0)), \"\")","v":0},{"$f":"IFERROR(INDEX(Contributo_cer__2[autoconsumo %], MATCH(1, (Contributo_cer__2[MM]='OUTPUT OUTIL ENERGETIQUE'!$AM13) * (Contributo_cer__2[Giorno]='OUTPUT OUTIL ENERGETIQUE'!BE$10), 0)), \"\")","v":0},{"$f":"IFERROR(INDEX(Contributo_cer__2[autoconsumo %], MATCH(1, (Contributo_cer__2[MM]='OUTPUT OUTIL ENERGETIQUE'!$AM13) * (Contributo_cer__2[Giorno]='OUTPUT OUTIL ENERGETIQUE'!BF$10), 0)), \"\")","v":0},{"$f":"IFERROR(INDEX(Contributo_cer__2[autoconsumo %], MATCH(1, (Contributo_cer__2[MM]='OUTPUT OUTIL ENERGETIQUE'!$AM13) * (Contributo_cer__2[Giorno]='OUTPUT OUTIL ENERGETIQUE'!BG$10), 0)), \"\")","v":0},{"$f":"IFERROR(INDEX(Contributo_cer__2[autoconsumo %], MATCH(1, (Contributo_cer__2[MM]='OUTPUT OUTIL ENERGETIQUE'!$AM13) * (Contributo_cer__2[Giorno]='OUTPUT OUTIL ENERGETIQUE'!BH$10), 0)), \"\")","v":0},{"$f":"IFERROR(INDEX(Contributo_cer__2[autoconsumo %], MATCH(1, (Contributo_cer__2[MM]='OUTPUT OUTIL ENERGETIQUE'!$AM13) * (Contributo_cer__2[Giorno]='OUTPUT OUTIL ENERGETIQUE'!BI$10), 0)), \"\")","v":0},{"$f":"IFERROR(INDEX(Contributo_cer__2[autoconsumo %], MATCH(1, (Contributo_cer__2[MM]='OUTPUT OUTIL ENERGETIQUE'!$AM13) * (Contributo_cer__2[Giorno]='OUTPUT OUTIL ENERGETIQUE'!BJ$10), 0)), \"\")","v":0},{"$f":"IFERROR(INDEX(Contributo_cer__2[autoconsumo %], MATCH(1, (Contributo_cer__2[MM]='OUTPUT OUTIL ENERGETIQUE'!$AM13) * (Contributo_cer__2[Giorno]='OUTPUT OUTIL ENERGETIQUE'!BK$10), 0)), \"\")","v":0},{"$f":"IFERROR(INDEX(Contributo_cer__2[autoconsumo %], MATCH(1, (Contributo_cer__2[MM]='OUTPUT OUTIL ENERGETIQUE'!$AM13) * (Contributo_cer__2[Giorno]='OUTPUT OUTIL ENERGETIQUE'!BL$10), 0)), \"\")","v":0},{"$f":"IFERROR(INDEX(Contributo_cer__2[autoconsumo %], MATCH(1, (Contributo_cer__2[MM]='OUTPUT OUTIL ENERGETIQUE'!$AM13) * (Contributo_cer__2[Giorno]='OUTPUT OUTIL ENERGETIQUE'!BM$10), 0)), \"\")","v":0},{"$f":"IFERROR(INDEX(Contributo_cer__2[autoconsumo %], MATCH(1, (Contributo_cer__2[MM]='OUTPUT OUTIL ENERGETIQUE'!$AM13) * (Contributo_cer__2[Giorno]='OUTPUT OUTIL ENERGETIQUE'!BN$10), 0)), \"\")","v":0},{"$f":"IFERROR(INDEX(Contributo_cer__2[autoconsumo %], MATCH(1, (Contributo_cer__2[MM]='OUTPUT OUTIL ENERGETIQUE'!$AM13) * (Contributo_cer__2[Giorno]='OUTPUT OUTIL ENERGETIQUE'!BO$10), 0)), \"\")","v":0},{"$f":"IFERROR(INDEX(Contributo_cer__2[autoconsumo %], MATCH(1, (Contributo_cer__2[MM]='OUTPUT OUTIL ENERGETIQUE'!$AM13) * (Contributo_cer__2[Giorno]='OUTPUT OUTIL ENERGETIQUE'!BP$10), 0)), \"\")","v":0},{"$f":"IFERROR(INDEX(Contributo_cer__2[autoconsumo %], MATCH(1, (Contributo_cer__2[MM]='OUTPUT OUTIL ENERGETIQUE'!$AM13) * (Contributo_cer__2[Giorno]='OUTPUT OUTIL ENERGETIQUE'!BQ$10), 0)), \"\")","v":0},{"$f":"IFERROR(INDEX(Contributo_cer__2[autoconsumo %], MATCH(1, (Contributo_cer__2[MM]='OUTPUT OUTIL ENERGETIQUE'!$AM13) * (Contributo_cer__2[Giorno]='OUTPUT OUTIL ENERGETIQUE'!BR$10), 0)), \"\")","v":0}]
[{"$f":"IFERROR(INDEX(Utente[INPUT], MATCH(1, (Utente[Source.Name.1]='OUTPUT OUTIL ENERGETIQUE'!F14) * (Utente[[Participant ]]=\"Nom du participant\"), 0)), \"\")","v":""},{"$f":"IFERROR(\n    IF(\n        INDEX(Utente[INPUT], MATCH(1, (Utente[Source.Name.1]=F14) * (Utente[[Participant ]]=\"Type de production d'énergie\"), 0)) = 0,\n        INDEX(orario[Type de production d''énergie], MATCH(1, (orario[Source.Name.1]=F14) * 1, 0)),\n        INDEX(Utente[INPUT], MATCH(1, (Utente[Source.Name.1]=F14) * (Utente[[Participant ]]=\"Type de production d'énergie\"), 0))\n    ),\n    \"\"\n)","v":""},{"$f":"IFERROR(1+INDEX(Utente[INPUT], MATCH(1, (Utente[Source.Name.1]=F14) * (Utente[[Participant ]]=\"Nombre d'autres participants similaires\"), 0)),\"\")","v":""},{"$f":"IFERROR(INDEX(impianto_FV[Installation 1]+impianto_FV[Installation 2]+impianto_FV[Installation 3]+impianto_FV[Installation 4], MATCH(1, (impianto_FV[Source.Name.1]=F14) * (impianto_FV[Photovoltaïque]=\"Puissance installée [kW]\"), 0))+INDEX(impianto_HYDRO[Caractéristiques], MATCH(1, (impianto_HYDRO[Source.Name.1]=F14) * (impianto_HYDRO[hydroélectrique]=\"Puissance du générateur [kW]\"), 0))+INDEX(orario[Puissance installée '[kW']], MATCH(1, (orario[Source.Name.1]=F14) * 1, 0)),\"\")","v":""},{"$f":"IFERROR(INDEX(Utente[INPUT], MATCH(1, (Utente[Source.Name.1]=F14) * (Utente[[Participant ]]=\"en cas de clé statique, indiquer le coefficient de répartition \"), 0)),\"\")","v":""},"08_User",{"$f":"IFERROR(INDEX(output_utente[Colonna1], MATCH(1, (output_utente[Source.Name.1]='OUTPUT OUTIL ENERGETIQUE'!F14) * (output_utente[output]=\"somma consumi\"), 0)), \"\")","v":""},"",{"$f":"IFERROR(INDEX(output_utente[Colonna1], MATCH(1, (output_utente[Source.Name.1]='OUTPUT OUTIL ENERGETIQUE'!F14) * (output_utente[output]=\"produzione\"), 0)), \"\")","v":""},"",{"$f":"IFERROR(INDEX(output_utente[Colonna1], MATCH(1, (output_utente[Source.Name.1]='OUTPUT OUTIL ENERGETIQUE'!F14) * (output_utente[output]=\"energia immessa in cer\"), 0)), \"\")","v":""},{"$f":"IFERROR(INDEX(Distribuzione[Somma], MATCH(1, (Distribuzione[User]='OUTPUT OUTIL ENERGETIQUE'!F14)*1, 0)), \"\")","v":""},{"$f":"IFERROR(INDEX(output_utente[Colonna1], MATCH(1, (output_utente[Source.Name.1]='OUTPUT OUTIL ENERGETIQUE'!F14) * (output_utente[output]=\"autosufficenza\"), 0)), \"\")","v":""},{"$f":"IFERROR(INDEX(output_utente[Colonna1], MATCH(1, (output_utente[Source.Name.1]='OUTPUT OUTIL ENERGETIQUE'!F14) * (output_utente[output]=\"autoconsumo\"), 0)), \"\")","v":""},{"$f":"IFERROR(SUMIF(INDIRECT(\"Contributo_cer[\" & $F14 & \" - Fasce Francesi stagionalità]\"),'OUTPUT OUTIL ENERGETIQUE'!$O$6,INDIRECT(\"Contributo_cer[\" & $F14 & \" - consumo]\")),\"\")","v":""},{"$f":"IFERROR(SUMIF(INDIRECT(\"Contributo_cer[\" & F14 & \" - Fasce Francesi stagionalità]\"),'OUTPUT OUTIL ENERGETIQUE'!$P$6,INDIRECT(\"Contributo_cer[\" & F14 & \" - consumo]\")),\"\")","v":""},{"$f":"IFERROR(SUMIF(INDIRECT(\"Contributo_cer[\" & F14 & \" - Fasce Francesi stagionalità]\"),'OUTPUT OUTIL ENERGETIQUE'!$Q$6,INDIRECT(\"Contributo_cer[\" & F14 & \" - consumo]\")),\"\")","v":""},{"$f":"IFERROR(SUMIF(INDIRECT(\"Contributo_cer[\" & F14 & \" - Fasce Francesi stagionalità]\"),'OUTPUT OUTIL ENERGETIQUE'!$R$6,INDIRECT(\"Contributo_cer[\" & F14 & \" - consumo]\")),\"\")","v":""},{"$f":"IFERROR(SUMIF(INDIRECT(\"Contributo_cer[\" & F14 & \" - Fasce Francesi stagionalità]\"),'OUTPUT OUTIL ENERGETIQUE'!$S$6,INDIRECT(\"Contributo_cer[\" & F14 & \" - consumo]\")),\"\")","v":""},{"$f":"IFERROR(SUMIF(INDIRECT(\"Contributo_cer[\" & F14 & \" - Fasce Francesi stagionalità]\"),'OUTPUT OUTIL ENERGETIQUE'!$T$6,INDIRECT(\"Contributo_cer[\" & F14 & \" - consumi rimanenti]\")),\"\")","v":""},{"$f":"IFERROR(SUMIF(INDIRECT(\"Contributo_cer[\" & F14 & \" - Fasce Francesi stagionalità]\"),'OUTPUT OUTIL ENERGETIQUE'!$U$6,INDIRECT(\"Contributo_cer[\" & F14 & \" - consumi rimanenti]\")),\"\")","v":""},{"$f":"IFERROR(SUMIF(INDIRECT(\"Contributo_cer[\" & F14 & \" - Fasce Francesi stagionalità]\"),'OUTPUT OUTIL ENERGETIQUE'!$V$6,INDIRECT(\"Contributo_cer[\" & F14 & \" - consumi rimanenti]\")),\"\")","v":""},{"$f":"IFERROR(SUMIF(INDIRECT(\"Contributo_cer[\" & F14 & \" - Fasce Francesi stagionalità]\"),'OUTPUT OUTIL ENERGETIQUE'!$W$6,INDIRECT(\"Contributo_cer[\" & F14 & \" - consumi rimanenti]\")),\"\")","v":""},{"$f":"IFERROR(SUMIF(INDIRECT(\"Contributo_cer[\" & F14 & \" - Fasce Francesi stagionalità]\"),'OUTPUT OUTIL ENERGETIQUE'!$X$6,INDIRECT(\"Contributo_cer[\" & F14 & \" - consumi rimanenti]\")),\"\")","v":""},{"$f":"IFERROR(SUMIF(INDIRECT(\"Contributo_cer[\" & F14 & \" - Fasce Francesi stagionalità]\"), 'OUTPUT OUTIL ENERGETIQUE'!$Y$6, INDIRECT(\"Contributo_cer[Distribuzione - \" & F14 & \" - consumi rimanenti]\")),\"\")","v":""},{"$f":"IFERROR(SUMIF(INDIRECT(\"Contributo_cer[\" & F14 & \" - Fasce Francesi stagionalità]\"), 'OUTPUT OUTIL ENERGETIQUE'!$Z$6, INDIRECT(\"Contributo_cer[Distribuzione - \" & F14 & \" - consumi rimanenti]\")),\"\")","v":""},{"$f":"IFERROR(SUMIF(INDIRECT(\"Contributo_cer[\" & F14 & \" - Fasce Francesi stagionalità]\"), 'OUTPUT OUTIL ENERGETIQUE'!$AA$6, INDIRECT(\"Contributo_cer[Distribuzione - \" & F14 & \" - consumi rimanenti]\")),\"\")","v":""},{"$f":"IFERROR(SUMIF(INDIRECT(\"Contributo_cer[\" & F14 & \" - Fasce Francesi stagionalità]\"), 'OUTPUT OUTIL ENERGETIQUE'!$AB$6, INDIRECT(\"Contributo_cer[Distribuzione - \" & F14 & \" - consumi rimanenti]\")),\"\")","v":""},{"$f":"IFERROR(SUMIF(INDIRECT(\"Contributo_cer[\" & F14 & \" - Fasce Francesi stagionalità]\"), 'OUTPUT OUTIL ENERGETIQUE'!$AC$6, INDIRECT(\"Contributo_cer[Distribuzione - \" & F14 & \" - consumi rimanenti]\")),\"\")","v":""},"","","","","",null,"",null,"avril",4,{"$f":"IFERROR(INDEX(Contributo_cer__2[autoconsumo %], MATCH(1, (Contributo_cer__2[MM]='OUTPUT OUTIL ENERGETIQUE'!$AM14) * (Contributo_cer__2[Giorno]='OUTPUT OUTIL ENERGETIQUE'!AN$10), 0)), \"\")","v":0},{"$f":"IFERROR(INDEX(Contributo_cer__2[autoconsumo %], MATCH(1, (Contributo_cer__2[MM]='OUTPUT OUTIL ENERGETIQUE'!$AM14) * (Contributo_cer__2[Giorno]='OUTPUT OUTIL ENERGETIQUE'!AO$10), 0)), \"\")","v":0},{"$f":"IFERROR(INDEX(Contributo_cer__2[autoconsumo %], MATCH(1, (Contributo_cer__2[MM]='OUTPUT OUTIL ENERGETIQUE'!$AM14) * (Contributo_cer__2[Giorno]='OUTPUT OUTIL ENERGETIQUE'!AP$10), 0)), \"\")","v":0},{"$f":"IFERROR(INDEX(Contributo_cer__2[autoconsumo %], MATCH(1, (Contributo_cer__2[MM]='OUTPUT OUTIL ENERGETIQUE'!$AM14) * (Contributo_cer__2[Giorno]='OUTPUT OUTIL ENERGETIQUE'!AQ$10), 0)), \"\")","v":0},{"$f":"IFERROR(INDEX(Contributo_cer__2[autoconsumo %], MATCH(1, (Contributo_cer__2[MM]='OUTPUT OUTIL ENERGETIQUE'!$AM14) * (Contributo_cer__2[Giorno]='OUTPUT OUTIL ENERGETIQUE'!AR$10), 0)), \"\")","v":0},{"$f":"IFERROR(INDEX(Contributo_cer__2[autoconsumo %], MATCH(1, (Contributo_cer__2[MM]='OUTPUT OUTIL ENERGETIQUE'!$AM14) * (Contributo_cer__2[Giorno]='OUTPUT OUTIL ENERGETIQUE'!AS$10), 0)), \"\")","v":0},{"$f":"IFERROR(INDEX(Contributo_cer__2[autoconsumo %], MATCH(1, (Contributo_cer__2[MM]='OUTPUT OUTIL ENERGETIQUE'!$AM14) * (Contributo_cer__2[Giorno]='OUTPUT OUTIL ENERGETIQUE'!AT$10), 0)), \"\")","v":0},{"$f":"IFERROR(INDEX(Contributo_cer__2[autoconsumo %], MATCH(1, (Contributo_cer__2[MM]='OUTPUT OUTIL ENERGETIQUE'!$AM14) * (Contributo_cer__2[Giorno]='OUTPUT OUTIL ENERGETIQUE'!AU$10), 0)), \"\")","v":0},{"$f":"IFERROR(INDEX(Contributo_cer__2[autoconsumo %], MATCH(1, (Contributo_cer__2[MM]='OUTPUT OUTIL ENERGETIQUE'!$AM14) * (Contributo_cer__2[Giorno]='OUTPUT OUTIL ENERGETIQUE'!AV$10), 0)), \"\")","v":0},{"$f":"IFERROR(INDEX(Contributo_cer__2[autoconsumo %], MATCH(1, (Contributo_cer__2[MM]='OUTPUT OUTIL ENERGETIQUE'!$AM14) * (Contributo_cer__2[Giorno]='OUTPUT OUTIL ENERGETIQUE'!AW$10), 0)), \"\")","v":0},{"$f":"IFERROR(INDEX(Contributo_cer__2[autoconsumo %], MATCH(1, (Contributo_cer__2[MM]='OUTPUT OUTIL ENERGETIQUE'!$AM14) * (Contributo_cer__2[Giorno]='OUTPUT OUTIL ENERGETIQUE'!AX$10), 0)), \"\")","v":0},{"$f":"IFERROR(INDEX(Contributo_cer__2[autoconsumo %], MATCH(1, (Contributo_cer__2[MM]='OUTPUT OUTIL ENERGETIQUE'!$AM14) * (Contributo_cer__2[Giorno]='OUTPUT OUTIL ENERGETIQUE'!AY$10), 0)), \"\")","v":0},{"$f":"IFERROR(INDEX(Contributo_cer__2[autoconsumo %], MATCH(1, (Contributo_cer__2[MM]='OUTPUT OUTIL ENERGETIQUE'!$AM14) * (Contributo_cer__2[Giorno]='OUTPUT OUTIL ENERGETIQUE'!AZ$10), 0)), \"\")","v":0},{"$f":"IFERROR(INDEX(Contributo_cer__2[autoconsumo %], MATCH(1, (Contributo_cer__2[MM]='OUTPUT OUTIL ENERGETIQUE'!$AM14) * (Contributo_cer__2[Giorno]='OUTPUT OUTIL ENERGETIQUE'!BA$10), 0)), \"\")","v":0},{"$f":"IFERROR(INDEX(Contributo_cer__2[autoconsumo %], MATCH(1, (Contributo_cer__2[MM]='OUTPUT OUTIL ENERGETIQUE'!$AM14) * (Contributo_cer__2[Giorno]='OUTPUT OUTIL ENERGETIQUE'!BB$10), 0)), \"\")","v":0},{"$f":"IFERROR(INDEX(Contributo_cer__2[autoconsumo %], MATCH(1, (Contributo_cer__2[MM]='OUTPUT OUTIL ENERGETIQUE'!$AM14) * (Contributo_cer__2[Giorno]='OUTPUT OUTIL ENERGETIQUE'!BC$10), 0)), \"\")","v":0},{"$f":"IFERROR(INDEX(Contributo_cer__2[autoconsumo %], MATCH(1, (Contributo_cer__2[MM]='OUTPUT OUTIL ENERGETIQUE'!$AM14) * (Contributo_cer__2[Giorno]='OUTPUT OUTIL ENERGETIQUE'!BD$10), 0)), \"\")","v":0},{"$f":"IFERROR(INDEX(Contributo_cer__2[autoconsumo %], MATCH(1, (Contributo_cer__2[MM]='OUTPUT OUTIL ENERGETIQUE'!$AM14) * (Contributo_cer__2[Giorno]='OUTPUT OUTIL ENERGETIQUE'!BE$10), 0)), \"\")","v":0},{"$f":"IFERROR(INDEX(Contributo_cer__2[autoconsumo %], MATCH(1, (Contributo_cer__2[MM]='OUTPUT OUTIL ENERGETIQUE'!$AM14) * (Contributo_cer__2[Giorno]='OUTPUT OUTIL ENERGETIQUE'!BF$10), 0)), \"\")","v":0},{"$f":"IFERROR(INDEX(Contributo_cer__2[autoconsumo %], MATCH(1, (Contributo_cer__2[MM]='OUTPUT OUTIL ENERGETIQUE'!$AM14) * (Contributo_cer__2[Giorno]='OUTPUT OUTIL ENERGETIQUE'!BG$10), 0)), \"\")","v":0},{"$f":"IFERROR(INDEX(Contributo_cer__2[autoconsumo %], MATCH(1, (Contributo_cer__2[MM]='OUTPUT OUTIL ENERGETIQUE'!$AM14) * (Contributo_cer__2[Giorno]='OUTPUT OUTIL ENERGETIQUE'!BH$10), 0)), \"\")","v":0},{"$f":"IFERROR(INDEX(Contributo_cer__2[autoconsumo %], MATCH(1, (Contributo_cer__2[MM]='OUTPUT OUTIL ENERGETIQUE'!$AM14) * (Contributo_cer__2[Giorno]='OUTPUT OUTIL ENERGETIQUE'!BI$10), 0)), \"\")","v":0},{"$f":"IFERROR(INDEX(Contributo_cer__2[autoconsumo %], MATCH(1, (Contributo_cer__2[MM]='OUTPUT OUTIL ENERGETIQUE'!$AM14) * (Contributo_cer__2[Giorno]='OUTPUT OUTIL ENERGETIQUE'!BJ$10), 0)), \"\")","v":0},{"$f":"IFERROR(INDEX(Contributo_cer__2[autoconsumo %], MATCH(1, (Contributo_cer__2[MM]='OUTPUT OUTIL ENERGETIQUE'!$AM14) * (Contributo_cer__2[Giorno]='OUTPUT OUTIL ENERGETIQUE'!BK$10), 0)), \"\")","v":0},{"$f":"IFERROR(INDEX(Contributo_cer__2[autoconsumo %], MATCH(1, (Contributo_cer__2[MM]='OUTPUT OUTIL ENERGETIQUE'!$AM14) * (Contributo_cer__2[Giorno]='OUTPUT OUTIL ENERGETIQUE'!BL$10), 0)), \"\")","v":0},{"$f":"IFERROR(INDEX(Contributo_cer__2[autoconsumo %], MATCH(1, (Contributo_cer__2[MM]='OUTPUT OUTIL ENERGETIQUE'!$AM14) * (Contributo_cer__2[Giorno]='OUTPUT OUTIL ENERGETIQUE'!BM$10), 0)), \"\")","v":0},{"$f":"IFERROR(INDEX(Contributo_cer__2[autoconsumo %], MATCH(1, (Contributo_cer__2[MM]='OUTPUT OUTIL ENERGETIQUE'!$AM14) * (Contributo_cer__2[Giorno]='OUTPUT OUTIL ENERGETIQUE'!BN$10), 0)), \"\")","v":0},{"$f":"IFERROR(INDEX(Contributo_cer__2[autoconsumo %], MATCH(1, (Contributo_cer__2[MM]='OUTPUT OUTIL ENERGETIQUE'!$AM14) * (Contributo_cer__2[Giorno]='OUTPUT OUTIL ENERGETIQUE'!BO$10), 0)), \"\")","v":0},{"$f":"IFERROR(INDEX(Contributo_cer__2[autoconsumo %], MATCH(1, (Contributo_cer__2[MM]='OUTPUT OUTIL ENERGETIQUE'!$AM14) * (Contributo_cer__2[Giorno]='OUTPUT OUTIL ENERGETIQUE'!BP$10), 0)), \"\")","v":0},{"$f":"IFERROR(INDEX(Contributo_cer__2[autoconsumo %], MATCH(1, (Contributo_cer__2[MM]='OUTPUT OUTIL ENERGETIQUE'!$AM14) * (Contributo_cer__2[Giorno]='OUTPUT OUTIL ENERGETIQUE'!BQ$10), 0)), \"\")","v":0},{"$f":"IFERROR(INDEX(Contributo_cer__2[autoconsumo %], MATCH(1, (Contributo_cer__2[MM]='OUTPUT OUTIL ENERGETIQUE'!$AM14) * (Contributo_cer__2[Giorno]='OUTPUT OUTIL ENERGETIQUE'!BR$10), 0)), \"\")","v":""}]
[{"$f":"IFERROR(INDEX(Utente[INPUT], MATCH(1, (Utente[Source.Name.1]='OUTPUT OUTIL ENERGETIQUE'!F15) * (Utente[[Participant ]]=\"Nom du participant\"), 0)), \"\")","v":""},{"$f":"IFERROR(\n    IF(\n        INDEX(Utente[INPUT], MATCH(1, (Utente[Source.Name.1]=F15) * (Utente[[Participant ]]=\"Type de production d'énergie\"), 0)) = 0,\n        INDEX(orario[Type de production d''énergie], MATCH(1, (orario[Source.Name.1]=F15) * 1, 0)),\n        INDEX(Utente[INPUT], MATCH(1, (Utente[Source.Name.1]=F15) * (Utente[[Participant ]]=\"Type de production d'énergie\"), 0))\n    ),\n    \"\"\n)","v":""},{"$f":"IFERROR(1+INDEX(Utente[INPUT], MATCH(1, (Utente[Source.Name.1]=F15) * (Utente[[Participant ]]=\"Nombre d'autres participants similaires\"), 0)),\"\")","v":""},{"$f":"IFERROR(INDEX(impianto_FV[Installation 1]+impianto_FV[Installation 2]+impianto_FV[Installation 3]+impianto_FV[Installation 4], MATCH(1, (impianto_FV[Source.Name.1]=F15) * (impianto_FV[Photovoltaïque]=\"Puissance installée [kW]\"), 0))+INDEX(impianto_HYDRO[Caractéristiques], MATCH(1, (impianto_HYDRO[Source.Name.1]=F15) * (impianto_HYDRO[hydroélectrique]=\"Puissance du générateur [kW]\"), 0))+INDEX(orario[Puissance installée '[kW']], MATCH(1, (orario[Source.Name.1]=F15) * 1, 0)),\"\")","v":""},{"$f":"IFERROR(INDEX(Utente[INPUT], MATCH(1, (Utente[Source.Name.1]=F15) * (Utente[[Participant ]]=\"en cas de clé statique, indiquer le coefficient de répartition \"), 0)),\"\")","v":""},"09_User",{"$f":"IFERROR(INDEX(output_utente[Colonna1], MATCH(1, (output_utente[Source.Name.1]='OUTPUT OUTIL ENERGETIQUE'!F15) * (output_utente[output]=\"somma consumi\"), 0)), \"\")","v":""},"",{"$f":"IFERROR(INDEX(output_utente[Colonna1], MATCH(1, (output_utente[Source.Name.1]='OUTPUT OUTIL ENERGETIQUE'!F15) * (output_utente[output]=\"produzione\"), 0)), \"\")","v":""},"",{"$f":"IFERROR(INDEX(output_utente[Colonna1], MATCH(1, (output_utente[Source.Name.1]='OUTPUT OUTIL ENERGETIQUE'!F15) * (output_utente[output]=\"energia immessa in cer\"), 0)), \"\")","v":""},{"$f":"IFERROR(INDEX(Distribuzione[Somma], MATCH(1, (Distribuzione[User]='OUTPUT OUTIL ENERGETIQUE'!F15)*1, 0)), \"\")","v":""},{"$f":"IFERROR(INDEX(output_utente[Colonna1], MATCH(1, (output_utente[Source.Name.1]='OUTPUT OUTIL ENERGETIQUE'!F15) * (output_utente[output]=\"autosufficenza\"), 0)), \"\")","v":""},{"$f":"IFERROR(INDEX(output_utente[Colonna1], MATCH(1, (output_utente[Source.Name.1]='OUTPUT OUTIL ENERGETIQUE'!F15) * (output_utente[output]=\"autoconsumo\"), 0)), \"\")","v":""},{"$f":"IFERROR(SUMIF(INDIRECT(\"Contributo_cer[\" & $F15 & \" - Fasce Francesi stagionalità]\"),'OUTPUT OUTIL ENERGETIQUE'!$O$6,INDIRECT(\"Contributo_cer[\" & $F15 & \" - consumo]\")),\"\")","v":""},{"$f":"IFERROR(SUMIF(INDIRECT(\"Contributo_cer[\" & F15 & \" - Fasce Francesi stagionalità]\"),'OUTPUT OUTIL ENERGETIQUE'!$P$6,INDIRECT(\"Contributo_cer[\" & F15 & \" - consumo]\")),\"\")","v":""},{"$f":"IFERROR(SUMIF(INDIRECT(\"Contributo_cer[\" & F15 & \" - Fasce Francesi stagionalità]\"),'OUTPUT OUTIL ENERGETIQUE'!$Q$6,INDIRECT(\"Contributo_cer[\" & F15 & \" - consumo]\")),\"\")","v":""},{"$f":"IFERROR(SUMIF(INDIRECT(\"Contributo_cer[\" & F15 & \" - Fasce Francesi stagionalità]\"),'OUTPUT OUTIL ENERGETIQUE'!$R$6,INDIRECT(\"Contributo_cer[\" & F15 & \" - consumo]\")),\"\")","v":""},{"$f":"IFERROR(SUMIF(INDIRECT(\"Contributo_cer[\" & F15 & \" - Fasce Francesi stagionalità]\"),'OUTPUT OUTIL ENERGETIQUE'!$S$6,INDIRECT(\"Contributo_cer[\" & F15 & \" - consumo]\")),\"\")","v":""},{"$f":"IFERROR(SUMIF(INDIRECT(\"Contributo_cer[\" & F15 & \" - Fasce Francesi stagionalità]\"),'OUTPUT OUTIL ENERGETIQUE'!$T$6,INDIRECT(\"Contributo_cer[\" & F15 & \" - consumi rimanenti]\")),\"\")","v":""},{"$f":"IFERROR(SUMIF(INDIRECT(\"Contributo_cer[\" & F15 & \" - Fasce Francesi stagionalità]\"),'OUTPUT OUTIL ENERGETIQUE'!$U$6,INDIRECT(\"Contributo_cer[\" & F15 & \" - consumi rimanenti]\")),\"\")","v":""},{"$f":"IFERROR(SUMIF(INDIRECT(\"Contributo_cer[\" & F15 & \" - Fasce Francesi stagionalità]\"),'OUTPUT OUTIL ENERGETIQUE'!$V$6,INDIRECT(\"Contributo_cer[\" & F15 & \" - consumi rimanenti]\")),\"\")","v":""},{"$f":"IFERROR(SUMIF(INDIRECT(\"Contributo_cer[\" & F15 & \" - Fasce Francesi stagionalità]\"),'OUTPUT OUTIL ENERGETIQUE'!$W$6,INDIRECT(\"Contributo_cer[\" & F15 & \" - consumi rimanenti]\")),\"\")","v":""},{"$f":"IFERROR(SUMIF(INDIRECT(\"Contributo_cer[\" & F15 & \" - Fasce Francesi stagionalità]\"),'OUTPUT OUTIL ENERGETIQUE'!$X$6,INDIRECT(\"Contributo_cer[\" & F15 & \" - consumi rimanenti]\")),\"\")","v":""},{"$f":"IFERROR(SUMIF(INDIRECT(\"Contributo_cer[\" & F15 & \" - Fasce Francesi stagionalità]\"), 'OUTPUT OUTIL ENERGETIQUE'!$Y$6, INDIRECT(\"Contributo_cer[Distribuzione - \" & F15 & \" - consumi rimanenti]\")),\"\")","v":""},{"$f":"IFERROR(SUMIF(INDIRECT(\"Contributo_cer[\" & F15 & \" - Fasce Francesi stagionalità]\"), 'OUTPUT OUTIL ENERGETIQUE'!$Z$6, INDIRECT(\"Contributo_cer[Distribuzione - \" & F15 & \" - consumi rimanenti]\")),\"\")","v":""},{"$f":"IFERROR(SUMIF(INDIRECT(\"Contributo_cer[\" & F15 & \" - Fasce Francesi stagionalità]\"), 'OUTPUT OUTIL ENERGETIQUE'!$AA$6, INDIRECT(\"Contributo_cer[Distribuzione - \" & F15 & \" - consumi rimanenti]\")),\"\")","v":""},{"$f":"IFERROR(SUMIF(INDIRECT(\"Contributo_cer[\" & F15 & \" - Fasce Francesi stagionalità]\"), 'OUTPUT OUTIL ENERGETIQUE'!$AB$6, INDIRECT(\"Contributo_cer[Distribuzione - \" & F15 & \" - consumi rimanenti]\")),\"\")","v":""},{"$f":"IFERROR(SUMIF(INDIRECT(\"Contributo_cer[\" & F15 & \" - Fasce Francesi stagionalità]\"), 'OUTPUT OUTIL ENERGETIQUE'!$AC$6, INDIRECT(\"Contributo_cer[Distribuzione - \" & F15 & \" - consumi rimanenti]\")),\"\")","v":""},"","","","","",null,"",null,"mai",5,{"$f":"IFERROR(INDEX(Contributo_cer__2[autoconsumo %], MATCH(1, (Contributo_cer__2[MM]='OUTPUT OUTIL ENERGETIQUE'!$AM15) * (Contributo_cer__2[Giorno]='OUTPUT OUTIL ENERGETIQUE'!AN$10), 0)), \"\")","v":0},{"$f":"IFERROR(INDEX(Contributo_cer__2[autoconsumo %], MATCH(1, (Contributo_cer__2[MM]='OUTPUT OUTIL ENERGETIQUE'!$AM15) * (Contributo_cer__2[Giorno]='OUTPUT OUTIL ENERGETIQUE'!AO$10), 0)), \"\")","v":0},{"$f":"IFERROR(INDEX(Contributo_cer__2[autoconsumo %], MATCH(1, (Contributo_cer__2[MM]='OUTPUT OUTIL ENERGETIQUE'!$AM15) * (Contributo_cer__2[Giorno]='OUTPUT OUTIL ENERGETIQUE'!AP$10), 0)), \"\")","v":0},{"$f":"IFERROR(INDEX(Contributo_cer__2[autoconsumo %], MATCH(1, (Contributo_cer__2[MM]='OUTPUT OUTIL ENERGETIQUE'!$AM15) * (Contributo_cer__2[Giorno]='OUTPUT OUTIL ENERGETIQUE'!AQ$10), 0)), \"\")","v":0},{"$f":"IFERROR(INDEX(Contributo_cer__2[autoconsumo %], MATCH(1, (Contributo_cer__2[MM]='OUTPUT OUTIL ENERGETIQUE'!$AM15) * (Contributo_cer__2[Giorno]='OUTPUT OUTIL ENERGETIQUE'!AR$10), 0)), \"\")","v":0},{"$f":"IFERROR(INDEX(Contributo_cer__2[autoconsumo %], MATCH(1, (Contributo_cer__2[MM]='OUTPUT OUTIL ENERGETIQUE'!$AM15) * (Contributo_cer__2[Giorno]='OUTPUT OUTIL ENERGETIQUE'!AS$10), 0)), \"\")","v":0},{"$f":"IFERROR(INDEX(Contributo_cer__2[autoconsumo %], MATCH(1, (Contributo_cer__2[MM]='OUTPUT OUTIL ENERGETIQUE'!$AM15) * (Contributo_cer__2[Giorno]='OUTPUT OUTIL ENERGETIQUE'!AT$10), 0)), \"\")","v":0},{"$f":"IFERROR(INDEX(Contributo_cer__2[autoconsumo %], MATCH(1, (Contributo_cer__2[MM]='OUTPUT OUTIL ENERGETIQUE'!$AM15) * (Contributo_cer__2[Giorno]='OUTPUT OUTIL ENERGETIQUE'!AU$10), 0)), \"\")","v":0},{"$f":"IFERROR(INDEX(Contributo_cer__2[autoconsumo %], MATCH(1, (Contributo_cer__2[MM]='OUTPUT OUTIL ENERGETIQUE'!$AM15) * (Contributo_cer__2[Giorno]='OUTPUT OUTIL ENERGETIQUE'!AV$10), 0)), \"\")","v":0},{"$f":"IFERROR(INDEX(Contributo_cer__2[autoconsumo %], MATCH(1, (Contributo_cer__2[MM]='OUTPUT OUTIL ENERGETIQUE'!$AM15) * (Contributo_cer__2[Giorno]='OUTPUT OUTIL ENERGETIQUE'!AW$10), 0)), \"\")","v":0},{"$f":"IFERROR(INDEX(Contributo_cer__2[autoconsumo %], MATCH(1, (Contributo_cer__2[MM]='OUTPUT OUTIL ENERGETIQUE'!$AM15) * (Contributo_cer__2[Giorno]='OUTPUT OUTIL ENERGETIQUE'!AX$10), 0)), \"\")","v":0},{"$f":"IFERROR(INDEX(Contributo_cer__2[autoconsumo %], MATCH(1, (Contributo_cer__2[MM]='OUTPUT OUTIL ENERGETIQUE'!$AM15) * (Contributo_cer__2[Giorno]='OUTPUT OUTIL ENERGETIQUE'!AY$10), 0)), \"\")","v":0},{"$f":"IFERROR(INDEX(Contributo_cer__2[autoconsumo %], MATCH(1, (Contributo_cer__2[MM]='OUTPUT OUTIL ENERGETIQUE'!$AM15) * (Contributo_cer__2[Giorno]='OUTPUT OUTIL ENERGETIQUE'!AZ$10), 0)), \"\")","v":0},{"$f":"IFERROR(INDEX(Contributo_cer__2[autoconsumo %], MATCH(1, (Contributo_cer__2[MM]='OUTPUT OUTIL ENERGETIQUE'!$AM15) * (Contributo_cer__2[Giorno]='OUTPUT OUTIL ENERGETIQUE'!BA$10), 0)), \"\")","v":0},{"$f":"IFERROR(INDEX(Contributo_cer__2[autoconsumo %], MATCH(1, (Contributo_cer__2[MM]='OUTPUT OUTIL ENERGETIQUE'!$AM15) * (Contributo_cer__2[Giorno]='OUTPUT OUTIL ENERGETIQUE'!BB$10), 0)), \"\")","v":0},{"$f":"IFERROR(INDEX(Contributo_cer__2[autoconsumo %], MATCH(1, (Contributo_cer__2[MM]='OUTPUT OUTIL ENERGETIQUE'!$AM15) * (Contributo_cer__2[Giorno]='OUTPUT OUTIL ENERGETIQUE'!BC$10), 0)), \"\")","v":0},{"$f":"IFERROR(INDEX(Contributo_cer__2[autoconsumo %], MATCH(1, (Contributo_cer__2[MM]='OUTPUT OUTIL ENERGETIQUE'!$AM15) * (Contributo_cer__2[Giorno]='OUTPUT OUTIL ENERGETIQUE'!BD$10), 0)), \"\")","v":0},{"$f":"IFERROR(INDEX(Contributo_cer__2[autoconsumo %], MATCH(1, (Contributo_cer__2[MM]='OUTPUT OUTIL ENERGETIQUE'!$AM15) * (Contributo_cer__2[Giorno]='OUTPUT OUTIL ENERGETIQUE'!BE$10), 0)), \"\")","v":0},{"$f":"IFERROR(INDEX(Contributo_cer__2[autoconsumo %], MATCH(1, (Contributo_cer__2[MM]='OUTPUT OUTIL ENERGETIQUE'!$AM15) * (Contributo_cer__2[Giorno]='OUTPUT OUTIL ENERGETIQUE'!BF$10), 0)), \"\")","v":0},{"$f":"IFERROR(INDEX(Contributo_cer__2[autoconsumo %], MATCH(1, (Contributo_cer__2[MM]='OUTPUT OUTIL ENERGETIQUE'!$AM15) * (Contributo_cer__2[Giorno]='OUTPUT OUTIL ENERGETIQUE'!BG$10), 0)), \"\")","v":0},{"$f":"IFERROR(INDEX(Contributo_cer__2[autoconsumo %], MATCH(1, (Contributo_cer__2[MM]='OUTPUT OUTIL ENERGETIQUE'!$AM15) * (Contributo_cer__2[Giorno]='OUTPUT OUTIL ENERGETIQUE'!BH$10), 0)), \"\")","v":0},{"$f":"IFERROR(INDEX(Contributo_cer__2[autoconsumo %], MATCH(1, (Contributo_cer__2[MM]='OUTPUT OUTIL ENERGETIQUE'!$AM15) * (Contributo_cer__2[Giorno]='OUTPUT OUTIL ENERGETIQUE'!BI$10), 0)), \"\")","v":0},{"$f":"IFERROR(INDEX(Contributo_cer__2[autoconsumo %], MATCH(1, (Contributo_cer__2[MM]='OUTPUT OUTIL ENERGETIQUE'!$AM15) * (Contributo_cer__2[Giorno]='OUTPUT OUTIL ENERGETIQUE'!BJ$10), 0)), \"\")","v":0},{"$f":"IFERROR(INDEX(Contributo_cer__2[autoconsumo %], MATCH(1, (Contributo_cer__2[MM]='OUTPUT OUTIL ENERGETIQUE'!$AM15) * (Contributo_cer__2[Giorno]='OUTPUT OUTIL ENERGETIQUE'!BK$10), 0)), \"\")","v":0},{"$f":"IFERROR(INDEX(Contributo_cer__2[autoconsumo %], MATCH(1, (Contributo_cer__2[MM]='OUTPUT OUTIL ENERGETIQUE'!$AM15) * (Contributo_cer__2[Giorno]='OUTPUT OUTIL ENERGETIQUE'!BL$10), 0)), \"\")","v":0},{"$f":"IFERROR(INDEX(Contributo_cer__2[autoconsumo %], MATCH(1, (Contributo_cer__2[MM]='OUTPUT OUTIL ENERGETIQUE'!$AM15) * (Contributo_cer__2[Giorno]='OUTPUT OUTIL ENERGETIQUE'!BM$10), 0)), \"\")","v":0},{"$f":"IFERROR(INDEX(Contributo_cer__2[autoconsumo %], MATCH(1, (Contributo_cer__2[MM]='OUTPUT OUTIL ENERGETIQUE'!$AM15) * (Contributo_cer__2[Giorno]='OUTPUT OUTIL ENERGETIQUE'!BN$10), 0)), \"\")","v":0},{"$f":"IFERROR(INDEX(Contributo_cer__2[autoconsumo %], MATCH(1, (Contributo_cer__2[MM]='OUTPUT OUTIL ENERGETIQUE'!$AM15) * (Contributo_cer__2[Giorno]='OUTPUT OUTIL ENERGETIQUE'!BO$10), 0)), \"\")","v":0},{"$f":"IFERROR(INDEX(Contributo_cer__2[autoconsumo %], MATCH(1, (Contributo_cer__2[MM]='OUTPUT OUTIL ENERGETIQUE'!$AM15) * (Contributo_cer__2[Giorno]='OUTPUT OUTIL ENERGETIQUE'!BP$10), 0)), \"\")","v":0},{"$f":"IFERROR(INDEX(Contributo_cer__2[autoconsumo %], MATCH(1, (Contributo_cer__2[MM]='OUTPUT OUTIL ENERGETIQUE'!$AM15) * (Contributo_cer__2[Giorno]='OUTPUT OUTIL ENERGETIQUE'!BQ$10), 0)), \"\")","v":0},{"$f":"IFERROR(INDEX(Contributo_cer__2[autoconsumo %], MATCH(1, (Contributo_cer__2[MM]='OUTPUT OUTIL ENERGETIQUE'!$AM15) * (Contributo_cer__2[Giorno]='OUTPUT OUTIL ENERGETIQUE'!BR$10), 0)), \"\")","v":0}]
[{"$f":"IFERROR(INDEX(Utente[INPUT], MATCH(1, (Utente[Source.Name.1]='OUTPUT OUTIL ENERGETIQUE'!F16) * (Utente[[Participant ]]=\"Nom du participant\"), 0)), \"\")","v":""},{"$f":"IFERROR(\n    IF(\n        INDEX(Utente[INPUT], MATCH(1, (Utente[Source.Name.1]=F16) * (Utente[[Participant ]]=\"Type de production d'énergie\"), 0)) = 0,\n        INDEX(orario[Type de production d''énergie], MATCH(1, (orario[Source.Name.1]=F16) * 1, 0)),\n        INDEX(Utente[INPUT], MATCH(1, (Utente[Source.Name.1]=F16) * (Utente[[Participant ]]=\"Type de production d'énergie\"), 0))\n    ),\n    \"\"\n)","v":""},{"$f":"IFERROR(1+INDEX(Utente[INPUT], MATCH(1, (Utente[Source.Name.1]=F16) * (Utente[[Participant ]]=\"Nombre d'autres participants similaires\"), 0)),\"\")","v":""},{"$f":"IFERROR(INDEX(impianto_FV[Installation 1]+impianto_FV[Installation 2]+impianto_FV[Installation 3]+impianto_FV[Installation 4], MATCH(1, (impianto_FV[Source.Name.1]=F16) * (impianto_FV[Photovoltaïque]=\"Puissance installée [kW]\"), 0))+INDEX(impianto_HYDRO[Caractéristiques], MATCH(1, (impianto_HYDRO[Source.Name.1]=F16) * (impianto_HYDRO[hydroélectrique]=\"Puissance du générateur [kW]\"), 0))+INDEX(orario[Puissance installée '[kW']], MATCH(1, (orario[Source.Name.1]=F16) * 1, 0)),\"\")","v":""},{"$f":"IFERROR(INDEX(Utente[INPUT], MATCH(1, (Utente[Source.Name.1]=F16) * (Utente[[Participant ]]=\"en cas de clé statique, indiquer le coefficient de répartition \"), 0)),\"\")","v":""},"10_User",{"$f":"IFERROR(INDEX(output_utente[Colonna1], MATCH(1, (output_utente[Source.Name.1]='OUTPUT OUTIL ENERGETIQUE'!F16) * (output_utente[output]=\"somma consumi\"), 0)), \"\")","v":""},"",{"$f":"IFERROR(INDEX(output_utente[Colonna1], MATCH(1, (output_utente[Source.Name.1]='OUTPUT OUTIL ENERGETIQUE'!F16) * (output_utente[output]=\"produzione\"), 0)), \"\")","v":""},"",{"$f":"IFERROR(INDEX(output_utente[Colonna1], MATCH(1, (output_utente[Source.Name.1]='OUTPUT OUTIL ENERGETIQUE'!F16) * (output_utente[output]=\"energia immessa in cer\"), 0)), \"\")","v":""},{"$f":"IFERROR(INDEX(Distribuzione[Somma], MATCH(1, (Distribuzione[User]='OUTPUT OUTIL ENERGETIQUE'!F16)*1, 0)), \"\")","v":""},{"$f":"IFERROR(INDEX(output_utente[Colonna1], MATCH(1, (output_utente[Source.Name.1]='OUTPUT OUTIL ENERGETIQUE'!F16) * (output_utente[output]=\"autosufficenza\"), 0)), \"\")","v":""},{"$f":"IFERROR(INDEX(output_utente[Colonna1], MATCH(1, (output_utente[Source.Name.1]='OUTPUT OUTIL ENERGETIQUE'!F16) * (output_utente[output]=\"autoconsumo\"), 0)), \"\")","v":""},{"$f":"IFERROR(SUMIF(INDIRECT(\"Contributo_cer[\" & $F16 & \" - Fasce Francesi stagionalità]\"),'OUTPUT OUTIL ENERGETIQUE'!$O$6,INDIRECT(\"Contributo_cer[\" & $F16 & \" - consumo]\")),\"\")","v":""},{"$f":"IFERROR(SUMIF(INDIRECT(\"Contributo_cer[\" & F16 & \" - Fasce Francesi stagionalità]\"),'OUTPUT OUTIL ENERGETIQUE'!$P$6,INDIRECT(\"Contributo_cer[\" & F16 & \" - consumo]\")),\"\")","v":""},{"$f":"IFERROR(SUMIF(INDIRECT(\"Contributo_cer[\" & F16 & \" - Fasce Francesi stagionalità]\"),'OUTPUT OUTIL ENERGETIQUE'!$Q$6,INDIRECT(\"Contributo_cer[\" & F16 & \" - consumo]\")),\"\")","v":""},{"$f":"IFERROR(SUMIF(INDIRECT(\"Contributo_cer[\" & F16 & \" - Fasce Francesi stagionalità]\"),'OUTPUT OUTIL ENERGETIQUE'!$R$6,INDIRECT(\"Contributo_cer[\" & F16 & \" - consumo]\")),\"\")","v":""},{"$f":"IFERROR(SUMIF(INDIRECT(\"Contributo_cer[\" & F16 & \" - Fasce Francesi stagionalità]\"),'OUTPUT OUTIL ENERGETIQUE'!$S$6,INDIRECT(\"Contributo_cer[\" & F16 & \" - consumo]\")),\"\")","v":""},{"$f":"IFERROR(SUMIF(INDIRECT(\"Contributo_cer[\" & F16 & \" - Fasce Francesi stagionalità]\"),'OUTPUT OUTIL ENERGETIQUE'!$T$6,INDIRECT(\"Contributo_cer[\" & F16 & \" - consumi rimanenti]\")),\"\")","v":""},{"$f":"IFERROR(SUMIF(INDIRECT(\"Contributo_cer[\" & F16 & \" - Fasce Francesi stagionalità]\"),'OUTPUT OUTIL ENERGETIQUE'!$U$6,INDIRECT(\"Contributo_cer[\" & F16 & \" - consumi rimanenti]\")),\"\")","v":""},{"$f":"IFERROR(SUMIF(INDIRECT(\"Contributo_cer[\" & F16 & \" - Fasce Francesi stagionalità]\"),'OUTPUT OUTIL ENERGETIQUE'!$V$6,INDIRECT(\"Contributo_cer[\" & F16 & \" - consumi rimanenti]\")),\"\")","v":""},{"$f":"IFERROR(SUMIF(INDIRECT(\"Contributo_cer[\" & F16 & \" - Fasce Francesi stagionalità]\"),'OUTPUT OUTIL ENERGETIQUE'!$W$6,INDIRECT(\"Contributo_cer[\" & F16 & \" - consumi rimanenti]\")),\"\")","v":""},{"$f":"IFERROR(SUMIF(INDIRECT(\"Contributo_cer[\" & F16 & \" - Fasce Francesi stagionalità]\"),'OUTPUT OUTIL ENERGETIQUE'!$X$6,INDIRECT(\"Contributo_cer[\" & F16 & \" - consumi rimanenti]\")),\"\")","v":""},{"$f":"IFERROR(SUMIF(INDIRECT(\"Contributo_cer[\" & F16 & \" - Fasce Francesi stagionalità]\"), 'OUTPUT OUTIL ENERGETIQUE'!$Y$6, INDIRECT(\"Contributo_cer[Distribuzione - \" & F16 & \" - consumi rimanenti]\")),\"\")","v":""},{"$f":"IFERROR(SUMIF(INDIRECT(\"Contributo_cer[\" & F16 & \" - Fasce Francesi stagionalità]\"), 'OUTPUT OUTIL ENERGETIQUE'!$Z$6, INDIRECT(\"Contributo_cer[Distribuzione - \" & F16 & \" - consumi rimanenti]\")),\"\")","v":""},{"$f":"IFERROR(SUMIF(INDIRECT(\"Contributo_cer[\" & F16 & \" - Fasce Francesi stagionalità]\"), 'OUTPUT OUTIL ENERGETIQUE'!$AA$6, INDIRECT(\"Contributo_cer[Distribuzione - \" & F16 & \" - consumi rimanenti]\")),\"\")","v":""},{"$f":"IFERROR(SUMIF(INDIRECT(\"Contributo_cer[\" & F16 & \" - Fasce Francesi stagionalità]\"), 'OUTPUT OUTIL ENERGETIQUE'!$AB$6, INDIRECT(\"Contributo_cer[Distribuzione - \" & F16 & \" - consumi rimanenti]\")),\"\")","v":""},{"$f":"IFERROR(SUMIF(INDIRECT(\"Contributo_cer[\" & F16 & \" - Fasce Francesi stagionalità]\"), 'OUTPUT OUTIL ENERGETIQUE'!$AC$6, INDIRECT(\"Contributo_cer[Distribuzione - \" & F16 & \" - consumi rimanenti]\")),\"\")","v":""},"","","","","",null,"",null,"juin",6,{"$f":"IFERROR(INDEX(Contributo_cer__2[autoconsumo %], MATCH(1, (Contributo_cer__2[MM]='OUTPUT OUTIL ENERGETIQUE'!$AM16) * (Contributo_cer__2[Giorno]='OUTPUT OUTIL ENERGETIQUE'!AN$10), 0)), \"\")","v":0},{"$f":"IFERROR(INDEX(Contributo_cer__2[autoconsumo %], MATCH(1, (Contributo_cer__2[MM]='OUTPUT OUTIL ENERGETIQUE'!$AM16) * (Contributo_cer__2[Giorno]='OUTPUT OUTIL ENERGETIQUE'!AO$10), 0)), \"\")","v":0},{"$f":"IFERROR(INDEX(Contributo_cer__2[autoconsumo %], MATCH(1, (Contributo_cer__2[MM]='OUTPUT OUTIL ENERGETIQUE'!$AM16) * (Contributo_cer__2[Giorno]='OUTPUT OUTIL ENERGETIQUE'!AP$10), 0)), \"\")","v":0},{"$f":"IFERROR(INDEX(Contributo_cer__2[autoconsumo %], MATCH(1, (Contributo_cer__2[MM]='OUTPUT OUTIL ENERGETIQUE'!$AM16) * (Contributo_cer__2[Giorno]='OUTPUT OUTIL ENERGETIQUE'!AQ$10), 0)), \"\")","v":0},{"$f":"IFERROR(INDEX(Contributo_cer__2[autoconsumo %], MATCH(1, (Contributo_cer__2[MM]='OUTPUT OUTIL ENERGETIQUE'!$AM16) * (Contributo_cer__2[Giorno]='OUTPUT OUTIL ENERGETIQUE'!AR$10), 0)), \"\")","v":0},{"$f":"IFERROR(INDEX(Contributo_cer__2[autoconsumo %], MATCH(1, (Contributo_cer__2[MM]='OUTPUT OUTIL ENERGETIQUE'!$AM16) * (Contributo_cer__2[Giorno]='OUTPUT OUTIL ENERGETIQUE'!AS$10), 0)), \"\")","v":0},{"$f":"IFERROR(INDEX(Contributo_cer__2[autoconsumo %], MATCH(1, (Contributo_cer__2[MM]='OUTPUT OUTIL ENERGETIQUE'!$AM16) * (Contributo_cer__2[Giorno]='OUTPUT OUTIL ENERGETIQUE'!AT$10), 0)), \"\")","v":0},{"$f":"IFERROR(INDEX(Contributo_cer__2[autoconsumo %], MATCH(1, (Contributo_cer__2[MM]='OUTPUT OUTIL ENERGETIQUE'!$AM16) * (Contributo_cer__2[Giorno]='OUTPUT OUTIL ENERGETIQUE'!AU$10), 0)), \"\")","v":0},{"$f":"IFERROR(INDEX(Contributo_cer__2[autoconsumo %], MATCH(1, (Contributo_cer__2[MM]='OUTPUT OUTIL ENERGETIQUE'!$AM16) * (Contributo_cer__2[Giorno]='OUTPUT OUTIL ENERGETIQUE'!AV$10), 0)), \"\")","v":0},{"$f":"IFERROR(INDEX(Contributo_cer__2[autoconsumo %], MATCH(1, (Contributo_cer__2[MM]='OUTPUT OUTIL ENERGETIQUE'!$AM16) * (Contributo_cer__2[Giorno]='OUTPUT OUTIL ENERGETIQUE'!AW$10), 0)), \"\")","v":0},{"$f":"IFERROR(INDEX(Contributo_cer__2[autoconsumo %], MATCH(1, (Contributo_cer__2[MM]='OUTPUT OUTIL ENERGETIQUE'!$AM16) * (Contributo_cer__2[Giorno]='OUTPUT OUTIL ENERGETIQUE'!AX$10), 0)), \"\")","v":0},{"$f":"IFERROR(INDEX(Contributo_cer__2[autoconsumo %], MATCH(1, (Contributo_cer__2[MM]='OUTPUT OUTIL ENERGETIQUE'!$AM16) * (Contributo_cer__2[Giorno]='OUTPUT OUTIL ENERGETIQUE'!AY$10), 0)), \"\")","v":0},{"$f":"IFERROR(INDEX(Contributo_cer__2[autoconsumo %], MATCH(1, (Contributo_cer__2[MM]='OUTPUT OUTIL ENERGETIQUE'!$AM16) * (Contributo_cer__2[Giorno]='OUTPUT OUTIL ENERGETIQUE'!AZ$10), 0)), \"\")","v":0},{"$f":"IFERROR(INDEX(Contributo_cer__2[autoconsumo %], MATCH(1, (Contributo_cer__2[MM]='OUTPUT OUTIL ENERGETIQUE'!$AM16) * (Contributo_cer__2[Giorno]='OUTPUT OUTIL ENERGETIQUE'!BA$10), 0)), \"\")","v":0},{"$f":"IFERROR(INDEX(Contributo_cer__2[autoconsumo %], MATCH(1, (Contributo_cer__2[MM]='OUTPUT OUTIL ENERGETIQUE'!$AM16) * (Contributo_cer__2[Giorno]='OUTPUT OUTIL ENERGETIQUE'!BB$10), 0)), \"\")","v":0},{"$f":"IFERROR(INDEX(Contributo_cer__2[autoconsumo %], MATCH(1, (Contributo_cer__2[MM]='OUTPUT OUTIL ENERGETIQUE'!$AM16) * (Contributo_cer__2[Giorno]='OUTPUT OUTIL ENERGETIQUE'!BC$10), 0)), \"\")","v":0},{"$f":"IFERROR(INDEX(Contributo_cer__2[autoconsumo %], MATCH(1, (Contributo_cer__2[MM]='OUTPUT OUTIL ENERGETIQUE'!$AM16) * (Contributo_cer__2[Giorno]='OUTPUT OUTIL ENERGETIQUE'!BD$10), 0)), \"\")","v":0},{"$f":"IFERROR(INDEX(Contributo_cer__2[autoconsumo %], MATCH(1, (Contributo_cer__2[MM]='OUTPUT OUTIL ENERGETIQUE'!$AM16) * (Contributo_cer__2[Giorno]='OUTPUT OUTIL ENERGETIQUE'!BE$10), 0)), \"\")","v":0},{"$f":"IFERROR(INDEX(Contributo_cer__2[autoconsumo %], MATCH(1, (Contributo_cer__2[MM]='OUTPUT OUTIL ENERGETIQUE'!$AM16) * (Contributo_cer__2[Giorno]='OUTPUT OUTIL ENERGETIQUE'!BF$10), 0)), \"\")","v":0},{"$f":"IFERROR(INDEX(Contributo_cer__2[autoconsumo %], MATCH(1, (Contributo_cer__2[MM]='OUTPUT OUTIL ENERGETIQUE'!$AM16) * (Contributo_cer__2[Giorno]='OUTPUT OUTIL ENERGETIQUE'!BG$10), 0)), \"\")","v":0},{"$f":"IFERROR(INDEX(Contributo_cer__2[autoconsumo %], MATCH(1, (Contributo_cer__2[MM]='OUTPUT OUTIL ENERGETIQUE'!$AM16) * (Contributo_cer__2[Giorno]='OUTPUT OUTIL ENERGETIQUE'!BH$10), 0)), \"\")","v":0},{"$f":"IFERROR(INDEX(Contributo_cer__2[autoconsumo %], MATCH(1, (Contributo_cer__2[MM]='OUTPUT OUTIL ENERGETIQUE'!$AM16) * (Contributo_cer__2[Giorno]='OUTPUT OUTIL ENERGETIQUE'!BI$10), 0)), \"\")","v":0},{"$f":"IFERROR(INDEX(Contributo_cer__2[autoconsumo %], MATCH(1, (Contributo_cer__2[MM]='OUTPUT OUTIL ENERGETIQUE'!$AM16) * (Contributo_cer__2[Giorno]='OUTPUT OUTIL ENERGETIQUE'!BJ$10), 0)), \"\")","v":0},{"$f":"IFERROR(INDEX(Contributo_cer__2[autoconsumo %], MATCH(1, (Contributo_cer__2[MM]='OUTPUT OUTIL ENERGETIQUE'!$AM16) * (Contributo_cer__2[Giorno]='OUTPUT OUTIL ENERGETIQUE'!BK$10), 0)), \"\")","v":0},{"$f":"IFERROR(INDEX(Contributo_cer__2[autoconsumo %], MATCH(1, (Contributo_cer__2[MM]='OUTPUT OUTIL ENERGETIQUE'!$AM16) * (Contributo_cer__2[Giorno]='OUTPUT OUTIL ENERGETIQUE'!BL$10), 0)), \"\")","v":0},{"$f":"IFERROR(INDEX(Contributo_cer__2[autoconsumo %], MATCH(1, (Contributo_cer__2[MM]='OUTPUT OUTIL ENERGETIQUE'!$AM16) * (Contributo_cer__2[Giorno]='OUTPUT OUTIL ENERGETIQUE'!BM$10), 0)), \"\")","v":0},{"$f":"IFERROR(INDEX(Contributo_cer__2[autoconsumo %], MATCH(1, (Contributo_cer__2[MM]='OUTPUT OUTIL ENERGETIQUE'!$AM16) * (Contributo_cer__2[Giorno]='OUTPUT OUTIL ENERGETIQUE'!BN$10), 0)), \"\")","v":0},{"$f":"IFERROR(INDEX(Contributo_cer__2[autoconsumo %], MATCH(1, (Contributo_cer__2[MM]='OUTPUT OUTIL ENERGETIQUE'!$AM16) * (Contributo_cer__2[Giorno]='OUTPUT OUTIL ENERGETIQUE'!BO$10), 0)), \"\")","v":0},{"$f":"IFERROR(INDEX(Contributo_cer__2[autoconsumo %], MATCH(1, (Contributo_cer__2[MM]='OUTPUT OUTIL ENERGETIQUE'!$AM16) * (Contributo_cer__2[Giorno]='OUTPUT OUTIL ENERGETIQUE'!BP$10), 0)), \"\")","v":0},{"$f":"IFERROR(INDEX(Contributo_cer__2[autoconsumo %], MATCH(1, (Contributo_cer__2[MM]='OUTPUT OUTIL ENERGETIQUE'!$AM16) * (Contributo_cer__2[Giorno]='OUTPUT OUTIL ENERGETIQUE'!BQ$10), 0)), \"\")","v":0},{"$f":"IFERROR(INDEX(Contributo_cer__2[autoconsumo %], MATCH(1, (Contributo_cer__2[MM]='OUTPUT OUTIL ENERGETIQUE'!$AM16) * (Contributo_cer__2[Giorno]='OUTPUT OUTIL ENERGETIQUE'!BR$10), 0)), \"\")","v":""}]
[{"$f":"IFERROR(INDEX(Utente[INPUT], MATCH(1, (Utente[Source.Name.1]='OUTPUT OUTIL ENERGETIQUE'!F17) * (Utente[[Participant ]]=\"Nom du participant\"), 0)), \"\")","v":""},{"$f":"IFERROR(\n    IF(\n        INDEX(Utente[INPUT], MATCH(1, (Utente[Source.Name.1]=F17) * (Utente[[Participant ]]=\"Type de production d'énergie\"), 0)) = 0,\n        INDEX(orario[Type de production d''énergie], MATCH(1, (orario[Source.Name.1]=F17) * 1, 0)),\n        INDEX(Utente[INPUT], MATCH(1, (Utente[Source.Name.1]=F17) * (Utente[[Participant ]]=\"Type de production d'énergie\"), 0))\n    ),\n    \"\"\n)","v":""},{"$f":"IFERROR(1+INDEX(Utente[INPUT], MATCH(1, (Utente[Source.Name.1]=F17) * (Utente[[Participant ]]=\"Nombre d'autres participants similaires\"), 0)),\"\")","v":""},{"$f":"IFERROR(INDEX(impianto_FV[Installation 1]+impianto_FV[Installation 2]+impianto_FV[Installation 3]+impianto_FV[Installation 4], MATCH(1, (impianto_FV[Source.Name.1]=F17) * (impianto_FV[Photovoltaïque]=\"Puissance installée [kW]\"), 0))+INDEX(impianto_HYDRO[Caractéristiques], MATCH(1, (impianto_HYDRO[Source.Name.1]=F17) * (impianto_HYDRO[hydroélectrique]=\"Puissance du générateur [kW]\"), 0))+INDEX(orario[Puissance installée '[kW']], MATCH(1, (orario[Source.Name.1]=F17) * 1, 0)),\"\")","v":""},{"$f":"IFERROR(INDEX(Utente[INPUT], MATCH(1, (Utente[Source.Name.1]=F17) * (Utente[[Participant ]]=\"en cas de clé statique, indiquer le coefficient de répartition \"), 0)),\"\")","v":""},"11_User",{"$f":"IFERROR(INDEX(output_utente[Colonna1], MATCH(1, (output_utente[Source.Name.1]='OUTPUT OUTIL ENERGETIQUE'!F17) * (output_utente[output]=\"somma consumi\"), 0)), \"\")","v":""},"",{"$f":"IFERROR(INDEX(output_utente[Colonna1], MATCH(1, (output_utente[Source.Name.1]='OUTPUT OUTIL ENERGETIQUE'!F17) * (output_utente[output]=\"produzione\"), 0)), \"\")","v":""},"",{"$f":"IFERROR(INDEX(output_utente[Colonna1], MATCH(1, (output_utente[Source.Name.1]='OUTPUT OUTIL ENERGETIQUE'!F17) * (output_utente[output]=\"energia immessa in cer\"), 0)), \"\")","v":""},{"$f":"IFERROR(INDEX(Distribuzione[Somma], MATCH(1, (Distribuzione[User]='OUTPUT OUTIL ENERGETIQUE'!F17)*1, 0)), \"\")","v":""},{"$f":"IFERROR(INDEX(output_utente[Colonna1], MATCH(1, (output_utente[Source.Name.1]='OUTPUT OUTIL ENERGETIQUE'!F17) * (output_utente[output]=\"autosufficenza\"), 0)), \"\")","v":""},{"$f":"IFERROR(INDEX(output_utente[Colonna1], MATCH(1, (output_utente[Source.Name.1]='OUTPUT OUTIL ENERGETIQUE'!F17) * (output_utente[output]=\"autoconsumo\"), 0)), \"\")","v":""},{"$f":"IFERROR(SUMIF(INDIRECT(\"Contributo_cer[\" & $F17 & \" - Fasce Francesi stagionalità]\"),'OUTPUT OUTIL ENERGETIQUE'!$O$6,INDIRECT(\"Contributo_cer[\" & $F17 & \" - consumo]\")),\"\")","v":""},{"$f":"IFERROR(SUMIF(INDIRECT(\"Contributo_cer[\" & F17 & \" - Fasce Francesi stagionalità]\"),'OUTPUT OUTIL ENERGETIQUE'!$P$6,INDIRECT(\"Contributo_cer[\" & F17 & \" - consumo]\")),\"\")","v":""},{"$f":"IFERROR(SUMIF(INDIRECT(\"Contributo_cer[\" & F17 & \" - Fasce Francesi stagionalità]\"),'OUTPUT OUTIL ENERGETIQUE'!$Q$6,INDIRECT(\"Contributo_cer[\" & F17 & \" - consumo]\")),\"\")","v":""},{"$f":"IFERROR(SUMIF(INDIRECT(\"Contributo_cer[\" & F17 & \" - Fasce Francesi stagionalità]\"),'OUTPUT OUTIL ENERGETIQUE'!$R$6,INDIRECT(\"Contributo_cer[\" & F17 & \" - consumo]\")),\"\")","v":""},{"$f":"IFERROR(SUMIF(INDIRECT(\"Contributo_cer[\" & F17 & \" - Fasce Francesi stagionalità]\"),'OUTPUT OUTIL ENERGETIQUE'!$S$6,INDIRECT(\"Contributo_cer[\" & F17 & \" - consumo]\")),\"\")","v":""},{"$f":"IFERROR(SUMIF(INDIRECT(\"Contributo_cer[\" & F17 & \" - Fasce Francesi stagionalità]\"),'OUTPUT OUTIL ENERGETIQUE'!$T$6,INDIRECT(\"Contributo_cer[\" & F17 & \" - consumi rimanenti]\")),\"\")","v":""},{"$f":"IFERROR(SUMIF(INDIRECT(\"Contributo_cer[\" & F17 & \" - Fasce Francesi stagionalità]\"),'OUTPUT OUTIL ENERGETIQUE'!$U$6,INDIRECT(\"Contributo_cer[\" & F17 & \" - consumi rimanenti]\")),\"\")","v":""},{"$f":"IFERROR(SUMIF(INDIRECT(\"Contributo_cer[\" & F17 & \" - Fasce Francesi stagionalità]\"),'OUTPUT OUTIL ENERGETIQUE'!$V$6,INDIRECT(\"Contributo_cer[\" & F17 & \" - consumi rimanenti]\")),\"\")","v":""},{"$f":"IFERROR(SUMIF(INDIRECT(\"Contributo_cer[\" & F17 & \" - Fasce Francesi stagionalità]\"),'OUTPUT OUTIL ENERGETIQUE'!$W$6,INDIRECT(\"Contributo_cer[\" & F17 & \" - consumi rimanenti]\")),\"\")","v":""},{"$f":"IFERROR(SUMIF(INDIRECT(\"Contributo_cer[\" & F17 & \" - Fasce Francesi stagionalità]\"),'OUTPUT OUTIL ENERGETIQUE'!$X$6,INDIRECT(\"Contributo_cer[\" & F17 & \" - consumi rimanenti]\")),\"\")","v":""},{"$f":"IFERROR(SUMIF(INDIRECT(\"Contributo_cer[\" & F17 & \" - Fasce Francesi stagionalità]\"), 'OUTPUT OUTIL ENERGETIQUE'!$Y$6, INDIRECT(\"Contributo_cer[Distribuzione - \" & F17 & \" - consumi rimanenti]\")),\"\")","v":""},{"$f":"IFERROR(SUMIF(INDIRECT(\"Contributo_cer[\" & F17 & \" - Fasce Francesi stagionalità]\"), 'OUTPUT OUTIL ENERGETIQUE'!$Z$6, INDIRECT(\"Contributo_cer[Distribuzione - \" & F17 & \" - consumi rimanenti]\")),\"\")","v":""},{"$f":"IFERROR(SUMIF(INDIRECT(\"Contributo_cer[\" & F17 & \" - Fasce Francesi stagionalità]\"), 'OUTPUT OUTIL ENERGETIQUE'!$AA$6, INDIRECT(\"Contributo_cer[Distribuzione - \" & F17 & \" - consumi rimanenti]\")),\"\")","v":""},{"$f":"IFERROR(SUMIF(INDIRECT(\"Contributo_cer[\" & F17 & \" - Fasce Francesi stagionalità]\"), 'OUTPUT OUTIL ENERGETIQUE'!$AB$6, INDIRECT(\"Contributo_cer[Distribuzione - \" & F17 & \" - consumi rimanenti]\")),\"\")","v":""},{"$f":"IFERROR(SUMIF(INDIRECT(\"Contributo_cer[\" & F17 & \" - Fasce Francesi stagionalità]\"), 'OUTPUT OUTIL ENERGETIQUE'!$AC$6, INDIRECT(\"Contributo_cer[Distribuzione - \" & F17 & \" - consumi rimanenti]\")),\"\")","v":""},"","","","","",null,"",null,"juillet",7,{"$f":"IFERROR(INDEX(Contributo_cer__2[autoconsumo %], MATCH(1, (Contributo_cer__2[MM]='OUTPUT OUTIL ENERGETIQUE'!$AM17) * (Contributo_cer__2[Giorno]='OUTPUT OUTIL ENERGETIQUE'!AN$10), 0)), \"\")","v":0},{"$f":"IFERROR(INDEX(Contributo_cer__2[autoconsumo %], MATCH(1, (Contributo_cer__2[MM]='OUTPUT OUTIL ENERGETIQUE'!$AM17) * (Contributo_cer__2[Giorno]='OUTPUT OUTIL ENERGETIQUE'!AO$10), 0)), \"\")","v":0},{"$f":"IFERROR(INDEX(Contributo_cer__2[autoconsumo %], MATCH(1, (Contributo_cer__2[MM]='OUTPUT OUTIL ENERGETIQUE'!$AM17) * (Contributo_cer__2[Giorno]='OUTPUT OUTIL ENERGETIQUE'!AP$10), 0)), \"\")","v":0},{"$f":"IFERROR(INDEX(Contributo_cer__2[autoconsumo %], MATCH(1, (Contributo_cer__2[MM]='OUTPUT OUTIL ENERGETIQUE'!$AM17) * (Contributo_cer__2[Giorno]='OUTPUT OUTIL ENERGETIQUE'!AQ$10), 0)), \"\")","v":0},{"$f":"IFERROR(INDEX(Contributo_cer__2[autoconsumo %], MATCH(1, (Contributo_cer__2[MM]='OUTPUT OUTIL ENERGETIQUE'!$AM17) * (Contributo_cer__2[Giorno]='OUTPUT OUTIL ENERGETIQUE'!AR$10), 0)), \"\")","v":0},{"$f":"IFERROR(INDEX(Contributo_cer__2[autoconsumo %], MATCH(1, (Contributo_cer__2[MM]='OUTPUT OUTIL ENERGETIQUE'!$AM17) * (Contributo_cer__2[Giorno]='OUTPUT OUTIL ENERGETIQUE'!AS$10), 0)), \"\")","v":0},{"$f":"IFERROR(INDEX(Contributo_cer__2[autoconsumo %], MATCH(1, (Contributo_cer__2[MM]='OUTPUT OUTIL ENERGETIQUE'!$AM17) * (Contributo_cer__2[Giorno]='OUTPUT OUTIL ENERGETIQUE'!AT$10), 0)), \"\")","v":0},{"$f":"IFERROR(INDEX(Contributo_cer__2[autoconsumo %], MATCH(1, (Contributo_cer__2[MM]='OUTPUT OUTIL ENERGETIQUE'!$AM17) * (Contributo_cer__2[Giorno]='OUTPUT OUTIL ENERGETIQUE'!AU$10), 0)), \"\")","v":0},{"$f":"IFERROR(INDEX(Contributo_cer__2[autoconsumo %], MATCH(1, (Contributo_cer__2[MM]='OUTPUT OUTIL ENERGETIQUE'!$AM17) * (Contributo_cer__2[Giorno]='OUTPUT OUTIL ENERGETIQUE'!AV$10), 0)), \"\")","v":0},{"$f":"IFERROR(INDEX(Contributo_cer__2[autoconsumo %], MATCH(1, (Contributo_cer__2[MM]='OUTPUT OUTIL ENERGETIQUE'!$AM17) * (Contributo_cer__2[Giorno]='OUTPUT OUTIL ENERGETIQUE'!AW$10), 0)), \"\")","v":0},{"$f":"IFERROR(INDEX(Contributo_cer__2[autoconsumo %], MATCH(1, (Contributo_cer__2[MM]='OUTPUT OUTIL ENERGETIQUE'!$AM17) * (Contributo_cer__2[Giorno]='OUTPUT OUTIL ENERGETIQUE'!AX$10), 0)), \"\")","v":0},{"$f":"IFERROR(INDEX(Contributo_cer__2[autoconsumo %], MATCH(1, (Contributo_cer__2[MM]='OUTPUT OUTIL ENERGETIQUE'!$AM17) * (Contributo_cer__2[Giorno]='OUTPUT OUTIL ENERGETIQUE'!AY$10), 0)), \"\")","v":0},{"$f":"IFERROR(INDEX(Contributo_cer__2[autoconsumo %], MATCH(1, (Contributo_cer__2[MM]='OUTPUT OUTIL ENERGETIQUE'!$AM17) * (Contributo_cer__2[Giorno]='OUTPUT OUTIL ENERGETIQUE'!AZ$10), 0)), \"\")","v":0},{"$f":"IFERROR(INDEX(Contributo_cer__2[autoconsumo %], MATCH(1, (Contributo_cer__2[MM]='OUTPUT OUTIL ENERGETIQUE'!$AM17) * (Contributo_cer__2[Giorno]='OUTPUT OUTIL ENERGETIQUE'!BA$10), 0)), \"\")","v":0},{"$f":"IFERROR(INDEX(Contributo_cer__2[autoconsumo %], MATCH(1, (Contributo_cer__2[MM]='OUTPUT OUTIL ENERGETIQUE'!$AM17) * (Contributo_cer__2[Giorno]='OUTPUT OUTIL ENERGETIQUE'!BB$10), 0)), \"\")","v":0},{"$f":"IFERROR(INDEX(Contributo_cer__2[autoconsumo %], MATCH(1, (Contributo_cer__2[MM]='OUTPUT OUTIL ENERGETIQUE'!$AM17) * (Contributo_cer__2[Giorno]='OUTPUT OUTIL ENERGETIQUE'!BC$10), 0)), \"\")","v":0},{"$f":"IFERROR(INDEX(Contributo_cer__2[autoconsumo %], MATCH(1, (Contributo_cer__2[MM]='OUTPUT OUTIL ENERGETIQUE'!$AM17) * (Contributo_cer__2[Giorno]='OUTPUT OUTIL ENERGETIQUE'!BD$10), 0)), \"\")","v":0},{"$f":"IFERROR(INDEX(Contributo_cer__2[autoconsumo %], MATCH(1, (Contributo_cer__2[MM]='OUTPUT OUTIL ENERGETIQUE'!$AM17) * (Contributo_cer__2[Giorno]='OUTPUT OUTIL ENERGETIQUE'!BE$10), 0)), \"\")","v":0},{"$f":"IFERROR(INDEX(Contributo_cer__2[autoconsumo %], MATCH(1, (Contributo_cer__2[MM]='OUTPUT OUTIL ENERGETIQUE'!$AM17) * (Contributo_cer__2[Giorno]='OUTPUT OUTIL ENERGETIQUE'!BF$10), 0)), \"\")","v":0},{"$f":"IFERROR(INDEX(Contributo_cer__2[autoconsumo %], MATCH(1, (Contributo_cer__2[MM]='OUTPUT OUTIL ENERGETIQUE'!$AM17) * (Contributo_cer__2[Giorno]='OUTPUT OUTIL ENERGETIQUE'!BG$10), 0)), \"\")","v":0},{"$f":"IFERROR(INDEX(Contributo_cer__2[autoconsumo %], MATCH(1, (Contributo_cer__2[MM]='OUTPUT OUTIL ENERGETIQUE'!$AM17) * (Contributo_cer__2[Giorno]='OUTPUT OUTIL ENERGETIQUE'!BH$10), 0)), \"\")","v":0},{"$f":"IFERROR(INDEX(Contributo_cer__2[autoconsumo %], MATCH(1, (Contributo_cer__2[MM]='OUTPUT OUTIL ENERGETIQUE'!$AM17) * (Contributo_cer__2[Giorno]='OUTPUT OUTIL ENERGETIQUE'!BI$10), 0)), \"\")","v":0},{"$f":"IFERROR(INDEX(Contributo_cer__2[autoconsumo %], MATCH(1, (Contributo_cer__2[MM]='OUTPUT OUTIL ENERGETIQUE'!$AM17) * (Contributo_cer__2[Giorno]='OUTPUT OUTIL ENERGETIQUE'!BJ$10), 0)), \"\")","v":0},{"$f":"IFERROR(INDEX(Contributo_cer__2[autoconsumo %], MATCH(1, (Contributo_cer__2[MM]='OUTPUT OUTIL ENERGETIQUE'!$AM17) * (Contributo_cer__2[Giorno]='OUTPUT OUTIL ENERGETIQUE'!BK$10), 0)), \"\")","v":0},{"$f":"IFERROR(INDEX(Contributo_cer__2[autoconsumo %], MATCH(1, (Contributo_cer__2[MM]='OUTPUT OUTIL ENERGETIQUE'!$AM17) * (Contributo_cer__2[Giorno]='OUTPUT OUTIL ENERGETIQUE'!BL$10), 0)), \"\")","v":0},{"$f":"IFERROR(INDEX(Contributo_cer__2[autoconsumo %], MATCH(1, (Contributo_cer__2[MM]='OUTPUT OUTIL ENERGETIQUE'!$AM17) * (Contributo_cer__2[Giorno]='OUTPUT OUTIL ENERGETIQUE'!BM$10), 0)), \"\")","v":0},{"$f":"IFERROR(INDEX(Contributo_cer__2[autoconsumo %], MATCH(1, (Contributo_cer__2[MM]='OUTPUT OUTIL ENERGETIQUE'!$AM17) * (Contributo_cer__2[Giorno]='OUTPUT OUTIL ENERGETIQUE'!BN$10), 0)), \"\")","v":0},{"$f":"IFERROR(INDEX(Contributo_cer__2[autoconsumo %], MATCH(1, (Contributo_cer__2[MM]='OUTPUT OUTIL ENERGETIQUE'!$AM17) * (Contributo_cer__2[Giorno]='OUTPUT OUTIL ENERGETIQUE'!BO$10), 0)), \"\")","v":0},{"$f":"IFERROR(INDEX(Contributo_cer__2[autoconsumo %], MATCH(1, (Contributo_cer__2[MM]='OUTPUT OUTIL ENERGETIQUE'!$AM17) * (Contributo_cer__2[Giorno]='OUTPUT OUTIL ENERGETIQUE'!BP$10), 0)), \"\")","v":0},{"$f":"IFERROR(INDEX(Contributo_cer__2[autoconsumo %], MATCH(1, (Contributo_cer__2[MM]='OUTPUT OUTIL ENERGETIQUE'!$AM17) * (Contributo_cer__2[Giorno]='OUTPUT OUTIL ENERGETIQUE'!BQ$10), 0)), \"\")","v":0},{"$f":"IFERROR(INDEX(Contributo_cer__2[autoconsumo %], MATCH(1, (Contributo_cer__2[MM]='OUTPUT OUTIL ENERGETIQUE'!$AM17) * (Contributo_cer__2[Giorno]='OUTPUT OUTIL ENERGETIQUE'!BR$10), 0)), \"\")","v":0}]
[{"$f":"IFERROR(INDEX(Utente[INPUT], MATCH(1, (Utente[Source.Name.1]='OUTPUT OUTIL ENERGETIQUE'!F18) * (Utente[[Participant ]]=\"Nom du participant\"), 0)), \"\")","v":""},{"$f":"IFERROR(\n    IF(\n        INDEX(Utente[INPUT], MATCH(1, (Utente[Source.Name.1]=F18) * (Utente[[Participant ]]=\"Type de production d'énergie\"), 0)) = 0,\n        INDEX(orario[Type de production d''énergie], MATCH(1, (orario[Source.Name.1]=F18) * 1, 0)),\n        INDEX(Utente[INPUT], MATCH(1, (Utente[Source.Name.1]=F18) * (Utente[[Participant ]]=\"Type de production d'énergie\"), 0))\n    ),\n    \"\"\n)","v":""},{"$f":"IFERROR(1+INDEX(Utente[INPUT], MATCH(1, (Utente[Source.Name.1]=F18) * (Utente[[Participant ]]=\"Nombre d'autres participants similaires\"), 0)),\"\")","v":""},{"$f":"IFERROR(INDEX(impianto_FV[Installation 1]+impianto_FV[Installation 2]+impianto_FV[Installation 3]+impianto_FV[Installation 4], MATCH(1, (impianto_FV[Source.Name.1]=F18) * (impianto_FV[Photovoltaïque]=\"Puissance installée [kW]\"), 0))+INDEX(impianto_HYDRO[Caractéristiques], MATCH(1, (impianto_HYDRO[Source.Name.1]=F18) * (impianto_HYDRO[hydroélectrique]=\"Puissance du générateur [kW]\"), 0))+INDEX(orario[Puissance installée '[kW']], MATCH(1, (orario[Source.Name.1]=F18) * 1, 0)),\"\")","v":""},{"$f":"IFERROR(INDEX(Utente[INPUT], MATCH(1, (Utente[Source.Name.1]=F18) * (Utente[[Participant ]]=\"en cas de clé statique, indiquer le coefficient de répartition \"), 0)),\"\")","v":""},"12_User",{"$f":"IFERROR(INDEX(output_utente[Colonna1], MATCH(1, (output_utente[Source.Name.1]='OUTPUT OUTIL ENERGETIQUE'!F18) * (output_utente[output]=\"somma consumi\"), 0)), \"\")","v":""},"",{"$f":"IFERROR(INDEX(output_utente[Colonna1], MATCH(1, (output_utente[Source.Name.1]='OUTPUT OUTIL ENERGETIQUE'!F18) * (output_utente[output]=\"produzione\"), 0)), \"\")","v":""},"",{"$f":"IFERROR(INDEX(output_utente[Colonna1], MATCH(1, (output_utente[Source.Name.1]='OUTPUT OUTIL ENERGETIQUE'!F18) * (output_utente[output]=\"energia immessa in cer\"), 0)), \"\")","v":""},{"$f":"IFERROR(INDEX(Distribuzione[Somma], MATCH(1, (Distribuzione[User]='OUTPUT OUTIL ENERGETIQUE'!F18)*1, 0)), \"\")","v":""},{"$f":"IFERROR(INDEX(output_utente[Colonna1], MATCH(1, (output_utente[Source.Name.1]='OUTPUT OUTIL ENERGETIQUE'!F18) * (output_utente[output]=\"autosufficenza\"), 0)), \"\")","v":""},{"$f":"IFERROR(INDEX(output_utente[Colonna1], MATCH(1, (output_utente[Source.Name.1]='OUTPUT OUTIL ENERGETIQUE'!F18) * (output_utente[output]=\"autoconsumo\"), 0)), \"\")","v":""},{"$f":"IFERROR(SUMIF(INDIRECT(\"Contributo_cer[\" & $F18 & \" - Fasce Francesi stagionalità]\"),'OUTPUT OUTIL ENERGETIQUE'!$O$6,INDIRECT(\"Contributo_cer[\" & $F18 & \" - consumo]\")),\"\")","v":""},{"$f":"IFERROR(SUMIF(INDIRECT(\"Contributo_cer[\" & F18 & \" - Fasce Francesi stagionalità]\"),'OUTPUT OUTIL ENERGETIQUE'!$P$6,INDIRECT(\"Contributo_cer[\" & F18 & \" - consumo]\")),\"\")","v":""},{"$f":"IFERROR(SUMIF(INDIRECT(\"Contributo_cer[\" & F18 & \" - Fasce Francesi stagionalità]\"),'OUTPUT OUTIL ENERGETIQUE'!$Q$6,INDIRECT(\"Contributo_cer[\" & F18 & \" - consumo]\")),\"\")","v":""},{"$f":"IFERROR(SUMIF(INDIRECT(\"Contributo_cer[\" & F18 & \" - Fasce Francesi stagionalità]\"),'OUTPUT OUTIL ENERGETIQUE'!$R$6,INDIRECT(\"Contributo_cer[\" & F18 & \" - consumo]\")),\"\")","v":""},{"$f":"IFERROR(SUMIF(INDIRECT(\"Contributo_cer[\" & F18 & \" - Fasce Francesi stagionalità]\"),'OUTPUT OUTIL ENERGETIQUE'!$S$6,INDIRECT(\"Contributo_cer[\" & F18 & \" - consumo]\")),\"\")","v":""},{"$f":"IFERROR(SUMIF(INDIRECT(\"Contributo_cer[\" & F18 & \" - Fasce Francesi stagionalità]\"),'OUTPUT OUTIL ENERGETIQUE'!$T$6,INDIRECT(\"Contributo_cer[\" & F18 & \" - consumi rimanenti]\")),\"\")","v":""},{"$f":"IFERROR(SUMIF(INDIRECT(\"Contributo_cer[\" & F18 & \" - Fasce Francesi stagionalità]\"),'OUTPUT OUTIL ENERGETIQUE'!$U$6,INDIRECT(\"Contributo_cer[\" & F18 & \" - consumi rimanenti]\")),\"\")","v":""},{"$f":"IFERROR(SUMIF(INDIRECT(\"Contributo_cer[\" & F18 & \" - Fasce Francesi stagionalità]\"),'OUTPUT OUTIL ENERGETIQUE'!$V$6,INDIRECT(\"Contributo_cer[\" & F18 & \" - consumi rimanenti]\")),\"\")","v":""},{"$f":"IFERROR(SUMIF(INDIRECT(\"Contributo_cer[\" & F18 & \" - Fasce Francesi stagionalità]\"),'OUTPUT OUTIL ENERGETIQUE'!$W$6,INDIRECT(\"Contributo_cer[\" & F18 & \" - consumi rimanenti]\")),\"\")","v":""},{"$f":"IFERROR(SUMIF(INDIRECT(\"Contributo_cer[\" & F18 & \" - Fasce Francesi stagionalità]\"),'OUTPUT OUTIL ENERGETIQUE'!$X$6,INDIRECT(\"Contributo_cer[\" & F18 & \" - consumi rimanenti]\")),\"\")","v":""},{"$f":"IFERROR(SUMIF(INDIRECT(\"Contributo_cer[\" & F18 & \" - Fasce Francesi stagionalità]\"), 'OUTPUT OUTIL ENERGETIQUE'!$Y$6, INDIRECT(\"Contributo_cer[Distribuzione - \" & F18 & \" - consumi rimanenti]\")),\"\")","v":""},{"$f":"IFERROR(SUMIF(INDIRECT(\"Contributo_cer[\" & F18 & \" - Fasce Francesi stagionalità]\"), 'OUTPUT OUTIL ENERGETIQUE'!$Z$6, INDIRECT(\"Contributo_cer[Distribuzione - \" & F18 & \" - consumi rimanenti]\")),\"\")","v":""},{"$f":"IFERROR(SUMIF(INDIRECT(\"Contributo_cer[\" & F18 & \" - Fasce Francesi stagionalità]\"), 'OUTPUT OUTIL ENERGETIQUE'!$AA$6, INDIRECT(\"Contributo_cer[Distribuzione - \" & F18 & \" - consumi rimanenti]\")),\"\")","v":""},{"$f":"IFERROR(SUMIF(INDIRECT(\"Contributo_cer[\" & F18 & \" - Fasce Francesi stagionalità]\"), 'OUTPUT OUTIL ENERGETIQUE'!$AB$6, INDIRECT(\"Contributo_cer[Distribuzione - \" & F18 & \" - consumi rimanenti]\")),\"\")","v":""},{"$f":"IFERROR(SUMIF(INDIRECT(\"Contributo_cer[\" & F18 & \" - Fasce Francesi stagionalità]\"), 'OUTPUT OUTIL ENERGETIQUE'!$AC$6, INDIRECT(\"Contributo_cer[Distribuzione - \" & F18 & \" - consumi rimanenti]\")),\"\")","v":""},"","","","","",null,"",null,"août",8,{"$f":"IFERROR(INDEX(Contributo_cer__2[autoconsumo %], MATCH(1, (Contributo_cer__2[MM]='OUTPUT OUTIL ENERGETIQUE'!$AM18) * (Contributo_cer__2[Giorno]='OUTPUT OUTIL ENERGETIQUE'!AN$10), 0)), \"\")","v":0},{"$f":"IFERROR(INDEX(Contributo_cer__2[autoconsumo %], MATCH(1, (Contributo_cer__2[MM]='OUTPUT OUTIL ENERGETIQUE'!$AM18) * (Contributo_cer__2[Giorno]='OUTPUT OUTIL ENERGETIQUE'!AO$10), 0)), \"\")","v":0},{"$f":"IFERROR(INDEX(Contributo_cer__2[autoconsumo %], MATCH(1, (Contributo_cer__2[MM]='OUTPUT OUTIL ENERGETIQUE'!$AM18) * (Contributo_cer__2[Giorno]='OUTPUT OUTIL ENERGETIQUE'!AP$10), 0)), \"\")","v":0},{"$f":"IFERROR(INDEX(Contributo_cer__2[autoconsumo %], MATCH(1, (Contributo_cer__2[MM]='OUTPUT OUTIL ENERGETIQUE'!$AM18) * (Contributo_cer__2[Giorno]='OUTPUT OUTIL ENERGETIQUE'!AQ$10), 0)), \"\")","v":0},{"$f":"IFERROR(INDEX(Contributo_cer__2[autoconsumo %], MATCH(1, (Contributo_cer__2[MM]='OUTPUT OUTIL ENERGETIQUE'!$AM18) * (Contributo_cer__2[Giorno]='OUTPUT OUTIL ENERGETIQUE'!AR$10), 0)), \"\")","v":0},{"$f":"IFERROR(INDEX(Contributo_cer__2[autoconsumo %], MATCH(1, (Contributo_cer__2[MM]='OUTPUT OUTIL ENERGETIQUE'!$AM18) * (Contributo_cer__2[Giorno]='OUTPUT OUTIL ENERGETIQUE'!AS$10), 0)), \"\")","v":0},{"$f":"IFERROR(INDEX(Contributo_cer__2[autoconsumo %], MATCH(1, (Contributo_cer__2[MM]='OUTPUT OUTIL ENERGETIQUE'!$AM18) * (Contributo_cer__2[Giorno]='OUTPUT OUTIL ENERGETIQUE'!AT$10), 0)), \"\")","v":0},{"$f":"IFERROR(INDEX(Contributo_cer__2[autoconsumo %], MATCH(1, (Contributo_cer__2[MM]='OUTPUT OUTIL ENERGETIQUE'!$AM18) * (Contributo_cer__2[Giorno]='OUTPUT OUTIL ENERGETIQUE'!AU$10), 0)), \"\")","v":0},{"$f":"IFERROR(INDEX(Contributo_cer__2[autoconsumo %], MATCH(1, (Contributo_cer__2[MM]='OUTPUT OUTIL ENERGETIQUE'!$AM18) * (Contributo_cer__2[Giorno]='OUTPUT OUTIL ENERGETIQUE'!AV$10), 0)), \"\")","v":0},{"$f":"IFERROR(INDEX(Contributo_cer__2[autoconsumo %], MATCH(1, (Contributo_cer__2[MM]='OUTPUT OUTIL ENERGETIQUE'!$AM18) * (Contributo_cer__2[Giorno]='OUTPUT OUTIL ENERGETIQUE'!AW$10), 0)), \"\")","v":0},{"$f":"IFERROR(INDEX(Contributo_cer__2[autoconsumo %], MATCH(1, (Contributo_cer__2[MM]='OUTPUT OUTIL ENERGETIQUE'!$AM18) * (Contributo_cer__2[Giorno]='OUTPUT OUTIL ENERGETIQUE'!AX$10), 0)), \"\")","v":0},{"$f":"IFERROR(INDEX(Contributo_cer__2[autoconsumo %], MATCH(1, (Contributo_cer__2[MM]='OUTPUT OUTIL ENERGETIQUE'!$AM18) * (Contributo_cer__2[Giorno]='OUTPUT OUTIL ENERGETIQUE'!AY$10), 0)), \"\")","v":0},{"$f":"IFERROR(INDEX(Contributo_cer__2[autoconsumo %], MATCH(1, (Contributo_cer__2[MM]='OUTPUT OUTIL ENERGETIQUE'!$AM18) * (Contributo_cer__2[Giorno]='OUTPUT OUTIL ENERGETIQUE'!AZ$10), 0)), \"\")","v":0},{"$f":"IFERROR(INDEX(Contributo_cer__2[autoconsumo %], MATCH(1, (Contributo_cer__2[MM]='OUTPUT OUTIL ENERGETIQUE'!$AM18) * (Contributo_cer__2[Giorno]='OUTPUT OUTIL ENERGETIQUE'!BA$10), 0)), \"\")","v":0},{"$f":"IFERROR(INDEX(Contributo_cer__2[autoconsumo %], MATCH(1, (Contributo_cer__2[MM]='OUTPUT OUTIL ENERGETIQUE'!$AM18) * (Contributo_cer__2[Giorno]='OUTPUT OUTIL ENERGETIQUE'!BB$10), 0)), \"\")","v":0},{"$f":"IFERROR(INDEX(Contributo_cer__2[autoconsumo %], MATCH(1, (Contributo_cer__2[MM]='OUTPUT OUTIL ENERGETIQUE'!$AM18) * (Contributo_cer__2[Giorno]='OUTPUT OUTIL ENERGETIQUE'!BC$10), 0)), \"\")","v":0},{"$f":"IFERROR(INDEX(Contributo_cer__2[autoconsumo %], MATCH(1, (Contributo_cer__2[MM]='OUTPUT OUTIL ENERGETIQUE'!$AM18) * (Contributo_cer__2[Giorno]='OUTPUT OUTIL ENERGETIQUE'!BD$10), 0)), \"\")","v":0},{"$f":"IFERROR(INDEX(Contributo_cer__2[autoconsumo %], MATCH(1, (Contributo_cer__2[MM]='OUTPUT OUTIL ENERGETIQUE'!$AM18) * (Contributo_cer__2[Giorno]='OUTPUT OUTIL ENERGETIQUE'!BE$10), 0)), \"\")","v":0},{"$f":"IFERROR(INDEX(Contributo_cer__2[autoconsumo %], MATCH(1, (Contributo_cer__2[MM]='OUTPUT OUTIL ENERGETIQUE'!$AM18) * (Contributo_cer__2[Giorno]='OUTPUT OUTIL ENERGETIQUE'!BF$10), 0)), \"\")","v":0},{"$f":"IFERROR(INDEX(Contributo_cer__2[autoconsumo %], MATCH(1, (Contributo_cer__2[MM]='OUTPUT OUTIL ENERGETIQUE'!$AM18) * (Contributo_cer__2[Giorno]='OUTPUT OUTIL ENERGETIQUE'!BG$10), 0)), \"\")","v":0},{"$f":"IFERROR(INDEX(Contributo_cer__2[autoconsumo %], MATCH(1, (Contributo_cer__2[MM]='OUTPUT OUTIL ENERGETIQUE'!$AM18) * (Contributo_cer__2[Giorno]='OUTPUT OUTIL ENERGETIQUE'!BH$10), 0)), \"\")","v":0},{"$f":"IFERROR(INDEX(Contributo_cer__2[autoconsumo %], MATCH(1, (Contributo_cer__2[MM]='OUTPUT OUTIL ENERGETIQUE'!$AM18) * (Contributo_cer__2[Giorno]='OUTPUT OUTIL ENERGETIQUE'!BI$10), 0)), \"\")","v":0},{"$f":"IFERROR(INDEX(Contributo_cer__2[autoconsumo %], MATCH(1, (Contributo_cer__2[MM]='OUTPUT OUTIL ENERGETIQUE'!$AM18) * (Contributo_cer__2[Giorno]='OUTPUT OUTIL ENERGETIQUE'!BJ$10), 0)), \"\")","v":0},{"$f":"IFERROR(INDEX(Contributo_cer__2[autoconsumo %], MATCH(1, (Contributo_cer__2[MM]='OUTPUT OUTIL ENERGETIQUE'!$AM18) * (Contributo_cer__2[Giorno]='OUTPUT OUTIL ENERGETIQUE'!BK$10), 0)), \"\")","v":0},{"$f":"IFERROR(INDEX(Contributo_cer__2[autoconsumo %], MATCH(1, (Contributo_cer__2[MM]='OUTPUT OUTIL ENERGETIQUE'!$AM18) * (Contributo_cer__2[Giorno]='OUTPUT OUTIL ENERGETIQUE'!BL$10), 0)), \"\")","v":0},{"$f":"IFERROR(INDEX(Contributo_cer__2[autoconsumo %], MATCH(1, (Contributo_cer__2[MM]='OUTPUT OUTIL ENERGETIQUE'!$AM18) * (Contributo_cer__2[Giorno]='OUTPUT OUTIL ENERGETIQUE'!BM$10), 0)), \"\")","v":0},{"$f":"IFERROR(INDEX(Contributo_cer__2[autoconsumo %], MATCH(1, (Contributo_cer__2[MM]='OUTPUT OUTIL ENERGETIQUE'!$AM18) * (Contributo_cer__2[Giorno]='OUTPUT OUTIL ENERGETIQUE'!BN$10), 0)), \"\")","v":0},{"$f":"IFERROR(INDEX(Contributo_cer__2[autoconsumo %], MATCH(1, (Contributo_cer__2[MM]='OUTPUT OUTIL ENERGETIQUE'!$AM18) * (Contributo_cer__2[Giorno]='OUTPUT OUTIL ENERGETIQUE'!BO$10), 0)), \"\")","v":0},{"$f":"IFERROR(INDEX(Contributo_cer__2[autoconsumo %], MATCH(1, (Contributo_cer__2[MM]='OUTPUT OUTIL ENERGETIQUE'!$AM18) * (Contributo_cer__2[Giorno]='OUTPUT OUTIL ENERGETIQUE'!BP$10), 0)), \"\")","v":0},{"$f":"IFERROR(INDEX(Contributo_cer__2[autoconsumo %], MATCH(1, (Contributo_cer__2[MM]='OUTPUT OUTIL ENERGETIQUE'!$AM18) * (Contributo_cer__2[Giorno]='OUTPUT OUTIL ENERGETIQUE'!BQ$10), 0)), \"\")","v":0},{"$f":"IFERROR(INDEX(Contributo_cer__2[autoconsumo %], MATCH(1, (Contributo_cer__2[MM]='OUTPUT OUTIL ENERGETIQUE'!$AM18) * (Contributo_cer__2[Giorno]='OUTPUT OUTIL ENERGETIQUE'!BR$10), 0)), \"\")","v":0}]
[{"$f":"IFERROR(INDEX(Utente[INPUT], MATCH(1, (Utente[Source.Name.1]='OUTPUT OUTIL ENERGETIQUE'!F19) * (Utente[[Participant ]]=\"Nom du participant\"), 0)), \"\")","v":""},{"$f":"IFERROR(\n    IF(\n        INDEX(Utente[INPUT], MATCH(1, (Utente[Source.Name.1]=F19) * (Utente[[Participant ]]=\"Type de production d'énergie\"), 0)) = 0,\n        INDEX(orario[Type de production d''énergie], MATCH(1, (orario[Source.Name.1]=F19) * 1, 0)),\n        INDEX(Utente[INPUT], MATCH(1, (Utente[Source.Name.1]=F19) * (Utente[[Participant ]]=\"Type de production d'énergie\"), 0))\n    ),\n    \"\"\n)","v":""},{"$f":"IFERROR(1+INDEX(Utente[INPUT], MATCH(1, (Utente[Source.Name.1]=F19) * (Utente[[Participant ]]=\"Nombre d'autres participants similaires\"), 0)),\"\")","v":""},{"$f":"IFERROR(INDEX(impianto_FV[Installation 1]+impianto_FV[Installation 2]+impianto_FV[Installation 3]+impianto_FV[Installation 4], MATCH(1, (impianto_FV[Source.Name.1]=F19) * (impianto_FV[Photovoltaïque]=\"Puissance installée [kW]\"), 0))+INDEX(impianto_HYDRO[Caractéristiques], MATCH(1, (impianto_HYDRO[Source.Name.1]=F19) * (impianto_HYDRO[hydroélectrique]=\"Puissance du générateur [kW]\"), 0))+INDEX(orario[Puissance installée '[kW']], MATCH(1, (orario[Source.Name.1]=F19) * 1, 0)),\"\")","v":""},{"$f":"IFERROR(INDEX(Utente[INPUT], MATCH(1, (Utente[Source.Name.1]=F19) * (Utente[[Participant ]]=\"en cas de clé statique, indiquer le coefficient de répartition \"), 0)),\"\")","v":""},"13_User",{"$f":"IFERROR(INDEX(output_utente[Colonna1], MATCH(1, (output_utente[Source.Name.1]='OUTPUT OUTIL ENERGETIQUE'!F19) * (output_utente[output]=\"somma consumi\"), 0)), \"\")","v":""},"",{"$f":"IFERROR(INDEX(output_utente[Colonna1], MATCH(1, (output_utente[Source.Name.1]='OUTPUT OUTIL ENERGETIQUE'!F19) * (output_utente[output]=\"produzione\"), 0)), \"\")","v":""},"",{"$f":"IFERROR(INDEX(output_utente[Colonna1], MATCH(1, (output_utente[Source.Name.1]='OUTPUT OUTIL ENERGETIQUE'!F19) * (output_utente[output]=\"energia immessa in cer\"), 0)), \"\")","v":""},{"$f":"IFERROR(INDEX(Distribuzione[Somma], MATCH(1, (Distribuzione[User]='OUTPUT OUTIL ENERGETIQUE'!F19)*1, 0)), \"\")","v":""},{"$f":"IFERROR(INDEX(output_utente[Colonna1], MATCH(1, (output_utente[Source.Name.1]='OUTPUT OUTIL ENERGETIQUE'!F19) * (output_utente[output]=\"autosufficenza\"), 0)), \"\")","v":""},{"$f":"IFERROR(INDEX(output_utente[Colonna1], MATCH(1, (output_utente[Source.Name.1]='OUTPUT OUTIL ENERGETIQUE'!F19) * (output_utente[output]=\"autoconsumo\"), 0)), \"\")","v":""},{"$f":"IFERROR(SUMIF(INDIRECT(\"Contributo_cer[\" & $F19 & \" - Fasce Francesi stagionalità]\"),'OUTPUT OUTIL ENERGETIQUE'!$O$6,INDIRECT(\"Contributo_cer[\" & $F19 & \" - consumo]\")),\"\")","v":""},{"$f":"IFERROR(SUMIF(INDIRECT(\"Contributo_cer[\" & F19 & \" - Fasce Francesi stagionalità]\"),'OUTPUT OUTIL ENERGETIQUE'!$P$6,INDIRECT(\"Contributo_cer[\" & F19 & \" - consumo]\")),\"\")","v":""},{"$f":"IFERROR(SUMIF(INDIRECT(\"Contributo_cer[\" & F19 & \" - Fasce Francesi stagionalità]\"),'OUTPUT OUTIL ENERGETIQUE'!$Q$6,INDIRECT(\"Contributo_cer[\" & F19 & \" - consumo]\")),\"\")","v":""},{"$f":"IFERROR(SUMIF(INDIRECT(\"Contributo_cer[\" & F19 & \" - Fasce Francesi stagionalità]\"),'OUTPUT OUTIL ENERGETIQUE'!$R$6,INDIRECT(\"Contributo_cer[\" & F19 & \" - consumo]\")),\"\")","v":""},{"$f":"IFERROR(SUMIF(INDIRECT(\"Contributo_cer[\" & F19 & \" - Fasce Francesi stagionalità]\"),'OUTPUT OUTIL ENERGETIQUE'!$S$6,INDIRECT(\"Contributo_cer[\" & F19 & \" - consumo]\")),\"\")","v":""},{"$f":"IFERROR(SUMIF(INDIRECT(\"Contributo_cer[\" & F19 & \" - Fasce Francesi stagionalità]\"),'OUTPUT OUTIL ENERGETIQUE'!$T$6,INDIRECT(\"Contributo_cer[\" & F19 & \" - consumi rimanenti]\")),\"\")","v":""},{"$f":"IFERROR(SUMIF(INDIRECT(\"Contributo_cer[\" & F19 & \" - Fasce Francesi stagionalità]\"),'OUTPUT OUTIL ENERGETIQUE'!$U$6,INDIRECT(\"Contributo_cer[\" & F19 & \" - consumi rimanenti]\")),\"\")","v":""},{"$f":"IFERROR(SUMIF(INDIRECT(\"Contributo_cer[\" & F19 & \" - Fasce Francesi stagionalità]\"),'OUTPUT OUTIL ENERGETIQUE'!$V$6,INDIRECT(\"Contributo_cer[\" & F19 & \" - consumi rimanenti]\")),\"\")","v":""},{"$f":"IFERROR(SUMIF(INDIRECT(\"Contributo_cer[\" & F19 & \" - Fasce Francesi stagionalità]\"),'OUTPUT OUTIL ENERGETIQUE'!$W$6,INDIRECT(\"Contributo_cer[\" & F19 & \" - consumi rimanenti]\")),\"\")","v":""},{"$f":"IFERROR(SUMIF(INDIRECT(\"Contributo_cer[\" & F19 & \" - Fasce Francesi stagionalità]\"),'OUTPUT OUTIL ENERGETIQUE'!$X$6,INDIRECT(\"Contributo_cer[\" & F19 & \" - consumi rimanenti]\")),\"\")","v":""},{"$f":"IFERROR(SUMIF(INDIRECT(\"Contributo_cer[\" & F19 & \" - Fasce Francesi stagionalità]\"), 'OUTPUT OUTIL ENERGETIQUE'!$Y$6, INDIRECT(\"Contributo_cer[Distribuzione - \" & F19 & \" - consumi rimanenti]\")),\"\")","v":""},{"$f":"IFERROR(SUMIF(INDIRECT(\"Contributo_cer[\" & F19 & \" - Fasce Francesi stagionalità]\"), 'OUTPUT OUTIL ENERGETIQUE'!$Z$6, INDIRECT(\"Contributo_cer[Distribuzione - \" & F19 & \" - consumi rimanenti]\")),\"\")","v":""},{"$f":"IFERROR(SUMIF(INDIRECT(\"Contributo_cer[\" & F19 & \" - Fasce Francesi stagionalità]\"), 'OUTPUT OUTIL ENERGETIQUE'!$AA$6, INDIRECT(\"Contributo_cer[Distribuzione - \" & F19 & \" - consumi rimanenti]\")),\"\")","v":""},{"$f":"IFERROR(SUMIF(INDIRECT(\"Contributo_cer[\" & F19 & \" - Fasce Francesi stagionalità]\"), 'OUTPUT OUTIL ENERGETIQUE'!$AB$6, INDIRECT(\"Contributo_cer[Distribuzione - \" & F19 & \" - consumi rimanenti]\")),\"\")","v":""},{"$f":"IFERROR(SUMIF(INDIRECT(\"Contributo_cer[\" & F19 & \" - Fasce Francesi stagionalità]\"), 'OUTPUT OUTIL ENERGETIQUE'!$AC$6, INDIRECT(\"Contributo_cer[Distribuzione - \" & F19 & \" - consumi rimanenti]\")),\"\")","v":""},"","","","","",null,"",null,"septembre",9,{"$f":"IFERROR(INDEX(Contributo_cer__2[autoconsumo %], MATCH(1, (Contributo_cer__2[MM]='OUTPUT OUTIL ENERGETIQUE'!$AM19) * (Contributo_cer__2[Giorno]='OUTPUT OUTIL ENERGETIQUE'!AN$10), 0)), \"\")","v":0},{"$f":"IFERROR(INDEX(Contributo_cer__2[autoconsumo %], MATCH(1, (Contributo_cer__2[MM]='OUTPUT OUTIL ENERGETIQUE'!$AM19) * (Contributo_cer__2[Giorno]='OUTPUT OUTIL ENERGETIQUE'!AO$10), 0)), \"\")","v":0},{"$f":"IFERROR(INDEX(Contributo_cer__2[autoconsumo %], MATCH(1, (Contributo_cer__2[MM]='OUTPUT OUTIL ENERGETIQUE'!$AM19) * (Contributo_cer__2[Giorno]='OUTPUT OUTIL ENERGETIQUE'!AP$10), 0)), \"\")","v":0},{"$f":"IFERROR(INDEX(Contributo_cer__2[autoconsumo %], MATCH(1, (Contributo_cer__2[MM]='OUTPUT OUTIL ENERGETIQUE'!$AM19) * (Contributo_cer__2[Giorno]='OUTPUT OUTIL ENERGETIQUE'!AQ$10), 0)), \"\")","v":0},{"$f":"IFERROR(INDEX(Contributo_cer__2[autoconsumo %], MATCH(1, (Contributo_cer__2[MM]='OUTPUT OUTIL ENERGETIQUE'!$AM19) * (Contributo_cer__2[Giorno]='OUTPUT OUTIL ENERGETIQUE'!AR$10), 0)), \"\")","v":0},{"$f":"IFERROR(INDEX(Contributo_cer__2[autoconsumo %], MATCH(1, (Contributo_cer__2[MM]='OUTPUT OUTIL ENERGETIQUE'!$AM19) * (Contributo_cer__2[Giorno]='OUTPUT OUTIL ENERGETIQUE'!AS$10), 0)), \"\")","v":0},{"$f":"IFERROR(INDEX(Contributo_cer__2[autoconsumo %], MATCH(1, (Contributo_cer__2[MM]='OUTPUT OUTIL ENERGETIQUE'!$AM19) * (Contributo_cer__2[Giorno]='OUTPUT OUTIL ENERGETIQUE'!AT$10), 0)), \"\")","v":0},{"$f":"IFERROR(INDEX(Contributo_cer__2[autoconsumo %], MATCH(1, (Contributo_cer__2[MM]='OUTPUT OUTIL ENERGETIQUE'!$AM19) * (Contributo_cer__2[Giorno]='OUTPUT OUTIL ENERGETIQUE'!AU$10), 0)), \"\")","v":0},{"$f":"IFERROR(INDEX(Contributo_cer__2[autoconsumo %], MATCH(1, (Contributo_cer__2[MM]='OUTPUT OUTIL ENERGETIQUE'!$AM19) * (Contributo_cer__2[Giorno]='OUTPUT OUTIL ENERGETIQUE'!AV$10), 0)), \"\")","v":0},{"$f":"IFERROR(INDEX(Contributo_cer__2[autoconsumo %], MATCH(1, (Contributo_cer__2[MM]='OUTPUT OUTIL ENERGETIQUE'!$AM19) * (Contributo_cer__2[Giorno]='OUTPUT OUTIL ENERGETIQUE'!AW$10), 0)), \"\")","v":0},{"$f":"IFERROR(INDEX(Contributo_cer__2[autoconsumo %], MATCH(1, (Contributo_cer__2[MM]='OUTPUT OUTIL ENERGETIQUE'!$AM19) * (Contributo_cer__2[Giorno]='OUTPUT OUTIL ENERGETIQUE'!AX$10), 0)), \"\")","v":0},{"$f":"IFERROR(INDEX(Contributo_cer__2[autoconsumo %], MATCH(1, (Contributo_cer__2[MM]='OUTPUT OUTIL ENERGETIQUE'!$AM19) * (Contributo_cer__2[Giorno]='OUTPUT OUTIL ENERGETIQUE'!AY$10), 0)), \"\")","v":0},{"$f":"IFERROR(INDEX(Contributo_cer__2[autoconsumo %], MATCH(1, (Contributo_cer__2[MM]='OUTPUT OUTIL ENERGETIQUE'!$AM19) * (Contributo_cer__2[Giorno]='OUTPUT OUTIL ENERGETIQUE'!AZ$10), 0)), \"\")","v":0},{"$f":"IFERROR(INDEX(Contributo_cer__2[autoconsumo %], MATCH(1, (Contributo_cer__2[MM]='OUTPUT OUTIL ENERGETIQUE'!$AM19) * (Contributo_cer__2[Giorno]='OUTPUT OUTIL ENERGETIQUE'!BA$10), 0)), \"\")","v":0},{"$f":"IFERROR(INDEX(Contributo_cer__2[autoconsumo %], MATCH(1, (Contributo_cer__2[MM]='OUTPUT OUTIL ENERGETIQUE'!$AM19) * (Contributo_cer__2[Giorno]='OUTPUT OUTIL ENERGETIQUE'!BB$10), 0)), \"\")","v":0},{"$f":"IFERROR(INDEX(Contributo_cer__2[autoconsumo %], MATCH(1, (Contributo_cer__2[MM]='OUTPUT OUTIL ENERGETIQUE'!$AM19) * (Contributo_cer__2[Giorno]='OUTPUT OUTIL ENERGETIQUE'!BC$10), 0)), \"\")","v":0},{"$f":"IFERROR(INDEX(Contributo_cer__2[autoconsumo %], MATCH(1, (Contributo_cer__2[MM]='OUTPUT OUTIL ENERGETIQUE'!$AM19) * (Contributo_cer__2[Giorno]='OUTPUT OUTIL ENERGETIQUE'!BD$10), 0)), \"\")","v":0},{"$f":"IFERROR(INDEX(Contributo_cer__2[autoconsumo %], MATCH(1, (Contributo_cer__2[MM]='OUTPUT OUTIL ENERGETIQUE'!$AM19) * (Contributo_cer__2[Giorno]='OUTPUT OUTIL ENERGETIQUE'!BE$10), 0)), \"\")","v":0},{"$f":"IFERROR(INDEX(Contributo_cer__2[autoconsumo %], MATCH(1, (Contributo_cer__2[MM]='OUTPUT OUTIL ENERGETIQUE'!$AM19) * (Contributo_cer__2[Giorno]='OUTPUT OUTIL ENERGETIQUE'!BF$10), 0)), \"\")","v":0},{"$f":"IFERROR(INDEX(Contributo_cer__2[autoconsumo %], MATCH(1, (Contributo_cer__2[MM]='OUTPUT OUTIL ENERGETIQUE'!$AM19) * (Contributo_cer__2[Giorno]='OUTPUT OUTIL ENERGETIQUE'!BG$10), 0)), \"\")","v":0},{"$f":"IFERROR(INDEX(Contributo_cer__2[autoconsumo %], MATCH(1, (Contributo_cer__2[MM]='OUTPUT OUTIL ENERGETIQUE'!$AM19) * (Contributo_cer__2[Giorno]='OUTPUT OUTIL ENERGETIQUE'!BH$10), 0)), \"\")","v":0},{"$f":"IFERROR(INDEX(Contributo_cer__2[autoconsumo %], MATCH(1, (Contributo_cer__2[MM]='OUTPUT OUTIL ENERGETIQUE'!$AM19) * (Contributo_cer__2[Giorno]='OUTPUT OUTIL ENERGETIQUE'!BI$10), 0)), \"\")","v":0},{"$f":"IFERROR(INDEX(Contributo_cer__2[autoconsumo %], MATCH(1, (Contributo_cer__2[MM]='OUTPUT OUTIL ENERGETIQUE'!$AM19) * (Contributo_cer__2[Giorno]='OUTPUT OUTIL ENERGETIQUE'!BJ$10), 0)), \"\")","v":0},{"$f":"IFERROR(INDEX(Contributo_cer__2[autoconsumo %], MATCH(1, (Contributo_cer__2[MM]='OUTPUT OUTIL ENERGETIQUE'!$AM19) * (Contributo_cer__2[Giorno]='OUTPUT OUTIL ENERGETIQUE'!BK$10), 0)), \"\")","v":0},{"$f":"IFERROR(INDEX(Contributo_cer__2[autoconsumo %], MATCH(1, (Contributo_cer__2[MM]='OUTPUT OUTIL ENERGETIQUE'!$AM19) * (Contributo_cer__2[Giorno]='OUTPUT OUTIL ENERGETIQUE'!BL$10), 0)), \"\")","v":0},{"$f":"IFERROR(INDEX(Contributo_cer__2[autoconsumo %], MATCH(1, (Contributo_cer__2[MM]='OUTPUT OUTIL ENERGETIQUE'!$AM19) * (Contributo_cer__2[Giorno]='OUTPUT OUTIL ENERGETIQUE'!BM$10), 0)), \"\")","v":0},{"$f":"IFERROR(INDEX(Contributo_cer__2[autoconsumo %], MATCH(1, (Contributo_cer__2[MM]='OUTPUT OUTIL ENERGETIQUE'!$AM19) * (Contributo_cer__2[Giorno]='OUTPUT OUTIL ENERGETIQUE'!BN$10), 0)), \"\")","v":0},{"$f":"IFERROR(INDEX(Contributo_cer__2[autoconsumo %], MATCH(1, (Contributo_cer__2[MM]='OUTPUT OUTIL ENERGETIQUE'!$AM19) * (Contributo_cer__2[Giorno]='OUTPUT OUTIL ENERGETIQUE'!BO$10), 0)), \"\")","v":0},{"$f":"IFERROR(INDEX(Contributo_cer__2[autoconsumo %], MATCH(1, (Contributo_cer__2[MM]='OUTPUT OUTIL ENERGETIQUE'!$AM19) * (Contributo_cer__2[Giorno]='OUTPUT OUTIL ENERGETIQUE'!BP$10), 0)), \"\")","v":0},{"$f":"IFERROR(INDEX(Contributo_cer__2[autoconsumo %], MATCH(1, (Contributo_cer__2[MM]='OUTPUT OUTIL ENERGETIQUE'!$AM19) * (Contributo_cer__2[Giorno]='OUTPUT OUTIL ENERGETIQUE'!BQ$10), 0)), \"\")","v":0},{"$f":"IFERROR(INDEX(Contributo_cer__2[autoconsumo %], MATCH(1, (Contributo_cer__2[MM]='OUTPUT OUTIL ENERGETIQUE'!$AM19) * (Contributo_cer__2[Giorno]='OUTPUT OUTIL ENERGETIQUE'!BR$10), 0)), \"\")","v":""}]
[{"$f":"IFERROR(INDEX(Utente[INPUT], MATCH(1, (Utente[Source.Name.1]='OUTPUT OUTIL ENERGETIQUE'!F20) * (Utente[[Participant ]]=\"Nom du participant\"), 0)), \"\")","v":""},{"$f":"IFERROR(\n    IF(\n        INDEX(Utente[INPUT], MATCH(1, (Utente[Source.Name.1]=F20) * (Utente[[Participant ]]=\"Type de production d'énergie\"), 0)) = 0,\n        INDEX(orario[Type de production d''énergie], MATCH(1, (orario[Source.Name.1]=F20) * 1, 0)),\n        INDEX(Utente[INPUT], MATCH(1, (Utente[Source.Name.1]=F20) * (Utente[[Participant ]]=\"Type de production d'énergie\"), 0))\n    ),\n    \"\"\n)","v":""},{"$f":"IFERROR(1+INDEX(Utente[INPUT], MATCH(1, (Utente[Source.Name.1]=F20) * (Utente[[Participant ]]=\"Nombre d'autres participants similaires\"), 0)),\"\")","v":""},{"$f":"IFERROR(INDEX(impianto_FV[Installation 1]+impianto_FV[Installation 2]+impianto_FV[Installation 3]+impianto_FV[Installation 4], MATCH(1, (impianto_FV[Source.Name.1]=F20) * (impianto_FV[Photovoltaïque]=\"Puissance installée [kW]\"), 0))+INDEX(impianto_HYDRO[Caractéristiques], MATCH(1, (impianto_HYDRO[Source.Name.1]=F20) * (impianto_HYDRO[hydroélectrique]=\"Puissance du générateur [kW]\"), 0))+INDEX(orario[Puissance installée '[kW']], MATCH(1, (orario[Source.Name.1]=F20) * 1, 0)),\"\")","v":""},{"$f":"IFERROR(INDEX(Utente[INPUT], MATCH(1, (Utente[Source.Name.1]=F20) * (Utente[[Participant ]]=\"en cas de clé statique, indiquer le coefficient de répartition \"), 0)),\"\")","v":""},"14_User",{"$f":"IFERROR(INDEX(output_utente[Colonna1], MATCH(1, (output_utente[Source.Name.1]='OUTPUT OUTIL ENERGETIQUE'!F20) * (output_utente[output]=\"somma consumi\"), 0)), \"\")","v":""},"",{"$f":"IFERROR(INDEX(output_utente[Colonna1], MATCH(1, (output_utente[Source.Name.1]='OUTPUT OUTIL ENERGETIQUE'!F20) * (output_utente[output]=\"produzione\"), 0)), \"\")","v":""},"",{"$f":"IFERROR(INDEX(output_utente[Colonna1], MATCH(1, (output_utente[Source.Name.1]='OUTPUT OUTIL ENERGETIQUE'!F20) * (output_utente[output]=\"energia immessa in cer\"), 0)), \"\")","v":""},{"$f":"IFERROR(INDEX(Distribuzione[Somma], MATCH(1, (Distribuzione[User]='OUTPUT OUTIL ENERGETIQUE'!F20)*1, 0)), \"\")","v":""},{"$f":"IFERROR(INDEX(output_utente[Colonna1], MATCH(1, (output_utente[Source.Name.1]='OUTPUT OUTIL ENERGETIQUE'!F20) * (output_utente[output]=\"autosufficenza\"), 0)), \"\")","v":""},{"$f":"IFERROR(INDEX(output_utente[Colonna1], MATCH(1, (output_utente[Source.Name.1]='OUTPUT OUTIL ENERGETIQUE'!F20) * (output_utente[output]=\"autoconsumo\"), 0)), \"\")","v":""},{"$f":"IFERROR(SUMIF(INDIRECT(\"Contributo_cer[\" & $F20 & \" - Fasce Francesi stagionalità]\"),'OUTPUT OUTIL ENERGETIQUE'!$O$6,INDIRECT(\"Contributo_cer[\" & $F20 & \" - consumo]\")),\"\")","v":""},{"$f":"IFERROR(SUMIF(INDIRECT(\"Contributo_cer[\" & F20 & \" - Fasce Francesi stagionalità]\"),'OUTPUT OUTIL ENERGETIQUE'!$P$6,INDIRECT(\"Contributo_cer[\" & F20 & \" - consumo]\")),\"\")","v":""},{"$f":"IFERROR(SUMIF(INDIRECT(\"Contributo_cer[\" & F20 & \" - Fasce Francesi stagionalità]\"),'OUTPUT OUTIL ENERGETIQUE'!$Q$6,INDIRECT(\"Contributo_cer[\" & F20 & \" - consumo]\")),\"\")","v":""},{"$f":"IFERROR(SUMIF(INDIRECT(\"Contributo_cer[\" & F20 & \" - Fasce Francesi stagionalità]\"),'OUTPUT OUTIL ENERGETIQUE'!$R$6,INDIRECT(\"Contributo_cer[\" & F20 & \" - consumo]\")),\"\")","v":""},{"$f":"IFERROR(SUMIF(INDIRECT(\"Contributo_cer[\" & F20 & \" - Fasce Francesi stagionalità]\"),'OUTPUT OUTIL ENERGETIQUE'!$S$6,INDIRECT(\"Contributo_cer[\" & F20 & \" - consumo]\")),\"\")","v":""},{"$f":"IFERROR(SUMIF(INDIRECT(\"Contributo_cer[\" & F20 & \" - Fasce Francesi stagionalità]\"),'OUTPUT OUTIL ENERGETIQUE'!$T$6,INDIRECT(\"Contributo_cer[\" & F20 & \" - consumi rimanenti]\")),\"\")","v":""},{"$f":"IFERROR(SUMIF(INDIRECT(\"Contributo_cer[\" & F20 & \" - Fasce Francesi stagionalità]\"),'OUTPUT OUTIL ENERGETIQUE'!$U$6,INDIRECT(\"Contributo_cer[\" & F20 & \" - consumi rimanenti]\")),\"\")","v":""},{"$f":"IFERROR(SUMIF(INDIRECT(\"Contributo_cer[\" & F20 & \" - Fasce Francesi stagionalità]\"),'OUTPUT OUTIL ENERGETIQUE'!$V$6,INDIRECT(\"Contributo_cer[\" & F20 & \" - consumi rimanenti]\")),\"\")","v":""},{"$f":"IFERROR(SUMIF(INDIRECT(\"Contributo_cer[\" & F20 & \" - Fasce Francesi stagionalità]\"),'OUTPUT OUTIL ENERGETIQUE'!$W$6,INDIRECT(\"Contributo_cer[\" & F20 & \" - consumi rimanenti]\")),\"\")","v":""},{"$f":"IFERROR(SUMIF(INDIRECT(\"Contributo_cer[\" & F20 & \" - Fasce Francesi stagionalità]\"),'OUTPUT OUTIL ENERGETIQUE'!$X$6,INDIRECT(\"Contributo_cer[\" & F20 & \" - consumi rimanenti]\")),\"\")","v":""},{"$f":"IFERROR(SUMIF(INDIRECT(\"Contributo_cer[\" & F20 & \" - Fasce Francesi stagionalità]\"), 'OUTPUT OUTIL ENERGETIQUE'!$Y$6, INDIRECT(\"Contributo_cer[Distribuzione - \" & F20 & \" - consumi rimanenti]\")),\"\")","v":""},{"$f":"IFERROR(SUMIF(INDIRECT(\"Contributo_cer[\" & F20 & \" - Fasce Francesi stagionalità]\"), 'OUTPUT OUTIL ENERGETIQUE'!$Z$6, INDIRECT(\"Contributo_cer[Distribuzione - \" & F20 & \" - consumi rimanenti]\")),\"\")","v":""},{"$f":"IFERROR(SUMIF(INDIRECT(\"Contributo_cer[\" & F20 & \" - Fasce Francesi stagionalità]\"), 'OUTPUT OUTIL ENERGETIQUE'!$AA$6, INDIRECT(\"Contributo_cer[Distribuzione - \" & F20 & \" - consumi rimanenti]\")),\"\")","v":""},{"$f":"IFERROR(SUMIF(INDIRECT(\"Contributo_cer[\" & F20 & \" - Fasce Francesi stagionalità]\"), 'OUTPUT OUTIL ENERGETIQUE'!$AB$6, INDIRECT(\"Contributo_cer[Distribuzione - \" & F20 & \" - consumi rimanenti]\")),\"\")","v":""},{"$f":"IFERROR(SUMIF(INDIRECT(\"Contributo_cer[\" & F20 & \" - Fasce Francesi stagionalità]\"), 'OUTPUT OUTIL ENERGETIQUE'!$AC$6, INDIRECT(\"Contributo_cer[Distribuzione - \" & F20 & \" - consumi rimanenti]\")),\"\")","v":""},"","","","","",null,"",null,"octobre",10,{"$f":"IFERROR(INDEX(Contributo_cer__2[autoconsumo %], MATCH(1, (Contributo_cer__2[MM]='OUTPUT OUTIL ENERGETIQUE'!$AM20) * (Contributo_cer__2[Giorno]='OUTPUT OUTIL ENERGETIQUE'!AN$10), 0)), \"\")","v":0},{"$f":"IFERROR(INDEX(Contributo_cer__2[autoconsumo %], MATCH(1, (Contributo_cer__2[MM]='OUTPUT OUTIL ENERGETIQUE'!$AM20) * (Contributo_cer__2[Giorno]='OUTPUT OUTIL ENERGETIQUE'!AO$10), 0)), \"\")","v":0},{"$f":"IFERROR(INDEX(Contributo_cer__2[autoconsumo %], MATCH(1, (Contributo_cer__2[MM]='OUTPUT OUTIL ENERGETIQUE'!$AM20) * (Contributo_cer__2[Giorno]='OUTPUT OUTIL ENERGETIQUE'!AP$10), 0)), \"\")","v":0},{"$f":"IFERROR(INDEX(Contributo_cer__2[autoconsumo %], MATCH(1, (Contributo_cer__2[MM]='OUTPUT OUTIL ENERGETIQUE'!$AM20) * (Contributo_cer__2[Giorno]='OUTPUT OUTIL ENERGETIQUE'!AQ$10), 0)), \"\")","v":0},{"$f":"IFERROR(INDEX(Contributo_cer__2[autoconsumo %], MATCH(1, (Contributo_cer__2[MM]='OUTPUT OUTIL ENERGETIQUE'!$AM20) * (Contributo_cer__2[Giorno]='OUTPUT OUTIL ENERGETIQUE'!AR$10), 0)), \"\")","v":0},{"$f":"IFERROR(INDEX(Contributo_cer__2[autoconsumo %], MATCH(1, (Contributo_cer__2[MM]='OUTPUT OUTIL ENERGETIQUE'!$AM20) * (Contributo_cer__2[Giorno]='OUTPUT OUTIL ENERGETIQUE'!AS$10), 0)), \"\")","v":0},{"$f":"IFERROR(INDEX(Contributo_cer__2[autoconsumo %], MATCH(1, (Contributo_cer__2[MM]='OUTPUT OUTIL ENERGETIQUE'!$AM20) * (Contributo_cer__2[Giorno]='OUTPUT OUTIL ENERGETIQUE'!AT$10), 0)), \"\")","v":0},{"$f":"IFERROR(INDEX(Contributo_cer__2[autoconsumo %], MATCH(1, (Contributo_cer__2[MM]='OUTPUT OUTIL ENERGETIQUE'!$AM20) * (Contributo_cer__2[Giorno]='OUTPUT OUTIL ENERGETIQUE'!AU$10), 0)), \"\")","v":0},{"$f":"IFERROR(INDEX(Contributo_cer__2[autoconsumo %], MATCH(1, (Contributo_cer__2[MM]='OUTPUT OUTIL ENERGETIQUE'!$AM20) * (Contributo_cer__2[Giorno]='OUTPUT OUTIL ENERGETIQUE'!AV$10), 0)), \"\")","v":0},{"$f":"IFERROR(INDEX(Contributo_cer__2[autoconsumo %], MATCH(1, (Contributo_cer__2[MM]='OUTPUT OUTIL ENERGETIQUE'!$AM20) * (Contributo_cer__2[Giorno]='OUTPUT OUTIL ENERGETIQUE'!AW$10), 0)), \"\")","v":0},{"$f":"IFERROR(INDEX(Contributo_cer__2[autoconsumo %], MATCH(1, (Contributo_cer__2[MM]='OUTPUT OUTIL ENERGETIQUE'!$AM20) * (Contributo_cer__2[Giorno]='OUTPUT OUTIL ENERGETIQUE'!AX$10), 0)), \"\")","v":0},{"$f":"IFERROR(INDEX(Contributo_cer__2[autoconsumo %], MATCH(1, (Contributo_cer__2[MM]='OUTPUT OUTIL ENERGETIQUE'!$AM20) * (Contributo_cer__2[Giorno]='OUTPUT OUTIL ENERGETIQUE'!AY$10), 0)), \"\")","v":0},{"$f":"IFERROR(INDEX(Contributo_cer__2[autoconsumo %], MATCH(1, (Contributo_cer__2[MM]='OUTPUT OUTIL ENERGETIQUE'!$AM20) * (Contributo_cer__2[Giorno]='OUTPUT OUTIL ENERGETIQUE'!AZ$10), 0)), \"\")","v":0},{"$f":"IFERROR(INDEX(Contributo_cer__2[autoconsumo %], MATCH(1, (Contributo_cer__2[MM]='OUTPUT OUTIL ENERGETIQUE'!$AM20) * (Contributo_cer__2[Giorno]='OUTPUT OUTIL ENERGETIQUE'!BA$10), 0)), \"\")","v":0},{"$f":"IFERROR(INDEX(Contributo_cer__2[autoconsumo %], MATCH(1, (Contributo_cer__2[MM]='OUTPUT OUTIL ENERGETIQUE'!$AM20) * (Contributo_cer__2[Giorno]='OUTPUT OUTIL ENERGETIQUE'!BB$10), 0)), \"\")","v":0},{"$f":"IFERROR(INDEX(Contributo_cer__2[autoconsumo %], MATCH(1, (Contributo_cer__2[MM]='OUTPUT OUTIL ENERGETIQUE'!$AM20) * (Contributo_cer__2[Giorno]='OUTPUT OUTIL ENERGETIQUE'!BC$10), 0)), \"\")","v":0},{"$f":"IFERROR(INDEX(Contributo_cer__2[autoconsumo %], MATCH(1, (Contributo_cer__2[MM]='OUTPUT OUTIL ENERGETIQUE'!$AM20) * (Contributo_cer__2[Giorno]='OUTPUT OUTIL ENERGETIQUE'!BD$10), 0)), \"\")","v":0},{"$f":"IFERROR(INDEX(Contributo_cer__2[autoconsumo %], MATCH(1, (Contributo_cer__2[MM]='OUTPUT OUTIL ENERGETIQUE'!$AM20) * (Contributo_cer__2[Giorno]='OUTPUT OUTIL ENERGETIQUE'!BE$10), 0)), \"\")","v":0},{"$f":"IFERROR(INDEX(Contributo_cer__2[autoconsumo %], MATCH(1, (Contributo_cer__2[MM]='OUTPUT OUTIL ENERGETIQUE'!$AM20) * (Contributo_cer__2[Giorno]='OUTPUT OUTIL ENERGETIQUE'!BF$10), 0)), \"\")","v":0},{"$f":"IFERROR(INDEX(Contributo_cer__2[autoconsumo %], MATCH(1, (Contributo_cer__2[MM]='OUTPUT OUTIL ENERGETIQUE'!$AM20) * (Contributo_cer__2[Giorno]='OUTPUT OUTIL ENERGETIQUE'!BG$10), 0)), \"\")","v":0},{"$f":"IFERROR(INDEX(Contributo_cer__2[autoconsumo %], MATCH(1, (Contributo_cer__2[MM]='OUTPUT OUTIL ENERGETIQUE'!$AM20) * (Contributo_cer__2[Giorno]='OUTPUT OUTIL ENERGETIQUE'!BH$10), 0)), \"\")","v":0},{"$f":"IFERROR(INDEX(Contributo_cer__2[autoconsumo %], MATCH(1, (Contributo_cer__2[MM]='OUTPUT OUTIL ENERGETIQUE'!$AM20) * (Contributo_cer__2[Giorno]='OUTPUT OUTIL ENERGETIQUE'!BI$10), 0)), \"\")","v":0},{"$f":"IFERROR(INDEX(Contributo_cer__2[autoconsumo %], MATCH(1, (Contributo_cer__2[MM]='OUTPUT OUTIL ENERGETIQUE'!$AM20) * (Contributo_cer__2[Giorno]='OUTPUT OUTIL ENERGETIQUE'!BJ$10), 0)), \"\")","v":0},{"$f":"IFERROR(INDEX(Contributo_cer__2[autoconsumo %], MATCH(1, (Contributo_cer__2[MM]='OUTPUT OUTIL ENERGETIQUE'!$AM20) * (Contributo_cer__2[Giorno]='OUTPUT OUTIL ENERGETIQUE'!BK$10), 0)), \"\")","v":0},{"$f":"IFERROR(INDEX(Contributo_cer__2[autoconsumo %], MATCH(1, (Contributo_cer__2[MM]='OUTPUT OUTIL ENERGETIQUE'!$AM20) * (Contributo_cer__2[Giorno]='OUTPUT OUTIL ENERGETIQUE'!BL$10), 0)), \"\")","v":0},{"$f":"IFERROR(INDEX(Contributo_cer__2[autoconsumo %], MATCH(1, (Contributo_cer__2[MM]='OUTPUT OUTIL ENERGETIQUE'!$AM20) * (Contributo_cer__2[Giorno]='OUTPUT OUTIL ENERGETIQUE'!BM$10), 0)), \"\")","v":0},{"$f":"IFERROR(INDEX(Contributo_cer__2[autoconsumo %], MATCH(1, (Contributo_cer__2[MM]='OUTPUT OUTIL ENERGETIQUE'!$AM20) * (Contributo_cer__2[Giorno]='OUTPUT OUTIL ENERGETIQUE'!BN$10), 0)), \"\")","v":0},{"$f":"IFERROR(INDEX(Contributo_cer__2[autoconsumo %], MATCH(1, (Contributo_cer__2[MM]='OUTPUT OUTIL ENERGETIQUE'!$AM20) * (Contributo_cer__2[Giorno]='OUTPUT OUTIL ENERGETIQUE'!BO$10), 0)), \"\")","v":0},{"$f":"IFERROR(INDEX(Contributo_cer__2[autoconsumo %], MATCH(1, (Contributo_cer__2[MM]='OUTPUT OUTIL ENERGETIQUE'!$AM20) * (Contributo_cer__2[Giorno]='OUTPUT OUTIL ENERGETIQUE'!BP$10), 0)), \"\")","v":0},{"$f":"IFERROR(INDEX(Contributo_cer__2[autoconsumo %], MATCH(1, (Contributo_cer__2[MM]='OUTPUT OUTIL ENERGETIQUE'!$AM20) * (Contributo_cer__2[Giorno]='OUTPUT OUTIL ENERGETIQUE'!BQ$10), 0)), \"\")","v":0},{"$f":"IFERROR(INDEX(Contributo_cer__2[autoconsumo %], MATCH(1, (Contributo_cer__2[MM]='OUTPUT OUTIL ENERGETIQUE'!$AM20) * (Contributo_cer__2[Giorno]='OUTPUT OUTIL ENERGETIQUE'!BR$10), 0)), \"\")","v":0}]
[{"$f":"IFERROR(INDEX(Utente[INPUT], MATCH(1, (Utente[Source.Name.1]='OUTPUT OUTIL ENERGETIQUE'!F21) * (Utente[[Participant ]]=\"Nom du participant\"), 0)), \"\")","v":""},{"$f":"IFERROR(\n    IF(\n        INDEX(Utente[INPUT], MATCH(1, (Utente[Source.Name.1]=F21) * (Utente[[Participant ]]=\"Type de production d'énergie\"), 0)) = 0,\n        INDEX(orario[Type de production d''énergie], MATCH(1, (orario[Source.Name.1]=F21) * 1, 0)),\n        INDEX(Utente[INPUT], MATCH(1, (Utente[Source.Name.1]=F21) * (Utente[[Participant ]]=\"Type de production d'énergie\"), 0))\n    ),\n    \"\"\n)","v":""},{"$f":"IFERROR(1+INDEX(Utente[INPUT], MATCH(1, (Utente[Source.Name.1]=F21) * (Utente[[Participant ]]=\"Nombre d'autres participants similaires\"), 0)),\"\")","v":""},{"$f":"IFERROR(INDEX(impianto_FV[Installation 1]+impianto_FV[Installation 2]+impianto_FV[Installation 3]+impianto_FV[Installation 4], MATCH(1, (impianto_FV[Source.Name.1]=F21) * (impianto_FV[Photovoltaïque]=\"Puissance installée [kW]\"), 0))+INDEX(impianto_HYDRO[Caractéristiques], MATCH(1, (impianto_HYDRO[Source.Name.1]=F21) * (impianto_HYDRO[hydroélectrique]=\"Puissance du générateur [kW]\"), 0))+INDEX(orario[Puissance installée '[kW']], MATCH(1, (orario[Source.Name.1]=F21) * 1, 0)),\"\")","v":""},{"$f":"IFERROR(INDEX(Utente[INPUT], MATCH(1, (Utente[Source.Name.1]=F21) * (Utente[[Participant ]]=\"en cas de clé statique, indiquer le coefficient de répartition \"), 0)),\"\")","v":""},"15_User",{"$f":"IFERROR(INDEX(output_utente[Colonna1], MATCH(1, (output_utente[Source.Name.1]='OUTPUT OUTIL ENERGETIQUE'!F21) * (output_utente[output]=\"somma consumi\"), 0)), \"\")","v":""},"",{"$f":"IFERROR(INDEX(output_utente[Colonna1], MATCH(1, (output_utente[Source.Name.1]='OUTPUT OUTIL ENERGETIQUE'!F21) * (output_utente[output]=\"produzione\"), 0)), \"\")","v":""},"",{"$f":"IFERROR(INDEX(output_utente[Colonna1], MATCH(1, (output_utente[Source.Name.1]='OUTPUT OUTIL ENERGETIQUE'!F21) * (output_utente[output]=\"energia immessa in cer\"), 0)), \"\")","v":""},{"$f":"IFERROR(INDEX(Distribuzione[Somma], MATCH(1, (Distribuzione[User]='OUTPUT OUTIL ENERGETIQUE'!F21)*1, 0)), \"\")","v":""},{"$f":"IFERROR(INDEX(output_utente[Colonna1], MATCH(1, (output_utente[Source.Name.1]='OUTPUT OUTIL ENERGETIQUE'!F21) * (output_utente[output]=\"autosufficenza\"), 0)), \"\")","v":""},{"$f":"IFERROR(INDEX(output_utente[Colonna1], MATCH(1, (output_utente[Source.Name.1]='OUTPUT OUTIL ENERGETIQUE'!F21) * (output_utente[output]=\"autoconsumo\"), 0)), \"\")","v":""},{"$f":"IFERROR(SUMIF(INDIRECT(\"Contributo_cer[\" & $F21 & \" - Fasce Francesi stagionalità]\"),'OUTPUT OUTIL ENERGETIQUE'!$O$6,INDIRECT(\"Contributo_cer[\" & $F21 & \" - consumo]\")),\"\")","v":""},{"$f":"IFERROR(SUMIF(INDIRECT(\"Contributo_cer[\" & F21 & \" - Fasce Francesi stagionalità]\"),'OUTPUT OUTIL ENERGETIQUE'!$P$6,INDIRECT(\"Contributo_cer[\" & F21 & \" - consumo]\")),\"\")","v":""},{"$f":"IFERROR(SUMIF(INDIRECT(\"Contributo_cer[\" & F21 & \" - Fasce Francesi stagionalità]\"),'OUTPUT OUTIL ENERGETIQUE'!$Q$6,INDIRECT(\"Contributo_cer[\" & F21 & \" - consumo]\")),\"\")","v":""},{"$f":"IFERROR(SUMIF(INDIRECT(\"Contributo_cer[\" & F21 & \" - Fasce Francesi stagionalità]\"),'OUTPUT OUTIL ENERGETIQUE'!$R$6,INDIRECT(\"Contributo_cer[\" & F21 & \" - consumo]\")),\"\")","v":""},{"$f":"IFERROR(SUMIF(INDIRECT(\"Contributo_cer[\" & F21 & \" - Fasce Francesi stagionalità]\"),'OUTPUT OUTIL ENERGETIQUE'!$S$6,INDIRECT(\"Contributo_cer[\" & F21 & \" - consumo]\")),\"\")","v":""},{"$f":"IFERROR(SUMIF(INDIRECT(\"Contributo_cer[\" & F21 & \" - Fasce Francesi stagionalità]\"),'OUTPUT OUTIL ENERGETIQUE'!$T$6,INDIRECT(\"Contributo_cer[\" & F21 & \" - consumi rimanenti]\")),\"\")","v":""},{"$f":"IFERROR(SUMIF(INDIRECT(\"Contributo_cer[\" & F21 & \" - Fasce Francesi stagionalità]\"),'OUTPUT OUTIL ENERGETIQUE'!$U$6,INDIRECT(\"Contributo_cer[\" & F21 & \" - consumi rimanenti]\")),\"\")","v":""},{"$f":"IFERROR(SUMIF(INDIRECT(\"Contributo_cer[\" & F21 & \" - Fasce Francesi stagionalità]\"),'OUTPUT OUTIL ENERGETIQUE'!$V$6,INDIRECT(\"Contributo_cer[\" & F21 & \" - consumi rimanenti]\")),\"\")","v":""},{"$f":"IFERROR(SUMIF(INDIRECT(\"Contributo_cer[\" & F21 & \" - Fasce Francesi stagionalità]\"),'OUTPUT OUTIL ENERGETIQUE'!$W$6,INDIRECT(\"Contributo_cer[\" & F21 & \" - consumi rimanenti]\")),\"\")","v":""},{"$f":"IFERROR(SUMIF(INDIRECT(\"Contributo_cer[\" & F21 & \" - Fasce Francesi stagionalità]\"),'OUTPUT OUTIL ENERGETIQUE'!$X$6,INDIRECT(\"Contributo_cer[\" & F21 & \" - consumi rimanenti]\")),\"\")","v":""},{"$f":"IFERROR(SUMIF(INDIRECT(\"Contributo_cer[\" & F21 & \" - Fasce Francesi stagionalità]\"), 'OUTPUT OUTIL ENERGETIQUE'!$Y$6, INDIRECT(\"Contributo_cer[Distribuzione - \" & F21 & \" - consumi rimanenti]\")),\"\")","v":""},{"$f":"IFERROR(SUMIF(INDIRECT(\"Contributo_cer[\" & F21 & \" - Fasce Francesi stagionalità]\"), 'OUTPUT OUTIL ENERGETIQUE'!$Z$6, INDIRECT(\"Contributo_cer[Distribuzione - \" & F21 & \" - consumi rimanenti]\")),\"\")","v":""},{"$f":"IFERROR(SUMIF(INDIRECT(\"Contributo_cer[\" & F21 & \" - Fasce Francesi stagionalità]\"), 'OUTPUT OUTIL ENERGETIQUE'!$AA$6, INDIRECT(\"Contributo_cer[Distribuzione - \" & F21 & \" - consumi rimanenti]\")),\"\")","v":""},{"$f":"IFERROR(SUMIF(INDIRECT(\"Contributo_cer[\" & F21 & \" - Fasce Francesi stagionalità]\"), 'OUTPUT OUTIL ENERGETIQUE'!$AB$6, INDIRECT(\"Contributo_cer[Distribuzione - \" & F21 & \" - consumi rimanenti]\")),\"\")","v":""},{"$f":"IFERROR(SUMIF(INDIRECT(\"Contributo_cer[\" & F21 & \" - Fasce Francesi stagionalità]\"), 'OUTPUT OUTIL ENERGETIQUE'!$AC$6, INDIRECT(\"Contributo_cer[Distribuzione - \" & F21 & \" - consumi rimanenti]\")),\"\")","v":""},"","","","","",null,"",null,"novembre",11,{"$f":"IFERROR(INDEX(Contributo_cer__2[autoconsumo %], MATCH(1, (Contributo_cer__2[MM]='OUTPUT OUTIL ENERGETIQUE'!$AM21) * (Contributo_cer__2[Giorno]='OUTPUT OUTIL ENERGETIQUE'!AN$10), 0)), \"\")","v":0},{"$f":"IFERROR(INDEX(Contributo_cer__2[autoconsumo %], MATCH(1, (Contributo_cer__2[MM]='OUTPUT OUTIL ENERGETIQUE'!$AM21) * (Contributo_cer__2[Giorno]='OUTPUT OUTIL ENERGETIQUE'!AO$10), 0)), \"\")","v":0},{"$f":"IFERROR(INDEX(Contributo_cer__2[autoconsumo %], MATCH(1, (Contributo_cer__2[MM]='OUTPUT OUTIL ENERGETIQUE'!$AM21) * (Contributo_cer__2[Giorno]='OUTPUT OUTIL ENERGETIQUE'!AP$10), 0)), \"\")","v":0},{"$f":"IFERROR(INDEX(Contributo_cer__2[autoconsumo %], MATCH(1, (Contributo_cer__2[MM]='OUTPUT OUTIL ENERGETIQUE'!$AM21) * (Contributo_cer__2[Giorno]='OUTPUT OUTIL ENERGETIQUE'!AQ$10), 0)), \"\")","v":0},{"$f":"IFERROR(INDEX(Contributo_cer__2[autoconsumo %], MATCH(1, (Contributo_cer__2[MM]='OUTPUT OUTIL ENERGETIQUE'!$AM21) * (Contributo_cer__2[Giorno]='OUTPUT OUTIL ENERGETIQUE'!AR$10), 0)), \"\")","v":0},{"$f":"IFERROR(INDEX(Contributo_cer__2[autoconsumo %], MATCH(1, (Contributo_cer__2[MM]='OUTPUT OUTIL ENERGETIQUE'!$AM21) * (Contributo_cer__2[Giorno]='OUTPUT OUTIL ENERGETIQUE'!AS$10), 0)), \"\")","v":0},{"$f":"IFERROR(INDEX(Contributo_cer__2[autoconsumo %], MATCH(1, (Contributo_cer__2[MM]='OUTPUT OUTIL ENERGETIQUE'!$AM21) * (Contributo_cer__2[Giorno]='OUTPUT OUTIL ENERGETIQUE'!AT$10), 0)), \"\")","v":0},{"$f":"IFERROR(INDEX(Contributo_cer__2[autoconsumo %], MATCH(1, (Contributo_cer__2[MM]='OUTPUT OUTIL ENERGETIQUE'!$AM21) * (Contributo_cer__2[Giorno]='OUTPUT OUTIL ENERGETIQUE'!AU$10), 0)), \"\")","v":0},{"$f":"IFERROR(INDEX(Contributo_cer__2[autoconsumo %], MATCH(1, (Contributo_cer__2[MM]='OUTPUT OUTIL ENERGETIQUE'!$AM21) * (Contributo_cer__2[Giorno]='OUTPUT OUTIL ENERGETIQUE'!AV$10), 0)), \"\")","v":0},{"$f":"IFERROR(INDEX(Contributo_cer__2[autoconsumo %], MATCH(1, (Contributo_cer__2[MM]='OUTPUT OUTIL ENERGETIQUE'!$AM21) * (Contributo_cer__2[Giorno]='OUTPUT OUTIL ENERGETIQUE'!AW$10), 0)), \"\")","v":0},{"$f":"IFERROR(INDEX(Contributo_cer__2[autoconsumo %], MATCH(1, (Contributo_cer__2[MM]='OUTPUT OUTIL ENERGETIQUE'!$AM21) * (Contributo_cer__2[Giorno]='OUTPUT OUTIL ENERGETIQUE'!AX$10), 0)), \"\")","v":0},{"$f":"IFERROR(INDEX(Contributo_cer__2[autoconsumo %], MATCH(1, (Contributo_cer__2[MM]='OUTPUT OUTIL ENERGETIQUE'!$AM21) * (Contributo_cer__2[Giorno]='OUTPUT OUTIL ENERGETIQUE'!AY$10), 0)), \"\")","v":0},{"$f":"IFERROR(INDEX(Contributo_cer__2[autoconsumo %], MATCH(1, (Contributo_cer__2[MM]='OUTPUT OUTIL ENERGETIQUE'!$AM21) * (Contributo_cer__2[Giorno]='OUTPUT OUTIL ENERGETIQUE'!AZ$10), 0)), \"\")","v":0},{"$f":"IFERROR(INDEX(Contributo_cer__2[autoconsumo %], MATCH(1, (Contributo_cer__2[MM]='OUTPUT OUTIL ENERGETIQUE'!$AM21) * (Contributo_cer__2[Giorno]='OUTPUT OUTIL ENERGETIQUE'!BA$10), 0)), \"\")","v":0},{"$f":"IFERROR(INDEX(Contributo_cer__2[autoconsumo %], MATCH(1, (Contributo_cer__2[MM]='OUTPUT OUTIL ENERGETIQUE'!$AM21) * (Contributo_cer__2[Giorno]='OUTPUT OUTIL ENERGETIQUE'!BB$10), 0)), \"\")","v":0},{"$f":"IFERROR(INDEX(Contributo_cer__2[autoconsumo %], MATCH(1, (Contributo_cer__2[MM]='OUTPUT OUTIL ENERGETIQUE'!$AM21) * (Contributo_cer__2[Giorno]='OUTPUT OUTIL ENERGETIQUE'!BC$10), 0)), \"\")","v":0},{"$f":"IFERROR(INDEX(Contributo_cer__2[autoconsumo %], MATCH(1, (Contributo_cer__2[MM]='OUTPUT OUTIL ENERGETIQUE'!$AM21) * (Contributo_cer__2[Giorno]='OUTPUT OUTIL ENERGETIQUE'!BD$10), 0)), \"\")","v":0},{"$f":"IFERROR(INDEX(Contributo_cer__2[autoconsumo %], MATCH(1, (Contributo_cer__2[MM]='OUTPUT OUTIL ENERGETIQUE'!$AM21) * (Contributo_cer__2[Giorno]='OUTPUT OUTIL ENERGETIQUE'!BE$10), 0)), \"\")","v":0},{"$f":"IFERROR(INDEX(Contributo_cer__2[autoconsumo %], MATCH(1, (Contributo_cer__2[MM]='OUTPUT OUTIL ENERGETIQUE'!$AM21) * (Contributo_cer__2[Giorno]='OUTPUT OUTIL ENERGETIQUE'!BF$10), 0)), \"\")","v":0},{"$f":"IFERROR(INDEX(Contributo_cer__2[autoconsumo %], MATCH(1, (Contributo_cer__2[MM]='OUTPUT OUTIL ENERGETIQUE'!$AM21) * (Contributo_cer__2[Giorno]='OUTPUT OUTIL ENERGETIQUE'!BG$10), 0)), \"\")","v":0},{"$f":"IFERROR(INDEX(Contributo_cer__2[autoconsumo %], MATCH(1, (Contributo_cer__2[MM]='OUTPUT OUTIL ENERGETIQUE'!$AM21) * (Contributo_cer__2[Giorno]='OUTPUT OUTIL ENERGETIQUE'!BH$10), 0)), \"\")","v":0},{"$f":"IFERROR(INDEX(Contributo_cer__2[autoconsumo %], MATCH(1, (Contributo_cer__2[MM]='OUTPUT OUTIL ENERGETIQUE'!$AM21) * (Contributo_cer__2[Giorno]='OUTPUT OUTIL ENERGETIQUE'!BI$10), 0)), \"\")","v":0},{"$f":"IFERROR(INDEX(Contributo_cer__2[autoconsumo %], MATCH(1, (Contributo_cer__2[MM]='OUTPUT OUTIL ENERGETIQUE'!$AM21) * (Contributo_cer__2[Giorno]='OUTPUT OUTIL ENERGETIQUE'!BJ$10), 0)), \"\")","v":0},{"$f":"IFERROR(INDEX(Contributo_cer__2[autoconsumo %], MATCH(1, (Contributo_cer__2[MM]='OUTPUT OUTIL ENERGETIQUE'!$AM21) * (Contributo_cer__2[Giorno]='OUTPUT OUTIL ENERGETIQUE'!BK$10), 0)), \"\")","v":0},{"$f":"IFERROR(INDEX(Contributo_cer__2[autoconsumo %], MATCH(1, (Contributo_cer__2[MM]='OUTPUT OUTIL ENERGETIQUE'!$AM21) * (Contributo_cer__2[Giorno]='OUTPUT OUTIL ENERGETIQUE'!BL$10), 0)), \"\")","v":0},{"$f":"IFERROR(INDEX(Contributo_cer__2[autoconsumo %], MATCH(1, (Contributo_cer__2[MM]='OUTPUT OUTIL ENERGETIQUE'!$AM21) * (Contributo_cer__2[Giorno]='OUTPUT OUTIL ENERGETIQUE'!BM$10), 0)), \"\")","v":0},{"$f":"IFERROR(INDEX(Contributo_cer__2[autoconsumo %], MATCH(1, (Contributo_cer__2[MM]='OUTPUT OUTIL ENERGETIQUE'!$AM21) * (Contributo_cer__2[Giorno]='OUTPUT OUTIL ENERGETIQUE'!BN$10), 0)), \"\")","v":0},{"$f":"IFERROR(INDEX(Contributo_cer__2[autoconsumo %], MATCH(1, (Contributo_cer__2[MM]='OUTPUT OUTIL ENERGETIQUE'!$AM21) * (Contributo_cer__2[Giorno]='OUTPUT OUTIL ENERGETIQUE'!BO$10), 0)), \"\")","v":0},{"$f":"IFERROR(INDEX(Contributo_cer__2[autoconsumo %], MATCH(1, (Contributo_cer__2[MM]='OUTPUT OUTIL ENERGETIQUE'!$AM21) * (Contributo_cer__2[Giorno]='OUTPUT OUTIL ENERGETIQUE'!BP$10), 0)), \"\")","v":0},{"$f":"IFERROR(INDEX(Contributo_cer__2[autoconsumo %], MATCH(1, (Contributo_cer__2[MM]='OUTPUT OUTIL ENERGETIQUE'!$AM21) * (Contributo_cer__2[Giorno]='OUTPUT OUTIL ENERGETIQUE'!BQ$10), 0)), \"\")","v":0},{"$f":"IFERROR(INDEX(Contributo_cer__2[autoconsumo %], MATCH(1, (Contributo_cer__2[MM]='OUTPUT OUTIL ENERGETIQUE'!$AM21) * (Contributo_cer__2[Giorno]='OUTPUT OUTIL ENERGETIQUE'!BR$10), 0)), \"\")","v":""}]
[{"$f":"IFERROR(INDEX(Utente[INPUT], MATCH(1, (Utente[Source.Name.1]='OUTPUT OUTIL ENERGETIQUE'!F22) * (Utente[[Participant ]]=\"Nom du participant\"), 0)), \"\")","v":""},{"$f":"IFERROR(\n    IF(\n        INDEX(Utente[INPUT], MATCH(1, (Utente[Source.Name.1]=F22) * (Utente[[Participant ]]=\"Type de production d'énergie\"), 0)) = 0,\n        INDEX(orario[Type de production d''énergie], MATCH(1, (orario[Source.Name.1]=F22) * 1, 0)),\n        INDEX(Utente[INPUT], MATCH(1, (Utente[Source.Name.1]=F22) * (Utente[[Participant ]]=\"Type de production d'énergie\"), 0))\n    ),\n    \"\"\n)","v":""},{"$f":"IFERROR(1+INDEX(Utente[INPUT], MATCH(1, (Utente[Source.Name.1]=F22) * (Utente[[Participant ]]=\"Nombre d'autres participants similaires\"), 0)),\"\")","v":""},{"$f":"IFERROR(INDEX(impianto_FV[Installation 1]+impianto_FV[Installation 2]+impianto_FV[Installation 3]+impianto_FV[Installation 4], MATCH(1, (impianto_FV[Source.Name.1]=F22) * (impianto_FV[Photovoltaïque]=\"Puissance installée [kW]\"), 0))+INDEX(impianto_HYDRO[Caractéristiques], MATCH(1, (impianto_HYDRO[Source.Name.1]=F22) * (impianto_HYDRO[hydroélectrique]=\"Puissance du générateur [kW]\"), 0))+INDEX(orario[Puissance installée '[kW']], MATCH(1, (orario[Source.Name.1]=F22) * 1, 0)),\"\")","v":""},{"$f":"IFERROR(INDEX(Utente[INPUT], MATCH(1, (Utente[Source.Name.1]=F22) * (Utente[[Participant ]]=\"en cas de clé statique, indiquer le coefficient de répartition \"), 0)),\"\")","v":""},"16_User",{"$f":"IFERROR(INDEX(output_utente[Colonna1], MATCH(1, (output_utente[Source.Name.1]='OUTPUT OUTIL ENERGETIQUE'!F22) * (output_utente[output]=\"somma consumi\"), 0)), \"\")","v":""},"",{"$f":"IFERROR(INDEX(output_utente[Colonna1], MATCH(1, (output_utente[Source.Name.1]='OUTPUT OUTIL ENERGETIQUE'!F22) * (output_utente[output]=\"produzione\"), 0)), \"\")","v":""},"",{"$f":"IFERROR(INDEX(output_utente[Colonna1], MATCH(1, (output_utente[Source.Name.1]='OUTPUT OUTIL ENERGETIQUE'!F22) * (output_utente[output]=\"energia immessa in cer\"), 0)), \"\")","v":""},{"$f":"IFERROR(INDEX(Distribuzione[Somma], MATCH(1, (Distribuzione[User]='OUTPUT OUTIL ENERGETIQUE'!F22)*1, 0)), \"\")","v":""},{"$f":"IFERROR(INDEX(output_utente[Colonna1], MATCH(1, (output_utente[Source.Name.1]='OUTPUT OUTIL ENERGETIQUE'!F22) * (output_utente[output]=\"autosufficenza\"), 0)), \"\")","v":""},{"$f":"IFERROR(INDEX(output_utente[Colonna1], MATCH(1, (output_utente[Source.Name.1]='OUTPUT OUTIL ENERGETIQUE'!F22) * (output_utente[output]=\"autoconsumo\"), 0)), \"\")","v":""},{"$f":"IFERROR(SUMIF(INDIRECT(\"Contributo_cer[\" & $F22 & \" - Fasce Francesi stagionalità]\"),'OUTPUT OUTIL ENERGETIQUE'!$O$6,INDIRECT(\"Contributo_cer[\" & $F22 & \" - consumo]\")),\"\")","v":""},{"$f":"IFERROR(SUMIF(INDIRECT(\"Contributo_cer[\" & F22 & \" - Fasce Francesi stagionalità]\"),'OUTPUT OUTIL ENERGETIQUE'!$P$6,INDIRECT(\"Contributo_cer[\" & F22 & \" - consumo]\")),\"\")","v":""},{"$f":"IFERROR(SUMIF(INDIRECT(\"Contributo_cer[\" & F22 & \" - Fasce Francesi stagionalità]\"),'OUTPUT OUTIL ENERGETIQUE'!$Q$6,INDIRECT(\"Contributo_cer[\" & F22 & \" - consumo]\")),\"\")","v":""},{"$f":"IFERROR(SUMIF(INDIRECT(\"Contributo_cer[\" & F22 & \" - Fasce Francesi stagionalità]\"),'OUTPUT OUTIL ENERGETIQUE'!$R$6,INDIRECT(\"Contributo_cer[\" & F22 & \" - consumo]\")),\"\")","v":""},{"$f":"IFERROR(SUMIF(INDIRECT(\"Contributo_cer[\" & F22 & \" - Fasce Francesi stagionalità]\"),'OUTPUT OUTIL ENERGETIQUE'!$S$6,INDIRECT(\"Contributo_cer[\" & F22 & \" - consumo]\")),\"\")","v":""},{"$f":"IFERROR(SUMIF(INDIRECT(\"Contributo_cer[\" & F22 & \" - Fasce Francesi stagionalità]\"),'OUTPUT OUTIL ENERGETIQUE'!$T$6,INDIRECT(\"Contributo_cer[\" & F22 & \" - consumi rimanenti]\")),\"\")","v":""},{"$f":"IFERROR(SUMIF(INDIRECT(\"Contributo_cer[\" & F22 & \" - Fasce Francesi stagionalità]\"),'OUTPUT OUTIL ENERGETIQUE'!$U$6,INDIRECT(\"Contributo_cer[\" & F22 & \" - consumi rimanenti]\")),\"\")","v":""},{"$f":"IFERROR(SUMIF(INDIRECT(\"Contributo_cer[\" & F22 & \" - Fasce Francesi stagionalità]\"),'OUTPUT OUTIL ENERGETIQUE'!$V$6,INDIRECT(\"Contributo_cer[\" & F22 & \" - consumi rimanenti]\")),\"\")","v":""},{"$f":"IFERROR(SUMIF(INDIRECT(\"Contributo_cer[\" & F22 & \" - Fasce Francesi stagionalità]\"),'OUTPUT OUTIL ENERGETIQUE'!$W$6,INDIRECT(\"Contributo_cer[\" & F22 & \" - consumi rimanenti]\")),\"\")","v":""},{"$f":"IFERROR(SUMIF(INDIRECT(\"Contributo_cer[\" & F22 & \" - Fasce Francesi stagionalità]\"),'OUTPUT OUTIL ENERGETIQUE'!$X$6,INDIRECT(\"Contributo_cer[\" & F22 & \" - consumi rimanenti]\")),\"\")","v":""},{"$f":"IFERROR(SUMIF(INDIRECT(\"Contributo_cer[\" & F22 & \" - Fasce Francesi stagionalità]\"), 'OUTPUT OUTIL ENERGETIQUE'!$Y$6, INDIRECT(\"Contributo_cer[Distribuzione - \" & F22 & \" - consumi rimanenti]\")),\"\")","v":""},{"$f":"IFERROR(SUMIF(INDIRECT(\"Contributo_cer[\" & F22 & \" - Fasce Francesi stagionalità]\"), 'OUTPUT OUTIL ENERGETIQUE'!$Z$6, INDIRECT(\"Contributo_cer[Distribuzione - \" & F22 & \" - consumi rimanenti]\")),\"\")","v":""},{"$f":"IFERROR(SUMIF(INDIRECT(\"Contributo_cer[\" & F22 & \" - Fasce Francesi stagionalità]\"), 'OUTPUT OUTIL ENERGETIQUE'!$AA$6, INDIRECT(\"Contributo_cer[Distribuzione - \" & F22 & \" - consumi rimanenti]\")),\"\")","v":""},{"$f":"IFERROR(SUMIF(INDIRECT(\"Contributo_cer[\" & F22 & \" - Fasce Francesi stagionalità]\"), 'OUTPUT OUTIL ENERGETIQUE'!$AB$6, INDIRECT(\"Contributo_cer[Distribuzione - \" & F22 & \" - consumi rimanenti]\")),\"\")","v":""},{"$f":"IFERROR(SUMIF(INDIRECT(\"Contributo_cer[\" & F22 & \" - Fasce Francesi stagionalità]\"), 'OUTPUT OUTIL ENERGETIQUE'!$AC$6, INDIRECT(\"Contributo_cer[Distribuzione - \" & F22 & \" - consumi rimanenti]\")),\"\")","v":""},"","","","","",null,"",null,"décembre",12,{"$f":"IFERROR(INDEX(Contributo_cer__2[autoconsumo %], MATCH(1, (Contributo_cer__2[MM]='OUTPUT OUTIL ENERGETIQUE'!$AM22) * (Contributo_cer__2[Giorno]='OUTPUT OUTIL ENERGETIQUE'!AN$10), 0)), \"\")","v":0},{"$f":"IFERROR(INDEX(Contributo_cer__2[autoconsumo %], MATCH(1, (Contributo_cer__2[MM]='OUTPUT OUTIL ENERGETIQUE'!$AM22) * (Contributo_cer__2[Giorno]='OUTPUT OUTIL ENERGETIQUE'!AO$10), 0)), \"\")","v":0},{"$f":"IFERROR(INDEX(Contributo_cer__2[autoconsumo %], MATCH(1, (Contributo_cer__2[MM]='OUTPUT OUTIL ENERGETIQUE'!$AM22) * (Contributo_cer__2[Giorno]='OUTPUT OUTIL ENERGETIQUE'!AP$10), 0)), \"\")","v":0},{"$f":"IFERROR(INDEX(Contributo_cer__2[autoconsumo %], MATCH(1, (Contributo_cer__2[MM]='OUTPUT OUTIL ENERGETIQUE'!$AM22) * (Contributo_cer__2[Giorno]='OUTPUT OUTIL ENERGETIQUE'!AQ$10), 0)), \"\")","v":0},{"$f":"IFERROR(INDEX(Contributo_cer__2[autoconsumo %], MATCH(1, (Contributo_cer__2[MM]='OUTPUT OUTIL ENERGETIQUE'!$AM22) * (Contributo_cer__2[Giorno]='OUTPUT OUTIL ENERGETIQUE'!AR$10), 0)), \"\")","v":0},{"$f":"IFERROR(INDEX(Contributo_cer__2[autoconsumo %], MATCH(1, (Contributo_cer__2[MM]='OUTPUT OUTIL ENERGETIQUE'!$AM22) * (Contributo_cer__2[Giorno]='OUTPUT OUTIL ENERGETIQUE'!AS$10), 0)), \"\")","v":0},{"$f":"IFERROR(INDEX(Contributo_cer__2[autoconsumo %], MATCH(1, (Contributo_cer__2[MM]='OUTPUT OUTIL ENERGETIQUE'!$AM22) * (Contributo_cer__2[Giorno]='OUTPUT OUTIL ENERGETIQUE'!AT$10), 0)), \"\")","v":0},{"$f":"IFERROR(INDEX(Contributo_cer__2[autoconsumo %], MATCH(1, (Contributo_cer__2[MM]='OUTPUT OUTIL ENERGETIQUE'!$AM22) * (Contributo_cer__2[Giorno]='OUTPUT OUTIL ENERGETIQUE'!AU$10), 0)), \"\")","v":0},{"$f":"IFERROR(INDEX(Contributo_cer__2[autoconsumo %], MATCH(1, (Contributo_cer__2[MM]='OUTPUT OUTIL ENERGETIQUE'!$AM22) * (Contributo_cer__2[Giorno]='OUTPUT OUTIL ENERGETIQUE'!AV$10), 0)), \"\")","v":0},{"$f":"IFERROR(INDEX(Contributo_cer__2[autoconsumo %], MATCH(1, (Contributo_cer__2[MM]='OUTPUT OUTIL ENERGETIQUE'!$AM22) * (Contributo_cer__2[Giorno]='OUTPUT OUTIL ENERGETIQUE'!AW$10), 0)), \"\")","v":0},{"$f":"IFERROR(INDEX(Contributo_cer__2[autoconsumo %], MATCH(1, (Contributo_cer__2[MM]='OUTPUT OUTIL ENERGETIQUE'!$AM22) * (Contributo_cer__2[Giorno]='OUTPUT OUTIL ENERGETIQUE'!AX$10), 0)), \"\")","v":0},{"$f":"IFERROR(INDEX(Contributo_cer__2[autoconsumo %], MATCH(1, (Contributo_cer__2[MM]='OUTPUT OUTIL ENERGETIQUE'!$AM22) * (Contributo_cer__2[Giorno]='OUTPUT OUTIL ENERGETIQUE'!AY$10), 0)), \"\")","v":0},{"$f":"IFERROR(INDEX(Contributo_cer__2[autoconsumo %], MATCH(1, (Contributo_cer__2[MM]='OUTPUT OUTIL ENERGETIQUE'!$AM22) * (Contributo_cer__2[Giorno]='OUTPUT OUTIL ENERGETIQUE'!AZ$10), 0)), \"\")","v":0},{"$f":"IFERROR(INDEX(Contributo_cer__2[autoconsumo %], MATCH(1, (Contributo_cer__2[MM]='OUTPUT OUTIL ENERGETIQUE'!$AM22) * (Contributo_cer__2[Giorno]='OUTPUT OUTIL ENERGETIQUE'!BA$10), 0)), \"\")","v":0},{"$f":"IFERROR(INDEX(Contributo_cer__2[autoconsumo %], MATCH(1, (Contributo_cer__2[MM]='OUTPUT OUTIL ENERGETIQUE'!$AM22) * (Contributo_cer__2[Giorno]='OUTPUT OUTIL ENERGETIQUE'!BB$10), 0)), \"\")","v":0},{"$f":"IFERROR(INDEX(Contributo_cer__2[autoconsumo %], MATCH(1, (Contributo_cer__2[MM]='OUTPUT OUTIL ENERGETIQUE'!$AM22) * (Contributo_cer__2[Giorno]='OUTPUT OUTIL ENERGETIQUE'!BC$10), 0)), \"\")","v":0},{"$f":"IFERROR(INDEX(Contributo_cer__2[autoconsumo %], MATCH(1, (Contributo_cer__2[MM]='OUTPUT OUTIL ENERGETIQUE'!$AM22) * (Contributo_cer__2[Giorno]='OUTPUT OUTIL ENERGETIQUE'!BD$10), 0)), \"\")","v":0},{"$f":"IFERROR(INDEX(Contributo_cer__2[autoconsumo %], MATCH(1, (Contributo_cer__2[MM]='OUTPUT OUTIL ENERGETIQUE'!$AM22) * (Contributo_cer__2[Giorno]='OUTPUT OUTIL ENERGETIQUE'!BE$10), 0)), \"\")","v":0},{"$f":"IFERROR(INDEX(Contributo_cer__2[autoconsumo %], MATCH(1, (Contributo_cer__2[MM]='OUTPUT OUTIL ENERGETIQUE'!$AM22) * (Contributo_cer__2[Giorno]='OUTPUT OUTIL ENERGETIQUE'!BF$10), 0)), \"\")","v":0},{"$f":"IFERROR(INDEX(Contributo_cer__2[autoconsumo %], MATCH(1, (Contributo_cer__2[MM]='OUTPUT OUTIL ENERGETIQUE'!$AM22) * (Contributo_cer__2[Giorno]='OUTPUT OUTIL ENERGETIQUE'!BG$10), 0)), \"\")","v":0},{"$f":"IFERROR(INDEX(Contributo_cer__2[autoconsumo %], MATCH(1, (Contributo_cer__2[MM]='OUTPUT OUTIL ENERGETIQUE'!$AM22) * (Contributo_cer__2[Giorno]='OUTPUT OUTIL ENERGETIQUE'!BH$10), 0)), \"\")","v":0},{"$f":"IFERROR(INDEX(Contributo_cer__2[autoconsumo %], MATCH(1, (Contributo_cer__2[MM]='OUTPUT OUTIL ENERGETIQUE'!$AM22) * (Contributo_cer__2[Giorno]='OUTPUT OUTIL ENERGETIQUE'!BI$10), 0)), \"\")","v":0},{"$f":"IFERROR(INDEX(Contributo_cer__2[autoconsumo %], MATCH(1, (Contributo_cer__2[MM]='OUTPUT OUTIL ENERGETIQUE'!$AM22) * (Contributo_cer__2[Giorno]='OUTPUT OUTIL ENERGETIQUE'!BJ$10), 0)), \"\")","v":0},{"$f":"IFERROR(INDEX(Contributo_cer__2[autoconsumo %], MATCH(1, (Contributo_cer__2[MM]='OUTPUT OUTIL ENERGETIQUE'!$AM22) * (Contributo_cer__2[Giorno]='OUTPUT OUTIL ENERGETIQUE'!BK$10), 0)), \"\")","v":0},{"$f":"IFERROR(INDEX(Contributo_cer__2[autoconsumo %], MATCH(1, (Contributo_cer__2[MM]='OUTPUT OUTIL ENERGETIQUE'!$AM22) * (Contributo_cer__2[Giorno]='OUTPUT OUTIL ENERGETIQUE'!BL$10), 0)), \"\")","v":0},{"$f":"IFERROR(INDEX(Contributo_cer__2[autoconsumo %], MATCH(1, (Contributo_cer__2[MM]='OUTPUT OUTIL ENERGETIQUE'!$AM22) * (Contributo_cer__2[Giorno]='OUTPUT OUTIL ENERGETIQUE'!BM$10), 0)), \"\")","v":0},{"$f":"IFERROR(INDEX(Contributo_cer__2[autoconsumo %], MATCH(1, (Contributo_cer__2[MM]='OUTPUT OUTIL ENERGETIQUE'!$AM22) * (Contributo_cer__2[Giorno]='OUTPUT OUTIL ENERGETIQUE'!BN$10), 0)), \"\")","v":0},{"$f":"IFERROR(INDEX(Contributo_cer__2[autoconsumo %], MATCH(1, (Contributo_cer__2[MM]='OUTPUT OUTIL ENERGETIQUE'!$AM22) * (Contributo_cer__2[Giorno]='OUTPUT OUTIL ENERGETIQUE'!BO$10), 0)), \"\")","v":0},{"$f":"IFERROR(INDEX(Contributo_cer__2[autoconsumo %], MATCH(1, (Contributo_cer__2[MM]='OUTPUT OUTIL ENERGETIQUE'!$AM22) * (Contributo_cer__2[Giorno]='OUTPUT OUTIL ENERGETIQUE'!BP$10), 0)), \"\")","v":0},{"$f":"IFERROR(INDEX(Contributo_cer__2[autoconsumo %], MATCH(1, (Contributo_cer__2[MM]='OUTPUT OUTIL ENERGETIQUE'!$AM22) * (Contributo_cer__2[Giorno]='OUTPUT OUTIL ENERGETIQUE'!BQ$10), 0)), \"\")","v":0},{"$f":"IFERROR(INDEX(Contributo_cer__2[autoconsumo %], MATCH(1, (Contributo_cer__2[MM]='OUTPUT OUTIL ENERGETIQUE'!$AM22) * (Contributo_cer__2[Giorno]='OUTPUT OUTIL ENERGETIQUE'!BR$10), 0)), \"\")","v":0}]
[{"$f":"IFERROR(INDEX(Utente[INPUT], MATCH(1, (Utente[Source.Name.1]='OUTPUT OUTIL ENERGETIQUE'!F23) * (Utente[[Participant ]]=\"Nom du participant\"), 0)), \"\")","v":""},{"$f":"IFERROR(\n    IF(\n        INDEX(Utente[INPUT], MATCH(1, (Utente[Source.Name.1]=F23) * (Utente[[Participant ]]=\"Type de production d'énergie\"), 0)) = 0,\n        INDEX(orario[Type de production d''énergie], MATCH(1, (orario[Source.Name.1]=F23) * 1, 0)),\n        INDEX(Utente[INPUT], MATCH(1, (Utente[Source.Name.1]=F23) * (Utente[[Participant ]]=\"Type de production d'énergie\"), 0))\n    ),\n    \"\"\n)","v":""},{"$f":"IFERROR(1+INDEX(Utente[INPUT], MATCH(1, (Utente[Source.Name.1]=F23) * (Utente[[Participant ]]=\"Nombre d'autres participants similaires\"), 0)),\"\")","v":""},{"$f":"IFERROR(INDEX(impianto_FV[Installation 1]+impianto_FV[Installation 2]+impianto_FV[Installation 3]+impianto_FV[Installation 4], MATCH(1, (impianto_FV[Source.Name.1]=F23) * (impianto_FV[Photovoltaïque]=\"Puissance installée [kW]\"), 0))+INDEX(impianto_HYDRO[Caractéristiques], MATCH(1, (impianto_HYDRO[Source.Name.1]=F23) * (impianto_HYDRO[hydroélectrique]=\"Puissance du générateur [kW]\"), 0))+INDEX(orario[Puissance installée '[kW']], MATCH(1, (orario[Source.Name.1]=F23) * 1, 0)),\"\")","v":""},{"$f":"IFERROR(INDEX(Utente[INPUT], MATCH(1, (Utente[Source.Name.1]=F23) * (Utente[[Participant ]]=\"en cas de clé statique, indiquer le coefficient de répartition \"), 0)),\"\")","v":""},"17_User",{"$f":"IFERROR(INDEX(output_utente[Colonna1], MATCH(1, (output_utente[Source.Name.1]='OUTPUT OUTIL ENERGETIQUE'!F23) * (output_utente[output]=\"somma consumi\"), 0)), \"\")","v":""},"",{"$f":"IFERROR(INDEX(output_utente[Colonna1], MATCH(1, (output_utente[Source.Name.1]='OUTPUT OUTIL ENERGETIQUE'!F23) * (output_utente[output]=\"produzione\"), 0)), \"\")","v":""},"",{"$f":"IFERROR(INDEX(output_utente[Colonna1], MATCH(1, (output_utente[Source.Name.1]='OUTPUT OUTIL ENERGETIQUE'!F23) * (output_utente[output]=\"energia immessa in cer\"), 0)), \"\")","v":""},{"$f":"IFERROR(INDEX(Distribuzione[Somma], MATCH(1, (Distribuzione[User]='OUTPUT OUTIL ENERGETIQUE'!F23)*1, 0)), \"\")","v":""},{"$f":"IFERROR(INDEX(output_utente[Colonna1], MATCH(1, (output_utente[Source.Name.1]='OUTPUT OUTIL ENERGETIQUE'!F23) * (output_utente[output]=\"autosufficenza\"), 0)), \"\")","v":""},{"$f":"IFERROR(INDEX(output_utente[Colonna1], MATCH(1, (output_utente[Source.Name.1]='OUTPUT OUTIL ENERGETIQUE'!F23) * (output_utente[output]=\"autoconsumo\"), 0)), \"\")","v":""},{"$f":"IFERROR(SUMIF(INDIRECT(\"Contributo_cer[\" & $F23 & \" - Fasce Francesi stagionalità]\"),'OUTPUT OUTIL ENERGETIQUE'!$O$6,INDIRECT(\"Contributo_cer[\" & $F23 & \" - consumo]\")),\"\")","v":""},{"$f":"IFERROR(SUMIF(INDIRECT(\"Contributo_cer[\" & F23 & \" - Fasce Francesi stagionalità]\"),'OUTPUT OUTIL ENERGETIQUE'!$P$6,INDIRECT(\"Contributo_cer[\" & F23 & \" - consumo]\")),\"\")","v":""},{"$f":"IFERROR(SUMIF(INDIRECT(\"Contributo_cer[\" & F23 & \" - Fasce Francesi stagionalità]\"),'OUTPUT OUTIL ENERGETIQUE'!$Q$6,INDIRECT(\"Contributo_cer[\" & F23 & \" - consumo]\")),\"\")","v":""},{"$f":"IFERROR(SUMIF(INDIRECT(\"Contributo_cer[\" & F23 & \" - Fasce Francesi stagionalità]\"),'OUTPUT OUTIL ENERGETIQUE'!$R$6,INDIRECT(\"Contributo_cer[\" & F23 & \" - consumo]\")),\"\")","v":""},{"$f":"IFERROR(SUMIF(INDIRECT(\"Contributo_cer[\" & F23 & \" - Fasce Francesi stagionalità]\"),'OUTPUT OUTIL ENERGETIQUE'!$S$6,INDIRECT(\"Contributo_cer[\" & F23 & \" - consumo]\")),\"\")","v":""},{"$f":"IFERROR(SUMIF(INDIRECT(\"Contributo_cer[\" & F23 & \" - Fasce Francesi stagionalità]\"),'OUTPUT OUTIL ENERGETIQUE'!$T$6,INDIRECT(\"Contributo_cer[\" & F23 & \" - consumi rimanenti]\")),\"\")","v":""},{"$f":"IFERROR(SUMIF(INDIRECT(\"Contributo_cer[\" & F23 & \" - Fasce Francesi stagionalità]\"),'OUTPUT OUTIL ENERGETIQUE'!$U$6,INDIRECT(\"Contributo_cer[\" & F23 & \" - consumi rimanenti]\")),\"\")","v":""},{"$f":"IFERROR(SUMIF(INDIRECT(\"Contributo_cer[\" & F23 & \" - Fasce Francesi stagionalità]\"),'OUTPUT OUTIL ENERGETIQUE'!$V$6,INDIRECT(\"Contributo_cer[\" & F23 & \" - consumi rimanenti]\")),\"\")","v":""},{"$f":"IFERROR(SUMIF(INDIRECT(\"Contributo_cer[\" & F23 & \" - Fasce Francesi stagionalità]\"),'OUTPUT OUTIL ENERGETIQUE'!$W$6,INDIRECT(\"Contributo_cer[\" & F23 & \" - consumi rimanenti]\")),\"\")","v":""},{"$f":"IFERROR(SUMIF(INDIRECT(\"Contributo_cer[\" & F23 & \" - Fasce Francesi stagionalità]\"),'OUTPUT OUTIL ENERGETIQUE'!$X$6,INDIRECT(\"Contributo_cer[\" & F23 & \" - consumi rimanenti]\")),\"\")","v":""},{"$f":"IFERROR(SUMIF(INDIRECT(\"Contributo_cer[\" & F23 & \" - Fasce Francesi stagionalità]\"), 'OUTPUT OUTIL ENERGETIQUE'!$Y$6, INDIRECT(\"Contributo_cer[Distribuzione - \" & F23 & \" - consumi rimanenti]\")),\"\")","v":""},{"$f":"IFERROR(SUMIF(INDIRECT(\"Contributo_cer[\" & F23 & \" - Fasce Francesi stagionalità]\"), 'OUTPUT OUTIL ENERGETIQUE'!$Z$6, INDIRECT(\"Contributo_cer[Distribuzione - \" & F23 & \" - consumi rimanenti]\")),\"\")","v":""},{"$f":"IFERROR(SUMIF(INDIRECT(\"Contributo_cer[\" & F23 & \" - Fasce Francesi stagionalità]\"), 'OUTPUT OUTIL ENERGETIQUE'!$AA$6, INDIRECT(\"Contributo_cer[Distribuzione - \" & F23 & \" - consumi rimanenti]\")),\"\")","v":""},{"$f":"IFERROR(SUMIF(INDIRECT(\"Contributo_cer[\" & F23 & \" - Fasce Francesi stagionalità]\"), 'OUTPUT OUTIL ENERGETIQUE'!$AB$6, INDIRECT(\"Contributo_cer[Distribuzione - \" & F23 & \" - consumi rimanenti]\")),\"\")","v":""},{"$f":"IFERROR(SUMIF(INDIRECT(\"Contributo_cer[\" & F23 & \" - Fasce Francesi stagionalità]\"), 'OUTPUT OUTIL ENERGETIQUE'!$AC$6, INDIRECT(\"Contributo_cer[Distribuzione - \" & F23 & \" - consumi rimanenti]\")),\"\")","v":""},"","","","","",null,""]
[{"$f":"IFERROR(INDEX(Utente[INPUT], MATCH(1, (Utente[Source.Name.1]='OUTPUT OUTIL ENERGETIQUE'!F24) * (Utente[[Participant ]]=\"Nom du participant\"), 0)), \"\")","v":""},{"$f":"IFERROR(\n    IF(\n        INDEX(Utente[INPUT], MATCH(1, (Utente[Source.Name.1]=F24) * (Utente[[Participant ]]=\"Type de production d'énergie\"), 0)) = 0,\n        INDEX(orario[Type de production d''énergie], MATCH(1, (orario[Source.Name.1]=F24) * 1, 0)),\n        INDEX(Utente[INPUT], MATCH(1, (Utente[Source.Name.1]=F24) * (Utente[[Participant ]]=\"Type de production d'énergie\"), 0))\n    ),\n    \"\"\n)","v":""},{"$f":"IFERROR(1+INDEX(Utente[INPUT], MATCH(1, (Utente[Source.Name.1]=F24) * (Utente[[Participant ]]=\"Nombre d'autres participants similaires\"), 0)),\"\")","v":""},{"$f":"IFERROR(INDEX(impianto_FV[Installation 1]+impianto_FV[Installation 2]+impianto_FV[Installation 3]+impianto_FV[Installation 4], MATCH(1, (impianto_FV[Source.Name.1]=F24) * (impianto_FV[Photovoltaïque]=\"Puissance installée [kW]\"), 0))+INDEX(impianto_HYDRO[Caractéristiques], MATCH(1, (impianto_HYDRO[Source.Name.1]=F24) * (impianto_HYDRO[hydroélectrique]=\"Puissance du générateur [kW]\"), 0))+INDEX(orario[Puissance installée '[kW']], MATCH(1, (orario[Source.Name.1]=F24) * 1, 0)),\"\")","v":""},{"$f":"IFERROR(INDEX(Utente[INPUT], MATCH(1, (Utente[Source.Name.1]=F24) * (Utente[[Participant ]]=\"en cas de clé statique, indiquer le coefficient de répartition \"), 0)),\"\")","v":""},"18_User",{"$f":"IFERROR(INDEX(output_utente[Colonna1], MATCH(1, (output_utente[Source.Name.1]='OUTPUT OUTIL ENERGETIQUE'!F24) * (output_utente[output]=\"somma consumi\"), 0)), \"\")","v":""},"",{"$f":"IFERROR(INDEX(output_utente[Colonna1], MATCH(1, (output_utente[Source.Name.1]='OUTPUT OUTIL ENERGETIQUE'!F24) * (output_utente[output]=\"produzione\"), 0)), \"\")","v":""},"",{"$f":"IFERROR(INDEX(output_utente[Colonna1], MATCH(1, (output_utente[Source.Name.1]='OUTPUT OUTIL ENERGETIQUE'!F24) * (output_utente[output]=\"energia immessa in cer\"), 0)), \"\")","v":""},{"$f":"IFERROR(INDEX(Distribuzione[Somma], MATCH(1, (Distribuzione[User]='OUTPUT OUTIL ENERGETIQUE'!F24)*1, 0)), \"\")","v":""},{"$f":"IFERROR(INDEX(output_utente[Colonna1], MATCH(1, (output_utente[Source.Name.1]='OUTPUT OUTIL ENERGETIQUE'!F24) * (output_utente[output]=\"autosufficenza\"), 0)), \"\")","v":""},{"$f":"IFERROR(INDEX(output_utente[Colonna1], MATCH(1, (output_utente[Source.Name.1]='OUTPUT OUTIL ENERGETIQUE'!F24) * (output_utente[output]=\"autoconsumo\"), 0)), \"\")","v":""},{"$f":"IFERROR(SUMIF(INDIRECT(\"Contributo_cer[\" & $F24 & \" - Fasce Francesi stagionalità]\"),'OUTPUT OUTIL ENERGETIQUE'!$O$6,INDIRECT(\"Contributo_cer[\" & $F24 & \" - consumo]\")),\"\")","v":""},{"$f":"IFERROR(SUMIF(INDIRECT(\"Contributo_cer[\" & F24 & \" - Fasce Francesi stagionalità]\"),'OUTPUT OUTIL ENERGETIQUE'!$P$6,INDIRECT(\"Contributo_cer[\" & F24 & \" - consumo]\")),\"\")","v":""},{"$f":"IFERROR(SUMIF(INDIRECT(\"Contributo_cer[\" & F24 & \" - Fasce Francesi stagionalità]\"),'OUTPUT OUTIL ENERGETIQUE'!$Q$6,INDIRECT(\"Contributo_cer[\" & F24 & \" - consumo]\")),\"\")","v":""},{"$f":"IFERROR(SUMIF(INDIRECT(\"Contributo_cer[\" & F24 & \" - Fasce Francesi stagionalità]\"),'OUTPUT OUTIL ENERGETIQUE'!$R$6,INDIRECT(\"Contributo_cer[\" & F24 & \" - consumo]\")),\"\")","v":""},{"$f":"IFERROR(SUMIF(INDIRECT(\"Contributo_cer[\" & F24 & \" - Fasce Francesi stagionalità]\"),'OUTPUT OUTIL ENERGETIQUE'!$S$6,INDIRECT(\"Contributo_cer[\" & F24 & \" - consumo]\")),\"\")","v":""},{"$f":"IFERROR(SUMIF(INDIRECT(\"Contributo_cer[\" & F24 & \" - Fasce Francesi stagionalità]\"),'OUTPUT OUTIL ENERGETIQUE'!$T$6,INDIRECT(\"Contributo_cer[\" & F24 & \" - consumi rimanenti]\")),\"\")","v":""},{"$f":"IFERROR(SUMIF(INDIRECT(\"Contributo_cer[\" & F24 & \" - Fasce Francesi stagionalità]\"),'OUTPUT OUTIL ENERGETIQUE'!$U$6,INDIRECT(\"Contributo_cer[\" & F24 & \" - consumi rimanenti]\")),\"\")","v":""},{"$f":"IFERROR(SUMIF(INDIRECT(\"Contributo_cer[\" & F24 & \" - Fasce Francesi stagionalità]\"),'OUTPUT OUTIL ENERGETIQUE'!$V$6,INDIRECT(\"Contributo_cer[\" & F24 & \" - consumi rimanenti]\")),\"\")","v":""},{"$f":"IFERROR(SUMIF(INDIRECT(\"Contributo_cer[\" & F24 & \" - Fasce Francesi stagionalità]\"),'OUTPUT OUTIL ENERGETIQUE'!$W$6,INDIRECT(\"Contributo_cer[\" & F24 & \" - consumi rimanenti]\")),\"\")","v":""},{"$f":"IFERROR(SUMIF(INDIRECT(\"Contributo_cer[\" & F24 & \" - Fasce Francesi stagionalità]\"),'OUTPUT OUTIL ENERGETIQUE'!$X$6,INDIRECT(\"Contributo_cer[\" & F24 & \" - consumi rimanenti]\")),\"\")","v":""},{"$f":"IFERROR(SUMIF(INDIRECT(\"Contributo_cer[\" & F24 & \" - Fasce Francesi stagionalità]\"), 'OUTPUT OUTIL ENERGETIQUE'!$Y$6, INDIRECT(\"Contributo_cer[Distribuzione - \" & F24 & \" - consumi rimanenti]\")),\"\")","v":""},{"$f":"IFERROR(SUMIF(INDIRECT(\"Contributo_cer[\" & F24 & \" - Fasce Francesi stagionalità]\"), 'OUTPUT OUTIL ENERGETIQUE'!$Z$6, INDIRECT(\"Contributo_cer[Distribuzione - \" & F24 & \" - consumi rimanenti]\")),\"\")","v":""},{"$f":"IFERROR(SUMIF(INDIRECT(\"Contributo_cer[\" & F24 & \" - Fasce Francesi stagionalità]\"), 'OUTPUT OUTIL ENERGETIQUE'!$AA$6, INDIRECT(\"Contributo_cer[Distribuzione - \" & F24 & \" - consumi rimanenti]\")),\"\")","v":""},{"$f":"IFERROR(SUMIF(INDIRECT(\"Contributo_cer[\" & F24 & \" - Fasce Francesi stagionalità]\"), 'OUTPUT OUTIL ENERGETIQUE'!$AB$6, INDIRECT(\"Contributo_cer[Distribuzione - \" & F24 & \" - consumi rimanenti]\")),\"\")","v":""},{"$f":"IFERROR(SUMIF(INDIRECT(\"Contributo_cer[\" & F24 & \" - Fasce Francesi stagionalità]\"), 'OUTPUT OUTIL ENERGETIQUE'!$AC$6, INDIRECT(\"Contributo_cer[Distribuzione - \" & F24 & \" - consumi rimanenti]\")),\"\")","v":""},{"$f":"IFERROR(+T24-Y24,\"\")","v":""},"","","","",null,""]
[{"$f":"IFERROR(INDEX(Utente[INPUT], MATCH(1, (Utente[Source.Name.1]='OUTPUT OUTIL ENERGETIQUE'!F25) * (Utente[[Participant ]]=\"Nom du participant\"), 0)), \"\")","v":""},{"$f":"IFERROR(\n    IF(\n        INDEX(Utente[INPUT], MATCH(1, (Utente[Source.Name.1]=F25) * (Utente[[Participant ]]=\"Type de production d'énergie\"), 0)) = 0,\n        INDEX(orario[Type de production d''énergie], MATCH(1, (orario[Source.Name.1]=F25) * 1, 0)),\n        INDEX(Utente[INPUT], MATCH(1, (Utente[Source.Name.1]=F25) * (Utente[[Participant ]]=\"Type de production d'énergie\"), 0))\n    ),\n    \"\"\n)","v":""},{"$f":"IFERROR(1+INDEX(Utente[INPUT], MATCH(1, (Utente[Source.Name.1]=F25) * (Utente[[Participant ]]=\"Nombre d'autres participants similaires\"), 0)),\"\")","v":""},{"$f":"IFERROR(INDEX(impianto_FV[Installation 1]+impianto_FV[Installation 2]+impianto_FV[Installation 3]+impianto_FV[Installation 4], MATCH(1, (impianto_FV[Source.Name.1]=F25) * (impianto_FV[Photovoltaïque]=\"Puissance installée [kW]\"), 0))+INDEX(impianto_HYDRO[Caractéristiques], MATCH(1, (impianto_HYDRO[Source.Name.1]=F25) * (impianto_HYDRO[hydroélectrique]=\"Puissance du générateur [kW]\"), 0))+INDEX(orario[Puissance installée '[kW']], MATCH(1, (orario[Source.Name.1]=F25) * 1, 0)),\"\")","v":""},{"$f":"IFERROR(INDEX(Utente[INPUT], MATCH(1, (Utente[Source.Name.1]=F25) * (Utente[[Participant ]]=\"en cas de clé statique, indiquer le coefficient de répartition \"), 0)),\"\")","v":""},"19_User",{"$f":"IFERROR(INDEX(output_utente[Colonna1], MATCH(1, (output_utente[Source.Name.1]='OUTPUT OUTIL ENERGETIQUE'!F25) * (output_utente[output]=\"somma consumi\"), 0)), \"\")","v":""},"",{"$f":"IFERROR(INDEX(output_utente[Colonna1], MATCH(1, (output_utente[Source.Name.1]='OUTPUT OUTIL ENERGETIQUE'!F25) * (output_utente[output]=\"produzione\"), 0)), \"\")","v":""},"",{"$f":"IFERROR(INDEX(output_utente[Colonna1], MATCH(1, (output_utente[Source.Name.1]='OUTPUT OUTIL ENERGETIQUE'!F25) * (output_utente[output]=\"energia immessa in cer\"), 0)), \"\")","v":""},{"$f":"IFERROR(INDEX(Distribuzione[Somma], MATCH(1, (Distribuzione[User]='OUTPUT OUTIL ENERGETIQUE'!F25)*1, 0)), \"\")","v":""},{"$f":"IFERROR(INDEX(output_utente[Colonna1], MATCH(1, (output_utente[Source.Name.1]='OUTPUT OUTIL ENERGETIQUE'!F25) * (output_utente[output]=\"autosufficenza\"), 0)), \"\")","v":""},{"$f":"IFERROR(INDEX(output_utente[Colonna1], MATCH(1, (output_utente[Source.Name.1]='OUTPUT OUTIL ENERGETIQUE'!F25) * (output_utente[output]=\"autoconsumo\"), 0)), \"\")","v":""},{"$f":"IFERROR(SUMIF(INDIRECT(\"Contributo_cer[\" & $F25 & \" - Fasce Francesi stagionalità]\"),'OUTPUT OUTIL ENERGETIQUE'!$O$6,INDIRECT(\"Contributo_cer[\" & $F25 & \" - consumo]\")),\"\")","v":""},{"$f":"IFERROR(SUMIF(INDIRECT(\"Contributo_cer[\" & F25 & \" - Fasce Francesi stagionalità]\"),'OUTPUT OUTIL ENERGETIQUE'!$P$6,INDIRECT(\"Contributo_cer[\" & F25 & \" - consumo]\")),\"\")","v":""},{"$f":"IFERROR(SUMIF(INDIRECT(\"Contributo_cer[\" & F25 & \" - Fasce Francesi stagionalità]\"),'OUTPUT OUTIL ENERGETIQUE'!$Q$6,INDIRECT(\"Contributo_cer[\" & F25 & \" - consumo]\")),\"\")","v":""},{"$f":"IFERROR(SUMIF(INDIRECT(\"Contributo_cer[\" & F25 & \" - Fasce Francesi stagionalità]\"),'OUTPUT OUTIL ENERGETIQUE'!$R$6,INDIRECT(\"Contributo_cer[\" & F25 & \" - consumo]\")),\"\")","v":""},{"$f":"IFERROR(SUMIF(INDIRECT(\"Contributo_cer[\" & F25 & \" - Fasce Francesi stagionalità]\"),'OUTPUT OUTIL ENERGETIQUE'!$S$6,INDIRECT(\"Contributo_cer[\" & F25 & \" - consumo]\")),\"\")","v":""},{"$f":"IFERROR(SUMIF(INDIRECT(\"Contributo_cer[\" & F25 & \" - Fasce Francesi stagionalità]\"),'OUTPUT OUTIL ENERGETIQUE'!$T$6,INDIRECT(\"Contributo_cer[\" & F25 & \" - consumi rimanenti]\")),\"\")","v":""},{"$f":"IFERROR(SUMIF(INDIRECT(\"Contributo_cer[\" & F25 & \" - Fasce Francesi stagionalità]\"),'OUTPUT OUTIL ENERGETIQUE'!$U$6,INDIRECT(\"Contributo_cer[\" & F25 & \" - consumi rimanenti]\")),\"\")","v":""},{"$f":"IFERROR(SUMIF(INDIRECT(\"Contributo_cer[\" & F25 & \" - Fasce Francesi stagionalità]\"),'OUTPUT OUTIL ENERGETIQUE'!$V$6,INDIRECT(\"Contributo_cer[\" & F25 & \" - consumi rimanenti]\")),\"\")","v":""},{"$f":"IFERROR(SUMIF(INDIRECT(\"Contributo_cer[\" & F25 & \" - Fasce Francesi stagionalità]\"),'OUTPUT OUTIL ENERGETIQUE'!$W$6,INDIRECT(\"Contributo_cer[\" & F25 & \" - consumi rimanenti]\")),\"\")","v":""},{"$f":"IFERROR(SUMIF(INDIRECT(\"Contributo_cer[\" & F25 & \" - Fasce Francesi stagionalità]\"),'OUTPUT OUTIL ENERGETIQUE'!$X$6,INDIRECT(\"Contributo_cer[\" & F25 & \" - consumi rimanenti]\")),\"\")","v":""},{"$f":"IFERROR(SUMIF(INDIRECT(\"Contributo_cer[\" & F25 & \" - Fasce Francesi stagionalità]\"), 'OUTPUT OUTIL ENERGETIQUE'!$Y$6, INDIRECT(\"Contributo_cer[Distribuzione - \" & F25 & \" - consumi rimanenti]\")),\"\")","v":""},{"$f":"IFERROR(SUMIF(INDIRECT(\"Contributo_cer[\" & F25 & \" - Fasce Francesi stagionalità]\"), 'OUTPUT OUTIL ENERGETIQUE'!$Z$6, INDIRECT(\"Contributo_cer[Distribuzione - \" & F25 & \" - consumi rimanenti]\")),\"\")","v":""},{"$f":"IFERROR(SUMIF(INDIRECT(\"Contributo_cer[\" & F25 & \" - Fasce Francesi stagionalità]\"), 'OUTPUT OUTIL ENERGETIQUE'!$AA$6, INDIRECT(\"Contributo_cer[Distribuzione - \" & F25 & \" - consumi rimanenti]\")),\"\")","v":""},{"$f":"IFERROR(SUMIF(INDIRECT(\"Contributo_cer[\" & F25 & \" - Fasce Francesi stagionalità]\"), 'OUTPUT OUTIL ENERGETIQUE'!$AB$6, INDIRECT(\"Contributo_cer[Distribuzione - \" & F25 & \" - consumi rimanenti]\")),\"\")","v":""},{"$f":"IFERROR(SUMIF(INDIRECT(\"Contributo_cer[\" & F25 & \" - Fasce Francesi stagionalità]\"), 'OUTPUT OUTIL ENERGETIQUE'!$AC$6, INDIRECT(\"Contributo_cer[Distribuzione - \" & F25 & \" - consumi rimanenti]\")),\"\")","v":""},"","","","","",null,""]
[{"$f":"IFERROR(INDEX(Utente[INPUT], MATCH(1, (Utente[Source.Name.1]='OUTPUT OUTIL ENERGETIQUE'!F26) * (Utente[[Participant ]]=\"Nom du participant\"), 0)), \"\")","v":""},{"$f":"IFERROR(\n    IF(\n        INDEX(Utente[INPUT], MATCH(1, (Utente[Source.Name.1]=F26) * (Utente[[Participant ]]=\"Type de production d'énergie\"), 0)) = 0,\n        INDEX(orario[Type de production d''énergie], MATCH(1, (orario[Source.Name.1]=F26) * 1, 0)),\n        INDEX(Utente[INPUT], MATCH(1, (Utente[Source.Name.1]=F26) * (Utente[[Participant ]]=\"Type de production d'énergie\"), 0))\n    ),\n    \"\"\n)","v":""},{"$f":"IFERROR(1+INDEX(Utente[INPUT], MATCH(1, (Utente[Source.Name.1]=F26) * (Utente[[Participant ]]=\"Nombre d'autres participants similaires\"), 0)),\"\")","v":""},{"$f":"IFERROR(INDEX(impianto_FV[Installation 1]+impianto_FV[Installation 2]+impianto_FV[Installation 3]+impianto_FV[Installation 4], MATCH(1, (impianto_FV[Source.Name.1]=F26) * (impianto_FV[Photovoltaïque]=\"Puissance installée [kW]\"), 0))+INDEX(impianto_HYDRO[Caractéristiques], MATCH(1, (impianto_HYDRO[Source.Name.1]=F26) * (impianto_HYDRO[hydroélectrique]=\"Puissance du générateur [kW]\"), 0))+INDEX(orario[Puissance installée '[kW']], MATCH(1, (orario[Source.Name.1]=F26) * 1, 0)),\"\")","v":""},{"$f":"IFERROR(INDEX(Utente[INPUT], MATCH(1, (Utente[Source.Name.1]=F26) * (Utente[[Participant ]]=\"en cas de clé statique, indiquer le coefficient de répartition \"), 0)),\"\")","v":""},"20_User",{"$f":"IFERROR(INDEX(output_utente[Colonna1], MATCH(1, (output_utente[Source.Name.1]='OUTPUT OUTIL ENERGETIQUE'!F26) * (output_utente[output]=\"somma consumi\"), 0)), \"\")","v":""},"",{"$f":"IFERROR(INDEX(output_utente[Colonna1], MATCH(1, (output_utente[Source.Name.1]='OUTPUT OUTIL ENERGETIQUE'!F26) * (output_utente[output]=\"produzione\"), 0)), \"\")","v":""},"",{"$f":"IFERROR(INDEX(output_utente[Colonna1], MATCH(1, (output_utente[Source.Name.1]='OUTPUT OUTIL ENERGETIQUE'!F26) * (output_utente[output]=\"energia immessa in cer\"), 0)), \"\")","v":""},{"$f":"IFERROR(INDEX(Distribuzione[Somma], MATCH(1, (Distribuzione[User]='OUTPUT OUTIL ENERGETIQUE'!F26)*1, 0)), \"\")","v":""},{"$f":"IFERROR(INDEX(output_utente[Colonna1], MATCH(1, (output_utente[Source.Name.1]='OUTPUT OUTIL ENERGETIQUE'!F26) * (output_utente[output]=\"autosufficenza\"), 0)), \"\")","v":""},{"$f":"IFERROR(INDEX(output_utente[Colonna1], MATCH(1, (output_utente[Source.Name.1]='OUTPUT OUTIL ENERGETIQUE'!F26) * (output_utente[output]=\"autoconsumo\"), 0)), \"\")","v":""},{"$f":"IFERROR(SUMIF(INDIRECT(\"Contributo_cer[\" & $F26 & \" - Fasce Francesi stagionalità]\"),'OUTPUT OUTIL ENERGETIQUE'!$O$6,INDIRECT(\"Contributo_cer[\" & $F26 & \" - consumo]\")),\"\")","v":""},{"$f":"IFERROR(SUMIF(INDIRECT(\"Contributo_cer[\" & F26 & \" - Fasce Francesi stagionalità]\"),'OUTPUT OUTIL ENERGETIQUE'!$P$6,INDIRECT(\"Contributo_cer[\" & F26 & \" - consumo]\")),\"\")","v":""},{"$f":"IFERROR(SUMIF(INDIRECT(\"Contributo_cer[\" & F26 & \" - Fasce Francesi stagionalità]\"),'OUTPUT OUTIL ENERGETIQUE'!$Q$6,INDIRECT(\"Contributo_cer[\" & F26 & \" - consumo]\")),\"\")","v":""},{"$f":"IFERROR(SUMIF(INDIRECT(\"Contributo_cer[\" & F26 & \" - Fasce Francesi stagionalità]\"),'OUTPUT OUTIL ENERGETIQUE'!$R$6,INDIRECT(\"Contributo_cer[\" & F26 & \" - consumo]\")),\"\")","v":""},{"$f":"IFERROR(SUMIF(INDIRECT(\"Contributo_cer[\" & F26 & \" - Fasce Francesi stagionalità]\"),'OUTPUT OUTIL ENERGETIQUE'!$S$6,INDIRECT(\"Contributo_cer[\" & F26 & \" - consumo]\")),\"\")","v":""},{"$f":"IFERROR(SUMIF(INDIRECT(\"Contributo_cer[\" & F26 & \" - Fasce Francesi stagionalità]\"),'OUTPUT OUTIL ENERGETIQUE'!$T$6,INDIRECT(\"Contributo_cer[\" & F26 & \" - consumi rimanenti]\")),\"\")","v":""},{"$f":"IFERROR(SUMIF(INDIRECT(\"Contributo_cer[\" & F26 & \" - Fasce Francesi stagionalità]\"),'OUTPUT OUTIL ENERGETIQUE'!$U$6,INDIRECT(\"Contributo_cer[\" & F26 & \" - consumi rimanenti]\")),\"\")","v":""},{"$f":"IFERROR(SUMIF(INDIRECT(\"Contributo_cer[\" & F26 & \" - Fasce Francesi stagionalità]\"),'OUTPUT OUTIL ENERGETIQUE'!$V$6,INDIRECT(\"Contributo_cer[\" & F26 & \" - consumi rimanenti]\")),\"\")","v":""},{"$f":"IFERROR(SUMIF(INDIRECT(\"Contributo_cer[\" & F26 & \" - Fasce Francesi stagionalità]\"),'OUTPUT OUTIL ENERGETIQUE'!$W$6,INDIRECT(\"Contributo_cer[\" & F26 & \" - consumi rimanenti]\")),\"\")","v":""},{"$f":"IFERROR(SUMIF(INDIRECT(\"Contributo_cer[\" & F26 & \" - Fasce Francesi stagionalità]\"),'OUTPUT OUTIL ENERGETIQUE'!$X$6,INDIRECT(\"Contributo_cer[\" & F26 & \" - consumi rimanenti]\")),\"\")","v":""},{"$f":"IFERROR(SUMIF(INDIRECT(\"Contributo_cer[\" & F26 & \" - Fasce Francesi stagionalità]\"), 'OUTPUT OUTIL ENERGETIQUE'!$Y$6, INDIRECT(\"Contributo_cer[Distribuzione - \" & F26 & \" - consumi rimanenti]\")),\"\")","v":""},{"$f":"IFERROR(SUMIF(INDIRECT(\"Contributo_cer[\" & F26 & \" - Fasce Francesi stagionalità]\"), 'OUTPUT OUTIL ENERGETIQUE'!$Z$6, INDIRECT(\"Contributo_cer[Distribuzione - \" & F26 & \" - consumi rimanenti]\")),\"\")","v":""},{"$f":"IFERROR(SUMIF(INDIRECT(\"Contributo_cer[\" & F26 & \" - Fasce Francesi stagionalità]\"), 'OUTPUT OUTIL ENERGETIQUE'!$AA$6, INDIRECT(\"Contributo_cer[Distribuzione - \" & F26 & \" - consumi rimanenti]\")),\"\")","v":""},{"$f":"IFERROR(SUMIF(INDIRECT(\"Contributo_cer[\" & F26 & \" - Fasce Francesi stagionalità]\"), 'OUTPUT OUTIL ENERGETIQUE'!$AB$6, INDIRECT(\"Contributo_cer[Distribuzione - \" & F26 & \" - consumi rimanenti]\")),\"\")","v":""},{"$f":"IFERROR(SUMIF(INDIRECT(\"Contributo_cer[\" & F26 & \" - Fasce Francesi stagionalità]\"), 'OUTPUT OUTIL ENERGETIQUE'!$AC$6, INDIRECT(\"Contributo_cer[Distribuzione - \" & F26 & \" - consumi rimanenti]\")),\"\")","v":""},"","","","","",null,""]
[{"$f":"IFERROR(INDEX(Utente[INPUT], MATCH(1, (Utente[Source.Name.1]='OUTPUT OUTIL ENERGETIQUE'!F27) * (Utente[[Participant ]]=\"Nom du participant\"), 0)), \"\")","v":""},{"$f":"IFERROR(\n    IF(\n        INDEX(Utente[INPUT], MATCH(1, (Utente[Source.Name.1]=F27) * (Utente[[Participant ]]=\"Type de production d'énergie\"), 0)) = 0,\n        INDEX(orario[Type de production d''énergie], MATCH(1, (orario[Source.Name.1]=F27) * 1, 0)),\n        INDEX(Utente[INPUT], MATCH(1, (Utente[Source.Name.1]=F27) * (Utente[[Participant ]]=\"Type de production d'énergie\"), 0))\n    ),\n    \"\"\n)","v":""},{"$f":"IFERROR(1+INDEX(Utente[INPUT], MATCH(1, (Utente[Source.Name.1]=F27) * (Utente[[Participant ]]=\"Nombre d'autres participants similaires\"), 0)),\"\")","v":""},{"$f":"IFERROR(INDEX(impianto_FV[Installation 1]+impianto_FV[Installation 2]+impianto_FV[Installation 3]+impianto_FV[Installation 4], MATCH(1, (impianto_FV[Source.Name.1]=F27) * (impianto_FV[Photovoltaïque]=\"Puissance installée [kW]\"), 0))+INDEX(impianto_HYDRO[Caractéristiques], MATCH(1, (impianto_HYDRO[Source.Name.1]=F27) * (impianto_HYDRO[hydroélectrique]=\"Puissance du générateur [kW]\"), 0))+INDEX(orario[Puissance installée '[kW']], MATCH(1, (orario[Source.Name.1]=F27) * 1, 0)),\"\")","v":""},{"$f":"IFERROR(INDEX(Utente[INPUT], MATCH(1, (Utente[Source.Name.1]=F27) * (Utente[[Participant ]]=\"en cas de clé statique, indiquer le coefficient de répartition \"), 0)),\"\")","v":""},"21_User",{"$f":"IFERROR(INDEX(output_utente[Colonna1], MATCH(1, (output_utente[Source.Name.1]='OUTPUT OUTIL ENERGETIQUE'!F27) * (output_utente[output]=\"somma consumi\"), 0)), \"\")","v":""},"",{"$f":"IFERROR(INDEX(output_utente[Colonna1], MATCH(1, (output_utente[Source.Name.1]='OUTPUT OUTIL ENERGETIQUE'!F27) * (output_utente[output]=\"produzione\"), 0)), \"\")","v":""},"",{"$f":"IFERROR(INDEX(output_utente[Colonna1], MATCH(1, (output_utente[Source.Name.1]='OUTPUT OUTIL ENERGETIQUE'!F27) * (output_utente[output]=\"energia immessa in cer\"), 0)), \"\")","v":""},{"$f":"IFERROR(INDEX(Distribuzione[Somma], MATCH(1, (Distribuzione[User]='OUTPUT OUTIL ENERGETIQUE'!F27)*1, 0)), \"\")","v":""},{"$f":"IFERROR(INDEX(output_utente[Colonna1], MATCH(1, (output_utente[Source.Name.1]='OUTPUT OUTIL ENERGETIQUE'!F27) * (output_utente[output]=\"autosufficenza\"), 0)), \"\")","v":""},{"$f":"IFERROR(INDEX(output_utente[Colonna1], MATCH(1, (output_utente[Source.Name.1]='OUTPUT OUTIL ENERGETIQUE'!F27) * (output_utente[output]=\"autoconsumo\"), 0)), \"\")","v":""},{"$f":"IFERROR(SUMIF(INDIRECT(\"Contributo_cer[\" & $F27 & \" - Fasce Francesi stagionalità]\"),'OUTPUT OUTIL ENERGETIQUE'!$O$6,INDIRECT(\"Contributo_cer[\" & $F27 & \" - consumo]\")),\"\")","v":""},{"$f":"IFERROR(SUMIF(INDIRECT(\"Contributo_cer[\" & F27 & \" - Fasce Francesi stagionalità]\"),'OUTPUT OUTIL ENERGETIQUE'!$P$6,INDIRECT(\"Contributo_cer[\" & F27 & \" - consumo]\")),\"\")","v":""},{"$f":"IFERROR(SUMIF(INDIRECT(\"Contributo_cer[\" & F27 & \" - Fasce Francesi stagionalità]\"),'OUTPUT OUTIL ENERGETIQUE'!$Q$6,INDIRECT(\"Contributo_cer[\" & F27 & \" - consumo]\")),\"\")","v":""},{"$f":"IFERROR(SUMIF(INDIRECT(\"Contributo_cer[\" & F27 & \" - Fasce Francesi stagionalità]\"),'OUTPUT OUTIL ENERGETIQUE'!$R$6,INDIRECT(\"Contributo_cer[\" & F27 & \" - consumo]\")),\"\")","v":""},{"$f":"IFERROR(SUMIF(INDIRECT(\"Contributo_cer[\" & F27 & \" - Fasce Francesi stagionalità]\"),'OUTPUT OUTIL ENERGETIQUE'!$S$6,INDIRECT(\"Contributo_cer[\" & F27 & \" - consumo]\")),\"\")","v":""},{"$f":"IFERROR(SUMIF(INDIRECT(\"Contributo_cer[\" & F27 & \" - Fasce Francesi stagionalità]\"),'OUTPUT OUTIL ENERGETIQUE'!$T$6,INDIRECT(\"Contributo_cer[\" & F27 & \" - consumi rimanenti]\")),\"\")","v":""},{"$f":"IFERROR(SUMIF(INDIRECT(\"Contributo_cer[\" & F27 & \" - Fasce Francesi stagionalità]\"),'OUTPUT OUTIL ENERGETIQUE'!$U$6,INDIRECT(\"Contributo_cer[\" & F27 & \" - consumi rimanenti]\")),\"\")","v":""},{"$f":"IFERROR(SUMIF(INDIRECT(\"Contributo_cer[\" & F27 & \" - Fasce Francesi stagionalità]\"),'OUTPUT OUTIL ENERGETIQUE'!$V$6,INDIRECT(\"Contributo_cer[\" & F27 & \" - consumi rimanenti]\")),\"\")","v":""},{"$f":"IFERROR(SUMIF(INDIRECT(\"Contributo_cer[\" & F27 & \" - Fasce Francesi stagionalità]\"),'OUTPUT OUTIL ENERGETIQUE'!$W$6,INDIRECT(\"Contributo_cer[\" & F27 & \" - consumi rimanenti]\")),\"\")","v":""},{"$f":"IFERROR(SUMIF(INDIRECT(\"Contributo_cer[\" & F27 & \" - Fasce Francesi stagionalità]\"),'OUTPUT OUTIL ENERGETIQUE'!$X$6,INDIRECT(\"Contributo_cer[\" & F27 & \" - consumi rimanenti]\")),\"\")","v":""},{"$f":"IFERROR(SUMIF(INDIRECT(\"Contributo_cer[\" & F27 & \" - Fasce Francesi stagionalità]\"), 'OUTPUT OUTIL ENERGETIQUE'!$Y$6, INDIRECT(\"Contributo_cer[Distribuzione - \" & F27 & \" - consumi rimanenti]\")),\"\")","v":""},{"$f":"IFERROR(SUMIF(INDIRECT(\"Contributo_cer[\" & F27 & \" - Fasce Francesi stagionalità]\"), 'OUTPUT OUTIL ENERGETIQUE'!$Z$6, INDIRECT(\"Contributo_cer[Distribuzione - \" & F27 & \" - consumi rimanenti]\")),\"\")","v":""},{"$f":"IFERROR(SUMIF(INDIRECT(\"Contributo_cer[\" & F27 & \" - Fasce Francesi stagionalità]\"), 'OUTPUT OUTIL ENERGETIQUE'!$AA$6, INDIRECT(\"Contributo_cer[Distribuzione - \" & F27 & \" - consumi rimanenti]\")),\"\")","v":""},{"$f":"IFERROR(SUMIF(INDIRECT(\"Contributo_cer[\" & F27 & \" - Fasce Francesi stagionalità]\"), 'OUTPUT OUTIL ENERGETIQUE'!$AB$6, INDIRECT(\"Contributo_cer[Distribuzione - \" & F27 & \" - consumi rimanenti]\")),\"\")","v":""},{"$f":"IFERROR(SUMIF(INDIRECT(\"Contributo_cer[\" & F27 & \" - Fasce Francesi stagionalità]\"), 'OUTPUT OUTIL ENERGETIQUE'!$AC$6, INDIRECT(\"Contributo_cer[Distribuzione - \" & F27 & \" - consumi rimanenti]\")),\"\")","v":""},"","","","","",null,""]
[{"$f":"IFERROR(INDEX(Utente[INPUT], MATCH(1, (Utente[Source.Name.1]='OUTPUT OUTIL ENERGETIQUE'!F28) * (Utente[[Participant ]]=\"Nom du participant\"), 0)), \"\")","v":""},{"$f":"IFERROR(\n    IF(\n        INDEX(Utente[INPUT], MATCH(1, (Utente[Source.Name.1]=F28) * (Utente[[Participant ]]=\"Type de production d'énergie\"), 0)) = 0,\n        INDEX(orario[Type de production d''énergie], MATCH(1, (orario[Source.Name.1]=F28) * 1, 0)),\n        INDEX(Utente[INPUT], MATCH(1, (Utente[Source.Name.1]=F28) * (Utente[[Participant ]]=\"Type de production d'énergie\"), 0))\n    ),\n    \"\"\n)","v":""},{"$f":"IFERROR(1+INDEX(Utente[INPUT], MATCH(1, (Utente[Source.Name.1]=F28) * (Utente[[Participant ]]=\"Nombre d'autres participants similaires\"), 0)),\"\")","v":""},{"$f":"IFERROR(INDEX(impianto_FV[Installation 1]+impianto_FV[Installation 2]+impianto_FV[Installation 3]+impianto_FV[Installation 4], MATCH(1, (impianto_FV[Source.Name.1]=F28) * (impianto_FV[Photovoltaïque]=\"Puissance installée [kW]\"), 0))+INDEX(impianto_HYDRO[Caractéristiques], MATCH(1, (impianto_HYDRO[Source.Name.1]=F28) * (impianto_HYDRO[hydroélectrique]=\"Puissance du générateur [kW]\"), 0))+INDEX(orario[Puissance installée '[kW']], MATCH(1, (orario[Source.Name.1]=F28) * 1, 0)),\"\")","v":""},{"$f":"IFERROR(INDEX(Utente[INPUT], MATCH(1, (Utente[Source.Name.1]=F28) * (Utente[[Participant ]]=\"en cas de clé statique, indiquer le coefficient de répartition \"), 0)),\"\")","v":""},"22_User",{"$f":"IFERROR(INDEX(output_utente[Colonna1], MATCH(1, (output_utente[Source.Name.1]='OUTPUT OUTIL ENERGETIQUE'!F28) * (output_utente[output]=\"somma consumi\"), 0)), \"\")","v":""},"",{"$f":"IFERROR(INDEX(output_utente[Colonna1], MATCH(1, (output_utente[Source.Name.1]='OUTPUT OUTIL ENERGETIQUE'!F28) * (output_utente[output]=\"produzione\"), 0)), \"\")","v":""},"",{"$f":"IFERROR(INDEX(output_utente[Colonna1], MATCH(1, (output_utente[Source.Name.1]='OUTPUT OUTIL ENERGETIQUE'!F28) * (output_utente[output]=\"energia immessa in cer\"), 0)), \"\")","v":""},{"$f":"IFERROR(INDEX(Distribuzione[Somma], MATCH(1, (Distribuzione[User]='OUTPUT OUTIL ENERGETIQUE'!F28)*1, 0)), \"\")","v":""},{"$f":"IFERROR(INDEX(output_utente[Colonna1], MATCH(1, (output_utente[Source.Name.1]='OUTPUT OUTIL ENERGETIQUE'!F28) * (output_utente[output]=\"autosufficenza\"), 0)), \"\")","v":""},{"$f":"IFERROR(INDEX(output_utente[Colonna1], MATCH(1, (output_utente[Source.Name.1]='OUTPUT OUTIL ENERGETIQUE'!F28) * (output_utente[output]=\"autoconsumo\"), 0)), \"\")","v":""},{"$f":"IFERROR(SUMIF(INDIRECT(\"Contributo_cer[\" & $F28 & \" - Fasce Francesi stagionalità]\"),'OUTPUT OUTIL ENERGETIQUE'!$O$6,INDIRECT(\"Contributo_cer[\" & $F28 & \" - consumo]\")),\"\")","v":""},{"$f":"IFERROR(SUMIF(INDIRECT(\"Contributo_cer[\" & F28 & \" - Fasce Francesi stagionalità]\"),'OUTPUT OUTIL ENERGETIQUE'!$P$6,INDIRECT(\"Contributo_cer[\" & F28 & \" - consumo]\")),\"\")","v":""},{"$f":"IFERROR(SUMIF(INDIRECT(\"Contributo_cer[\" & F28 & \" - Fasce Francesi stagionalità]\"),'OUTPUT OUTIL ENERGETIQUE'!$Q$6,INDIRECT(\"Contributo_cer[\" & F28 & \" - consumo]\")),\"\")","v":""},{"$f":"IFERROR(SUMIF(INDIRECT(\"Contributo_cer[\" & F28 & \" - Fasce Francesi stagionalità]\"),'OUTPUT OUTIL ENERGETIQUE'!$R$6,INDIRECT(\"Contributo_cer[\" & F28 & \" - consumo]\")),\"\")","v":""},{"$f":"IFERROR(SUMIF(INDIRECT(\"Contributo_cer[\" & F28 & \" - Fasce Francesi stagionalità]\"),'OUTPUT OUTIL ENERGETIQUE'!$S$6,INDIRECT(\"Contributo_cer[\" & F28 & \" - consumo]\")),\"\")","v":""},{"$f":"IFERROR(SUMIF(INDIRECT(\"Contributo_cer[\" & F28 & \" - Fasce Francesi stagionalità]\"),'OUTPUT OUTIL ENERGETIQUE'!$T$6,INDIRECT(\"Contributo_cer[\" & F28 & \" - consumi rimanenti]\")),\"\")","v":""},{"$f":"IFERROR(SUMIF(INDIRECT(\"Contributo_cer[\" & F28 & \" - Fasce Francesi stagionalità]\"),'OUTPUT OUTIL ENERGETIQUE'!$U$6,INDIRECT(\"Contributo_cer[\" & F28 & \" - consumi rimanenti]\")),\"\")","v":""},{"$f":"IFERROR(SUMIF(INDIRECT(\"Contributo_cer[\" & F28 & \" - Fasce Francesi stagionalità]\"),'OUTPUT OUTIL ENERGETIQUE'!$V$6,INDIRECT(\"Contributo_cer[\" & F28 & \" - consumi rimanenti]\")),\"\")","v":""},{"$f":"IFERROR(SUMIF(INDIRECT(\"Contributo_cer[\" & F28 & \" - Fasce Francesi stagionalità]\"),'OUTPUT OUTIL ENERGETIQUE'!$W$6,INDIRECT(\"Contributo_cer[\" & F28 & \" - consumi rimanenti]\")),\"\")","v":""},{"$f":"IFERROR(SUMIF(INDIRECT(\"Contributo_cer[\" & F28 & \" - Fasce Francesi stagionalità]\"),'OUTPUT OUTIL ENERGETIQUE'!$X$6,INDIRECT(\"Contributo_cer[\" & F28 & \" - consumi rimanenti]\")),\"\")","v":""},{"$f":"IFERROR(SUMIF(INDIRECT(\"Contributo_cer[\" & F28 & \" - Fasce Francesi stagionalità]\"), 'OUTPUT OUTIL ENERGETIQUE'!$Y$6, INDIRECT(\"Contributo_cer[Distribuzione - \" & F28 & \" - consumi rimanenti]\")),\"\")","v":""},{"$f":"IFERROR(SUMIF(INDIRECT(\"Contributo_cer[\" & F28 & \" - Fasce Francesi stagionalità]\"), 'OUTPUT OUTIL ENERGETIQUE'!$Z$6, INDIRECT(\"Contributo_cer[Distribuzione - \" & F28 & \" - consumi rimanenti]\")),\"\")","v":""},{"$f":"IFERROR(SUMIF(INDIRECT(\"Contributo_cer[\" & F28 & \" - Fasce Francesi stagionalità]\"), 'OUTPUT OUTIL ENERGETIQUE'!$AA$6, INDIRECT(\"Contributo_cer[Distribuzione - \" & F28 & \" - consumi rimanenti]\")),\"\")","v":""},{"$f":"IFERROR(SUMIF(INDIRECT(\"Contributo_cer[\" & F28 & \" - Fasce Francesi stagionalità]\"), 'OUTPUT OUTIL ENERGETIQUE'!$AB$6, INDIRECT(\"Contributo_cer[Distribuzione - \" & F28 & \" - consumi rimanenti]\")),\"\")","v":""},{"$f":"IFERROR(SUMIF(INDIRECT(\"Contributo_cer[\" & F28 & \" - Fasce Francesi stagionalità]\"), 'OUTPUT OUTIL ENERGETIQUE'!$AC$6, INDIRECT(\"Contributo_cer[Distribuzione - \" & F28 & \" - consumi rimanenti]\")),\"\")","v":""},"","","","","",null,""]
[{"$f":"IFERROR(INDEX(Utente[INPUT], MATCH(1, (Utente[Source.Name.1]='OUTPUT OUTIL ENERGETIQUE'!F29) * (Utente[[Participant ]]=\"Nom du participant\"), 0)), \"\")","v":""},{"$f":"IFERROR(\n    IF(\n        INDEX(Utente[INPUT], MATCH(1, (Utente[Source.Name.1]=F29) * (Utente[[Participant ]]=\"Type de production d'énergie\"), 0)) = 0,\n        INDEX(orario[Type de production d''énergie], MATCH(1, (orario[Source.Name.1]=F29) * 1, 0)),\n        INDEX(Utente[INPUT], MATCH(1, (Utente[Source.Name.1]=F29) * (Utente[[Participant ]]=\"Type de production d'énergie\"), 0))\n    ),\n    \"\"\n)","v":""},{"$f":"IFERROR(1+INDEX(Utente[INPUT], MATCH(1, (Utente[Source.Name.1]=F29) * (Utente[[Participant ]]=\"Nombre d'autres participants similaires\"), 0)),\"\")","v":""},{"$f":"IFERROR(INDEX(impianto_FV[Installation 1]+impianto_FV[Installation 2]+impianto_FV[Installation 3]+impianto_FV[Installation 4], MATCH(1, (impianto_FV[Source.Name.1]=F29) * (impianto_FV[Photovoltaïque]=\"Puissance installée [kW]\"), 0))+INDEX(impianto_HYDRO[Caractéristiques], MATCH(1, (impianto_HYDRO[Source.Name.1]=F29) * (impianto_HYDRO[hydroélectrique]=\"Puissance du générateur [kW]\"), 0))+INDEX(orario[Puissance installée '[kW']], MATCH(1, (orario[Source.Name.1]=F29) * 1, 0)),\"\")","v":""},{"$f":"IFERROR(INDEX(Utente[INPUT], MATCH(1, (Utente[Source.Name.1]=F29) * (Utente[[Participant ]]=\"en cas de clé statique, indiquer le coefficient de répartition \"), 0)),\"\")","v":""},"23_User",{"$f":"IFERROR(INDEX(output_utente[Colonna1], MATCH(1, (output_utente[Source.Name.1]='OUTPUT OUTIL ENERGETIQUE'!F29) * (output_utente[output]=\"somma consumi\"), 0)), \"\")","v":""},"",{"$f":"IFERROR(INDEX(output_utente[Colonna1], MATCH(1, (output_utente[Source.Name.1]='OUTPUT OUTIL ENERGETIQUE'!F29) * (output_utente[output]=\"produzione\"), 0)), \"\")","v":""},"",{"$f":"IFERROR(INDEX(output_utente[Colonna1], MATCH(1, (output_utente[Source.Name.1]='OUTPUT OUTIL ENERGETIQUE'!F29) * (output_utente[output]=\"energia immessa in cer\"), 0)), \"\")","v":""},{"$f":"IFERROR(INDEX(Distribuzione[Somma], MATCH(1, (Distribuzione[User]='OUTPUT OUTIL ENERGETIQUE'!F29)*1, 0)), \"\")","v":""},{"$f":"IFERROR(INDEX(output_utente[Colonna1], MATCH(1, (output_utente[Source.Name.1]='OUTPUT OUTIL ENERGETIQUE'!F29) * (output_utente[output]=\"autosufficenza\"), 0)), \"\")","v":""},{"$f":"IFERROR(INDEX(output_utente[Colonna1], MATCH(1, (output_utente[Source.Name.1]='OUTPUT OUTIL ENERGETIQUE'!F29) * (output_utente[output]=\"autoconsumo\"), 0)), \"\")","v":""},{"$f":"IFERROR(SUMIF(INDIRECT(\"Contributo_cer[\" & $F29 & \" - Fasce Francesi stagionalità]\"),'OUTPUT OUTIL ENERGETIQUE'!$O$6,INDIRECT(\"Contributo_cer[\" & $F29 & \" - consumo]\")),\"\")","v":""},{"$f":"IFERROR(SUMIF(INDIRECT(\"Contributo_cer[\" & F29 & \" - Fasce Francesi stagionalità]\"),'OUTPUT OUTIL ENERGETIQUE'!$P$6,INDIRECT(\"Contributo_cer[\" & F29 & \" - consumo]\")),\"\")","v":""},{"$f":"IFERROR(SUMIF(INDIRECT(\"Contributo_cer[\" & F29 & \" - Fasce Francesi stagionalità]\"),'OUTPUT OUTIL ENERGETIQUE'!$Q$6,INDIRECT(\"Contributo_cer[\" & F29 & \" - consumo]\")),\"\")","v":""},{"$f":"IFERROR(SUMIF(INDIRECT(\"Contributo_cer[\" & F29 & \" - Fasce Francesi stagionalità]\"),'OUTPUT OUTIL ENERGETIQUE'!$R$6,INDIRECT(\"Contributo_cer[\" & F29 & \" - consumo]\")),\"\")","v":""},{"$f":"IFERROR(SUMIF(INDIRECT(\"Contributo_cer[\" & F29 & \" - Fasce Francesi stagionalità]\"),'OUTPUT OUTIL ENERGETIQUE'!$S$6,INDIRECT(\"Contributo_cer[\" & F29 & \" - consumo]\")),\"\")","v":""},{"$f":"IFERROR(SUMIF(INDIRECT(\"Contributo_cer[\" & F29 & \" - Fasce Francesi stagionalità]\"),'OUTPUT OUTIL ENERGETIQUE'!$T$6,INDIRECT(\"Contributo_cer[\" & F29 & \" - consumi rimanenti]\")),\"\")","v":""},{"$f":"IFERROR(SUMIF(INDIRECT(\"Contributo_cer[\" & F29 & \" - Fasce Francesi stagionalità]\"),'OUTPUT OUTIL ENERGETIQUE'!$U$6,INDIRECT(\"Contributo_cer[\" & F29 & \" - consumi rimanenti]\")),\"\")","v":""},{"$f":"IFERROR(SUMIF(INDIRECT(\"Contributo_cer[\" & F29 & \" - Fasce Francesi stagionalità]\"),'OUTPUT OUTIL ENERGETIQUE'!$V$6,INDIRECT(\"Contributo_cer[\" & F29 & \" - consumi rimanenti]\")),\"\")","v":""},{"$f":"IFERROR(SUMIF(INDIRECT(\"Contributo_cer[\" & F29 & \" - Fasce Francesi stagionalità]\"),'OUTPUT OUTIL ENERGETIQUE'!$W$6,INDIRECT(\"Contributo_cer[\" & F29 & \" - consumi rimanenti]\")),\"\")","v":""},{"$f":"IFERROR(SUMIF(INDIRECT(\"Contributo_cer[\" & F29 & \" - Fasce Francesi stagionalità]\"),'OUTPUT OUTIL ENERGETIQUE'!$X$6,INDIRECT(\"Contributo_cer[\" & F29 & \" - consumi rimanenti]\")),\"\")","v":""},{"$f":"IFERROR(SUMIF(INDIRECT(\"Contributo_cer[\" & F29 & \" - Fasce Francesi stagionalità]\"), 'OUTPUT OUTIL ENERGETIQUE'!$Y$6, INDIRECT(\"Contributo_cer[Distribuzione - \" & F29 & \" - consumi rimanenti]\")),\"\")","v":""},{"$f":"IFERROR(SUMIF(INDIRECT(\"Contributo_cer[\" & F29 & \" - Fasce Francesi stagionalità]\"), 'OUTPUT OUTIL ENERGETIQUE'!$Z$6, INDIRECT(\"Contributo_cer[Distribuzione - \" & F29 & \" - consumi rimanenti]\")),\"\")","v":""},{"$f":"IFERROR(SUMIF(INDIRECT(\"Contributo_cer[\" & F29 & \" - Fasce Francesi stagionalità]\"), 'OUTPUT OUTIL ENERGETIQUE'!$AA$6, INDIRECT(\"Contributo_cer[Distribuzione - \" & F29 & \" - consumi rimanenti]\")),\"\")","v":""},{"$f":"IFERROR(SUMIF(INDIRECT(\"Contributo_cer[\" & F29 & \" - Fasce Francesi stagionalità]\"), 'OUTPUT OUTIL ENERGETIQUE'!$AB$6, INDIRECT(\"Contributo_cer[Distribuzione - \" & F29 & \" - consumi rimanenti]\")),\"\")","v":""},{"$f":"IFERROR(SUMIF(INDIRECT(\"Contributo_cer[\" & F29 & \" - Fasce Francesi stagionalità]\"), 'OUTPUT OUTIL ENERGETIQUE'!$AC$6, INDIRECT(\"Contributo_cer[Distribuzione - \" & F29 & \" - consumi rimanenti]\")),\"\")","v":""},"","","","","",null,""]
[{"$f":"IFERROR(INDEX(Utente[INPUT], MATCH(1, (Utente[Source.Name.1]='OUTPUT OUTIL ENERGETIQUE'!F30) * (Utente[[Participant ]]=\"Nom du participant\"), 0)), \"\")","v":""},{"$f":"IFERROR(\n    IF(\n        INDEX(Utente[INPUT], MATCH(1, (Utente[Source.Name.1]=F30) * (Utente[[Participant ]]=\"Type de production d'énergie\"), 0)) = 0,\n        INDEX(orario[Type de production d''énergie], MATCH(1, (orario[Source.Name.1]=F30) * 1, 0)),\n        INDEX(Utente[INPUT], MATCH(1, (Utente[Source.Name.1]=F30) * (Utente[[Participant ]]=\"Type de production d'énergie\"), 0))\n    ),\n    \"\"\n)","v":""},{"$f":"IFERROR(1+INDEX(Utente[INPUT], MATCH(1, (Utente[Source.Name.1]=F30) * (Utente[[Participant ]]=\"Nombre d'autres participants similaires\"), 0)),\"\")","v":""},{"$f":"IFERROR(INDEX(impianto_FV[Installation 1]+impianto_FV[Installation 2]+impianto_FV[Installation 3]+impianto_FV[Installation 4], MATCH(1, (impianto_FV[Source.Name.1]=F30) * (impianto_FV[Photovoltaïque]=\"Puissance installée [kW]\"), 0))+INDEX(impianto_HYDRO[Caractéristiques], MATCH(1, (impianto_HYDRO[Source.Name.1]=F30) * (impianto_HYDRO[hydroélectrique]=\"Puissance du générateur [kW]\"), 0))+INDEX(orario[Puissance installée '[kW']], MATCH(1, (orario[Source.Name.1]=F30) * 1, 0)),\"\")","v":""},{"$f":"IFERROR(INDEX(Utente[INPUT], MATCH(1, (Utente[Source.Name.1]=F30) * (Utente[[Participant ]]=\"en cas de clé statique, indiquer le coefficient de répartition \"), 0)),\"\")","v":""},"24_User",{"$f":"IFERROR(INDEX(output_utente[Colonna1], MATCH(1, (output_utente[Source.Name.1]='OUTPUT OUTIL ENERGETIQUE'!F30) * (output_utente[output]=\"somma consumi\"), 0)), \"\")","v":""},"",{"$f":"IFERROR(INDEX(output_utente[Colonna1], MATCH(1, (output_utente[Source.Name.1]='OUTPUT OUTIL ENERGETIQUE'!F30) * (output_utente[output]=\"produzione\"), 0)), \"\")","v":""},"",{"$f":"IFERROR(INDEX(output_utente[Colonna1], MATCH(1, (output_utente[Source.Name.1]='OUTPUT OUTIL ENERGETIQUE'!F30) * (output_utente[output]=\"energia immessa in cer\"), 0)), \"\")","v":""},{"$f":"IFERROR(INDEX(Distribuzione[Somma], MATCH(1, (Distribuzione[User]='OUTPUT OUTIL ENERGETIQUE'!F30)*1, 0)), \"\")","v":""},{"$f":"IFERROR(INDEX(output_utente[Colonna1], MATCH(1, (output_utente[Source.Name.1]='OUTPUT OUTIL ENERGETIQUE'!F30) * (output_utente[output]=\"autosufficenza\"), 0)), \"\")","v":""},{"$f":"IFERROR(INDEX(output_utente[Colonna1], MATCH(1, (output_utente[Source.Name.1]='OUTPUT OUTIL ENERGETIQUE'!F30) * (output_utente[output]=\"autoconsumo\"), 0)), \"\")","v":""},{"$f":"IFERROR(SUMIF(INDIRECT(\"Contributo_cer[\" & $F30 & \" - Fasce Francesi stagionalità]\"),'OUTPUT OUTIL ENERGETIQUE'!$O$6,INDIRECT(\"Contributo_cer[\" & $F30 & \" - consumo]\")),\"\")","v":""},{"$f":"IFERROR(SUMIF(INDIRECT(\"Contributo_cer[\" & F30 & \" - Fasce Francesi stagionalità]\"),'OUTPUT OUTIL ENERGETIQUE'!$P$6,INDIRECT(\"Contributo_cer[\" & F30 & \" - consumo]\")),\"\")","v":""},{"$f":"IFERROR(SUMIF(INDIRECT(\"Contributo_cer[\" & F30 & \" - Fasce Francesi stagionalità]\"),'OUTPUT OUTIL ENERGETIQUE'!$Q$6,INDIRECT(\"Contributo_cer[\" & F30 & \" - consumo]\")),\"\")","v":""},{"$f":"IFERROR(SUMIF(INDIRECT(\"Contributo_cer[\" & F30 & \" - Fasce Francesi stagionalità]\"),'OUTPUT OUTIL ENERGETIQUE'!$R$6,INDIRECT(\"Contributo_cer[\" & F30 & \" - consumo]\")),\"\")","v":""},{"$f":"IFERROR(SUMIF(INDIRECT(\"Contributo_cer[\" & F30 & \" - Fasce Francesi stagionalità]\"),'OUTPUT OUTIL ENERGETIQUE'!$S$6,INDIRECT(\"Contributo_cer[\" & F30 & \" - consumo]\")),\"\")","v":""},{"$f":"IFERROR(SUMIF(INDIRECT(\"Contributo_cer[\" & F30 & \" - Fasce Francesi stagionalità]\"),'OUTPUT OUTIL ENERGETIQUE'!$T$6,INDIRECT(\"Contributo_cer[\" & F30 & \" - consumi rimanenti]\")),\"\")","v":""},{"$f":"IFERROR(SUMIF(INDIRECT(\"Contributo_cer[\" & F30 & \" - Fasce Francesi stagionalità]\"),'OUTPUT OUTIL ENERGETIQUE'!$U$6,INDIRECT(\"Contributo_cer[\" & F30 & \" - consumi rimanenti]\")),\"\")","v":""},{"$f":"IFERROR(SUMIF(INDIRECT(\"Contributo_cer[\" & F30 & \" - Fasce Francesi stagionalità]\"),'OUTPUT OUTIL ENERGETIQUE'!$V$6,INDIRECT(\"Contributo_cer[\" & F30 & \" - consumi rimanenti]\")),\"\")","v":""},{"$f":"IFERROR(SUMIF(INDIRECT(\"Contributo_cer[\" & F30 & \" - Fasce Francesi stagionalità]\"),'OUTPUT OUTIL ENERGETIQUE'!$W$6,INDIRECT(\"Contributo_cer[\" & F30 & \" - consumi rimanenti]\")),\"\")","v":""},{"$f":"IFERROR(SUMIF(INDIRECT(\"Contributo_cer[\" & F30 & \" - Fasce Francesi stagionalità]\"),'OUTPUT OUTIL ENERGETIQUE'!$X$6,INDIRECT(\"Contributo_cer[\" & F30 & \" - consumi rimanenti]\")),\"\")","v":""},{"$f":"IFERROR(SUMIF(INDIRECT(\"Contributo_cer[\" & F30 & \" - Fasce Francesi stagionalità]\"), 'OUTPUT OUTIL ENERGETIQUE'!$Y$6, INDIRECT(\"Contributo_cer[Distribuzione - \" & F30 & \" - consumi rimanenti]\")),\"\")","v":""},{"$f":"IFERROR(SUMIF(INDIRECT(\"Contributo_cer[\" & F30 & \" - Fasce Francesi stagionalità]\"), 'OUTPUT OUTIL ENERGETIQUE'!$Z$6, INDIRECT(\"Contributo_cer[Distribuzione - \" & F30 & \" - consumi rimanenti]\")),\"\")","v":""},{"$f":"IFERROR(SUMIF(INDIRECT(\"Contributo_cer[\" & F30 & \" - Fasce Francesi stagionalità]\"), 'OUTPUT OUTIL ENERGETIQUE'!$AA$6, INDIRECT(\"Contributo_cer[Distribuzione - \" & F30 & \" - consumi rimanenti]\")),\"\")","v":""},{"$f":"IFERROR(SUMIF(INDIRECT(\"Contributo_cer[\" & F30 & \" - Fasce Francesi stagionalità]\"), 'OUTPUT OUTIL ENERGETIQUE'!$AB$6, INDIRECT(\"Contributo_cer[Distribuzione - \" & F30 & \" - consumi rimanenti]\")),\"\")","v":""},{"$f":"IFERROR(SUMIF(INDIRECT(\"Contributo_cer[\" & F30 & \" - Fasce Francesi stagionalità]\"), 'OUTPUT OUTIL ENERGETIQUE'!$AC$6, INDIRECT(\"Contributo_cer[Distribuzione - \" & F30 & \" - consumi rimanenti]\")),\"\")","v":""},"","","","","",null,""]
[{"$f":"IFERROR(INDEX(Utente[INPUT], MATCH(1, (Utente[Source.Name.1]='OUTPUT OUTIL ENERGETIQUE'!F31) * (Utente[[Participant ]]=\"Nom du participant\"), 0)), \"\")","v":""},{"$f":"IFERROR(\n    IF(\n        INDEX(Utente[INPUT], MATCH(1, (Utente[Source.Name.1]=F31) * (Utente[[Participant ]]=\"Type de production d'énergie\"), 0)) = 0,\n        INDEX(orario[Type de production d''énergie], MATCH(1, (orario[Source.Name.1]=F31) * 1, 0)),\n        INDEX(Utente[INPUT], MATCH(1, (Utente[Source.Name.1]=F31) * (Utente[[Participant ]]=\"Type de production d'énergie\"), 0))\n    ),\n    \"\"\n)","v":""},{"$f":"IFERROR(1+INDEX(Utente[INPUT], MATCH(1, (Utente[Source.Name.1]=F31) * (Utente[[Participant ]]=\"Nombre d'autres participants similaires\"), 0)),\"\")","v":""},{"$f":"IFERROR(INDEX(impianto_FV[Installation 1]+impianto_FV[Installation 2]+impianto_FV[Installation 3]+impianto_FV[Installation 4], MATCH(1, (impianto_FV[Source.Name.1]=F31) * (impianto_FV[Photovoltaïque]=\"Puissance installée [kW]\"), 0))+INDEX(impianto_HYDRO[Caractéristiques], MATCH(1, (impianto_HYDRO[Source.Name.1]=F31) * (impianto_HYDRO[hydroélectrique]=\"Puissance du générateur [kW]\"), 0))+INDEX(orario[Puissance installée '[kW']], MATCH(1, (orario[Source.Name.1]=F31) * 1, 0)),\"\")","v":""},{"$f":"IFERROR(INDEX(Utente[INPUT], MATCH(1, (Utente[Source.Name.1]=F31) * (Utente[[Participant ]]=\"en cas de clé statique, indiquer le coefficient de répartition \"), 0)),\"\")","v":""},"25_User",{"$f":"IFERROR(INDEX(output_utente[Colonna1], MATCH(1, (output_utente[Source.Name.1]='OUTPUT OUTIL ENERGETIQUE'!F31) * (output_utente[output]=\"somma consumi\"), 0)), \"\")","v":""},"",{"$f":"IFERROR(INDEX(output_utente[Colonna1], MATCH(1, (output_utente[Source.Name.1]='OUTPUT OUTIL ENERGETIQUE'!F31) * (output_utente[output]=\"produzione\"), 0)), \"\")","v":""},"",{"$f":"IFERROR(INDEX(output_utente[Colonna1], MATCH(1, (output_utente[Source.Name.1]='OUTPUT OUTIL ENERGETIQUE'!F31) * (output_utente[output]=\"energia immessa in cer\"), 0)), \"\")","v":""},{"$f":"IFERROR(INDEX(Distribuzione[Somma], MATCH(1, (Distribuzione[User]='OUTPUT OUTIL ENERGETIQUE'!F31)*1, 0)), \"\")","v":""},{"$f":"IFERROR(INDEX(output_utente[Colonna1], MATCH(1, (output_utente[Source.Name.1]='OUTPUT OUTIL ENERGETIQUE'!F31) * (output_utente[output]=\"autosufficenza\"), 0)), \"\")","v":""},{"$f":"IFERROR(INDEX(output_utente[Colonna1], MATCH(1, (output_utente[Source.Name.1]='OUTPUT OUTIL ENERGETIQUE'!F31) * (output_utente[output]=\"autoconsumo\"), 0)), \"\")","v":""},{"$f":"IFERROR(SUMIF(INDIRECT(\"Contributo_cer[\" & $F31 & \" - Fasce Francesi stagionalità]\"),'OUTPUT OUTIL ENERGETIQUE'!$O$6,INDIRECT(\"Contributo_cer[\" & $F31 & \" - consumo]\")),\"\")","v":""},{"$f":"IFERROR(SUMIF(INDIRECT(\"Contributo_cer[\" & F31 & \" - Fasce Francesi stagionalità]\"),'OUTPUT OUTIL ENERGETIQUE'!$P$6,INDIRECT(\"Contributo_cer[\" & F31 & \" - consumo]\")),\"\")","v":""},{"$f":"IFERROR(SUMIF(INDIRECT(\"Contributo_cer[\" & F31 & \" - Fasce Francesi stagionalità]\"),'OUTPUT OUTIL ENERGETIQUE'!$Q$6,INDIRECT(\"Contributo_cer[\" & F31 & \" - consumo]\")),\"\")","v":""},{"$f":"IFERROR(SUMIF(INDIRECT(\"Contributo_cer[\" & F31 & \" - Fasce Francesi stagionalità]\"),'OUTPUT OUTIL ENERGETIQUE'!$R$6,INDIRECT(\"Contributo_cer[\" & F31 & \" - consumo]\")),\"\")","v":""},{"$f":"IFERROR(SUMIF(INDIRECT(\"Contributo_cer[\" & F31 & \" - Fasce Francesi stagionalità]\"),'OUTPUT OUTIL ENERGETIQUE'!$S$6,INDIRECT(\"Contributo_cer[\" & F31 & \" - consumo]\")),\"\")","v":""},{"$f":"IFERROR(SUMIF(INDIRECT(\"Contributo_cer[\" & F31 & \" - Fasce Francesi stagionalità]\"),'OUTPUT OUTIL ENERGETIQUE'!$T$6,INDIRECT(\"Contributo_cer[\" & F31 & \" - consumi rimanenti]\")),\"\")","v":""},{"$f":"IFERROR(SUMIF(INDIRECT(\"Contributo_cer[\" & F31 & \" - Fasce Francesi stagionalità]\"),'OUTPUT OUTIL ENERGETIQUE'!$U$6,INDIRECT(\"Contributo_cer[\" & F31 & \" - consumi rimanenti]\")),\"\")","v":""},{"$f":"IFERROR(SUMIF(INDIRECT(\"Contributo_cer[\" & F31 & \" - Fasce Francesi stagionalità]\"),'OUTPUT OUTIL ENERGETIQUE'!$V$6,INDIRECT(\"Contributo_cer[\" & F31 & \" - consumi rimanenti]\")),\"\")","v":""},{"$f":"IFERROR(SUMIF(INDIRECT(\"Contributo_cer[\" & F31 & \" - Fasce Francesi stagionalità]\"),'OUTPUT OUTIL ENERGETIQUE'!$W$6,INDIRECT(\"Contributo_cer[\" & F31 & \" - consumi rimanenti]\")),\"\")","v":""},{"$f":"IFERROR(SUMIF(INDIRECT(\"Contributo_cer[\" & F31 & \" - Fasce Francesi stagionalità]\"),'OUTPUT OUTIL ENERGETIQUE'!$X$6,INDIRECT(\"Contributo_cer[\" & F31 & \" - consumi rimanenti]\")),\"\")","v":""},{"$f":"IFERROR(SUMIF(INDIRECT(\"Contributo_cer[\" & F31 & \" - Fasce Francesi stagionalità]\"), 'OUTPUT OUTIL ENERGETIQUE'!$Y$6, INDIRECT(\"Contributo_cer[Distribuzione - \" & F31 & \" - consumi rimanenti]\")),\"\")","v":""},{"$f":"IFERROR(SUMIF(INDIRECT(\"Contributo_cer[\" & F31 & \" - Fasce Francesi stagionalità]\"), 'OUTPUT OUTIL ENERGETIQUE'!$Z$6, INDIRECT(\"Contributo_cer[Distribuzione - \" & F31 & \" - consumi rimanenti]\")),\"\")","v":""},{"$f":"IFERROR(SUMIF(INDIRECT(\"Contributo_cer[\" & F31 & \" - Fasce Francesi stagionalità]\"), 'OUTPUT OUTIL ENERGETIQUE'!$AA$6, INDIRECT(\"Contributo_cer[Distribuzione - \" & F31 & \" - consumi rimanenti]\")),\"\")","v":""},{"$f":"IFERROR(SUMIF(INDIRECT(\"Contributo_cer[\" & F31 & \" - Fasce Francesi stagionalità]\"), 'OUTPUT OUTIL ENERGETIQUE'!$AB$6, INDIRECT(\"Contributo_cer[Distribuzione - \" & F31 & \" - consumi rimanenti]\")),\"\")","v":""},{"$f":"IFERROR(SUMIF(INDIRECT(\"Contributo_cer[\" & F31 & \" - Fasce Francesi stagionalità]\"), 'OUTPUT OUTIL ENERGETIQUE'!$AC$6, INDIRECT(\"Contributo_cer[Distribuzione - \" & F31 & \" - consumi rimanenti]\")),\"\")","v":""},"","","","","",null,""]
["surplus",null,null,null,null,"TOTAL",{"$f":"+SUM(G7:G31)","v":0},{"$f":"+SUM(H7:H31)","v":0},{"$f":"+SUM(I7:I31)","v":0},0,0,0,null,null,null,null,null,null,null,null,null,null,null,null,null,null,null,null,null,null,null,null,null,null,null,{"$f":"1-SUM(AJ7:AJ31)","v":1}]
[null,null,{"$f":"IFERROR(INDEX(Contributo_cer__2[autoconsumo %], MATCH(1, (Contributo_cer__2[MM]='OUTPUT OUTIL ENERGETIQUE'!$AG33) * (Contributo_cer__2[Giorno]='OUTPUT OUTIL ENERGETIQUE'!#REF!), 0)), \"\")","v":""},null,{"$f":"IF(SUM(E7:E31)>1,\"Attention, la somme des coefficients de répartition dépasse 100 %!\",\"\")","v":""},null,null,null,null,null,null,null,null,null,null,null,null,null,null,null,null,null,null,null,null,null,null,null,null,null,null,null,null,{"$f":"IFERROR(INDEX(Contributo_cer__2[autoconsumo %], MATCH(1, (Contributo_cer__2[MM]='OUTPUT OUTIL ENERGETIQUE'!$AG33) * (Contributo_cer__2[Giorno]='OUTPUT OUTIL ENERGETIQUE'!#REF!), 0)), \"\")","v":""},{"$f":"IFERROR(INDEX(Contributo_cer__2[autoconsumo %], MATCH(1, (Contributo_cer__2[MM]='OUTPUT OUTIL ENERGETIQUE'!$AG33) * (Contributo_cer__2[Giorno]='OUTPUT OUTIL ENERGETIQUE'!#REF!), 0)), \"\")","v":""},{"$f":"IFERROR(INDEX(Contributo_cer__2[autoconsumo %], MATCH(1, (Contributo_cer__2[MM]='OUTPUT OUTIL ENERGETIQUE'!$AG33) * (Contributo_cer__2[Giorno]='OUTPUT OUTIL ENERGETIQUE'!#REF!), 0)), \"\")","v":""},{"$f":"IFERROR(INDEX(Contributo_cer__2[autoconsumo %], MATCH(1, (Contributo_cer__2[MM]='OUTPUT OUTIL ENERGETIQUE'!$AG33) * (Contributo_cer__2[Giorno]='OUTPUT OUTIL ENERGETIQUE'!#REF!), 0)), \"\")","v":""},{"$f":"IFERROR(INDEX(Contributo_cer__2[autoconsumo %], MATCH(1, (Contributo_cer__2[MM]='OUTPUT OUTIL ENERGETIQUE'!$AG33) * (Contributo_cer__2[Giorno]='OUTPUT OUTIL ENERGETIQUE'!#REF!), 0)), \"\")","v":""},{"$f":"IFERROR(INDEX(Contributo_cer__2[autoconsumo %], MATCH(1, (Contributo_cer__2[MM]='OUTPUT OUTIL ENERGETIQUE'!$AG33) * (Contributo_cer__2[Giorno]='OUTPUT OUTIL ENERGETIQUE'!#REF!), 0)), \"\")","v":""},{"$f":"IFERROR(INDEX(Contributo_cer__2[autoconsumo %], MATCH(1, (Contributo_cer__2[MM]='OUTPUT OUTIL ENERGETIQUE'!$AG33) * (Contributo_cer__2[Giorno]='OUTPUT OUTIL ENERGETIQUE'!#REF!), 0)), \"\")","v":""},null,{"$f":"IFERROR(INDEX(Contributo_cer__2[autoconsumo %], MATCH(1, (Contributo_cer__2[MM]='OUTPUT OUTIL ENERGETIQUE'!$AG33) * (Contributo_cer__2[Giorno]='OUTPUT OUTIL ENERGETIQUE'!#REF!), 0)), \"\")","v":""},{"$f":"IFERROR(INDEX(Contributo_cer__2[autoconsumo %], MATCH(1, (Contributo_cer__2[MM]='OUTPUT OUTIL ENERGETIQUE'!$AG33) * (Contributo_cer__2[Giorno]='OUTPUT OUTIL ENERGETIQUE'!#REF!), 0)), \"\")","v":""},{"$f":"IFERROR(INDEX(Contributo_cer__2[autoconsumo %], MATCH(1, (Contributo_cer__2[MM]='OUTPUT OUTIL ENERGETIQUE'!$AG33) * (Contributo_cer__2[Giorno]='OUTPUT OUTIL ENERGETIQUE'!#REF!), 0)), \"\")","v":""},{"$f":"IFERROR(INDEX(Contributo_cer__2[autoconsumo %], MATCH(1, (Contributo_cer__2[MM]='OUTPUT OUTIL ENERGETIQUE'!$AG33) * (Contributo_cer__2[Giorno]='OUTPUT OUTIL ENERGETIQUE'!#REF!), 0)), \"\")","v":""},{"$f":"IFERROR(INDEX(Contributo_cer__2[autoconsumo %], MATCH(1, (Contributo_cer__2[MM]='OUTPUT OUTIL ENERGETIQUE'!$AG33) * (Contributo_cer__2[Giorno]='OUTPUT OUTIL ENERGETIQUE'!#REF!), 0)), \"\")","v":""},{"$f":"IFERROR(INDEX(Contributo_cer__2[autoconsumo %], MATCH(1, (Contributo_cer__2[MM]='OUTPUT OUTIL ENERGETIQUE'!$AG33) * (Contributo_cer__2[Giorno]='OUTPUT OUTIL ENERGETIQUE'!#REF!), 0)), \"\")","v":""},{"$f":"IFERROR(INDEX(Contributo_cer__2[autoconsumo %], MATCH(1, (Contributo_cer__2[MM]='OUTPUT OUTIL ENERGETIQUE'!$AG33) * (Contributo_cer__2[Giorno]='OUTPUT OUTIL ENERGETIQUE'!#REF!), 0)), \"\")","v":""},{"$f":"IFERROR(INDEX(Contributo_cer__2[autoconsumo %], MATCH(1, (Contributo_cer__2[MM]='OUTPUT OUTIL ENERGETIQUE'!$AG33) * (Contributo_cer__2[Giorno]='OUTPUT OUTIL ENERGETIQUE'!#REF!), 0)), \"\")","v":""},{"$f":"IFERROR(INDEX(Contributo_cer__2[autoconsumo %], MATCH(1, (Contributo_cer__2[MM]='OUTPUT OUTIL ENERGETIQUE'!$AG33) * (Contributo_cer__2[Giorno]='OUTPUT OUTIL ENERGETIQUE'!#REF!), 0)), \"\")","v":""},{"$f":"IFERROR(INDEX(Contributo_cer__2[autoconsumo %], MATCH(1, (Contributo_cer__2[MM]='OUTPUT OUTIL ENERGETIQUE'!$AG33) * (Contributo_cer__2[Giorno]='OUTPUT OUTIL ENERGETIQUE'!#REF!), 0)), \"\")","v":""},{"$f":"IFERROR(INDEX(Contributo_cer__2[autoconsumo %], MATCH(1, (Contributo_cer__2[MM]='OUTPUT OUTIL ENERGETIQUE'!$AG33) * (Contributo_cer__2[Giorno]='OUTPUT OUTIL ENERGETIQUE'!#REF!), 0)), \"\")","v":""},{"$f":"IFERROR(INDEX(Contributo_cer__2[autoconsumo %], MATCH(1, (Contributo_cer__2[MM]='OUTPUT OUTIL ENERGETIQUE'!$AG33) * (Contributo_cer__2[Giorno]='OUTPUT OUTIL ENERGETIQUE'!#REF!), 0)), \"\")","v":""},{"$f":"IFERROR(INDEX(Contributo_cer__2[autoconsumo %], MATCH(1, (Contributo_cer__2[MM]='OUTPUT OUTIL ENERGETIQUE'!$AG33) * (Contributo_cer__2[Giorno]='OUTPUT OUTIL ENERGETIQUE'!#REF!), 0)), \"\")","v":""},{"$f":"IFERROR(INDEX(Contributo_cer__2[autoconsumo %], MATCH(1, (Contributo_cer__2[MM]='OUTPUT OUTIL ENERGETIQUE'!$AG33) * (Contributo_cer__2[Giorno]='OUTPUT OUTIL ENERGETIQUE'!#REF!), 0)), \"\")","v":""},{"$f":"IFERROR(INDEX(Contributo_cer__2[autoconsumo %], MATCH(1, (Contributo_cer__2[MM]='OUTPUT OUTIL ENERGETIQUE'!$AG33) * (Contributo_cer__2[Giorno]='OUTPUT OUTIL ENERGETIQUE'!#REF!), 0)), \"\")","v":""},{"$f":"IFERROR(INDEX(Contributo_cer__2[autoconsumo %], MATCH(1, (Contributo_cer__2[MM]='OUTPUT OUTIL ENERGETIQUE'!$AG33) * (Contributo_cer__2[Giorno]='OUTPUT OUTIL ENERGETIQUE'!#REF!), 0)), \"\")","v":""},{"$f":"IFERROR(INDEX(Contributo_cer__2[autoconsumo %], MATCH(1, (Contributo_cer__2[MM]='OUTPUT OUTIL ENERGETIQUE'!$AG33) * (Contributo_cer__2[Giorno]='OUTPUT OUTIL ENERGETIQUE'!#REF!), 0)), \"\")","v":""},{"$f":"IFERROR(INDEX(Contributo_cer__2[autoconsumo %], MATCH(1, (Contributo_cer__2[MM]='OUTPUT OUTIL ENERGETIQUE'!$AG33) * (Contributo_cer__2[Giorno]='OUTPUT OUTIL ENERGETIQUE'!#REF!), 0)), \"\")","v":""},{"$f":"IFERROR(INDEX(Contributo_cer__2[autoconsumo %], MATCH(1, (Contributo_cer__2[MM]='OUTPUT OUTIL ENERGETIQUE'!$AG33) * (Contributo_cer__2[Giorno]='OUTPUT OUTIL ENERGETIQUE'!#REF!), 0)), \"\")","v":""},{"$f":"IFERROR(INDEX(Contributo_cer__2[autoconsumo %], MATCH(1, (Contributo_cer__2[MM]='OUTPUT OUTIL ENERGETIQUE'!$AG33) * (Contributo_cer__2[Giorno]='OUTPUT OUTIL ENERGETIQUE'!#REF!), 0)), \"\")","v":""},{"$f":"IFERROR(INDEX(Contributo_cer__2[autoconsumo %], MATCH(1, (Contributo_cer__2[MM]='OUTPUT OUTIL ENERGETIQUE'!$AG33) * (Contributo_cer__2[Giorno]='OUTPUT OUTIL ENERGETIQUE'!#REF!), 0)), \"\")","v":""},{"$f":"IFERROR(INDEX(Contributo_cer__2[autoconsumo %], MATCH(1, (Contributo_cer__2[MM]='OUTPUT OUTIL ENERGETIQUE'!$AG33) * (Contributo_cer__2[Giorno]='OUTPUT OUTIL ENERGETIQUE'!#REF!), 0)), \"\")","v":""},{"$f":"IFERROR(INDEX(Contributo_cer__2[autoconsumo %], MATCH(1, (Contributo_cer__2[MM]='OUTPUT OUTIL ENERGETIQUE'!$AG33) * (Contributo_cer__2[Giorno]='OUTPUT OUTIL ENERGETIQUE'!#REF!), 0)), \"\")","v":""},{"$f":"IFERROR(INDEX(Contributo_cer__2[autoconsumo %], MATCH(1, (Contributo_cer__2[MM]='OUTPUT OUTIL ENERGETIQUE'!$AG33) * (Contributo_cer__2[Giorno]='OUTPUT OUTIL ENERGETIQUE'!#REF!), 0)), \"\")","v":""}]
[null,null,{"$f":"IFERROR(INDEX(Contributo_cer__2[autoconsumo %], MATCH(1, (Contributo_cer__2[MM]='OUTPUT OUTIL ENERGETIQUE'!$AG34) * (Contributo_cer__2[Giorno]='OUTPUT OUTIL ENERGETIQUE'!#REF!), 0)), \"\")","v":""},{"$f":"IFERROR(INDEX(Contributo_cer__2[autoconsumo %], MATCH(1, (Contributo_cer__2[MM]='OUTPUT OUTIL ENERGETIQUE'!$AG34) * (Contributo_cer__2[Giorno]='OUTPUT OUTIL ENERGETIQUE'!#REF!), 0)), \"\")","v":""},null,null,null,null,null,null,null,null,null,null,null,null,null,null,null,null,null,null,null,null,null,null,null,null,null,null,null,null,null,{"$f":"IFERROR(INDEX(Contributo_cer__2[autoconsumo %], MATCH(1, (Contributo_cer__2[MM]='OUTPUT OUTIL ENERGETIQUE'!$AG34) * (Contributo_cer__2[Giorno]='OUTPUT OUTIL ENERGETIQUE'!#REF!), 0)), \"\")","v":""},{"$f":"IFERROR(INDEX(Contributo_cer__2[autoconsumo %], MATCH(1, (Contributo_cer__2[MM]='OUTPUT OUTIL ENERGETIQUE'!$AG34) * (Contributo_cer__2[Giorno]='OUTPUT OUTIL ENERGETIQUE'!#REF!), 0)), \"\")","v":""},{"$f":"IFERROR(INDEX(Contributo_cer__2[autoconsumo %], MATCH(1, (Contributo_cer__2[MM]='OUTPUT OUTIL ENERGETIQUE'!$AG34) * (Contributo_cer__2[Giorno]='OUTPUT OUTIL ENERGETIQUE'!#REF!), 0)), \"\")","v":""},{"$f":"IFERROR(INDEX(Contributo_cer__2[autoconsumo %], MATCH(1, (Contributo_cer__2[MM]='OUTPUT OUTIL ENERGETIQUE'!$AG34) * (Contributo_cer__2[Giorno]='OUTPUT OUTIL ENERGETIQUE'!#REF!), 0)), \"\")","v":""},{"$f":"IFERROR(INDEX(Contributo_cer__2[autoconsumo %], MATCH(1, (Contributo_cer__2[MM]='OUTPUT OUTIL ENERGETIQUE'!$AG34) * (Contributo_cer__2[Giorno]='OUTPUT OUTIL ENERGETIQUE'!#REF!), 0)), \"\")","v":""},{"$f":"IFERROR(INDEX(Contributo_cer__2[autoconsumo %], MATCH(1, (Contributo_cer__2[MM]='OUTPUT OUTIL ENERGETIQUE'!$AG34) * (Contributo_cer__2[Giorno]='OUTPUT OUTIL ENERGETIQUE'!#REF!), 0)), \"\")","v":""},{"$f":"IFERROR(INDEX(Contributo_cer__2[autoconsumo %], MATCH(1, (Contributo_cer__2[MM]='OUTPUT OUTIL ENERGETIQUE'!$AG34) * (Contributo_cer__2[Giorno]='OUTPUT OUTIL ENERGETIQUE'!#REF!), 0)), \"\")","v":""},null,{"$f":"IFERROR(INDEX(Contributo_cer__2[autoconsumo %], MATCH(1, (Contributo_cer__2[MM]='OUTPUT OUTIL ENERGETIQUE'!$AG34) * (Contributo_cer__2[Giorno]='OUTPUT OUTIL ENERGETIQUE'!#REF!), 0)), \"\")","v":""},{"$f":"IFERROR(INDEX(Contributo_cer__2[autoconsumo %], MATCH(1, (Contributo_cer__2[MM]='OUTPUT OUTIL ENERGETIQUE'!$AG34) * (Contributo_cer__2[Giorno]='OUTPUT OUTIL ENERGETIQUE'!#REF!), 0)), \"\")","v":""},{"$f":"IFERROR(INDEX(Contributo_cer__2[autoconsumo %], MATCH(1, (Contributo_cer__2[MM]='OUTPUT OUTIL ENERGETIQUE'!$AG34) * (Contributo_cer__2[Giorno]='OUTPUT OUTIL ENERGETIQUE'!#REF!), 0)), \"\")","v":""},{"$f":"IFERROR(INDEX(Contributo_cer__2[autoconsumo %], MATCH(1, (Contributo_cer__2[MM]='OUTPUT OUTIL ENERGETIQUE'!$AG34) * (Contributo_cer__2[Giorno]='OUTPUT OUTIL ENERGETIQUE'!#REF!), 0)), \"\")","v":""},{"$f":"IFERROR(INDEX(Contributo_cer__2[autoconsumo %], MATCH(1, (Contributo_cer__2[MM]='OUTPUT OUTIL ENERGETIQUE'!$AG34) * (Contributo_cer__2[Giorno]='OUTPUT OUTIL ENERGETIQUE'!#REF!), 0)), \"\")","v":""},{"$f":"IFERROR(INDEX(Contributo_cer__2[autoconsumo %], MATCH(1, (Contributo_cer__2[MM]='OUTPUT OUTIL ENERGETIQUE'!$AG34) * (Contributo_cer__2[Giorno]='OUTPUT OUTIL ENERGETIQUE'!#REF!), 0)), \"\")","v":""},{"$f":"IFERROR(INDEX(Contributo_cer__2[autoconsumo %], MATCH(1, (Contributo_cer__2[MM]='OUTPUT OUTIL ENERGETIQUE'!$AG34) * (Contributo_cer__2[Giorno]='OUTPUT OUTIL ENERGETIQUE'!#REF!), 0)), \"\")","v":""},{"$f":"IFERROR(INDEX(Contributo_cer__2[autoconsumo %], MATCH(1, (Contributo_cer__2[MM]='OUTPUT OUTIL ENERGETIQUE'!$AG34) * (Contributo_cer__2[Giorno]='OUTPUT OUTIL ENERGETIQUE'!#REF!), 0)), \"\")","v":""},{"$f":"IFERROR(INDEX(Contributo_cer__2[autoconsumo %], MATCH(1, (Contributo_cer__2[MM]='OUTPUT OUTIL ENERGETIQUE'!$AG34) * (Contributo_cer__2[Giorno]='OUTPUT OUTIL ENERGETIQUE'!#REF!), 0)), \"\")","v":""},{"$f":"IFERROR(INDEX(Contributo_cer__2[autoconsumo %], MATCH(1, (Contributo_cer__2[MM]='OUTPUT OUTIL ENERGETIQUE'!$AG34) * (Contributo_cer__2[Giorno]='OUTPUT OUTIL ENERGETIQUE'!#REF!), 0)), \"\")","v":""},{"$f":"IFERROR(INDEX(Contributo_cer__2[autoconsumo %], MATCH(1, (Contributo_cer__2[MM]='OUTPUT OUTIL ENERGETIQUE'!$AG34) * (Contributo_cer__2[Giorno]='OUTPUT OUTIL ENERGETIQUE'!#REF!), 0)), \"\")","v":""},{"$f":"IFERROR(INDEX(Contributo_cer__2[autoconsumo %], MATCH(1, (Contributo_cer__2[MM]='OUTPUT OUTIL ENERGETIQUE'!$AG34) * (Contributo_cer__2[Giorno]='OUTPUT OUTIL ENERGETIQUE'!#REF!), 0)), \"\")","v":""},{"$f":"IFERROR(INDEX(Contributo_cer__2[autoconsumo %], MATCH(1, (Contributo_cer__2[MM]='OUTPUT OUTIL ENERGETIQUE'!$AG34) * (Contributo_cer__2[Giorno]='OUTPUT OUTIL ENERGETIQUE'!#REF!), 0)), \"\")","v":""},{"$f":"IFERROR(INDEX(Contributo_cer__2[autoconsumo %], MATCH(1, (Contributo_cer__2[MM]='OUTPUT OUTIL ENERGETIQUE'!$AG34) * (Contributo_cer__2[Giorno]='OUTPUT OUTIL ENERGETIQUE'!#REF!), 0)), \"\")","v":""},{"$f":"IFERROR(INDEX(Contributo_cer__2[autoconsumo %], MATCH(1, (Contributo_cer__2[MM]='OUTPUT OUTIL ENERGETIQUE'!$AG34) * (Contributo_cer__2[Giorno]='OUTPUT OUTIL ENERGETIQUE'!#REF!), 0)), \"\")","v":""},{"$f":"IFERROR(INDEX(Contributo_cer__2[autoconsumo %], MATCH(1, (Contributo_cer__2[MM]='OUTPUT OUTIL ENERGETIQUE'!$AG34) * (Contributo_cer__2[Giorno]='OUTPUT OUTIL ENERGETIQUE'!#REF!), 0)), \"\")","v":""},{"$f":"IFERROR(INDEX(Contributo_cer__2[autoconsumo %], MATCH(1, (Contributo_cer__2[MM]='OUTPUT OUTIL ENERGETIQUE'!$AG34) * (Contributo_cer__2[Giorno]='OUTPUT OUTIL ENERGETIQUE'!#REF!), 0)), \"\")","v":""},{"$f":"IFERROR(INDEX(Contributo_cer__2[autoconsumo %], MATCH(1, (Contributo_cer__2[MM]='OUTPUT OUTIL ENERGETIQUE'!$AG34) * (Contributo_cer__2[Giorno]='OUTPUT OUTIL ENERGETIQUE'!#REF!), 0)), \"\")","v":""},{"$f":"IFERROR(INDEX(Contributo_cer__2[autoconsumo %], MATCH(1, (Contributo_cer__2[MM]='OUTPUT OUTIL ENERGETIQUE'!$AG34) * (Contributo_cer__2[Giorno]='OUTPUT OUTIL ENERGETIQUE'!#REF!), 0)), \"\")","v":""},{"$f":"IFERROR(INDEX(Contributo_cer__2[autoconsumo %], MATCH(1, (Contributo_cer__2[MM]='OUTPUT OUTIL ENERGETIQUE'!$AG34) * (Contributo_cer__2[Giorno]='OUTPUT OUTIL ENERGETIQUE'!#REF!), 0)), \"\")","v":""},{"$f":"IFERROR(INDEX(Contributo_cer__2[autoconsumo %], MATCH(1, (Contributo_cer__2[MM]='OUTPUT OUTIL ENERGETIQUE'!$AG34) * (Contributo_cer__2[Giorno]='OUTPUT OUTIL ENERGETIQUE'!#REF!), 0)), \"\")","v":""},{"$f":"IFERROR(INDEX(Contributo_cer__2[autoconsumo %], MATCH(1, (Contributo_cer__2[MM]='OUTPUT OUTIL ENERGETIQUE'!$AG34) * (Contributo_cer__2[Giorno]='OUTPUT OUTIL ENERGETIQUE'!#REF!), 0)), \"\")","v":""},{"$f":"IFERROR(INDEX(Contributo_cer__2[autoconsumo %], MATCH(1, (Contributo_cer__2[MM]='OUTPUT OUTIL ENERGETIQUE'!$AG34) * (Contributo_cer__2[Giorno]='OUTPUT OUTIL ENERGETIQUE'!#REF!), 0)), \"\")","v":""},{"$f":"IFERROR(INDEX(Contributo_cer__2[autoconsumo %], MATCH(1, (Contributo_cer__2[MM]='OUTPUT OUTIL ENERGETIQUE'!$AG34) * (Contributo_cer__2[Giorno]='OUTPUT OUTIL ENERGETIQUE'!#REF!), 0)), \"\")","v":""}]
[null,null,{"$f":"IFERROR(INDEX(Contributo_cer__2[autoconsumo %], MATCH(1, (Contributo_cer__2[MM]='OUTPUT OUTIL ENERGETIQUE'!$AG35) * (Contributo_cer__2[Giorno]='OUTPUT OUTIL ENERGETIQUE'!#REF!), 0)), \"\")","v":""},{"$f":"IFERROR(INDEX(Contributo_cer__2[autoconsumo %], MATCH(1, (Contributo_cer__2[MM]='OUTPUT OUTIL ENERGETIQUE'!$AG35) * (Contributo_cer__2[Giorno]='OUTPUT OUTIL ENERGETIQUE'!#REF!), 0)), \"\")","v":""},null,null,null,null,null,null,null,null,null,null,null,null,null,null,null,null,null,null,null,null,null,null,null,null,null,null,null,null,null,{"$f":"IFERROR(INDEX(Contributo_cer__2[autoconsumo %], MATCH(1, (Contributo_cer__2[MM]='OUTPUT OUTIL ENERGETIQUE'!$AG35) * (Contributo_cer__2[Giorno]='OUTPUT OUTIL ENERGETIQUE'!#REF!), 0)), \"\")","v":""},{"$f":"IFERROR(INDEX(Contributo_cer__2[autoconsumo %], MATCH(1, (Contributo_cer__2[MM]='OUTPUT OUTIL ENERGETIQUE'!$AG35) * (Contributo_cer__2[Giorno]='OUTPUT OUTIL ENERGETIQUE'!#REF!), 0)), \"\")","v":""},{"$f":"IFERROR(INDEX(Contributo_cer__2[autoconsumo %], MATCH(1, (Contributo_cer__2[MM]='OUTPUT OUTIL ENERGETIQUE'!$AG35) * (Contributo_cer__2[Giorno]='OUTPUT OUTIL ENERGETIQUE'!#REF!), 0)), \"\")","v":""},{"$f":"IFERROR(INDEX(Contributo_cer__2[autoconsumo %], MATCH(1, (Contributo_cer__2[MM]='OUTPUT OUTIL ENERGETIQUE'!$AG35) * (Contributo_cer__2[Giorno]='OUTPUT OUTIL ENERGETIQUE'!#REF!), 0)), \"\")","v":""},{"$f":"IFERROR(INDEX(Contributo_cer__2[autoconsumo %], MATCH(1, (Contributo_cer__2[MM]='OUTPUT OUTIL ENERGETIQUE'!$AG35) * (Contributo_cer__2[Giorno]='OUTPUT OUTIL ENERGETIQUE'!#REF!), 0)), \"\")","v":""},{"$f":"IFERROR(INDEX(Contributo_cer__2[autoconsumo %], MATCH(1, (Contributo_cer__2[MM]='OUTPUT OUTIL ENERGETIQUE'!$AG35) * (Contributo_cer__2[Giorno]='OUTPUT OUTIL ENERGETIQUE'!#REF!), 0)), \"\")","v":""},{"$f":"IFERROR(INDEX(Contributo_cer__2[autoconsumo %], MATCH(1, (Contributo_cer__2[MM]='OUTPUT OUTIL ENERGETIQUE'!$AG35) * (Contributo_cer__2[Giorno]='OUTPUT OUTIL ENERGETIQUE'!#REF!), 0)), \"\")","v":""},null,{"$f":"IFERROR(INDEX(Contributo_cer__2[autoconsumo %], MATCH(1, (Contributo_cer__2[MM]='OUTPUT OUTIL ENERGETIQUE'!$AG35) * (Contributo_cer__2[Giorno]='OUTPUT OUTIL ENERGETIQUE'!#REF!), 0)), \"\")","v":""},{"$f":"IFERROR(INDEX(Contributo_cer__2[autoconsumo %], MATCH(1, (Contributo_cer__2[MM]='OUTPUT OUTIL ENERGETIQUE'!$AG35) * (Contributo_cer__2[Giorno]='OUTPUT OUTIL ENERGETIQUE'!#REF!), 0)), \"\")","v":""},{"$f":"IFERROR(INDEX(Contributo_cer__2[autoconsumo %], MATCH(1, (Contributo_cer__2[MM]='OUTPUT OUTIL ENERGETIQUE'!$AG35) * (Contributo_cer__2[Giorno]='OUTPUT OUTIL ENERGETIQUE'!#REF!), 0)), \"\")","v":""},{"$f":"IFERROR(INDEX(Contributo_cer__2[autoconsumo %], MATCH(1, (Contributo_cer__2[MM]='OUTPUT OUTIL ENERGETIQUE'!$AG35) * (Contributo_cer__2[Giorno]='OUTPUT OUTIL ENERGETIQUE'!#REF!), 0)), \"\")","v":""},{"$f":"IFERROR(INDEX(Contributo_cer__2[autoconsumo %], MATCH(1, (Contributo_cer__2[MM]='OUTPUT OUTIL ENERGETIQUE'!$AG35) * (Contributo_cer__2[Giorno]='OUTPUT OUTIL ENERGETIQUE'!#REF!), 0)), \"\")","v":""},{"$f":"IFERROR(INDEX(Contributo_cer__2[autoconsumo %], MATCH(1, (Contributo_cer__2[MM]='OUTPUT OUTIL ENERGETIQUE'!$AG35) * (Contributo_cer__2[Giorno]='OUTPUT OUTIL ENERGETIQUE'!#REF!), 0)), \"\")","v":""},{"$f":"IFERROR(INDEX(Contributo_cer__2[autoconsumo %], MATCH(1, (Contributo_cer__2[MM]='OUTPUT OUTIL ENERGETIQUE'!$AG35) * (Contributo_cer__2[Giorno]='OUTPUT OUTIL ENERGETIQUE'!#REF!), 0)), \"\")","v":""},{"$f":"IFERROR(INDEX(Contributo_cer__2[autoconsumo %], MATCH(1, (Contributo_cer__2[MM]='OUTPUT OUTIL ENERGETIQUE'!$AG35) * (Contributo_cer__2[Giorno]='OUTPUT OUTIL ENERGETIQUE'!#REF!), 0)), \"\")","v":""},{"$f":"IFERROR(INDEX(Contributo_cer__2[autoconsumo %], MATCH(1, (Contributo_cer__2[MM]='OUTPUT OUTIL ENERGETIQUE'!$AG35) * (Contributo_cer__2[Giorno]='OUTPUT OUTIL ENERGETIQUE'!#REF!), 0)), \"\")","v":""},{"$f":"IFERROR(INDEX(Contributo_cer__2[autoconsumo %], MATCH(1, (Contributo_cer__2[MM]='OUTPUT OUTIL ENERGETIQUE'!$AG35) * (Contributo_cer__2[Giorno]='OUTPUT OUTIL ENERGETIQUE'!#REF!), 0)), \"\")","v":""},{"$f":"IFERROR(INDEX(Contributo_cer__2[autoconsumo %], MATCH(1, (Contributo_cer__2[MM]='OUTPUT OUTIL ENERGETIQUE'!$AG35) * (Contributo_cer__2[Giorno]='OUTPUT OUTIL ENERGETIQUE'!#REF!), 0)), \"\")","v":""},{"$f":"IFERROR(INDEX(Contributo_cer__2[autoconsumo %], MATCH(1, (Contributo_cer__2[MM]='OUTPUT OUTIL ENERGETIQUE'!$AG35) * (Contributo_cer__2[Giorno]='OUTPUT OUTIL ENERGETIQUE'!#REF!), 0)), \"\")","v":""},{"$f":"IFERROR(INDEX(Contributo_cer__2[autoconsumo %], MATCH(1, (Contributo_cer__2[MM]='OUTPUT OUTIL ENERGETIQUE'!$AG35) * (Contributo_cer__2[Giorno]='OUTPUT OUTIL ENERGETIQUE'!#REF!), 0)), \"\")","v":""},{"$f":"IFERROR(INDEX(Contributo_cer__2[autoconsumo %], MATCH(1, (Contributo_cer__2[MM]='OUTPUT OUTIL ENERGETIQUE'!$AG35) * (Contributo_cer__2[Giorno]='OUTPUT OUTIL ENERGETIQUE'!#REF!), 0)), \"\")","v":""},{"$f":"IFERROR(INDEX(Contributo_cer__2[autoconsumo %], MATCH(1, (Contributo_cer__2[MM]='OUTPUT OUTIL ENERGETIQUE'!$AG35) * (Contributo_cer__2[Giorno]='OUTPUT OUTIL ENERGETIQUE'!#REF!), 0)), \"\")","v":""},{"$f":"IFERROR(INDEX(Contributo_cer__2[autoconsumo %], MATCH(1, (Contributo_cer__2[MM]='OUTPUT OUTIL ENERGETIQUE'!$AG35) * (Contributo_cer__2[Giorno]='OUTPUT OUTIL ENERGETIQUE'!#REF!), 0)), \"\")","v":""},{"$f":"IFERROR(INDEX(Contributo_cer__2[autoconsumo %], MATCH(1, (Contributo_cer__2[MM]='OUTPUT OUTIL ENERGETIQUE'!$AG35) * (Contributo_cer__2[Giorno]='OUTPUT OUTIL ENERGETIQUE'!#REF!), 0)), \"\")","v":""},{"$f":"IFERROR(INDEX(Contributo_cer__2[autoconsumo %], MATCH(1, (Contributo_cer__2[MM]='OUTPUT OUTIL ENERGETIQUE'!$AG35) * (Contributo_cer__2[Giorno]='OUTPUT OUTIL ENERGETIQUE'!#REF!), 0)), \"\")","v":""},{"$f":"IFERROR(INDEX(Contributo_cer__2[autoconsumo %], MATCH(1, (Contributo_cer__2[MM]='OUTPUT OUTIL ENERGETIQUE'!$AG35) * (Contributo_cer__2[Giorno]='OUTPUT OUTIL ENERGETIQUE'!#REF!), 0)), \"\")","v":""},{"$f":"IFERROR(INDEX(Contributo_cer__2[autoconsumo %], MATCH(1, (Contributo_cer__2[MM]='OUTPUT OUTIL ENERGETIQUE'!$AG35) * (Contributo_cer__2[Giorno]='OUTPUT OUTIL ENERGETIQUE'!#REF!), 0)), \"\")","v":""},{"$f":"IFERROR(INDEX(Contributo_cer__2[autoconsumo %], MATCH(1, (Contributo_cer__2[MM]='OUTPUT OUTIL ENERGETIQUE'!$AG35) * (Contributo_cer__2[Giorno]='OUTPUT OUTIL ENERGETIQUE'!#REF!), 0)), \"\")","v":""},{"$f":"IFERROR(INDEX(Contributo_cer__2[autoconsumo %], MATCH(1, (Contributo_cer__2[MM]='OUTPUT OUTIL ENERGETIQUE'!$AG35) * (Contributo_cer__2[Giorno]='OUTPUT OUTIL ENERGETIQUE'!#REF!), 0)), \"\")","v":""},{"$f":"IFERROR(INDEX(Contributo_cer__2[autoconsumo %], MATCH(1, (Contributo_cer__2[MM]='OUTPUT OUTIL ENERGETIQUE'!$AG35) * (Contributo_cer__2[Giorno]='OUTPUT OUTIL ENERGETIQUE'!#REF!), 0)), \"\")","v":""},{"$f":"IFERROR(INDEX(Contributo_cer__2[autoconsumo %], MATCH(1, (Contributo_cer__2[MM]='OUTPUT OUTIL ENERGETIQUE'!$AG35) * (Contributo_cer__2[Giorno]='OUTPUT OUTIL ENERGETIQUE'!#REF!), 0)), \"\")","v":""}]
["RECAPITULATIF ENERGETIQUE A L'ECHELLE DE L'OPERATION ACC"]
["Mois","Demande d'énergie [kWh]","Énergie soutirée [kWh]","Énergie produite [kWh]","Énergie autoconsommée directement (ACI) [kWh]","Énergie injectée dans le réseau [kWh]","Energie consommée en ACC [kWh]","Taux d'autoproduction","Taux d'autoconsommation"]
[1,{"$f":"+Pivot_2!B22","v":0},{"$f":"+Pivot_2!E22","v":0},{"$f":"+Pivot_2!C22","v":0},{"$f":"+B38-C38","v":0},{"$f":"+D38-E38","v":0},{"$f":"+Pivot_2!B7","v":0},{"$f":"+G38/C38","v":{"$error":"#DIV/0!"}},{"$f":"+G38/F38","v":{"$error":"#DIV/0!"}}]
[2,{"$f":"+Pivot_2!B23","v":0},{"$f":"+Pivot_2!E23","v":0},{"$f":"+Pivot_2!C23","v":0},{"$f":"+B39-C39","v":0},{"$f":"+D39-E39","v":0},{"$f":"+Pivot_2!B8","v":0},{"$f":"+G39/C39","v":{"$error":"#DIV/0!"}},{"$f":"+G39/F39","v":{"$error":"#DIV/0!"}}]
[3,{"$f":"+Pivot_2!B24","v":0},{"$f":"+Pivot_2!E24","v":0},{"$f":"+Pivot_2!C24","v":0},0,0,{"$f":"+Pivot_2!B9","v":0},{"$error":"#DIV/0!"},{"$error":"#DIV/0!"}]
[4,{"$f":"+Pivot_2!B25","v":0},{"$f":"+Pivot_2!E25","v":0},{"$f":"+Pivot_2!C25","v":0},0,0,{"$f":"+Pivot_2!B10","v":0},{"$error":"#DIV/0!"},{"$error":"#DIV/0!"}]
[5,{"$f":"+Pivot_2!B26","v":0},{"$f":"+Pivot_2!E26","v":0},{"$f":"+Pivot_2!C26","v":0},0,0,{"$f":"+Pivot_2!B11","v":0},{"$error":"#DIV/0!"},{"$error":"#DIV/0!"}]
[6,{"$f":"+Pivot_2!B27","v":0},{"$f":"+Pivot_2!E27","v":0},{"$f":"+Pivot_2!C27","v":0},0,0,{"$f":"+Pivot_2!B12","v":0},{"$error":"#DIV/0!"},{"$error":"#DIV/0!"}]
[7,{"$f":"+Pivot_2!B28","v":0},{"$f":"+Pivot_2!E28","v":0},{"$f":"+Pivot_2!C28","v":0},0,0,{"$f":"+Pivot_2!B13","v":0},{"$error":"#DIV/0!"},{"$error":"#DIV/0!"}]
[8,{"$f":"+Pivot_2!B29","v":0},{"$f":"+Pivot_2!E29","v":0},{"$f":"+Pivot_2!C29","v":0},0,0,{"$f":"+Pivot_2!B14","v":0},{"$error":"#DIV/0!"},{"$error":"#DIV/0!"}]
[9,{"$f":"+Pivot_2!B30","v":0},{"$f":"+Pivot_2!E30","v":0},{"$f":"+Pivot_2!C30","v":0},0,0,{"$f":"+Pivot_2!B15","v":0},{"$error":"#DIV/0!"},{"$error":"#DIV/0!"}]
[10,{"$f":"+Pivot_2!B31","v":0},{"$f":"+Pivot_2!E31","v":0},{"$f":"+Pivot_2!C31","v":0},0,0,{"$f":"+Pivot_2!B16","v":0},{"$error":"#DIV/0!"},{"$error":"#DIV/0!"}]
[11,{"$f":"+Pivot_2!B32","v":0},{"$f":"+Pivot_2!E32","v":0},{"$f":"+Pivot_2!C32","v":0},0,0,{"$f":"+Pivot_2!B17","v":0},{"$error":"#DIV/0!"},{"$error":"#DIV/0!"}]
[12,{"$f":"+Pivot_2!B33","v":0},{"$f":"+Pivot_2!E33","v":0},{"$f":"+Pivot_2!C33","v":0},0,0,{"$f":"+Pivot_2!B18","v":0},{"$error":"#DIV/0!"},{"$error":"#DIV/0!"}]
["TOTAL",{"$f":"SUM(B38:B49)","v":0},{"$f":"SUM(C38:C49)","v":0},0,0,0,0]
[null,null,null,null,null,null,null,null,null,null,"Commentaire : Pour nettoyez les graphes présentant la répartition annuelle / mensuelle de la production entre les consommateurs (\"camembert\" à droite et graphique en bas), cliquez sur le schéma puis cliquez sur la petite icone \"Filtre\" qui apparait à droite. Sélectionnez alors tous les consommateurs de l'opération (déselectionnez les producteurs et les champs vides)"]
["Énergie produite [kWh]","Énergie injectée dans le réseau [kWh]","Surplus de l'opération ACC [kWh].","Taux d'autoconsommation"]
[{"$f":"+SUM(I7:I31)","v":0},{"$f":"+K32","v":0},{"$f":"+K32-L32","v":0},{"$f":"+(B53-C53)/B53","v":{"$error":"#DIV/0!"}}]

{"sheet":"Données","index":15,"n_rows":32,"n_cols":5,"rows_kept":32,"cut":false,"hidden":true,"merged":[]}
["ONGLET DONNEES (masqué pour les utilisateurs)"]
[]
["Accise sur l'électricité au 01/02/25 (€/kWh)"]
["ménages et assimilés",3.37]
["PME",2.6230000000000002]
["haute puissance",2.25]
[]
["IFER (€/kW) au 16/11/24"]
["Photovoltaïque",3.4790000000000001]
["Eolien",8.36]
["Hydroélectricité",3.4790000000000001]
[]
[]
["TURPE Producteur (€) au 01/02/25"]
["< 36 kVA",40.68]
["36 - 250 kVA",541.20000000000005]
["> 250 kVA",888.6]
[]
["TURPE Consommateur (composante de soutirage sur les kWh autoconsommés) au 01/02/25"]
["TRVE résidentiel Base",4.09]
["TRVE résidentiel HP",4.87]
["TRVE résidentiel HC",3.21]
["TRVE non résidentiel Base",4.01]
["TRVE non résidentiel HP",4.2699999999999996]
["TRVE non résidentiel HC",3]
[]
["TURPE Consommateur (composante annuelle de gestion) au 01/02/25"]
[null,"Sans ACC","Avec ACC","Ecart","Valeur retenue"]
["Inf36 CARD",18.239999999999998,22.8,{"$f":"C29-B29","v":4.5600000000000023},{"$f":"AVERAGE(D29:D30)","v":4.620000000000001}]
["Inf36 Contrat Unique",16.920000000000002,21.6,{"$f":"C30-B30","v":4.68},{"$f":"AVERAGE(D29:D30)","v":4.620000000000001}]
["Inf36 CARD",252.36,318,{"$f":"C31-B31","v":65.639999999999986},{"$f":"D31","v":65.639999999999986}]
["Inf36 Contrat Unique",220.32,285.95999999999998,{"$f":"C32-B32","v":65.639999999999986},{"$f":"D32","v":65.639999999999986}]

{"sheet":"FR INPUT CONSOMMATEUR","index":16,"n_rows":54,"n_cols":29,"rows_kept":54,"cut":false,"hidden":false,"merged":[[50,28,52,28],[28,28,31,28],[33,0,37,0],[39,0,43,0],[5,0,9,0],[11,0,20,0],[33,28,37,28],[3,28,6,28]]}
["ONGLET INPUT CONSOMMATEUR (FRANCE)"]
[]
[null,"DETAIL DES CONSOMMATIONS DE CHAQUE CONSOMMATEUR, AVANT ET APRES L'OPERATION ACC (OUTPUT OUTIL ENERGETIQUE)"]
[null,null,null,null,null,null,null,null,null,null,null,null,null,null,null,null,null,null,null,null,null,null,null,null,null,null,null,null,"Aide à la saisie\n- Commencez par sélectionne en ligne 4 les consommateurs via la liste déroulante sur chaque cellule.\n- Visualisez jusqu'à 25 consommateurs en cliquant sur le petit bouton \"+\" au dessus de la colonne AB de la feuille de calcul"]
[null,null,{"$f":"IF(C6>0,\"Base\",IF(SUM(C7:C10)>0,\"HP/HC\",\"\"))","v":""},"","","","","","","","","","","","","","","","","","","","","","","",""]
["Avant ACC","Soutirage annuelle Base (kWh/an)",{"$f":"_xlfn.XLOOKUP(C4,'OUTPUT OUTIL ENERGETIQUE'!$A$7:$A$31,'OUTPUT OUTIL ENERGETIQUE'!$X$7:$X$31,0)","v":0},{"$f":"_xlfn.XLOOKUP(D4,'OUTPUT OUTIL ENERGETIQUE'!$A$7:$A$31,'OUTPUT OUTIL ENERGETIQUE'!$X$7:$X$31,0)","v":0},{"$f":"_xlfn.XLOOKUP(E4,'OUTPUT OUTIL ENERGETIQUE'!$A$7:$A$31,'OUTPUT OUTIL ENERGETIQUE'!$X$7:$X$31,0)","v":0},{"$f":"_xlfn.XLOOKUP(F4,'OUTPUT OUTIL ENERGETIQUE'!$A$7:$A$31,'OUTPUT OUTIL ENERGETIQUE'!$X$7:$X$31,0)","v":0},{"$f":"_xlfn.XLOOKUP(G4,'OUTPUT OUTIL ENERGETIQUE'!$A$7:$A$31,'OUTPUT OUTIL ENERGETIQUE'!$X$7:$X$31,0)","v":0},{"$f":"_xlfn.XLOOKUP(H4,'OUTPUT OUTIL ENERGETIQUE'!$A$7:$A$31,'OUTPUT OUTIL ENERGETIQUE'!$X$7:$X$31,0)","v":0},{"$f":"_xlfn.XLOOKUP(I4,'OUTPUT OUTIL ENERGETIQUE'!$A$7:$A$31,'OUTPUT OUTIL ENERGETIQUE'!$X$7:$X$31,0)","v":0},{"$f":"_xlfn.XLOOKUP(J4,'OUTPUT OUTIL ENERGETIQUE'!$A$7:$A$31,'OUTPUT OUTIL ENERGETIQUE'!$X$7:$X$31,0)","v":0},{"$f":"_xlfn.XLOOKUP(K4,'OUTPUT OUTIL ENERGETIQUE'!$A$7:$A$31,'OUTPUT OUTIL ENERGETIQUE'!$X$7:$X$31,0)","v":0},{"$f":"_xlfn.XLOOKUP(L4,'OUTPUT OUTIL ENERGETIQUE'!$A$7:$A$31,'OUTPUT OUTIL ENERGETIQUE'!$X$7:$X$31,0)","v":0},{"$f":"_xlfn.XLOOKUP(M4,'OUTPUT OUTIL ENERGETIQUE'!$A$7:$A$31,'OUTPUT OUTIL ENERGETIQUE'!$X$7:$X$31,0)","v":0},{"$f":"_xlfn.XLOOKUP(N4,'OUTPUT OUTIL ENERGETIQUE'!$A$7:$A$31,'OUTPUT OUTIL ENERGETIQUE'!$X$7:$X$31,0)","v":0},{"$f":"_xlfn.XLOOKUP(O4,'OUTPUT OUTIL ENERGETIQUE'!$A$7:$A$31,'OUTPUT OUTIL ENERGETIQUE'!$X$7:$X$31,0)","v":0},{"$f":"_xlfn.XLOOKUP(P4,'OUTPUT OUTIL ENERGETIQUE'!$A$7:$A$31,'OUTPUT OUTIL ENERGETIQUE'!$X$7:$X$31,0)","v":0},{"$f":"_xlfn.XLOOKUP(Q4,'OUTPUT OUTIL ENERGETIQUE'!$A$7:$A$31,'OUTPUT OUTIL ENERGETIQUE'!$X$7:$X$31,0)","v":0},{"$f":"_xlfn.XLOOKUP(R4,'OUTPUT OUTIL ENERGETIQUE'!$A$7:$A$31,'OUTPUT OUTIL ENERGETIQUE'!$X$7:$X$31,0)","v":0},{"$f":"_xlfn.XLOOKUP(S4,'OUTPUT OUTIL ENERGETIQUE'!$A$7:$A$31,'OUTPUT OUTIL ENERGETIQUE'!$X$7:$X$31,0)","v":0},{"$f":"_xlfn.XLOOKUP(T4,'OUTPUT OUTIL ENERGETIQUE'!$A$7:$A$31,'OUTPUT OUTIL ENERGETIQUE'!$X$7:$X$31,0)","v":0},{"$f":"_xlfn.XLOOKUP(U4,'OUTPUT OUTIL ENERGETIQUE'!$A$7:$A$31,'OUTPUT OUTIL ENERGETIQUE'!$X$7:$X$31,0)","v":0},{"$f":"_xlfn.XLOOKUP(V4,'OUTPUT OUTIL ENERGETIQUE'!$A$7:$A$31,'OUTPUT OUTIL ENERGETIQUE'!$X$7:$X$31,0)","v":0},{"$f":"_xlfn.XLOOKUP(W4,'OUTPUT OUTIL ENERGETIQUE'!$A$7:$A$31,'OUTPUT OUTIL ENERGETIQUE'!$X$7:$X$31,0)","v":0},{"$f":"_xlfn.XLOOKUP(X4,'OUTPUT OUTIL ENERGETIQUE'!$A$7:$A$31,'OUTPUT OUTIL ENERGETIQUE'!$X$7:$X$31,0)","v":0},{"$f":"_xlfn.XLOOKUP(Y4,'OUTPUT OUTIL ENERGETIQUE'!$A$7:$A$31,'OUTPUT OUTIL ENERGETIQUE'!$X$7:$X$31,0)","v":0},{"$f":"_xlfn.XLOOKUP(Z4,'OUTPUT OUTIL ENERGETIQUE'!$A$7:$A$31,'OUTPUT OUTIL ENERGETIQUE'!$X$7:$X$31,0)","v":0},{"$f":"_xlfn.XLOOKUP(AA4,'OUTPUT OUTIL ENERGETIQUE'!$A$7:$A$31,'OUTPUT OUTIL ENERGETIQUE'!$X$7:$X$31,0)","v":0}]
[null,"Soutirage HPH (kWh/an)",{"$f":"_xlfn.XLOOKUP(C4,'OUTPUT OUTIL ENERGETIQUE'!$A$7:$A$31,'OUTPUT OUTIL ENERGETIQUE'!$T$7:$T$31,0)","v":0},{"$f":"_xlfn.XLOOKUP(D4,'OUTPUT OUTIL ENERGETIQUE'!$A$7:$A$31,'OUTPUT OUTIL ENERGETIQUE'!$T$7:$T$31,0)","v":0},{"$f":"_xlfn.XLOOKUP(E4,'OUTPUT OUTIL ENERGETIQUE'!$A$7:$A$31,'OUTPUT OUTIL ENERGETIQUE'!$T$7:$T$31,0)","v":0},{"$f":"_xlfn.XLOOKUP(F4,'OUTPUT OUTIL ENERGETIQUE'!$A$7:$A$31,'OUTPUT OUTIL ENERGETIQUE'!$T$7:$T$31,0)","v":0},{"$f":"_xlfn.XLOOKUP(G4,'OUTPUT OUTIL ENERGETIQUE'!$A$7:$A$31,'OUTPUT OUTIL ENERGETIQUE'!$T$7:$T$31,0)","v":0},{"$f":"_xlfn.XLOOKUP(H4,'OUTPUT OUTIL ENERGETIQUE'!$A$7:$A$31,'OUTPUT OUTIL ENERGETIQUE'!$T$7:$T$31,0)","v":0},{"$f":"_xlfn.XLOOKUP(I4,'OUTPUT OUTIL ENERGETIQUE'!$A$7:$A$31,'OUTPUT OUTIL ENERGETIQUE'!$T$7:$T$31,0)","v":0},{"$f":"_xlfn.XLOOKUP(J4,'OUTPUT OUTIL ENERGETIQUE'!$A$7:$A$31,'OUTPUT OUTIL ENERGETIQUE'!$T$7:$T$31,0)","v":0},{"$f":"_xlfn.XLOOKUP(K4,'OUTPUT OUTIL ENERGETIQUE'!$A$7:$A$31,'OUTPUT OUTIL ENERGETIQUE'!$T$7:$T$31,0)","v":0},{"$f":"_xlfn.XLOOKUP(L4,'OUTPUT OUTIL ENERGETIQUE'!$A$7:$A$31,'OUTPUT OUTIL ENERGETIQUE'!$T$7:$T$31,0)","v":0},{"$f":"_xlfn.XLOOKUP(M4,'OUTPUT OUTIL ENERGETIQUE'!$A$7:$A$31,'OUTPUT OUTIL ENERGETIQUE'!$T$7:$T$31,0)","v":0},{"$f":"_xlfn.XLOOKUP(N4,'OUTPUT OUTIL ENERGETIQUE'!$A$7:$A$31,'OUTPUT OUTIL ENERGETIQUE'!$T$7:$T$31,0)","v":0},{"$f":"_xlfn.XLOOKUP(O4,'OUTPUT OUTIL ENERGETIQUE'!$A$7:$A$31,'OUTPUT OUTIL ENERGETIQUE'!$T$7:$T$31,0)","v":0},{"$f":"_xlfn.XLOOKUP(P4,'OUTPUT OUTIL ENERGETIQUE'!$A$7:$A$31,'OUTPUT OUTIL ENERGETIQUE'!$T$7:$T$31,0)","v":0},{"$f":"_xlfn.XLOOKUP(Q4,'OUTPUT OUTIL ENERGETIQUE'!$A$7:$A$31,'OUTPUT OUTIL ENERGETIQUE'!$T$7:$T$31,0)","v":0},{"$f":"_xlfn.XLOOKUP(R4,'OUTPUT OUTIL ENERGETIQUE'!$A$7:$A$31,'OUTPUT OUTIL ENERGETIQUE'!$T$7:$T$31,0)","v":0},{"$f":"_xlfn.XLOOKUP(S4,'OUTPUT OUTIL ENERGETIQUE'!$A$7:$A$31,'OUTPUT OUTIL ENERGETIQUE'!$T$7:$T$31,0)","v":0},{"$f":"_xlfn.XLOOKUP(T4,'OUTPUT OUTIL ENERGETIQUE'!$A$7:$A$31,'OUTPUT OUTIL ENERGETIQUE'!$T$7:$T$31,0)","v":0},{"$f":"_xlfn.XLOOKUP(U4,'OUTPUT OUTIL ENERGETIQUE'!$A$7:$A$31,'OUTPUT OUTIL ENERGETIQUE'!$T$7:$T$31,0)","v":0},{"$f":"_xlfn.XLOOKUP(V4,'OUTPUT OUTIL ENERGETIQUE'!$A$7:$A$31,'OUTPUT OUTIL ENERGETIQUE'!$T$7:$T$31,0)","v":0},{"$f":"_xlfn.XLOOKUP(W4,'OUTPUT OUTIL ENERGETIQUE'!$A$7:$A$31,'OUTPUT OUTIL ENERGETIQUE'!$T$7:$T$31,0)","v":0},{"$f":"_xlfn.XLOOKUP(X4,'OUTPUT OUTIL ENERGETIQUE'!$A$7:$A$31,'OUTPUT OUTIL ENERGETIQUE'!$T$7:$T$31,0)","v":0},{"$f":"_xlfn.XLOOKUP(Y4,'OUTPUT OUTIL ENERGETIQUE'!$A$7:$A$31,'OUTPUT OUTIL ENERGETIQUE'!$T$7:$T$31,0)","v":0},{"$f":"_xlfn.XLOOKUP(Z4,'OUTPUT OUTIL ENERGETIQUE'!$A$7:$A$31,'OUTPUT OUTIL ENERGETIQUE'!$T$7:$T$31,0)","v":0},{"$f":"_xlfn.XLOOKUP(AA4,'OUTPUT OUTIL ENERGETIQUE'!$A$7:$A$31,'OUTPUT OUTIL ENERGETIQUE'!$T$7:$T$31,0)","v":0}]
[null,"Soutirage HCH (kWh/an)",{"$f":"_xlfn.XLOOKUP(C4,'OUTPUT OUTIL ENERGETIQUE'!$A$7:$A$31,'OUTPUT OUTIL ENERGETIQUE'!$U$7:$U$31,0)","v":0},{"$f":"_xlfn.XLOOKUP(D4,'OUTPUT OUTIL ENERGETIQUE'!$A$7:$A$31,'OUTPUT OUTIL ENERGETIQUE'!$U$7:$U$31,0)","v":0},{"$f":"_xlfn.XLOOKUP(E4,'OUTPUT OUTIL ENERGETIQUE'!$A$7:$A$31,'OUTPUT OUTIL ENERGETIQUE'!$U$7:$U$31,0)","v":0},{"$f":"_xlfn.XLOOKUP(F4,'OUTPUT OUTIL ENERGETIQUE'!$A$7:$A$31,'OUTPUT OUTIL ENERGETIQUE'!$U$7:$U$31,0)","v":0},{"$f":"_xlfn.XLOOKUP(G4,'OUTPUT OUTIL ENERGETIQUE'!$A$7:$A$31,'OUTPUT OUTIL ENERGETIQUE'!$U$7:$U$31,0)","v":0},{"$f":"_xlfn.XLOOKUP(H4,'OUTPUT OUTIL ENERGETIQUE'!$A$7:$A$31,'OUTPUT OUTIL ENERGETIQUE'!$U$7:$U$31,0)","v":0},{"$f":"_xlfn.XLOOKUP(I4,'OUTPUT OUTIL ENERGETIQUE'!$A$7:$A$31,'OUTPUT OUTIL ENERGETIQUE'!$U$7:$U$31,0)","v":0},{"$f":"_xlfn.XLOOKUP(J4,'OUTPUT OUTIL ENERGETIQUE'!$A$7:$A$31,'OUTPUT OUTIL ENERGETIQUE'!$U$7:$U$31,0)","v":0},{"$f":"_xlfn.XLOOKUP(K4,'OUTPUT OUTIL ENERGETIQUE'!$A$7:$A$31,'OUTPUT OUTIL ENERGETIQUE'!$U$7:$U$31,0)","v":0},{"$f":"_xlfn.XLOOKUP(L4,'OUTPUT OUTIL ENERGETIQUE'!$A$7:$A$31,'OUTPUT OUTIL ENERGETIQUE'!$U$7:$U$31,0)","v":0},{"$f":"_xlfn.XLOOKUP(M4,'OUTPUT OUTIL ENERGETIQUE'!$A$7:$A$31,'OUTPUT OUTIL ENERGETIQUE'!$U$7:$U$31,0)","v":0},{"$f":"_xlfn.XLOOKUP(N4,'OUTPUT OUTIL ENERGETIQUE'!$A$7:$A$31,'OUTPUT OUTIL ENERGETIQUE'!$U$7:$U$31,0)","v":0},{"$f":"_xlfn.XLOOKUP(O4,'OUTPUT OUTIL ENERGETIQUE'!$A$7:$A$31,'OUTPUT OUTIL ENERGETIQUE'!$U$7:$U$31,0)","v":0},{"$f":"_xlfn.XLOOKUP(P4,'OUTPUT OUTIL ENERGETIQUE'!$A$7:$A$31,'OUTPUT OUTIL ENERGETIQUE'!$U$7:$U$31,0)","v":0},{"$f":"_xlfn.XLOOKUP(Q4,'OUTPUT OUTIL ENERGETIQUE'!$A$7:$A$31,'OUTPUT OUTIL ENERGETIQUE'!$U$7:$U$31,0)","v":0},{"$f":"_xlfn.XLOOKUP(R4,'OUTPUT OUTIL ENERGETIQUE'!$A$7:$A$31,'OUTPUT OUTIL ENERGETIQUE'!$U$7:$U$31,0)","v":0},{"$f":"_xlfn.XLOOKUP(S4,'OUTPUT OUTIL ENERGETIQUE'!$A$7:$A$31,'OUTPUT OUTIL ENERGETIQUE'!$U$7:$U$31,0)","v":0},{"$f":"_xlfn.XLOOKUP(T4,'OUTPUT OUTIL ENERGETIQUE'!$A$7:$A$31,'OUTPUT OUTIL ENERGETIQUE'!$U$7:$U$31,0)","v":0},{"$f":"_xlfn.XLOOKUP(U4,'OUTPUT OUTIL ENERGETIQUE'!$A$7:$A$31,'OUTPUT OUTIL ENERGETIQUE'!$U$7:$U$31,0)","v":0},{"$f":"_xlfn.XLOOKUP(V4,'OUTPUT OUTIL ENERGETIQUE'!$A$7:$A$31,'OUTPUT OUTIL ENERGETIQUE'!$U$7:$U$31,0)","v":0},{"$f":"_xlfn.XLOOKUP(W4,'OUTPUT OUTIL ENERGETIQUE'!$A$7:$A$31,'OUTPUT OUTIL ENERGETIQUE'!$U$7:$U$31,0)","v":0},{"$f":"_xlfn.XLOOKUP(X4,'OUTPUT OUTIL ENERGETIQUE'!$A$7:$A$31,'OUTPUT OUTIL ENERGETIQUE'!$U$7:$U$31,0)","v":0},{"$f":"_xlfn.XLOOKUP(Y4,'OUTPUT OUTIL ENERGETIQUE'!$A$7:$A$31,'OUTPUT OUTIL ENERGETIQUE'!$U$7:$U$31,0)","v":0},{"$f":"_xlfn.XLOOKUP(Z4,'OUTPUT OUTIL ENERGETIQUE'!$A$7:$A$31,'OUTPUT OUTIL ENERGETIQUE'!$U$7:$U$31,0)","v":0},{"$f":"_xlfn.XLOOKUP(AA4,'OUTPUT OUTIL ENERGETIQUE'!$A$7:$A$31,'OUTPUT OUTIL ENERGETIQUE'!$U$7:$U$31,0)","v":0}]
[null,"Soutirage HPB (kWh/an)",{"$f":"_xlfn.XLOOKUP(C4,'OUTPUT OUTIL ENERGETIQUE'!$A$7:$A$31,'OUTPUT OUTIL ENERGETIQUE'!$W$7:$W$31,0)","v":0},{"$f":"_xlfn.XLOOKUP(D4,'OUTPUT OUTIL ENERGETIQUE'!$A$7:$A$31,'OUTPUT OUTIL ENERGETIQUE'!$W$7:$W$31,0)","v":0},{"$f":"_xlfn.XLOOKUP(E4,'OUTPUT OUTIL ENERGETIQUE'!$A$7:$A$31,'OUTPUT OUTIL ENERGETIQUE'!$W$7:$W$31,0)","v":0},{"$f":"_xlfn.XLOOKUP(F4,'OUTPUT OUTIL ENERGETIQUE'!$A$7:$A$31,'OUTPUT OUTIL ENERGETIQUE'!$W$7:$W$31,0)","v":0},{"$f":"_xlfn.XLOOKUP(G4,'OUTPUT OUTIL ENERGETIQUE'!$A$7:$A$31,'OUTPUT OUTIL ENERGETIQUE'!$W$7:$W$31,0)","v":0},{"$f":"_xlfn.XLOOKUP(H4,'OUTPUT OUTIL ENERGETIQUE'!$A$7:$A$31,'OUTPUT OUTIL ENERGETIQUE'!$W$7:$W$31,0)","v":0},{"$f":"_xlfn.XLOOKUP(I4,'OUTPUT OUTIL ENERGETIQUE'!$A$7:$A$31,'OUTPUT OUTIL ENERGETIQUE'!$W$7:$W$31,0)","v":0},{"$f":"_xlfn.XLOOKUP(J4,'OUTPUT OUTIL ENERGETIQUE'!$A$7:$A$31,'OUTPUT OUTIL ENERGETIQUE'!$W$7:$W$31,0)","v":0},{"$f":"_xlfn.XLOOKUP(K4,'OUTPUT OUTIL ENERGETIQUE'!$A$7:$A$31,'OUTPUT OUTIL ENERGETIQUE'!$W$7:$W$31,0)","v":0},{"$f":"_xlfn.XLOOKUP(L4,'OUTPUT OUTIL ENERGETIQUE'!$A$7:$A$31,'OUTPUT OUTIL ENERGETIQUE'!$W$7:$W$31,0)","v":0},{"$f":"_xlfn.XLOOKUP(M4,'OUTPUT OUTIL ENERGETIQUE'!$A$7:$A$31,'OUTPUT OUTIL ENERGETIQUE'!$W$7:$W$31,0)","v":0},{"$f":"_xlfn.XLOOKUP(N4,'OUTPUT OUTIL ENERGETIQUE'!$A$7:$A$31,'OUTPUT OUTIL ENERGETIQUE'!$W$7:$W$31,0)","v":0},{"$f":"_xlfn.XLOOKUP(O4,'OUTPUT OUTIL ENERGETIQUE'!$A$7:$A$31,'OUTPUT OUTIL ENERGETIQUE'!$W$7:$W$31,0)","v":0},{"$f":"_xlfn.XLOOKUP(P4,'OUTPUT OUTIL ENERGETIQUE'!$A$7:$A$31,'OUTPUT OUTIL ENERGETIQUE'!$W$7:$W$31,0)","v":0},{"$f":"_xlfn.XLOOKUP(Q4,'OUTPUT OUTIL ENERGETIQUE'!$A$7:$A$31,'OUTPUT OUTIL ENERGETIQUE'!$W$7:$W$31,0)","v":0},{"$f":"_xlfn.XLOOKUP(R4,'OUTPUT OUTIL ENERGETIQUE'!$A$7:$A$31,'OUTPUT OUTIL ENERGETIQUE'!$W$7:$W$31,0)","v":0},{"$f":"_xlfn.XLOOKUP(S4,'OUTPUT OUTIL ENERGETIQUE'!$A$7:$A$31,'OUTPUT OUTIL ENERGETIQUE'!$W$7:$W$31,0)","v":0},{"$f":"_xlfn.XLOOKUP(T4,'OUTPUT OUTIL ENERGETIQUE'!$A$7:$A$31,'OUTPUT OUTIL ENERGETIQUE'!$W$7:$W$31,0)","v":0},{"$f":"_xlfn.XLOOKUP(U4,'OUTPUT OUTIL ENERGETIQUE'!$A$7:$A$31,'OUTPUT OUTIL ENERGETIQUE'!$W$7:$W$31,0)","v":0},{"$f":"_xlfn.XLOOKUP(V4,'OUTPUT OUTIL ENERGETIQUE'!$A$7:$A$31,'OUTPUT OUTIL ENERGETIQUE'!$W$7:$W$31,0)","v":0},{"$f":"_xlfn.XLOOKUP(W4,'OUTPUT OUTIL ENERGETIQUE'!$A$7:$A$31,'OUTPUT OUTIL ENERGETIQUE'!$W$7:$W$31,0)","v":0},{"$f":"_xlfn.XLOOKUP(X4,'OUTPUT OUTIL ENERGETIQUE'!$A$7:$A$31,'OUTPUT OUTIL ENERGETIQUE'!$W$7:$W$31,0)","v":0},{"$f":"_xlfn.XLOOKUP(Y4,'OUTPUT OUTIL ENERGETIQUE'!$A$7:$A$31,'OUTPUT OUTIL ENERGETIQUE'!$W$7:$W$31,0)","v":0},{"$f":"_xlfn.XLOOKUP(Z4,'OUTPUT OUTIL ENERGETIQUE'!$A$7:$A$31,'OUTPUT OUTIL ENERGETIQUE'!$W$7:$W$31,0)","v":0},{"$f":"_xlfn.XLOOKUP(AA4,'OUTPUT OUTIL ENERGETIQUE'!$A$7:$A$31,'OUTPUT OUTIL ENERGETIQUE'!$W$7:$W$31,0)","v":0}]
[null,"Soutirage HCB (kWh/an)",{"$f":"_xlfn.XLOOKUP(C4,'OUTPUT OUTIL ENERGETIQUE'!$A$7:$A$31,'OUTPUT OUTIL ENERGETIQUE'!$V$7:$V$31,0)","v":0},{"$f":"_xlfn.XLOOKUP(D4,'OUTPUT OUTIL ENERGETIQUE'!$A$7:$A$31,'OUTPUT OUTIL ENERGETIQUE'!$V$7:$V$31,0)","v":0},{"$f":"_xlfn.XLOOKUP(E4,'OUTPUT OUTIL ENERGETIQUE'!$A$7:$A$31,'OUTPUT OUTIL ENERGETIQUE'!$V$7:$V$31,0)","v":0},{"$f":"_xlfn.XLOOKUP(F4,'OUTPUT OUTIL ENERGETIQUE'!$A$7:$A$31,'OUTPUT OUTIL ENERGETIQUE'!$V$7:$V$31,0)","v":0},{"$f":"_xlfn.XLOOKUP(G4,'OUTPUT OUTIL ENERGETIQUE'!$A$7:$A$31,'OUTPUT OUTIL ENERGETIQUE'!$V$7:$V$31,0)","v":0},{"$f":"_xlfn.XLOOKUP(H4,'OUTPUT OUTIL ENERGETIQUE'!$A$7:$A$31,'OUTPUT OUTIL ENERGETIQUE'!$V$7:$V$31,0)","v":0},{"$f":"_xlfn.XLOOKUP(I4,'OUTPUT OUTIL ENERGETIQUE'!$A$7:$A$31,'OUTPUT OUTIL ENERGETIQUE'!$V$7:$V$31,0)","v":0},{"$f":"_xlfn.XLOOKUP(J4,'OUTPUT OUTIL ENERGETIQUE'!$A$7:$A$31,'OUTPUT OUTIL ENERGETIQUE'!$V$7:$V$31,0)","v":0},{"$f":"_xlfn.XLOOKUP(K4,'OUTPUT OUTIL ENERGETIQUE'!$A$7:$A$31,'OUTPUT OUTIL ENERGETIQUE'!$V$7:$V$31,0)","v":0},{"$f":"_xlfn.XLOOKUP(L4,'OUTPUT OUTIL ENERGETIQUE'!$A$7:$A$31,'OUTPUT OUTIL ENERGETIQUE'!$V$7:$V$31,0)","v":0},{"$f":"_xlfn.XLOOKUP(M4,'OUTPUT OUTIL ENERGETIQUE'!$A$7:$A$31,'OUTPUT OUTIL ENERGETIQUE'!$V$7:$V$31,0)","v":0},{"$f":"_xlfn.XLOOKUP(N4,'OUTPUT OUTIL ENERGETIQUE'!$A$7:$A$31,'OUTPUT OUTIL ENERGETIQUE'!$V$7:$V$31,0)","v":0},{"$f":"_xlfn.XLOOKUP(O4,'OUTPUT OUTIL ENERGETIQUE'!$A$7:$A$31,'OUTPUT OUTIL ENERGETIQUE'!$V$7:$V$31,0)","v":0},{"$f":"_xlfn.XLOOKUP(P4,'OUTPUT OUTIL ENERGETIQUE'!$A$7:$A$31,'OUTPUT OUTIL ENERGETIQUE'!$V$7:$V$31,0)","v":0},{"$f":"_xlfn.XLOOKUP(Q4,'OUTPUT OUTIL ENERGETIQUE'!$A$7:$A$31,'OUTPUT OUTIL ENERGETIQUE'!$V$7:$V$31,0)","v":0},{"$f":"_xlfn.XLOOKUP(R4,'OUTPUT OUTIL ENERGETIQUE'!$A$7:$A$31,'OUTPUT OUTIL ENERGETIQUE'!$V$7:$V$31,0)","v":0},{"$f":"_xlfn.XLOOKUP(S4,'OUTPUT OUTIL ENERGETIQUE'!$A$7:$A$31,'OUTPUT OUTIL ENERGETIQUE'!$V$7:$V$31,0)","v":0},{"$f":"_xlfn.XLOOKUP(T4,'OUTPUT OUTIL ENERGETIQUE'!$A$7:$A$31,'OUTPUT OUTIL ENERGETIQUE'!$V$7:$V$31,0)","v":0},{"$f":"_xlfn.XLOOKUP(U4,'OUTPUT OUTIL ENERGETIQUE'!$A$7:$A$31,'OUTPUT OUTIL ENERGETIQUE'!$V$7:$V$31,0)","v":0},{"$f":"_xlfn.XLOOKUP(V4,'OUTPUT OUTIL ENERGETIQUE'!$A$7:$A$31,'OUTPUT OUTIL ENERGETIQUE'!$V$7:$V$31,0)","v":0},{"$f":"_xlfn.XLOOKUP(W4,'OUTPUT OUTIL ENERGETIQUE'!$A$7:$A$31,'OUTPUT OUTIL ENERGETIQUE'!$V$7:$V$31,0)","v":0},{"$f":"_xlfn.XLOOKUP(X4,'OUTPUT OUTIL ENERGETIQUE'!$A$7:$A$31,'OUTPUT OUTIL ENERGETIQUE'!$V$7:$V$31,0)","v":0},{"$f":"_xlfn.XLOOKUP(Y4,'OUTPUT OUTIL ENERGETIQUE'!$A$7:$A$31,'OUTPUT OUTIL ENERGETIQUE'!$V$7:$V$31,0)","v":0},{"$f":"_xlfn.XLOOKUP(Z4,'OUTPUT OUTIL ENERGETIQUE'!$A$7:$A$31,'OUTPUT OUTIL ENERGETIQUE'!$V$7:$V$31,0)","v":0},{"$f":"_xlfn.XLOOKUP(AA4,'OUTPUT OUTIL ENERGETIQUE'!$A$7:$A$31,'OUTPUT OUTIL ENERGETIQUE'!$V$7:$V$31,0)","v":0}]
[]
["Avec ACC","Autoconso ACC Base (kWh/an)",{"$f":"_xlfn.XLOOKUP(C4,'OUTPUT OUTIL ENERGETIQUE'!$A$7:$A$31,'OUTPUT OUTIL ENERGETIQUE'!$AC$7:$AC$31,0)","v":0},{"$f":"_xlfn.XLOOKUP(D4,'OUTPUT OUTIL ENERGETIQUE'!$A$7:$A$31,'OUTPUT OUTIL ENERGETIQUE'!$AC$7:$AC$31,0)","v":0},{"$f":"_xlfn.XLOOKUP(E4,'OUTPUT OUTIL ENERGETIQUE'!$A$7:$A$31,'OUTPUT OUTIL ENERGETIQUE'!$AC$7:$AC$31,0)","v":0},{"$f":"_xlfn.XLOOKUP(F4,'OUTPUT OUTIL ENERGETIQUE'!$A$7:$A$31,'OUTPUT OUTIL ENERGETIQUE'!$AC$7:$AC$31,0)","v":0},{"$f":"_xlfn.XLOOKUP(G4,'OUTPUT OUTIL ENERGETIQUE'!$A$7:$A$31,'OUTPUT OUTIL ENERGETIQUE'!$AC$7:$AC$31,0)","v":0},{"$f":"_xlfn.XLOOKUP(H4,'OUTPUT OUTIL ENERGETIQUE'!$A$7:$A$31,'OUTPUT OUTIL ENERGETIQUE'!$AC$7:$AC$31,0)","v":0},{"$f":"_xlfn.XLOOKUP(I4,'OUTPUT OUTIL ENERGETIQUE'!$A$7:$A$31,'OUTPUT OUTIL ENERGETIQUE'!$AC$7:$AC$31,0)","v":0},{"$f":"_xlfn.XLOOKUP(J4,'OUTPUT OUTIL ENERGETIQUE'!$A$7:$A$31,'OUTPUT OUTIL ENERGETIQUE'!$AC$7:$AC$31,0)","v":0},{"$f":"_xlfn.XLOOKUP(K4,'OUTPUT OUTIL ENERGETIQUE'!$A$7:$A$31,'OUTPUT OUTIL ENERGETIQUE'!$AC$7:$AC$31,0)","v":0},{"$f":"_xlfn.XLOOKUP(L4,'OUTPUT OUTIL ENERGETIQUE'!$A$7:$A$31,'OUTPUT OUTIL ENERGETIQUE'!$AC$7:$AC$31,0)","v":0},{"$f":"_xlfn.XLOOKUP(M4,'OUTPUT OUTIL ENERGETIQUE'!$A$7:$A$31,'OUTPUT OUTIL ENERGETIQUE'!$AC$7:$AC$31,0)","v":0},{"$f":"_xlfn.XLOOKUP(N4,'OUTPUT OUTIL ENERGETIQUE'!$A$7:$A$31,'OUTPUT OUTIL ENERGETIQUE'!$AC$7:$AC$31,0)","v":0},{"$f":"_xlfn.XLOOKUP(O4,'OUTPUT OUTIL ENERGETIQUE'!$A$7:$A$31,'OUTPUT OUTIL ENERGETIQUE'!$AC$7:$AC$31,0)","v":0},{"$f":"_xlfn.XLOOKUP(P4,'OUTPUT OUTIL ENERGETIQUE'!$A$7:$A$31,'OUTPUT OUTIL ENERGETIQUE'!$AC$7:$AC$31,0)","v":0},{"$f":"_xlfn.XLOOKUP(Q4,'OUTPUT OUTIL ENERGETIQUE'!$A$7:$A$31,'OUTPUT OUTIL ENERGETIQUE'!$AC$7:$AC$31,0)","v":0},{"$f":"_xlfn.XLOOKUP(R4,'OUTPUT OUTIL ENERGETIQUE'!$A$7:$A$31,'OUTPUT OUTIL ENERGETIQUE'!$AC$7:$AC$31,0)","v":0},{"$f":"_xlfn.XLOOKUP(S4,'OUTPUT OUTIL ENERGETIQUE'!$A$7:$A$31,'OUTPUT OUTIL ENERGETIQUE'!$AC$7:$AC$31,0)","v":0},{"$f":"_xlfn.XLOOKUP(T4,'OUTPUT OUTIL ENERGETIQUE'!$A$7:$A$31,'OUTPUT OUTIL ENERGETIQUE'!$AC$7:$AC$31,0)","v":0},{"$f":"_xlfn.XLOOKUP(U4,'OUTPUT OUTIL ENERGETIQUE'!$A$7:$A$31,'OUTPUT OUTIL ENERGETIQUE'!$AC$7:$AC$31,0)","v":0},{"$f":"_xlfn.XLOOKUP(V4,'OUTPUT OUTIL ENERGETIQUE'!$A$7:$A$31,'OUTPUT OUTIL ENERGETIQUE'!$AC$7:$AC$31,0)","v":0},{"$f":"_xlfn.XLOOKUP(W4,'OUTPUT OUTIL ENERGETIQUE'!$A$7:$A$31,'OUTPUT OUTIL ENERGETIQUE'!$AC$7:$AC$31,0)","v":0},{"$f":"_xlfn.XLOOKUP(X4,'OUTPUT OUTIL ENERGETIQUE'!$A$7:$A$31,'OUTPUT OUTIL ENERGETIQUE'!$AC$7:$AC$31,0)","v":0},{"$f":"_xlfn.XLOOKUP(Y4,'OUTPUT OUTIL ENERGETIQUE'!$A$7:$A$31,'OUTPUT OUTIL ENERGETIQUE'!$AC$7:$AC$31,0)","v":0},{"$f":"_xlfn.XLOOKUP(Z4,'OUTPUT OUTIL ENERGETIQUE'!$A$7:$A$31,'OUTPUT OUTIL ENERGETIQUE'!$AC$7:$AC$31,0)","v":0},{"$f":"_xlfn.XLOOKUP(AA4,'OUTPUT OUTIL ENERGETIQUE'!$A$7:$A$31,'OUTPUT OUTIL ENERGETIQUE'!$AC$7:$AC$31,0)","v":0}]
[null,"Autoconso ACC HPH (kWh/an)",{"$f":"_xlfn.XLOOKUP(C4,'OUTPUT OUTIL ENERGETIQUE'!$A$7:$A$31,'OUTPUT OUTIL ENERGETIQUE'!$Y$7:$Y$31,0)","v":0},{"$f":"_xlfn.XLOOKUP(D4,'OUTPUT OUTIL ENERGETIQUE'!$A$7:$A$31,'OUTPUT OUTIL ENERGETIQUE'!$Y$7:$Y$31,0)","v":0},{"$f":"_xlfn.XLOOKUP(E4,'OUTPUT OUTIL ENERGETIQUE'!$A$7:$A$31,'OUTPUT OUTIL ENERGETIQUE'!$Y$7:$Y$31,0)","v":0},{"$f":"_xlfn.XLOOKUP(F4,'OUTPUT OUTIL ENERGETIQUE'!$A$7:$A$31,'OUTPUT OUTIL ENERGETIQUE'!$Y$7:$Y$31,0)","v":0},{"$f":"_xlfn.XLOOKUP(G4,'OUTPUT OUTIL ENERGETIQUE'!$A$7:$A$31,'OUTPUT OUTIL ENERGETIQUE'!$Y$7:$Y$31,0)","v":0},{"$f":"_xlfn.XLOOKUP(H4,'OUTPUT OUTIL ENERGETIQUE'!$A$7:$A$31,'OUTPUT OUTIL ENERGETIQUE'!$Y$7:$Y$31,0)","v":0},{"$f":"_xlfn.XLOOKUP(I4,'OUTPUT OUTIL ENERGETIQUE'!$A$7:$A$31,'OUTPUT OUTIL ENERGETIQUE'!$Y$7:$Y$31,0)","v":0},{"$f":"_xlfn.XLOOKUP(J4,'OUTPUT OUTIL ENERGETIQUE'!$A$7:$A$31,'OUTPUT OUTIL ENERGETIQUE'!$Y$7:$Y$31,0)","v":0},{"$f":"_xlfn.XLOOKUP(K4,'OUTPUT OUTIL ENERGETIQUE'!$A$7:$A$31,'OUTPUT OUTIL ENERGETIQUE'!$Y$7:$Y$31,0)","v":0},{"$f":"_xlfn.XLOOKUP(L4,'OUTPUT OUTIL ENERGETIQUE'!$A$7:$A$31,'OUTPUT OUTIL ENERGETIQUE'!$Y$7:$Y$31,0)","v":0},{"$f":"_xlfn.XLOOKUP(M4,'OUTPUT OUTIL ENERGETIQUE'!$A$7:$A$31,'OUTPUT OUTIL ENERGETIQUE'!$Y$7:$Y$31,0)","v":0},{"$f":"_xlfn.XLOOKUP(N4,'OUTPUT OUTIL ENERGETIQUE'!$A$7:$A$31,'OUTPUT OUTIL ENERGETIQUE'!$Y$7:$Y$31,0)","v":0},{"$f":"_xlfn.XLOOKUP(O4,'OUTPUT OUTIL ENERGETIQUE'!$A$7:$A$31,'OUTPUT OUTIL ENERGETIQUE'!$Y$7:$Y$31,0)","v":0},{"$f":"_xlfn.XLOOKUP(P4,'OUTPUT OUTIL ENERGETIQUE'!$A$7:$A$31,'OUTPUT OUTIL ENERGETIQUE'!$Y$7:$Y$31,0)","v":0},{"$f":"_xlfn.XLOOKUP(Q4,'OUTPUT OUTIL ENERGETIQUE'!$A$7:$A$31,'OUTPUT OUTIL ENERGETIQUE'!$Y$7:$Y$31,0)","v":0},{"$f":"_xlfn.XLOOKUP(R4,'OUTPUT OUTIL ENERGETIQUE'!$A$7:$A$31,'OUTPUT OUTIL ENERGETIQUE'!$Y$7:$Y$31,0)","v":0},{"$f":"_xlfn.XLOOKUP(S4,'OUTPUT OUTIL ENERGETIQUE'!$A$7:$A$31,'OUTPUT OUTIL ENERGETIQUE'!$Y$7:$Y$31,0)","v":0},{"$f":"_xlfn.XLOOKUP(T4,'OUTPUT OUTIL ENERGETIQUE'!$A$7:$A$31,'OUTPUT OUTIL ENERGETIQUE'!$Y$7:$Y$31,0)","v":0},{"$f":"_xlfn.XLOOKUP(U4,'OUTPUT OUTIL ENERGETIQUE'!$A$7:$A$31,'OUTPUT OUTIL ENERGETIQUE'!$Y$7:$Y$31,0)","v":0},{"$f":"_xlfn.XLOOKUP(V4,'OUTPUT OUTIL ENERGETIQUE'!$A$7:$A$31,'OUTPUT OUTIL ENERGETIQUE'!$Y$7:$Y$31,0)","v":0},{"$f":"_xlfn.XLOOKUP(W4,'OUTPUT OUTIL ENERGETIQUE'!$A$7:$A$31,'OUTPUT OUTIL ENERGETIQUE'!$Y$7:$Y$31,0)","v":0},{"$f":"_xlfn.XLOOKUP(X4,'OUTPUT OUTIL ENERGETIQUE'!$A$7:$A$31,'OUTPUT OUTIL ENERGETIQUE'!$Y$7:$Y$31,0)","v":0},{"$f":"_xlfn.XLOOKUP(Y4,'OUTPUT OUTIL ENERGETIQUE'!$A$7:$A$31,'OUTPUT OUTIL ENERGETIQUE'!$Y$7:$Y$31,0)","v":0},{"$f":"_xlfn.XLOOKUP(Z4,'OUTPUT OUTIL ENERGETIQUE'!$A$7:$A$31,'OUTPUT OUTIL ENERGETIQUE'!$Y$7:$Y$31,0)","v":0},{"$f":"_xlfn.XLOOKUP(AA4,'OUTPUT OUTIL ENERGETIQUE'!$A$7:$A$31,'OUTPUT OUTIL ENERGETIQUE'!$Y$7:$Y$31,0)","v":0}]
[null,"Autoconso ACC HCH (kWh/an)",{"$f":"_xlfn.XLOOKUP(C4,'OUTPUT OUTIL ENERGETIQUE'!$A$7:$A$31,'OUTPUT OUTIL ENERGETIQUE'!$Z$7:$Z$31,0)","v":0},{"$f":"_xlfn.XLOOKUP(D4,'OUTPUT OUTIL ENERGETIQUE'!$A$7:$A$31,'OUTPUT OUTIL ENERGETIQUE'!$Z$7:$Z$31,0)","v":0},{"$f":"_xlfn.XLOOKUP(E4,'OUTPUT OUTIL ENERGETIQUE'!$A$7:$A$31,'OUTPUT OUTIL ENERGETIQUE'!$Z$7:$Z$31,0)","v":0},{"$f":"_xlfn.XLOOKUP(F4,'OUTPUT OUTIL ENERGETIQUE'!$A$7:$A$31,'OUTPUT OUTIL ENERGETIQUE'!$Z$7:$Z$31,0)","v":0},{"$f":"_xlfn.XLOOKUP(G4,'OUTPUT OUTIL ENERGETIQUE'!$A$7:$A$31,'OUTPUT OUTIL ENERGETIQUE'!$Z$7:$Z$31,0)","v":0},{"$f":"_xlfn.XLOOKUP(H4,'OUTPUT OUTIL ENERGETIQUE'!$A$7:$A$31,'OUTPUT OUTIL ENERGETIQUE'!$Z$7:$Z$31,0)","v":0},{"$f":"_xlfn.XLOOKUP(I4,'OUTPUT OUTIL ENERGETIQUE'!$A$7:$A$31,'OUTPUT OUTIL ENERGETIQUE'!$Z$7:$Z$31,0)","v":0},{"$f":"_xlfn.XLOOKUP(J4,'OUTPUT OUTIL ENERGETIQUE'!$A$7:$A$31,'OUTPUT OUTIL ENERGETIQUE'!$Z$7:$Z$31,0)","v":0},{"$f":"_xlfn.XLOOKUP(K4,'OUTPUT OUTIL ENERGETIQUE'!$A$7:$A$31,'OUTPUT OUTIL ENERGETIQUE'!$Z$7:$Z$31,0)","v":0},{"$f":"_xlfn.XLOOKUP(L4,'OUTPUT OUTIL ENERGETIQUE'!$A$7:$A$31,'OUTPUT OUTIL ENERGETIQUE'!$Z$7:$Z$31,0)","v":0},{"$f":"_xlfn.XLOOKUP(M4,'OUTPUT OUTIL ENERGETIQUE'!$A$7:$A$31,'OUTPUT OUTIL ENERGETIQUE'!$Z$7:$Z$31,0)","v":0},{"$f":"_xlfn.XLOOKUP(N4,'OUTPUT OUTIL ENERGETIQUE'!$A$7:$A$31,'OUTPUT OUTIL ENERGETIQUE'!$Z$7:$Z$31,0)","v":0},{"$f":"_xlfn.XLOOKUP(O4,'OUTPUT OUTIL ENERGETIQUE'!$A$7:$A$31,'OUTPUT OUTIL ENERGETIQUE'!$Z$7:$Z$31,0)","v":0},{"$f":"_xlfn.XLOOKUP(P4,'OUTPUT OUTIL ENERGETIQUE'!$A$7:$A$31,'OUTPUT OUTIL ENERGETIQUE'!$Z$7:$Z$31,0)","v":0},{"$f":"_xlfn.XLOOKUP(Q4,'OUTPUT OUTIL ENERGETIQUE'!$A$7:$A$31,'OUTPUT OUTIL ENERGETIQUE'!$Z$7:$Z$31,0)","v":0},{"$f":"_xlfn.XLOOKUP(R4,'OUTPUT OUTIL ENERGETIQUE'!$A$7:$A$31,'OUTPUT OUTIL ENERGETIQUE'!$Z$7:$Z$31,0)","v":0},{"$f":"_xlfn.XLOOKUP(S4,'OUTPUT OUTIL ENERGETIQUE'!$A$7:$A$31,'OUTPUT OUTIL ENERGETIQUE'!$Z$7:$Z$31,0)","v":0},{"$f":"_xlfn.XLOOKUP(T4,'OUTPUT OUTIL ENERGETIQUE'!$A$7:$A$31,'OUTPUT OUTIL ENERGETIQUE'!$Z$7:$Z$31,0)","v":0},{"$f":"_xlfn.XLOOKUP(U4,'OUTPUT OUTIL ENERGETIQUE'!$A$7:$A$31,'OUTPUT OUTIL ENERGETIQUE'!$Z$7:$Z$31,0)","v":0},{"$f":"_xlfn.XLOOKUP(V4,'OUTPUT OUTIL ENERGETIQUE'!$A$7:$A$31,'OUTPUT OUTIL ENERGETIQUE'!$Z$7:$Z$31,0)","v":0},{"$f":"_xlfn.XLOOKUP(W4,'OUTPUT OUTIL ENERGETIQUE'!$A$7:$A$31,'OUTPUT OUTIL ENERGETIQUE'!$Z$7:$Z$31,0)","v":0},{"$f":"_xlfn.XLOOKUP(X4,'OUTPUT OUTIL ENERGETIQUE'!$A$7:$A$31,'OUTPUT OUTIL ENERGETIQUE'!$Z$7:$Z$31,0)","v":0},{"$f":"_xlfn.XLOOKUP(Y4,'OUTPUT OUTIL ENERGETIQUE'!$A$7:$A$31,'OUTPUT OUTIL ENERGETIQUE'!$Z$7:$Z$31,0)","v":0},{"$f":"_xlfn.XLOOKUP(Z4,'OUTPUT OUTIL ENERGETIQUE'!$A$7:$A$31,'OUTPUT OUTIL ENERGETIQUE'!$Z$7:$Z$31,0)","v":0},{"$f":"_xlfn.XLOOKUP(AA4,'OUTPUT OUTIL ENERGETIQUE'!$A$7:$A$31,'OUTPUT OUTIL ENERGETIQUE'!$Z$7:$Z$31,0)","v":0}]
[null,"Autoconso ACC HPB (kWh/an)",{"$f":"_xlfn.XLOOKUP(C4,'OUTPUT OUTIL ENERGETIQUE'!$A$7:$A$31,'OUTPUT OUTIL ENERGETIQUE'!$AB$7:$AB$31,0)","v":0},{"$f":"_xlfn.XLOOKUP(D4,'OUTPUT OUTIL ENERGETIQUE'!$A$7:$A$31,'OUTPUT OUTIL ENERGETIQUE'!$AB$7:$AB$31,0)","v":0},{"$f":"_xlfn.XLOOKUP(E4,'OUTPUT OUTIL ENERGETIQUE'!$A$7:$A$31,'OUTPUT OUTIL ENERGETIQUE'!$AB$7:$AB$31,0)","v":0},{"$f":"_xlfn.XLOOKUP(F4,'OUTPUT OUTIL ENERGETIQUE'!$A$7:$A$31,'OUTPUT OUTIL ENERGETIQUE'!$AB$7:$AB$31,0)","v":0},{"$f":"_xlfn.XLOOKUP(G4,'OUTPUT OUTIL ENERGETIQUE'!$A$7:$A$31,'OUTPUT OUTIL ENERGETIQUE'!$AB$7:$AB$31,0)","v":0},{"$f":"_xlfn.XLOOKUP(H4,'OUTPUT OUTIL ENERGETIQUE'!$A$7:$A$31,'OUTPUT OUTIL ENERGETIQUE'!$AB$7:$AB$31,0)","v":0},{"$f":"_xlfn.XLOOKUP(I4,'OUTPUT OUTIL ENERGETIQUE'!$A$7:$A$31,'OUTPUT OUTIL ENERGETIQUE'!$AB$7:$AB$31,0)","v":0},{"$f":"_xlfn.XLOOKUP(J4,'OUTPUT OUTIL ENERGETIQUE'!$A$7:$A$31,'OUTPUT OUTIL ENERGETIQUE'!$AB$7:$AB$31,0)","v":0},{"$f":"_xlfn.XLOOKUP(K4,'OUTPUT OUTIL ENERGETIQUE'!$A$7:$A$31,'OUTPUT OUTIL ENERGETIQUE'!$AB$7:$AB$31,0)","v":0},{"$f":"_xlfn.XLOOKUP(L4,'OUTPUT OUTIL ENERGETIQUE'!$A$7:$A$31,'OUTPUT OUTIL ENERGETIQUE'!$AB$7:$AB$31,0)","v":0},{"$f":"_xlfn.XLOOKUP(M4,'OUTPUT OUTIL ENERGETIQUE'!$A$7:$A$31,'OUTPUT OUTIL ENERGETIQUE'!$AB$7:$AB$31,0)","v":0},{"$f":"_xlfn.XLOOKUP(N4,'OUTPUT OUTIL ENERGETIQUE'!$A$7:$A$31,'OUTPUT OUTIL ENERGETIQUE'!$AB$7:$AB$31,0)","v":0},{"$f":"_xlfn.XLOOKUP(O4,'OUTPUT OUTIL ENERGETIQUE'!$A$7:$A$31,'OUTPUT OUTIL ENERGETIQUE'!$AB$7:$AB$31,0)","v":0},{"$f":"_xlfn.XLOOKUP(P4,'OUTPUT OUTIL ENERGETIQUE'!$A$7:$A$31,'OUTPUT OUTIL ENERGETIQUE'!$AB$7:$AB$31,0)","v":0},{"$f":"_xlfn.XLOOKUP(Q4,'OUTPUT OUTIL ENERGETIQUE'!$A$7:$A$31,'OUTPUT OUTIL ENERGETIQUE'!$AB$7:$AB$31,0)","v":0},{"$f":"_xlfn.XLOOKUP(R4,'OUTPUT OUTIL ENERGETIQUE'!$A$7:$A$31,'OUTPUT OUTIL ENERGETIQUE'!$AB$7:$AB$31,0)","v":0},{"$f":"_xlfn.XLOOKUP(S4,'OUTPUT OUTIL ENERGETIQUE'!$A$7:$A$31,'OUTPUT OUTIL ENERGETIQUE'!$AB$7:$AB$31,0)","v":0},{"$f":"_xlfn.XLOOKUP(T4,'OUTPUT OUTIL ENERGETIQUE'!$A$7:$A$31,'OUTPUT OUTIL ENERGETIQUE'!$AB$7:$AB$31,0)","v":0},{"$f":"_xlfn.XLOOKUP(U4,'OUTPUT OUTIL ENERGETIQUE'!$A$7:$A$31,'OUTPUT OUTIL ENERGETIQUE'!$AB$7:$AB$31,0)","v":0},{"$f":"_xlfn.XLOOKUP(V4,'OUTPUT OUTIL ENERGETIQUE'!$A$7:$A$31,'OUTPUT OUTIL ENERGETIQUE'!$AB$7:$AB$31,0)","v":0},{"$f":"_xlfn.XLOOKUP(W4,'OUTPUT OUTIL ENERGETIQUE'!$A$7:$A$31,'OUTPUT OUTIL ENERGETIQUE'!$AB$7:$AB$31,0)","v":0},{"$f":"_xlfn.XLOOKUP(X4,'OUTPUT OUTIL ENERGETIQUE'!$A$7:$A$31,'OUTPUT OUTIL ENERGETIQUE'!$AB$7:$AB$31,0)","v":0},{"$f":"_xlfn.XLOOKUP(Y4,'OUTPUT OUTIL ENERGETIQUE'!$A$7:$A$31,'OUTPUT OUTIL ENERGETIQUE'!$AB$7:$AB$31,0)","v":0},{"$f":"_xlfn.XLOOKUP(Z4,'OUTPUT OUTIL ENERGETIQUE'!$A$7:$A$31,'OUTPUT OUTIL ENERGETIQUE'!$AB$7:$AB$31,0)","v":0},{"$f":"_xlfn.XLOOKUP(AA4,'OUTPUT OUTIL ENERGETIQUE'!$A$7:$A$31,'OUTPUT OUTIL ENERGETIQUE'!$AB$7:$AB$31,0)","v":0}]
[null,"Autoconso ACC HCB (kWh/an)",{"$f":"_xlfn.XLOOKUP(C4,'OUTPUT OUTIL ENERGETIQUE'!$A$7:$A$31,'OUTPUT OUTIL ENERGETIQUE'!$AA$7:$AA$31,0)","v":0},{"$f":"_xlfn.XLOOKUP(D4,'OUTPUT OUTIL ENERGETIQUE'!$A$7:$A$31,'OUTPUT OUTIL ENERGETIQUE'!$AA$7:$AA$31,0)","v":0},{"$f":"_xlfn.XLOOKUP(E4,'OUTPUT OUTIL ENERGETIQUE'!$A$7:$A$31,'OUTPUT OUTIL ENERGETIQUE'!$AA$7:$AA$31,0)","v":0},{"$f":"_xlfn.XLOOKUP(F4,'OUTPUT OUTIL ENERGETIQUE'!$A$7:$A$31,'OUTPUT OUTIL ENERGETIQUE'!$AA$7:$AA$31,0)","v":0},{"$f":"_xlfn.XLOOKUP(G4,'OUTPUT OUTIL ENERGETIQUE'!$A$7:$A$31,'OUTPUT OUTIL ENERGETIQUE'!$AA$7:$AA$31,0)","v":0},{"$f":"_xlfn.XLOOKUP(H4,'OUTPUT OUTIL ENERGETIQUE'!$A$7:$A$31,'OUTPUT OUTIL ENERGETIQUE'!$AA$7:$AA$31,0)","v":0},{"$f":"_xlfn.XLOOKUP(I4,'OUTPUT OUTIL ENERGETIQUE'!$A$7:$A$31,'OUTPUT OUTIL ENERGETIQUE'!$AA$7:$AA$31,0)","v":0},{"$f":"_xlfn.XLOOKUP(J4,'OUTPUT OUTIL ENERGETIQUE'!$A$7:$A$31,'OUTPUT OUTIL ENERGETIQUE'!$AA$7:$AA$31,0)","v":0},{"$f":"_xlfn.XLOOKUP(K4,'OUTPUT OUTIL ENERGETIQUE'!$A$7:$A$31,'OUTPUT OUTIL ENERGETIQUE'!$AA$7:$AA$31,0)","v":0},{"$f":"_xlfn.XLOOKUP(L4,'OUTPUT OUTIL ENERGETIQUE'!$A$7:$A$31,'OUTPUT OUTIL ENERGETIQUE'!$AA$7:$AA$31,0)","v":0},{"$f":"_xlfn.XLOOKUP(M4,'OUTPUT OUTIL ENERGETIQUE'!$A$7:$A$31,'OUTPUT OUTIL ENERGETIQUE'!$AA$7:$AA$31,0)","v":0},{"$f":"_xlfn.XLOOKUP(N4,'OUTPUT OUTIL ENERGETIQUE'!$A$7:$A$31,'OUTPUT OUTIL ENERGETIQUE'!$AA$7:$AA$31,0)","v":0},{"$f":"_xlfn.XLOOKUP(O4,'OUTPUT OUTIL ENERGETIQUE'!$A$7:$A$31,'OUTPUT OUTIL ENERGETIQUE'!$AA$7:$AA$31,0)","v":0},{"$f":"_xlfn.XLOOKUP(P4,'OUTPUT OUTIL ENERGETIQUE'!$A$7:$A$31,'OUTPUT OUTIL ENERGETIQUE'!$AA$7:$AA$31,0)","v":0},{"$f":"_xlfn.XLOOKUP(Q4,'OUTPUT OUTIL ENERGETIQUE'!$A$7:$A$31,'OUTPUT OUTIL ENERGETIQUE'!$AA$7:$AA$31,0)","v":0},{"$f":"_xlfn.XLOOKUP(R4,'OUTPUT OUTIL ENERGETIQUE'!$A$7:$A$31,'OUTPUT OUTIL ENERGETIQUE'!$AA$7:$AA$31,0)","v":0},{"$f":"_xlfn.XLOOKUP(S4,'OUTPUT OUTIL ENERGETIQUE'!$A$7:$A$31,'OUTPUT OUTIL ENERGETIQUE'!$AA$7:$AA$31,0)","v":0},{"$f":"_xlfn.XLOOKUP(T4,'OUTPUT OUTIL ENERGETIQUE'!$A$7:$A$31,'OUTPUT OUTIL ENERGETIQUE'!$AA$7:$AA$31,0)","v":0},{"$f":"_xlfn.XLOOKUP(U4,'OUTPUT OUTIL ENERGETIQUE'!$A$7:$A$31,'OUTPUT OUTIL ENERGETIQUE'!$AA$7:$AA$31,0)","v":0},{"$f":"_xlfn.XLOOKUP(V4,'OUTPUT OUTIL ENERGETIQUE'!$A$7:$A$31,'OUTPUT OUTIL ENERGETIQUE'!$AA$7:$AA$31,0)","v":0},{"$f":"_xlfn.XLOOKUP(W4,'OUTPUT OUTIL ENERGETIQUE'!$A$7:$A$31,'OUTPUT OUTIL ENERGETIQUE'!$AA$7:$AA$31,0)","v":0},{"$f":"_xlfn.XLOOKUP(X4,'OUTPUT OUTIL ENERGETIQUE'!$A$7:$A$31,'OUTPUT OUTIL ENERGETIQUE'!$AA$7:$AA$31,0)","v":0},{"$f":"_xlfn.XLOOKUP(Y4,'OUTPUT OUTIL ENERGETIQUE'!$A$7:$A$31,'OUTPUT OUTIL ENERGETIQUE'!$AA$7:$AA$31,0)","v":0},{"$f":"_xlfn.XLOOKUP(Z4,'OUTPUT OUTIL ENERGETIQUE'!$A$7:$A$31,'OUTPUT OUTIL ENERGETIQUE'!$AA$7:$AA$31,0)","v":0},{"$f":"_xlfn.XLOOKUP(AA4,'OUTPUT OUTIL ENERGETIQUE'!$A$7:$A$31,'OUTPUT OUTIL ENERGETIQUE'!$AA$7:$AA$31,0)","v":0}]
[null,"Soutirage ACC Base (kWh/an)",{"$f":"_xlfn.XLOOKUP(C4,'OUTPUT OUTIL ENERGETIQUE'!$A$7:$A$31,'OUTPUT OUTIL ENERGETIQUE'!$AH$7:$AH$31,0)","v":0},{"$f":"_xlfn.XLOOKUP(D4,'OUTPUT OUTIL ENERGETIQUE'!$A$7:$A$31,'OUTPUT OUTIL ENERGETIQUE'!$AH$7:$AH$31,0)","v":0},{"$f":"_xlfn.XLOOKUP(E4,'OUTPUT OUTIL ENERGETIQUE'!$A$7:$A$31,'OUTPUT OUTIL ENERGETIQUE'!$AH$7:$AH$31,0)","v":0},{"$f":"_xlfn.XLOOKUP(F4,'OUTPUT OUTIL ENERGETIQUE'!$A$7:$A$31,'OUTPUT OUTIL ENERGETIQUE'!$AH$7:$AH$31,0)","v":0},{"$f":"_xlfn.XLOOKUP(G4,'OUTPUT OUTIL ENERGETIQUE'!$A$7:$A$31,'OUTPUT OUTIL ENERGETIQUE'!$AH$7:$AH$31,0)","v":0},{"$f":"_xlfn.XLOOKUP(H4,'OUTPUT OUTIL ENERGETIQUE'!$A$7:$A$31,'OUTPUT OUTIL ENERGETIQUE'!$AH$7:$AH$31,0)","v":0},{"$f":"_xlfn.XLOOKUP(I4,'OUTPUT OUTIL ENERGETIQUE'!$A$7:$A$31,'OUTPUT OUTIL ENERGETIQUE'!$AH$7:$AH$31,0)","v":0},{"$f":"_xlfn.XLOOKUP(J4,'OUTPUT OUTIL ENERGETIQUE'!$A$7:$A$31,'OUTPUT OUTIL ENERGETIQUE'!$AH$7:$AH$31,0)","v":0},{"$f":"_xlfn.XLOOKUP(K4,'OUTPUT OUTIL ENERGETIQUE'!$A$7:$A$31,'OUTPUT OUTIL ENERGETIQUE'!$AH$7:$AH$31,0)","v":0},{"$f":"_xlfn.XLOOKUP(L4,'OUTPUT OUTIL ENERGETIQUE'!$A$7:$A$31,'OUTPUT OUTIL ENERGETIQUE'!$AH$7:$AH$31,0)","v":0},{"$f":"_xlfn.XLOOKUP(M4,'OUTPUT OUTIL ENERGETIQUE'!$A$7:$A$31,'OUTPUT OUTIL ENERGETIQUE'!$AH$7:$AH$31,0)","v":0},{"$f":"_xlfn.XLOOKUP(N4,'OUTPUT OUTIL ENERGETIQUE'!$A$7:$A$31,'OUTPUT OUTIL ENERGETIQUE'!$AH$7:$AH$31,0)","v":0},{"$f":"_xlfn.XLOOKUP(O4,'OUTPUT OUTIL ENERGETIQUE'!$A$7:$A$31,'OUTPUT OUTIL ENERGETIQUE'!$AH$7:$AH$31,0)","v":0},{"$f":"_xlfn.XLOOKUP(P4,'OUTPUT OUTIL ENERGETIQUE'!$A$7:$A$31,'OUTPUT OUTIL ENERGETIQUE'!$AH$7:$AH$31,0)","v":0},{"$f":"_xlfn.XLOOKUP(Q4,'OUTPUT OUTIL ENERGETIQUE'!$A$7:$A$31,'OUTPUT OUTIL ENERGETIQUE'!$AH$7:$AH$31,0)","v":0},{"$f":"_xlfn.XLOOKUP(R4,'OUTPUT OUTIL ENERGETIQUE'!$A$7:$A$31,'OUTPUT OUTIL ENERGETIQUE'!$AH$7:$AH$31,0)","v":0},{"$f":"_xlfn.XLOOKUP(S4,'OUTPUT OUTIL ENERGETIQUE'!$A$7:$A$31,'OUTPUT OUTIL ENERGETIQUE'!$AH$7:$AH$31,0)","v":0},{"$f":"_xlfn.XLOOKUP(T4,'OUTPUT OUTIL ENERGETIQUE'!$A$7:$A$31,'OUTPUT OUTIL ENERGETIQUE'!$AH$7:$AH$31,0)","v":0},{"$f":"_xlfn.XLOOKUP(U4,'OUTPUT OUTIL ENERGETIQUE'!$A$7:$A$31,'OUTPUT OUTIL ENERGETIQUE'!$AH$7:$AH$31,0)","v":0},{"$f":"_xlfn.XLOOKUP(V4,'OUTPUT OUTIL ENERGETIQUE'!$A$7:$A$31,'OUTPUT OUTIL ENERGETIQUE'!$AH$7:$AH$31,0)","v":0},{"$f":"_xlfn.XLOOKUP(W4,'OUTPUT OUTIL ENERGETIQUE'!$A$7:$A$31,'OUTPUT OUTIL ENERGETIQUE'!$AH$7:$AH$31,0)","v":0},{"$f":"_xlfn.XLOOKUP(X4,'OUTPUT OUTIL ENERGETIQUE'!$A$7:$A$31,'OUTPUT OUTIL ENERGETIQUE'!$AH$7:$AH$31,0)","v":0},{"$f":"_xlfn.XLOOKUP(Y4,'OUTPUT OUTIL ENERGETIQUE'!$A$7:$A$31,'OUTPUT OUTIL ENERGETIQUE'!$AH$7:$AH$31,0)","v":0},{"$f":"_xlfn.XLOOKUP(Z4,'OUTPUT OUTIL ENERGETIQUE'!$A$7:$A$31,'OUTPUT OUTIL ENERGETIQUE'!$AH$7:$AH$31,0)","v":0},{"$f":"_xlfn.XLOOKUP(AA4,'OUTPUT OUTIL ENERGETIQUE'!$A$7:$A$31,'OUTPUT OUTIL ENERGETIQUE'!$AH$7:$AH$31,0)","v":0}]
[null,"Soutirage ACC HPH (kWh/an)",{"$f":"_xlfn.XLOOKUP(C4,'OUTPUT OUTIL ENERGETIQUE'!$A$7:$A$31,'OUTPUT OUTIL ENERGETIQUE'!$AD$7:$AD$31,0)","v":0},{"$f":"_xlfn.XLOOKUP(D4,'OUTPUT OUTIL ENERGETIQUE'!$A$7:$A$31,'OUTPUT OUTIL ENERGETIQUE'!$AD$7:$AD$31,0)","v":0},{"$f":"_xlfn.XLOOKUP(E4,'OUTPUT OUTIL ENERGETIQUE'!$A$7:$A$31,'OUTPUT OUTIL ENERGETIQUE'!$AD$7:$AD$31,0)","v":0},{"$f":"_xlfn.XLOOKUP(F4,'OUTPUT OUTIL ENERGETIQUE'!$A$7:$A$31,'OUTPUT OUTIL ENERGETIQUE'!$AD$7:$AD$31,0)","v":0},{"$f":"_xlfn.XLOOKUP(G4,'OUTPUT OUTIL ENERGETIQUE'!$A$7:$A$31,'OUTPUT OUTIL ENERGETIQUE'!$AD$7:$AD$31,0)","v":0},{"$f":"_xlfn.XLOOKUP(H4,'OUTPUT OUTIL ENERGETIQUE'!$A$7:$A$31,'OUTPUT OUTIL ENERGETIQUE'!$AD$7:$AD$31,0)","v":0},{"$f":"_xlfn.XLOOKUP(I4,'OUTPUT OUTIL ENERGETIQUE'!$A$7:$A$31,'OUTPUT OUTIL ENERGETIQUE'!$AD$7:$AD$31,0)","v":0},{"$f":"_xlfn.XLOOKUP(J4,'OUTPUT OUTIL ENERGETIQUE'!$A$7:$A$31,'OUTPUT OUTIL ENERGETIQUE'!$AD$7:$AD$31,0)","v":0},{"$f":"_xlfn.XLOOKUP(K4,'OUTPUT OUTIL ENERGETIQUE'!$A$7:$A$31,'OUTPUT OUTIL ENERGETIQUE'!$AD$7:$AD$31,0)","v":0},{"$f":"_xlfn.XLOOKUP(L4,'OUTPUT OUTIL ENERGETIQUE'!$A$7:$A$31,'OUTPUT OUTIL ENERGETIQUE'!$AD$7:$AD$31,0)","v":0},{"$f":"_xlfn.XLOOKUP(M4,'OUTPUT OUTIL ENERGETIQUE'!$A$7:$A$31,'OUTPUT OUTIL ENERGETIQUE'!$AD$7:$AD$31,0)","v":0},{"$f":"_xlfn.XLOOKUP(N4,'OUTPUT OUTIL ENERGETIQUE'!$A$7:$A$31,'OUTPUT OUTIL ENERGETIQUE'!$AD$7:$AD$31,0)","v":0},{"$f":"_xlfn.XLOOKUP(O4,'OUTPUT OUTIL ENERGETIQUE'!$A$7:$A$31,'OUTPUT OUTIL ENERGETIQUE'!$AD$7:$AD$31,0)","v":0},{"$f":"_xlfn.XLOOKUP(P4,'OUTPUT OUTIL ENERGETIQUE'!$A$7:$A$31,'OUTPUT OUTIL ENERGETIQUE'!$AD$7:$AD$31,0)","v":0},{"$f":"_xlfn.XLOOKUP(Q4,'OUTPUT OUTIL ENERGETIQUE'!$A$7:$A$31,'OUTPUT OUTIL ENERGETIQUE'!$AD$7:$AD$31,0)","v":0},{"$f":"_xlfn.XLOOKUP(R4,'OUTPUT OUTIL ENERGETIQUE'!$A$7:$A$31,'OUTPUT OUTIL ENERGETIQUE'!$AD$7:$AD$31,0)","v":0},{"$f":"_xlfn.XLOOKUP(S4,'OUTPUT OUTIL ENERGETIQUE'!$A$7:$A$31,'OUTPUT OUTIL ENERGETIQUE'!$AD$7:$AD$31,0)","v":0},{"$f":"_xlfn.XLOOKUP(T4,'OUTPUT OUTIL ENERGETIQUE'!$A$7:$A$31,'OUTPUT OUTIL ENERGETIQUE'!$AD$7:$AD$31,0)","v":0},{"$f":"_xlfn.XLOOKUP(U4,'OUTPUT OUTIL ENERGETIQUE'!$A$7:$A$31,'OUTPUT OUTIL ENERGETIQUE'!$AD$7:$AD$31,0)","v":0},{"$f":"_xlfn.XLOOKUP(V4,'OUTPUT OUTIL ENERGETIQUE'!$A$7:$A$31,'OUTPUT OUTIL ENERGETIQUE'!$AD$7:$AD$31,0)","v":0},{"$f":"_xlfn.XLOOKUP(W4,'OUTPUT OUTIL ENERGETIQUE'!$A$7:$A$31,'OUTPUT OUTIL ENERGETIQUE'!$AD$7:$AD$31,0)","v":0},{"$f":"_xlfn.XLOOKUP(X4,'OUTPUT OUTIL ENERGETIQUE'!$A$7:$A$31,'OUTPUT OUTIL ENERGETIQUE'!$AD$7:$AD$31,0)","v":0},{"$f":"_xlfn.XLOOKUP(Y4,'OUTPUT OUTIL ENERGETIQUE'!$A$7:$A$31,'OUTPUT OUTIL ENERGETIQUE'!$AD$7:$AD$31,0)","v":0},{"$f":"_xlfn.XLOOKUP(Z4,'OUTPUT OUTIL ENERGETIQUE'!$A$7:$A$31,'OUTPUT OUTIL ENERGETIQUE'!$AD$7:$AD$31,0)","v":0},{"$f":"_xlfn.XLOOKUP(AA4,'OUTPUT OUTIL ENERGETIQUE'!$A$7:$A$31,'OUTPUT OUTIL ENERGETIQUE'!$AD$7:$AD$31,0)","v":0}]
[null,"Soutirage ACC HCH (kWh/an)",{"$f":"_xlfn.XLOOKUP(C4,'OUTPUT OUTIL ENERGETIQUE'!$A$7:$A$31,'OUTPUT OUTIL ENERGETIQUE'!$AE$7:$AE$31,0)","v":0},{"$f":"_xlfn.XLOOKUP(D4,'OUTPUT OUTIL ENERGETIQUE'!$A$7:$A$31,'OUTPUT OUTIL ENERGETIQUE'!$AE$7:$AE$31,0)","v":0},{"$f":"_xlfn.XLOOKUP(E4,'OUTPUT OUTIL ENERGETIQUE'!$A$7:$A$31,'OUTPUT OUTIL ENERGETIQUE'!$AE$7:$AE$31,0)","v":0},{"$f":"_xlfn.XLOOKUP(F4,'OUTPUT OUTIL ENERGETIQUE'!$A$7:$A$31,'OUTPUT OUTIL ENERGETIQUE'!$AE$7:$AE$31,0)","v":0},{"$f":"_xlfn.XLOOKUP(G4,'OUTPUT OUTIL ENERGETIQUE'!$A$7:$A$31,'OUTPUT OUTIL ENERGETIQUE'!$AE$7:$AE$31,0)","v":0},{"$f":"_xlfn.XLOOKUP(H4,'OUTPUT OUTIL ENERGETIQUE'!$A$7:$A$31,'OUTPUT OUTIL ENERGETIQUE'!$AE$7:$AE$31,0)","v":0},{"$f":"_xlfn.XLOOKUP(I4,'OUTPUT OUTIL ENERGETIQUE'!$A$7:$A$31,'OUTPUT OUTIL ENERGETIQUE'!$AE$7:$AE$31,0)","v":0},{"$f":"_xlfn.XLOOKUP(J4,'OUTPUT OUTIL ENERGETIQUE'!$A$7:$A$31,'OUTPUT OUTIL ENERGETIQUE'!$AE$7:$AE$31,0)","v":0},{"$f":"_xlfn.XLOOKUP(K4,'OUTPUT OUTIL ENERGETIQUE'!$A$7:$A$31,'OUTPUT OUTIL ENERGETIQUE'!$AE$7:$AE$31,0)","v":0},{"$f":"_xlfn.XLOOKUP(L4,'OUTPUT OUTIL ENERGETIQUE'!$A$7:$A$31,'OUTPUT OUTIL ENERGETIQUE'!$AE$7:$AE$31,0)","v":0},{"$f":"_xlfn.XLOOKUP(M4,'OUTPUT OUTIL ENERGETIQUE'!$A$7:$A$31,'OUTPUT OUTIL ENERGETIQUE'!$AE$7:$AE$31,0)","v":0},{"$f":"_xlfn.XLOOKUP(N4,'OUTPUT OUTIL ENERGETIQUE'!$A$7:$A$31,'OUTPUT OUTIL ENERGETIQUE'!$AE$7:$AE$31,0)","v":0},{"$f":"_xlfn.XLOOKUP(O4,'OUTPUT OUTIL ENERGETIQUE'!$A$7:$A$31,'OUTPUT OUTIL ENERGETIQUE'!$AE$7:$AE$31,0)","v":0},{"$f":"_xlfn.XLOOKUP(P4,'OUTPUT OUTIL ENERGETIQUE'!$A$7:$A$31,'OUTPUT OUTIL ENERGETIQUE'!$AE$7:$AE$31,0)","v":0},{"$f":"_xlfn.XLOOKUP(Q4,'OUTPUT OUTIL ENERGETIQUE'!$A$7:$A$31,'OUTPUT OUTIL ENERGETIQUE'!$AE$7:$AE$31,0)","v":0},{"$f":"_xlfn.XLOOKUP(R4,'OUTPUT OUTIL ENERGETIQUE'!$A$7:$A$31,'OUTPUT OUTIL ENERGETIQUE'!$AE$7:$AE$31,0)","v":0},{"$f":"_xlfn.XLOOKUP(S4,'OUTPUT OUTIL ENERGETIQUE'!$A$7:$A$31,'OUTPUT OUTIL ENERGETIQUE'!$AE$7:$AE$31,0)","v":0},{"$f":"_xlfn.XLOOKUP(T4,'OUTPUT OUTIL ENERGETIQUE'!$A$7:$A$31,'OUTPUT OUTIL ENERGETIQUE'!$AE$7:$AE$31,0)","v":0},{"$f":"_xlfn.XLOOKUP(U4,'OUTPUT OUTIL ENERGETIQUE'!$A$7:$A$31,'OUTPUT OUTIL ENERGETIQUE'!$AE$7:$AE$31,0)","v":0},{"$f":"_xlfn.XLOOKUP(V4,'OUTPUT OUTIL ENERGETIQUE'!$A$7:$A$31,'OUTPUT OUTIL ENERGETIQUE'!$AE$7:$AE$31,0)","v":0},{"$f":"_xlfn.XLOOKUP(W4,'OUTPUT OUTIL ENERGETIQUE'!$A$7:$A$31,'OUTPUT OUTIL ENERGETIQUE'!$AE$7:$AE$31,0)","v":0},{"$f":"_xlfn.XLOOKUP(X4,'OUTPUT OUTIL ENERGETIQUE'!$A$7:$A$31,'OUTPUT OUTIL ENERGETIQUE'!$AE$7:$AE$31,0)","v":0},{"$f":"_xlfn.XLOOKUP(Y4,'OUTPUT OUTIL ENERGETIQUE'!$A$7:$A$31,'OUTPUT OUTIL ENERGETIQUE'!$AE$7:$AE$31,0)","v":0},{"$f":"_xlfn.XLOOKUP(Z4,'OUTPUT OUTIL ENERGETIQUE'!$A$7:$A$31,'OUTPUT OUTIL ENERGETIQUE'!$AE$7:$AE$31,0)","v":0},{"$f":"_xlfn.XLOOKUP(AA4,'OUTPUT OUTIL ENERGETIQUE'!$A$7:$A$31,'OUTPUT OUTIL ENERGETIQUE'!$AE$7:$AE$31,0)","v":0}]
[null,"Soutirage ACC HPB (kWh/an)",{"$f":"_xlfn.XLOOKUP(C4,'OUTPUT OUTIL ENERGETIQUE'!$A$7:$A$31,'OUTPUT OUTIL ENERGETIQUE'!$AG$7:$AG$31,0)","v":0},{"$f":"_xlfn.XLOOKUP(D4,'OUTPUT OUTIL ENERGETIQUE'!$A$7:$A$31,'OUTPUT OUTIL ENERGETIQUE'!$AG$7:$AG$31,0)","v":0},{"$f":"_xlfn.XLOOKUP(E4,'OUTPUT OUTIL ENERGETIQUE'!$A$7:$A$31,'OUTPUT OUTIL ENERGETIQUE'!$AG$7:$AG$31,0)","v":0},{"$f":"_xlfn.XLOOKUP(F4,'OUTPUT OUTIL ENERGETIQUE'!$A$7:$A$31,'OUTPUT OUTIL ENERGETIQUE'!$AG$7:$AG$31,0)","v":0},{"$f":"_xlfn.XLOOKUP(G4,'OUTPUT OUTIL ENERGETIQUE'!$A$7:$A$31,'OUTPUT OUTIL ENERGETIQUE'!$AG$7:$AG$31,0)","v":0},{"$f":"_xlfn.XLOOKUP(H4,'OUTPUT OUTIL ENERGETIQUE'!$A$7:$A$31,'OUTPUT OUTIL ENERGETIQUE'!$AG$7:$AG$31,0)","v":0},{"$f":"_xlfn.XLOOKUP(I4,'OUTPUT OUTIL ENERGETIQUE'!$A$7:$A$31,'OUTPUT OUTIL ENERGETIQUE'!$AG$7:$AG$31,0)","v":0},{"$f":"_xlfn.XLOOKUP(J4,'OUTPUT OUTIL ENERGETIQUE'!$A$7:$A$31,'OUTPUT OUTIL ENERGETIQUE'!$AG$7:$AG$31,0)","v":0},{"$f":"_xlfn.XLOOKUP(K4,'OUTPUT OUTIL ENERGETIQUE'!$A$7:$A$31,'OUTPUT OUTIL ENERGETIQUE'!$AG$7:$AG$31,0)","v":0},{"$f":"_xlfn.XLOOKUP(L4,'OUTPUT OUTIL ENERGETIQUE'!$A$7:$A$31,'OUTPUT OUTIL ENERGETIQUE'!$AG$7:$AG$31,0)","v":0},{"$f":"_xlfn.XLOOKUP(M4,'OUTPUT OUTIL ENERGETIQUE'!$A$7:$A$31,'OUTPUT OUTIL ENERGETIQUE'!$AG$7:$AG$31,0)","v":0},{"$f":"_xlfn.XLOOKUP(N4,'OUTPUT OUTIL ENERGETIQUE'!$A$7:$A$31,'OUTPUT OUTIL ENERGETIQUE'!$AG$7:$AG$31,0)","v":0},{"$f":"_xlfn.XLOOKUP(O4,'OUTPUT OUTIL ENERGETIQUE'!$A$7:$A$31,'OUTPUT OUTIL ENERGETIQUE'!$AG$7:$AG$31,0)","v":0},{"$f":"_xlfn.XLOOKUP(P4,'OUTPUT OUTIL ENERGETIQUE'!$A$7:$A$31,'OUTPUT OUTIL ENERGETIQUE'!$AG$7:$AG$31,0)","v":0},{"$f":"_xlfn.XLOOKUP(Q4,'OUTPUT OUTIL ENERGETIQUE'!$A$7:$A$31,'OUTPUT OUTIL ENERGETIQUE'!$AG$7:$AG$31,0)","v":0},{"$f":"_xlfn.XLOOKUP(R4,'OUTPUT OUTIL ENERGETIQUE'!$A$7:$A$31,'OUTPUT OUTIL ENERGETIQUE'!$AG$7:$AG$31,0)","v":0},{"$f":"_xlfn.XLOOKUP(S4,'OUTPUT OUTIL ENERGETIQUE'!$A$7:$A$31,'OUTPUT OUTIL ENERGETIQUE'!$AG$7:$AG$31,0)","v":0},{"$f":"_xlfn.XLOOKUP(T4,'OUTPUT OUTIL ENERGETIQUE'!$A$7:$A$31,'OUTPUT OUTIL ENERGETIQUE'!$AG$7:$AG$31,0)","v":0},{"$f":"_xlfn.XLOOKUP(U4,'OUTPUT OUTIL ENERGETIQUE'!$A$7:$A$31,'OUTPUT OUTIL ENERGETIQUE'!$AG$7:$AG$31,0)","v":0},{"$f":"_xlfn.XLOOKUP(V4,'OUTPUT OUTIL ENERGETIQUE'!$A$7:$A$31,'OUTPUT OUTIL ENERGETIQUE'!$AG$7:$AG$31,0)","v":0},{"$f":"_xlfn.XLOOKUP(W4,'OUTPUT OUTIL ENERGETIQUE'!$A$7:$A$31,'OUTPUT OUTIL ENERGETIQUE'!$AG$7:$AG$31,0)","v":0},{"$f":"_xlfn.XLOOKUP(X4,'OUTPUT OUTIL ENERGETIQUE'!$A$7:$A$31,'OUTPUT OUTIL ENERGETIQUE'!$AG$7:$AG$31,0)","v":0},{"$f":"_xlfn.XLOOKUP(Y4,'OUTPUT OUTIL ENERGETIQUE'!$A$7:$A$31,'OUTPUT OUTIL ENERGETIQUE'!$AG$7:$AG$31,0)","v":0},{"$f":"_xlfn.XLOOKUP(Z4,'OUTPUT OUTIL ENERGETIQUE'!$A$7:$A$31,'OUTPUT OUTIL ENERGETIQUE'!$AG$7:$AG$31,0)","v":0},{"$f":"_xlfn.XLOOKUP(AA4,'OUTPUT OUTIL ENERGETIQUE'!$A$7:$A$31,'OUTPUT OUTIL ENERGETIQUE'!$AG$7:$AG$31,0)","v":0}]
[null,"Soutirage ACC HCB (kWh/an)",{"$f":"_xlfn.XLOOKUP(C4,'OUTPUT OUTIL ENERGETIQUE'!$A$7:$A$31,'OUTPUT OUTIL ENERGETIQUE'!$AF$7:$AF$31,0)","v":0},{"$f":"_xlfn.XLOOKUP(D4,'OUTPUT OUTIL ENERGETIQUE'!$A$7:$A$31,'OUTPUT OUTIL ENERGETIQUE'!$AF$7:$AF$31,0)","v":0},{"$f":"_xlfn.XLOOKUP(E4,'OUTPUT OUTIL ENERGETIQUE'!$A$7:$A$31,'OUTPUT OUTIL ENERGETIQUE'!$AF$7:$AF$31,0)","v":0},{"$f":"_xlfn.XLOOKUP(F4,'OUTPUT OUTIL ENERGETIQUE'!$A$7:$A$31,'OUTPUT OUTIL ENERGETIQUE'!$AF$7:$AF$31,0)","v":0},{"$f":"_xlfn.XLOOKUP(G4,'OUTPUT OUTIL ENERGETIQUE'!$A$7:$A$31,'OUTPUT OUTIL ENERGETIQUE'!$AF$7:$AF$31,0)","v":0},{"$f":"_xlfn.XLOOKUP(H4,'OUTPUT OUTIL ENERGETIQUE'!$A$7:$A$31,'OUTPUT OUTIL ENERGETIQUE'!$AF$7:$AF$31,0)","v":0},{"$f":"_xlfn.XLOOKUP(I4,'OUTPUT OUTIL ENERGETIQUE'!$A$7:$A$31,'OUTPUT OUTIL ENERGETIQUE'!$AF$7:$AF$31,0)","v":0},{"$f":"_xlfn.XLOOKUP(J4,'OUTPUT OUTIL ENERGETIQUE'!$A$7:$A$31,'OUTPUT OUTIL ENERGETIQUE'!$AF$7:$AF$31,0)","v":0},{"$f":"_xlfn.XLOOKUP(K4,'OUTPUT OUTIL ENERGETIQUE'!$A$7:$A$31,'OUTPUT OUTIL ENERGETIQUE'!$AF$7:$AF$31,0)","v":0},{"$f":"_xlfn.XLOOKUP(L4,'OUTPUT OUTIL ENERGETIQUE'!$A$7:$A$31,'OUTPUT OUTIL ENERGETIQUE'!$AF$7:$AF$31,0)","v":0},{"$f":"_xlfn.XLOOKUP(M4,'OUTPUT OUTIL ENERGETIQUE'!$A$7:$A$31,'OUTPUT OUTIL ENERGETIQUE'!$AF$7:$AF$31,0)","v":0},{"$f":"_xlfn.XLOOKUP(N4,'OUTPUT OUTIL ENERGETIQUE'!$A$7:$A$31,'OUTPUT OUTIL ENERGETIQUE'!$AF$7:$AF$31,0)","v":0},{"$f":"_xlfn.XLOOKUP(O4,'OUTPUT OUTIL ENERGETIQUE'!$A$7:$A$31,'OUTPUT OUTIL ENERGETIQUE'!$AF$7:$AF$31,0)","v":0},{"$f":"_xlfn.XLOOKUP(P4,'OUTPUT OUTIL ENERGETIQUE'!$A$7:$A$31,'OUTPUT OUTIL ENERGETIQUE'!$AF$7:$AF$31,0)","v":0},{"$f":"_xlfn.XLOOKUP(Q4,'OUTPUT OUTIL ENERGETIQUE'!$A$7:$A$31,'OUTPUT OUTIL ENERGETIQUE'!$AF$7:$AF$31,0)","v":0},{"$f":"_xlfn.XLOOKUP(R4,'OUTPUT OUTIL ENERGETIQUE'!$A$7:$A$31,'OUTPUT OUTIL ENERGETIQUE'!$AF$7:$AF$31,0)","v":0},{"$f":"_xlfn.XLOOKUP(S4,'OUTPUT OUTIL ENERGETIQUE'!$A$7:$A$31,'OUTPUT OUTIL ENERGETIQUE'!$AF$7:$AF$31,0)","v":0},{"$f":"_xlfn.XLOOKUP(T4,'OUTPUT OUTIL ENERGETIQUE'!$A$7:$A$31,'OUTPUT OUTIL ENERGETIQUE'!$AF$7:$AF$31,0)","v":0},{"$f":"_xlfn.XLOOKUP(U4,'OUTPUT OUTIL ENERGETIQUE'!$A$7:$A$31,'OUTPUT OUTIL ENERGETIQUE'!$AF$7:$AF$31,0)","v":0},{"$f":"_xlfn.XLOOKUP(V4,'OUTPUT OUTIL ENERGETIQUE'!$A$7:$A$31,'OUTPUT OUTIL ENERGETIQUE'!$AF$7:$AF$31,0)","v":0},{"$f":"_xlfn.XLOOKUP(W4,'OUTPUT OUTIL ENERGETIQUE'!$A$7:$A$31,'OUTPUT OUTIL ENERGETIQUE'!$AF$7:$AF$31,0)","v":0},{"$f":"_xlfn.XLOOKUP(X4,'OUTPUT OUTIL ENERGETIQUE'!$A$7:$A$31,'OUTPUT OUTIL ENERGETIQUE'!$AF$7:$AF$31,0)","v":0},{"$f":"_xlfn.XLOOKUP(Y4,'OUTPUT OUTIL ENERGETIQUE'!$A$7:$A$31,'OUTPUT OUTIL ENERGETIQUE'!$AF$7:$AF$31,0)","v":0},{"$f":"_xlfn.XLOOKUP(Z4,'OUTPUT OUTIL ENERGETIQUE'!$A$7:$A$31,'OUTPUT OUTIL ENERGETIQUE'!$AF$7:$AF$31,0)","v":0},{"$f":"_xlfn.XLOOKUP(AA4,'OUTPUT OUTIL ENERGETIQUE'!$A$7:$A$31,'OUTPUT OUTIL ENERGETIQUE'!$AF$7:$AF$31,0)","v":0}]
[]
[null,"TOTAL CONSOMMATIONS (kWh/an)",{"$f":"IF(C$5=\"Base\",C$6,SUM(C$7:C$10))","v":0},0,0,0,0,0,0,0,0,0,0,0,0,0,0,0,0,0,0,0,0,0,0,0,0]
[null,"TOTAL AUTOCONSOMMATION (kWh/an)",{"$f":"IF(C$5=\"Base\",C$12,SUM(C$13:C$16))","v":0},0,0,0,0,0,0,0,0,0,0,0,0,0,0,0,0,0,0,0,0,0,0,0,0]
[null,"TOTAL SOUTIRAGE (kWh/an)",{"$f":"IF(C$5=\"Base\",C$17,SUM(C$18:C$21))","v":0},0,0,0,0,0,0,0,0,0,0,0,0,0,0,0,0,0,0,0,0,0,0,0,0]
[null,"Taux d'autoproduction",{"$f":"C24/C23","v":{"$error":"#DIV/0!"}},{"$error":"#DIV/0!"},{"$error":"#DIV/0!"},{"$error":"#DIV/0!"},{"$error":"#DIV/0!"},{"$error":"#DIV/0!"},{"$error":"#DIV/0!"},{"$error":"#DIV/0!"},{"$error":"#DIV/0!"},{"$error":"#DIV/0!"},{"$error":"#DIV/0!"},{"$error":"#DIV/0!"},{"$error":"#DIV/0!"},{"$error":"#DIV/0!"},{"$error":"#DIV/0!"},{"$error":"#DIV/0!"},{"$error":"#DIV/0!"},{"$error":"#DIV/0!"},{"$error":"#DIV/0!"},{"$error":"#DIV/0!"},{"$error":"#DIV/0!"},{"$error":"#DIV/0!"},{"$error":"#DIV/0!"},{"$error":"#DIV/0!"},{"$error":"#DIV/0!"}]
[]
[null,"DESCRIPTION DES TARIFS DE L'ELECTRICITE ACTUELLEMENT PAYES PAR LES CONSOMMATEURS"]
[null,"Puissance souscrite (kVA) ",null,null,null,null,null,null,null,null,null,null,null,null,null,null,null,null,null,null,null,null,null,null,null,null,null,null,"Aide à la saisie\nEntrez dans le tableau ci-contre les informations issues de votre facture : puissance souscrite (généralement 6 kVA pour les particuliers), indiquez si vous bénéficiez ou non du Tarif réglementé pour la Vente d'Electricité (TRVE) et votre catégorie fiscale pour l'accise (voir liste déroulante)"]
[null,"TRVE"]
[null,"Catégorie fiscale électricité"]
[null,"Accise sur l'électricité (c€/kWh)",{"$f":"_xlfn.SWITCH(C31,Données!$A$4,Données!$B$4,Données!$A$5,Données!$B$5,Données!$A$6,Données!$B$6)","v":{"$error":"#N/A"}},{"$f":"_xlfn.SWITCH(D31,Données!$A$4,Données!$B$4,Données!$A$5,Données!$B$5,Données!$A$6,Données!$B$6)","v":{"$error":"#N/A"}},{"$f":"_xlfn.SWITCH(E31,Données!$A$4,Données!$B$4,Données!$A$5,Données!$B$5,Données!$A$6,Données!$B$6)","v":{"$error":"#N/A"}},{"$f":"_xlfn.SWITCH(F31,Données!$A$4,Données!$B$4,Données!$A$5,Données!$B$5,Données!$A$6,Données!$B$6)","v":{"$error":"#N/A"}},{"$f":"_xlfn.SWITCH(G31,Données!$A$4,Données!$B$4,Données!$A$5,Données!$B$5,Données!$A$6,Données!$B$6)","v":{"$error":"#N/A"}},{"$f":"_xlfn.SWITCH(H31,Données!$A$4,Données!$B$4,Données!$A$5,Données!$B$5,Données!$A$6,Données!$B$6)","v":{"$error":"#N/A"}},{"$f":"_xlfn.SWITCH(I31,Données!$A$4,Données!$B$4,Données!$A$5,Données!$B$5,Données!$A$6,Données!$B$6)","v":{"$error":"#N/A"}},{"$f":"_xlfn.SWITCH(J31,Données!$A$4,Données!$B$4,Données!$A$5,Données!$B$5,Données!$A$6,Données!$B$6)","v":{"$error":"#N/A"}},{"$f":"_xlfn.SWITCH(K31,Données!$A$4,Données!$B$4,Données!$A$5,Données!$B$5,Données!$A$6,Données!$B$6)","v":{"$error":"#N/A"}},{"$f":"_xlfn.SWITCH(L31,Données!$A$4,Données!$B$4,Données!$A$5,Données!$B$5,Données!$A$6,Données!$B$6)","v":{"$error":"#N/A"}},{"$f":"_xlfn.SWITCH(M31,Données!$A$4,Données!$B$4,Données!$A$5,Données!$B$5,Données!$A$6,Données!$B$6)","v":{"$error":"#N/A"}},{"$f":"_xlfn.SWITCH(N31,Données!$A$4,Données!$B$4,Données!$A$5,Données!$B$5,Données!$A$6,Données!$B$6)","v":{"$error":"#N/A"}},{"$f":"_xlfn.SWITCH(O31,Données!$A$4,Données!$B$4,Données!$A$5,Données!$B$5,Données!$A$6,Données!$B$6)","v":{"$error":"#N/A"}},{"$f":"_xlfn.SWITCH(P31,Données!$A$4,Données!$B$4,Données!$A$5,Données!$B$5,Données!$A$6,Données!$B$6)","v":{"$error":"#N/A"}},{"$f":"_xlfn.SWITCH(Q31,Données!$A$4,Données!$B$4,Données!$A$5,Données!$B$5,Données!$A$6,Données!$B$6)","v":{"$error":"#N/A"}},{"$f":"_xlfn.SWITCH(R31,Données!$A$4,Données!$B$4,Données!$A$5,Données!$B$5,Données!$A$6,Données!$B$6)","v":{"$error":"#N/A"}},{"$f":"_xlfn.SWITCH(S31,Données!$A$4,Données!$B$4,Données!$A$5,Données!$B$5,Données!$A$6,Données!$B$6)","v":{"$error":"#N/A"}},{"$f":"_xlfn.SWITCH(T31,Données!$A$4,Données!$B$4,Données!$A$5,Données!$B$5,Données!$A$6,Données!$B$6)","v":{"$error":"#N/A"}},{"$f":"_xlfn.SWITCH(U31,Données!$A$4,Données!$B$4,Données!$A$5,Données!$B$5,Données!$A$6,Données!$B$6)","v":{"$error":"#N/A"}},{"$f":"_xlfn.SWITCH(V31,Données!$A$4,Données!$B$4,Données!$A$5,Données!$B$5,Données!$A$6,Données!$B$6)","v":{"$error":"#N/A"}},{"$f":"_xlfn.SWITCH(W31,Données!$A$4,Données!$B$4,Données!$A$5,Données!$B$5,Données!$A$6,Données!$B$6)","v":{"$error":"#N/A"}},{"$f":"_xlfn.SWITCH(X31,Données!$A$4,Données!$B$4,Données!$A$5,Données!$B$5,Données!$A$6,Données!$B$6)","v":{"$error":"#N/A"}},{"$f":"_xlfn.SWITCH(Y31,Données!$A$4,Données!$B$4,Données!$A$5,Données!$B$5,Données!$A$6,Données!$B$6)","v":{"$error":"#N/A"}},{"$f":"_xlfn.SWITCH(Z31,Données!$A$4,Données!$B$4,Données!$A$5,Données!$B$5,Données!$A$6,Données!$B$6)","v":{"$error":"#N/A"}},{"$f":"_xlfn.SWITCH(AA31,Données!$A$4,Données!$B$4,Données!$A$5,Données!$B$5,Données!$A$6,Données!$B$6)","v":{"$error":"#N/A"}}]
[]
["Tarif du kWh indiqué sur la facture (inclus acheminement si TRVE)","Tarif Base (c€/kWh)",null,null,null,null,null,null,null,null,null,null,null,null,null,null,null,null,null,null,null,null,null,null,null,null,null,null,"Aide à la saisie\nEntrez dans le tableau ci-contre le montant du kWh hors taxe apparaissant sur votre facture, pour chaque période de consommation (ne remplir que la ligne Base si vous avez un tarif unique, sinon détaillez les différents tarifs sur les 4 lignes dédiées. Si vous avez les mêmes tarifs HP/HC en été et en hiver, copiez/collez les informations)"]
[null,"Tarif HPH HIVER (c€/kWh)"]
[null,"Tarif HCH HIVER (c€/kWh)"]
[null,"Tarif HPB ÉTÉ (c€/kWh)"]
[null,"Tarif HCB ÉTÉ (c€/kWh)"]
[]
["Calcul de la part \"énergie\" du kWh facturé","Tarif Base (c€/kWh)",{"$f":"IF(C5=\"Base\",IF(C30=\"Non\",C34,IF(C30=\"TRVE résidentiel\",C34-Données!$B$20,IF(C30=\"TRVE non résidentiel\",C34-Données!$B$23,\"\"))),\"\")","v":""},{"$f":"IF(D5=\"Base\",IF(D30=\"Non\",D34,IF(D30=\"TRVE résidentiel\",D34-Données!$B$20,IF(D30=\"TRVE non résidentiel\",D34-Données!$B$23,\"\"))),\"\")","v":""},{"$f":"IF(E5=\"Base\",IF(E30=\"Non\",E34,IF(E30=\"TRVE résidentiel\",E34-Données!$B$20,IF(E30=\"TRVE non résidentiel\",E34-Données!$B$23,\"\"))),\"\")","v":""},{"$f":"IF(F5=\"Base\",IF(F30=\"Non\",F34,IF(F30=\"TRVE résidentiel\",F34-Données!$B$20,IF(F30=\"TRVE non résidentiel\",F34-Données!$B$23,\"\"))),\"\")","v":""},{"$f":"IF(G5=\"Base\",IF(G30=\"Non\",G34,IF(G30=\"TRVE résidentiel\",G34-Données!$B$20,IF(G30=\"TRVE non résidentiel\",G34-Données!$B$23,\"\"))),\"\")","v":""},{"$f":"IF(H5=\"Base\",IF(H30=\"Non\",H34,IF(H30=\"TRVE résidentiel\",H34-Données!$B$20,IF(H30=\"TRVE non résidentiel\",H34-Données!$B$23,\"\"))),\"\")","v":""},{"$f":"IF(I5=\"Base\",IF(I30=\"Non\",I34,IF(I30=\"TRVE résidentiel\",I34-Données!$B$20,IF(I30=\"TRVE non résidentiel\",I34-Données!$B$23,\"\"))),\"\")","v":""},{"$f":"IF(J5=\"Base\",IF(J30=\"Non\",J34,IF(J30=\"TRVE résidentiel\",J34-Données!$B$20,IF(J30=\"TRVE non résidentiel\",J34-Données!$B$23,\"\"))),\"\")","v":""},{"$f":"IF(K5=\"Base\",IF(K30=\"Non\",K34,IF(K30=\"TRVE résidentiel\",K34-Données!$B$20,IF(K30=\"TRVE non résidentiel\",K34-Données!$B$23,\"\"))),\"\")","v":""},{"$f":"IF(L5=\"Base\",IF(L30=\"Non\",L34,IF(L30=\"TRVE résidentiel\",L34-Données!$B$20,IF(L30=\"TRVE non résidentiel\",L34-Données!$B$23,\"\"))),\"\")","v":""},{"$f":"IF(M5=\"Base\",IF(M30=\"Non\",M34,IF(M30=\"TRVE résidentiel\",M34-Données!$B$20,IF(M30=\"TRVE non résidentiel\",M34-Données!$B$23,\"\"))),\"\")","v":""},{"$f":"IF(N5=\"Base\",IF(N30=\"Non\",N34,IF(N30=\"TRVE résidentiel\",N34-Données!$B$20,IF(N30=\"TRVE non résidentiel\",N34-Données!$B$23,\"\"))),\"\")","v":""},{"$f":"IF(O5=\"Base\",IF(O30=\"Non\",O34,IF(O30=\"TRVE résidentiel\",O34-Données!$B$20,IF(O30=\"TRVE non résidentiel\",O34-Données!$B$23,\"\"))),\"\")","v":""},{"$f":"IF(P5=\"Base\",IF(P30=\"Non\",P34,IF(P30=\"TRVE résidentiel\",P34-Données!$B$20,IF(P30=\"TRVE non résidentiel\",P34-Données!$B$23,\"\"))),\"\")","v":""},{"$f":"IF(Q5=\"Base\",IF(Q30=\"Non\",Q34,IF(Q30=\"TRVE résidentiel\",Q34-Données!$B$20,IF(Q30=\"TRVE non résidentiel\",Q34-Données!$B$23,\"\"))),\"\")","v":""},{"$f":"IF(R5=\"Base\",IF(R30=\"Non\",R34,IF(R30=\"TRVE résidentiel\",R34-Données!$B$20,IF(R30=\"TRVE non résidentiel\",R34-Données!$B$23,\"\"))),\"\")","v":""},{"$f":"IF(S5=\"Base\",IF(S30=\"Non\",S34,IF(S30=\"TRVE résidentiel\",S34-Données!$B$20,IF(S30=\"TRVE non résidentiel\",S34-Données!$B$23,\"\"))),\"\")","v":""},{"$f":"IF(T5=\"Base\",IF(T30=\"Non\",T34,IF(T30=\"TRVE résidentiel\",T34-Données!$B$20,IF(T30=\"TRVE non résidentiel\",T34-Données!$B$23,\"\"))),\"\")","v":""},{"$f":"IF(U5=\"Base\",IF(U30=\"Non\",U34,IF(U30=\"TRVE résidentiel\",U34-Données!$B$20,IF(U30=\"TRVE non résidentiel\",U34-Données!$B$23,\"\"))),\"\")","v":""},{"$f":"IF(V5=\"Base\",IF(V30=\"Non\",V34,IF(V30=\"TRVE résidentiel\",V34-Données!$B$20,IF(V30=\"TRVE non résidentiel\",V34-Données!$B$23,\"\"))),\"\")","v":""},{"$f":"IF(W5=\"Base\",IF(W30=\"Non\",W34,IF(W30=\"TRVE résidentiel\",W34-Données!$B$20,IF(W30=\"TRVE non résidentiel\",W34-Données!$B$23,\"\"))),\"\")","v":""},{"$f":"IF(X5=\"Base\",IF(X30=\"Non\",X34,IF(X30=\"TRVE résidentiel\",X34-Données!$B$20,IF(X30=\"TRVE non résidentiel\",X34-Données!$B$23,\"\"))),\"\")","v":""},{"$f":"IF(Y5=\"Base\",IF(Y30=\"Non\",Y34,IF(Y30=\"TRVE résidentiel\",Y34-Données!$B$20,IF(Y30=\"TRVE non résidentiel\",Y34-Données!$B$23,\"\"))),\"\")","v":""},{"$f":"IF(Z5=\"Base\",IF(Z30=\"Non\",Z34,IF(Z30=\"TRVE résidentiel\",Z34-Données!$B$20,IF(Z30=\"TRVE non résidentiel\",Z34-Données!$B$23,\"\"))),\"\")","v":""},{"$f":"IF(AA5=\"Base\",IF(AA30=\"Non\",AA34,IF(AA30=\"TRVE résidentiel\",AA34-Données!$B$20,IF(AA30=\"TRVE non résidentiel\",AA34-Données!$B$23,\"\"))),\"\")","v":""}]
[null,"Tarif HPH HIVER (c€/kWh)",{"$f":"IF(C5=\"HP/HC\",IF(C30=\"Non\",C35,IF(C30=\"TRVE résidentiel\",C35-Données!$B$21,IF(C30=\"TRVE non résidentiel\",C35-Données!$B$24,\"\"))),\"\")","v":""},{"$f":"IF(D5=\"HP/HC\",IF(D30=\"Non\",D35,IF(D30=\"TRVE résidentiel\",D35-Données!$B$21,IF(D30=\"TRVE non résidentiel\",D35-Données!$B$24,\"\"))),\"\")","v":""},{"$f":"IF(E5=\"HP/HC\",IF(E30=\"Non\",E35,IF(E30=\"TRVE résidentiel\",E35-Données!$B$21,IF(E30=\"TRVE non résidentiel\",E35-Données!$B$24,\"\"))),\"\")","v":""},{"$f":"IF(F5=\"HP/HC\",IF(F30=\"Non\",F35,IF(F30=\"TRVE résidentiel\",F35-Données!$B$21,IF(F30=\"TRVE non résidentiel\",F35-Données!$B$24,\"\"))),\"\")","v":""},{"$f":"IF(G5=\"HP/HC\",IF(G30=\"Non\",G35,IF(G30=\"TRVE résidentiel\",G35-Données!$B$21,IF(G30=\"TRVE non résidentiel\",G35-Données!$B$24,\"\"))),\"\")","v":""},{"$f":"IF(H5=\"HP/HC\",IF(H30=\"Non\",H35,IF(H30=\"TRVE résidentiel\",H35-Données!$B$21,IF(H30=\"TRVE non résidentiel\",H35-Données!$B$24,\"\"))),\"\")","v":""},{"$f":"IF(I5=\"HP/HC\",IF(I30=\"Non\",I35,IF(I30=\"TRVE résidentiel\",I35-Données!$B$21,IF(I30=\"TRVE non résidentiel\",I35-Données!$B$24,\"\"))),\"\")","v":""},{"$f":"IF(J5=\"HP/HC\",IF(J30=\"Non\",J35,IF(J30=\"TRVE résidentiel\",J35-Données!$B$21,IF(J30=\"TRVE non résidentiel\",J35-Données!$B$24,\"\"))),\"\")","v":""},{"$f":"IF(K5=\"HP/HC\",IF(K30=\"Non\",K35,IF(K30=\"TRVE résidentiel\",K35-Données!$B$21,IF(K30=\"TRVE non résidentiel\",K35-Données!$B$24,\"\"))),\"\")","v":""},{"$f":"IF(L5=\"HP/HC\",IF(L30=\"Non\",L35,IF(L30=\"TRVE résidentiel\",L35-Données!$B$21,IF(L30=\"TRVE non résidentiel\",L35-Données!$B$24,\"\"))),\"\")","v":""},{"$f":"IF(M5=\"HP/HC\",IF(M30=\"Non\",M35,IF(M30=\"TRVE résidentiel\",M35-Données!$B$21,IF(M30=\"TRVE non résidentiel\",M35-Données!$B$24,\"\"))),\"\")","v":""},{"$f":"IF(N5=\"HP/HC\",IF(N30=\"Non\",N35,IF(N30=\"TRVE résidentiel\",N35-Données!$B$21,IF(N30=\"TRVE non résidentiel\",N35-Données!$B$24,\"\"))),\"\")","v":""},{"$f":"IF(O5=\"HP/HC\",IF(O30=\"Non\",O35,IF(O30=\"TRVE résidentiel\",O35-Données!$B$21,IF(O30=\"TRVE non résidentiel\",O35-Données!$B$24,\"\"))),\"\")","v":""},{"$f":"IF(P5=\"HP/HC\",IF(P30=\"Non\",P35,IF(P30=\"TRVE résidentiel\",P35-Données!$B$21,IF(P30=\"TRVE non résidentiel\",P35-Données!$B$24,\"\"))),\"\")","v":""},{"$f":"IF(Q5=\"HP/HC\",IF(Q30=\"Non\",Q35,IF(Q30=\"TRVE résidentiel\",Q35-Données!$B$21,IF(Q30=\"TRVE non résidentiel\",Q35-Données!$B$24,\"\"))),\"\")","v":""},{"$f":"IF(R5=\"HP/HC\",IF(R30=\"Non\",R35,IF(R30=\"TRVE résidentiel\",R35-Données!$B$21,IF(R30=\"TRVE non résidentiel\",R35-Données!$B$24,\"\"))),\"\")","v":""},{"$f":"IF(S5=\"HP/HC\",IF(S30=\"Non\",S35,IF(S30=\"TRVE résidentiel\",S35-Données!$B$21,IF(S30=\"TRVE non résidentiel\",S35-Données!$B$24,\"\"))),\"\")","v":""},{"$f":"IF(T5=\"HP/HC\",IF(T30=\"Non\",T35,IF(T30=\"TRVE résidentiel\",T35-Données!$B$21,IF(T30=\"TRVE non résidentiel\",T35-Données!$B$24,\"\"))),\"\")","v":""},{"$f":"IF(U5=\"HP/HC\",IF(U30=\"Non\",U35,IF(U30=\"TRVE résidentiel\",U35-Données!$B$21,IF(U30=\"TRVE non résidentiel\",U35-Données!$B$24,\"\"))),\"\")","v":""},{"$f":"IF(V5=\"HP/HC\",IF(V30=\"Non\",V35,IF(V30=\"TRVE résidentiel\",V35-Données!$B$21,IF(V30=\"TRVE non résidentiel\",V35-Données!$B$24,\"\"))),\"\")","v":""},{"$f":"IF(W5=\"HP/HC\",IF(W30=\"Non\",W35,IF(W30=\"TRVE résidentiel\",W35-Données!$B$21,IF(W30=\"TRVE non résidentiel\",W35-Données!$B$24,\"\"))),\"\")","v":""},{"$f":"IF(X5=\"HP/HC\",IF(X30=\"Non\",X35,IF(X30=\"TRVE résidentiel\",X35-Données!$B$21,IF(X30=\"TRVE non résidentiel\",X35-Données!$B$24,\"\"))),\"\")","v":""},{"$f":"IF(Y5=\"HP/HC\",IF(Y30=\"Non\",Y35,IF(Y30=\"TRVE résidentiel\",Y35-Données!$B$21,IF(Y30=\"TRVE non résidentiel\",Y35-Données!$B$24,\"\"))),\"\")","v":""},{"$f":"IF(Z5=\"HP/HC\",IF(Z30=\"Non\",Z35,IF(Z30=\"TRVE résidentiel\",Z35-Données!$B$21,IF(Z30=\"TRVE non résidentiel\",Z35-Données!$B$24,\"\"))),\"\")","v":""},{"$f":"IF(AA5=\"HP/HC\",IF(AA30=\"Non\",AA35,IF(AA30=\"TRVE résidentiel\",AA35-Données!$B$21,IF(AA30=\"TRVE non résidentiel\",AA35-Données!$B$24,\"\"))),\"\")","v":""}]
[null,"Tarif HCH HIVER (c€/kWh)",{"$f":"IF(C5=\"HP/HC\",IF(C30=\"Non\",C36,IF(C30=\"TRVE résidentiel\",C36-Données!$B$22,IF(C30=\"TRVE non résidentiel\",C36-Données!$B$25,\"\"))),\"\")","v":""},{"$f":"IF(D5=\"HP/HC\",IF(D30=\"Non\",D36,IF(D30=\"TRVE résidentiel\",D36-Données!$B$22,IF(D30=\"TRVE non résidentiel\",D36-Données!$B$25,\"\"))),\"\")","v":""},{"$f":"IF(E5=\"HP/HC\",IF(E30=\"Non\",E36,IF(E30=\"TRVE résidentiel\",E36-Données!$B$22,IF(E30=\"TRVE non résidentiel\",E36-Données!$B$25,\"\"))),\"\")","v":""},{"$f":"IF(F5=\"HP/HC\",IF(F30=\"Non\",F36,IF(F30=\"TRVE résidentiel\",F36-Données!$B$22,IF(F30=\"TRVE non résidentiel\",F36-Données!$B$25,\"\"))),\"\")","v":""},{"$f":"IF(G5=\"HP/HC\",IF(G30=\"Non\",G36,IF(G30=\"TRVE résidentiel\",G36-Données!$B$22,IF(G30=\"TRVE non résidentiel\",G36-Données!$B$25,\"\"))),\"\")","v":""},{"$f":"IF(H5=\"HP/HC\",IF(H30=\"Non\",H36,IF(H30=\"TRVE résidentiel\",H36-Données!$B$22,IF(H30=\"TRVE non résidentiel\",H36-Données!$B$25,\"\"))),\"\")","v":""},{"$f":"IF(I5=\"HP/HC\",IF(I30=\"Non\",I36,IF(I30=\"TRVE résidentiel\",I36-Données!$B$22,IF(I30=\"TRVE non résidentiel\",I36-Données!$B$25,\"\"))),\"\")","v":""},{"$f":"IF(J5=\"HP/HC\",IF(J30=\"Non\",J36,IF(J30=\"TRVE résidentiel\",J36-Données!$B$22,IF(J30=\"TRVE non résidentiel\",J36-Données!$B$25,\"\"))),\"\")","v":""},{"$f":"IF(K5=\"HP/HC\",IF(K30=\"Non\",K36,IF(K30=\"TRVE résidentiel\",K36-Données!$B$22,IF(K30=\"TRVE non résidentiel\",K36-Données!$B$25,\"\"))),\"\")","v":""},{"$f":"IF(L5=\"HP/HC\",IF(L30=\"Non\",L36,IF(L30=\"TRVE résidentiel\",L36-Données!$B$22,IF(L30=\"TRVE non résidentiel\",L36-Données!$B$25,\"\"))),\"\")","v":""},{"$f":"IF(M5=\"HP/HC\",IF(M30=\"Non\",M36,IF(M30=\"TRVE résidentiel\",M36-Données!$B$22,IF(M30=\"TRVE non résidentiel\",M36-Données!$B$25,\"\"))),\"\")","v":""},{"$f":"IF(N5=\"HP/HC\",IF(N30=\"Non\",N36,IF(N30=\"TRVE résidentiel\",N36-Données!$B$22,IF(N30=\"TRVE non résidentiel\",N36-Données!$B$25,\"\"))),\"\")","v":""},{"$f":"IF(O5=\"HP/HC\",IF(O30=\"Non\",O36,IF(O30=\"TRVE résidentiel\",O36-Données!$B$22,IF(O30=\"TRVE non résidentiel\",O36-Données!$B$25,\"\"))),\"\")","v":""},{"$f":"IF(P5=\"HP/HC\",IF(P30=\"Non\",P36,IF(P30=\"TRVE résidentiel\",P36-Données!$B$22,IF(P30=\"TRVE non résidentiel\",P36-Données!$B$25,\"\"))),\"\")","v":""},{"$f":"IF(Q5=\"HP/HC\",IF(Q30=\"Non\",Q36,IF(Q30=\"TRVE résidentiel\",Q36-Données!$B$22,IF(Q30=\"TRVE non résidentiel\",Q36-Données!$B$25,\"\"))),\"\")","v":""},{"$f":"IF(R5=\"HP/HC\",IF(R30=\"Non\",R36,IF(R30=\"TRVE résidentiel\",R36-Données!$B$22,IF(R30=\"TRVE non résidentiel\",R36-Données!$B$25,\"\"))),\"\")","v":""},{"$f":"IF(S5=\"HP/HC\",IF(S30=\"Non\",S36,IF(S30=\"TRVE résidentiel\",S36-Données!$B$22,IF(S30=\"TRVE non résidentiel\",S36-Données!$B$25,\"\"))),\"\")","v":""},{"$f":"IF(T5=\"HP/HC\",IF(T30=\"Non\",T36,IF(T30=\"TRVE résidentiel\",T36-Données!$B$22,IF(T30=\"TRVE non résidentiel\",T36-Données!$B$25,\"\"))),\"\")","v":""},{"$f":"IF(U5=\"HP/HC\",IF(U30=\"Non\",U36,IF(U30=\"TRVE résidentiel\",U36-Données!$B$22,IF(U30=\"TRVE non résidentiel\",U36-Données!$B$25,\"\"))),\"\")","v":""},{"$f":"IF(V5=\"HP/HC\",IF(V30=\"Non\",V36,IF(V30=\"TRVE résidentiel\",V36-Données!$B$22,IF(V30=\"TRVE non résidentiel\",V36-Données!$B$25,\"\"))),\"\")","v":""},{"$f":"IF(W5=\"HP/HC\",IF(W30=\"Non\",W36,IF(W30=\"TRVE résidentiel\",W36-Données!$B$22,IF(W30=\"TRVE non résidentiel\",W36-Données!$B$25,\"\"))),\"\")","v":""},{"$f":"IF(X5=\"HP/HC\",IF(X30=\"Non\",X36,IF(X30=\"TRVE résidentiel\",X36-Données!$B$22,IF(X30=\"TRVE non résidentiel\",X36-Données!$B$25,\"\"))),\"\")","v":""},{"$f":"IF(Y5=\"HP/HC\",IF(Y30=\"Non\",Y36,IF(Y30=\"TRVE résidentiel\",Y36-Données!$B$22,IF(Y30=\"TRVE non résidentiel\",Y36-Données!$B$25,\"\"))),\"\")","v":""},{"$f":"IF(Z5=\"HP/HC\",IF(Z30=\"Non\",Z36,IF(Z30=\"TRVE résidentiel\",Z36-Données!$B$22,IF(Z30=\"TRVE non résidentiel\",Z36-Données!$B$25,\"\"))),\"\")","v":""},{"$f":"IF(AA5=\"HP/HC\",IF(AA30=\"Non\",AA36,IF(AA30=\"TRVE résidentiel\",AA36-Données!$B$22,IF(AA30=\"TRVE non résidentiel\",AA36-Données!$B$25,\"\"))),\"\")","v":""}]
[null,"Tarif HPB ÉTÉ (c€/kWh)",{"$f":"IF(C5=\"HP/HC\",IF(C30=\"Non\",C37,IF(C30=\"TRVE résidentiel\",C37-Données!$B$21,IF(C30=\"TRVE non résidentiel\",C37-Données!$B$24,\"\"))),\"\")","v":""},{"$f":"IF(D5=\"HP/HC\",IF(D30=\"Non\",D37,IF(D30=\"TRVE résidentiel\",D37-Données!$B$21,IF(D30=\"TRVE non résidentiel\",D37-Données!$B$24,\"\"))),\"\")","v":""},{"$f":"IF(E5=\"HP/HC\",IF(E30=\"Non\",E37,IF(E30=\"TRVE résidentiel\",E37-Données!$B$21,IF(E30=\"TRVE non résidentiel\",E37-Données!$B$24,\"\"))),\"\")","v":""},{"$f":"IF(F5=\"HP/HC\",IF(F30=\"Non\",F37,IF(F30=\"TRVE résidentiel\",F37-Données!$B$21,IF(F30=\"TRVE non résidentiel\",F37-Données!$B$24,\"\"))),\"\")","v":""},{"$f":"IF(G5=\"HP/HC\",IF(G30=\"Non\",G37,IF(G30=\"TRVE résidentiel\",G37-Données!$B$21,IF(G30=\"TRVE non résidentiel\",G37-Données!$B$24,\"\"))),\"\")","v":""},{"$f":"IF(H5=\"HP/HC\",IF(H30=\"Non\",H37,IF(H30=\"TRVE résidentiel\",H37-Données!$B$21,IF(H30=\"TRVE non résidentiel\",H37-Données!$B$24,\"\"))),\"\")","v":""},{"$f":"IF(I5=\"HP/HC\",IF(I30=\"Non\",I37,IF(I30=\"TRVE résidentiel\",I37-Données!$B$21,IF(I30=\"TRVE non résidentiel\",I37-Données!$B$24,\"\"))),\"\")","v":""},{"$f":"IF(J5=\"HP/HC\",IF(J30=\"Non\",J37,IF(J30=\"TRVE résidentiel\",J37-Données!$B$21,IF(J30=\"TRVE non résidentiel\",J37-Données!$B$24,\"\"))),\"\")","v":""},{"$f":"IF(K5=\"HP/HC\",IF(K30=\"Non\",K37,IF(K30=\"TRVE résidentiel\",K37-Données!$B$21,IF(K30=\"TRVE non résidentiel\",K37-Données!$B$24,\"\"))),\"\")","v":""},{"$f":"IF(L5=\"HP/HC\",IF(L30=\"Non\",L37,IF(L30=\"TRVE résidentiel\",L37-Données!$B$21,IF(L30=\"TRVE non résidentiel\",L37-Données!$B$24,\"\"))),\"\")","v":""},{"$f":"IF(M5=\"HP/HC\",IF(M30=\"Non\",M37,IF(M30=\"TRVE résidentiel\",M37-Données!$B$21,IF(M30=\"TRVE non résidentiel\",M37-Données!$B$24,\"\"))),\"\")","v":""},{"$f":"IF(N5=\"HP/HC\",IF(N30=\"Non\",N37,IF(N30=\"TRVE résidentiel\",N37-Données!$B$21,IF(N30=\"TRVE non résidentiel\",N37-Données!$B$24,\"\"))),\"\")","v":""},{"$f":"IF(O5=\"HP/HC\",IF(O30=\"Non\",O37,IF(O30=\"TRVE résidentiel\",O37-Données!$B$21,IF(O30=\"TRVE non résidentiel\",O37-Données!$B$24,\"\"))),\"\")","v":""},{"$f":"IF(P5=\"HP/HC\",IF(P30=\"Non\",P37,IF(P30=\"TRVE résidentiel\",P37-Données!$B$21,IF(P30=\"TRVE non résidentiel\",P37-Données!$B$24,\"\"))),\"\")","v":""},{"$f":"IF(Q5=\"HP/HC\",IF(Q30=\"Non\",Q37,IF(Q30=\"TRVE résidentiel\",Q37-Données!$B$21,IF(Q30=\"TRVE non résidentiel\",Q37-Données!$B$24,\"\"))),\"\")","v":""},{"$f":"IF(R5=\"HP/HC\",IF(R30=\"Non\",R37,IF(R30=\"TRVE résidentiel\",R37-Données!$B$21,IF(R30=\"TRVE non résidentiel\",R37-Données!$B$24,\"\"))),\"\")","v":""},{"$f":"IF(S5=\"HP/HC\",IF(S30=\"Non\",S37,IF(S30=\"TRVE résidentiel\",S37-Données!$B$21,IF(S30=\"TRVE non résidentiel\",S37-Données!$B$24,\"\"))),\"\")","v":""},{"$f":"IF(T5=\"HP/HC\",IF(T30=\"Non\",T37,IF(T30=\"TRVE résidentiel\",T37-Données!$B$21,IF(T30=\"TRVE non résidentiel\",T37-Données!$B$24,\"\"))),\"\")","v":""},{"$f":"IF(U5=\"HP/HC\",IF(U30=\"Non\",U37,IF(U30=\"TRVE résidentiel\",U37-Données!$B$21,IF(U30=\"TRVE non résidentiel\",U37-Données!$B$24,\"\"))),\"\")","v":""},{"$f":"IF(V5=\"HP/HC\",IF(V30=\"Non\",V37,IF(V30=\"TRVE résidentiel\",V37-Données!$B$21,IF(V30=\"TRVE non résidentiel\",V37-Données!$B$24,\"\"))),\"\")","v":""},{"$f":"IF(W5=\"HP/HC\",IF(W30=\"Non\",W37,IF(W30=\"TRVE résidentiel\",W37-Données!$B$21,IF(W30=\"TRVE non résidentiel\",W37-Données!$B$24,\"\"))),\"\")","v":""},{"$f":"IF(X5=\"HP/HC\",IF(X30=\"Non\",X37,IF(X30=\"TRVE résidentiel\",X37-Données!$B$21,IF(X30=\"TRVE non résidentiel\",X37-Données!$B$24,\"\"))),\"\")","v":""},{"$f":"IF(Y5=\"HP/HC\",IF(Y30=\"Non\",Y37,IF(Y30=\"TRVE résidentiel\",Y37-Données!$B$21,IF(Y30=\"TRVE non résidentiel\",Y37-Données!$B$24,\"\"))),\"\")","v":""},{"$f":"IF(Z5=\"HP/HC\",IF(Z30=\"Non\",Z37,IF(Z30=\"TRVE résidentiel\",Z37-Données!$B$21,IF(Z30=\"TRVE non résidentiel\",Z37-Données!$B$24,\"\"))),\"\")","v":""},{"$f":"IF(AA5=\"HP/HC\",IF(AA30=\"Non\",AA37,IF(AA30=\"TRVE résidentiel\",AA37-Données!$B$21,IF(AA30=\"TRVE non résidentiel\",AA37-Données!$B$24,\"\"))),\"\")","v":""}]
[null,"Tarif HCB ÉTÉ (c€/kWh)",{"$f":"IF(C5=\"HP/HC\",IF(C30=\"Non\",C38,IF(C30=\"TRVE résidentiel\",C38-Données!$B$22,IF(C30=\"TRVE non résidentiel\",C38-Données!$B$25,\"\"))),\"\")","v":""},{"$f":"IF(D5=\"HP/HC\",IF(D30=\"Non\",D38,IF(D30=\"TRVE résidentiel\",D38-Données!$B$22,IF(D30=\"TRVE non résidentiel\",D38-Données!$B$25,\"\"))),\"\")","v":""},{"$f":"IF(E5=\"HP/HC\",IF(E30=\"Non\",E38,IF(E30=\"TRVE résidentiel\",E38-Données!$B$22,IF(E30=\"TRVE non résidentiel\",E38-Données!$B$25,\"\"))),\"\")","v":""},{"$f":"IF(F5=\"HP/HC\",IF(F30=\"Non\",F38,IF(F30=\"TRVE résidentiel\",F38-Données!$B$22,IF(F30=\"TRVE non résidentiel\",F38-Données!$B$25,\"\"))),\"\")","v":""},{"$f":"IF(G5=\"HP/HC\",IF(G30=\"Non\",G38,IF(G30=\"TRVE résidentiel\",G38-Données!$B$22,IF(G30=\"TRVE non résidentiel\",G38-Données!$B$25,\"\"))),\"\")","v":""},{"$f":"IF(H5=\"HP/HC\",IF(H30=\"Non\",H38,IF(H30=\"TRVE résidentiel\",H38-Données!$B$22,IF(H30=\"TRVE non résidentiel\",H38-Données!$B$25,\"\"))),\"\")","v":""},{"$f":"IF(I5=\"HP/HC\",IF(I30=\"Non\",I38,IF(I30=\"TRVE résidentiel\",I38-Données!$B$22,IF(I30=\"TRVE non résidentiel\",I38-Données!$B$25,\"\"))),\"\")","v":""},{"$f":"IF(J5=\"HP/HC\",IF(J30=\"Non\",J38,IF(J30=\"TRVE résidentiel\",J38-Données!$B$22,IF(J30=\"TRVE non résidentiel\",J38-Données!$B$25,\"\"))),\"\")","v":""},{"$f":"IF(K5=\"HP/HC\",IF(K30=\"Non\",K38,IF(K30=\"TRVE résidentiel\",K38-Données!$B$22,IF(K30=\"TRVE non résidentiel\",K38-Données!$B$25,\"\"))),\"\")","v":""},{"$f":"IF(L5=\"HP/HC\",IF(L30=\"Non\",L38,IF(L30=\"TRVE résidentiel\",L38-Données!$B$22,IF(L30=\"TRVE non résidentiel\",L38-Données!$B$25,\"\"))),\"\")","v":""},{"$f":"IF(M5=\"HP/HC\",IF(M30=\"Non\",M38,IF(M30=\"TRVE résidentiel\",M38-Données!$B$22,IF(M30=\"TRVE non résidentiel\",M38-Données!$B$25,\"\"))),\"\")","v":""},{"$f":"IF(N5=\"HP/HC\",IF(N30=\"Non\",N38,IF(N30=\"TRVE résidentiel\",N38-Données!$B$22,IF(N30=\"TRVE non résidentiel\",N38-Données!$B$25,\"\"))),\"\")","v":""},{"$f":"IF(O5=\"HP/HC\",IF(O30=\"Non\",O38,IF(O30=\"TRVE résidentiel\",O38-Données!$B$22,IF(O30=\"TRVE non résidentiel\",O38-Données!$B$25,\"\"))),\"\")","v":""},{"$f":"IF(P5=\"HP/HC\",IF(P30=\"Non\",P38,IF(P30=\"TRVE résidentiel\",P38-Données!$B$22,IF(P30=\"TRVE non résidentiel\",P38-Données!$B$25,\"\"))),\"\")","v":""},{"$f":"IF(Q5=\"HP/HC\",IF(Q30=\"Non\",Q38,IF(Q30=\"TRVE résidentiel\",Q38-Données!$B$22,IF(Q30=\"TRVE non résidentiel\",Q38-Données!$B$25,\"\"))),\"\")","v":""},{"$f":"IF(R5=\"HP/HC\",IF(R30=\"Non\",R38,IF(R30=\"TRVE résidentiel\",R38-Données!$B$22,IF(R30=\"TRVE non résidentiel\",R38-Données!$B$25,\"\"))),\"\")","v":""},{"$f":"IF(S5=\"HP/HC\",IF(S30=\"Non\",S38,IF(S30=\"TRVE résidentiel\",S38-Données!$B$22,IF(S30=\"TRVE non résidentiel\",S38-Données!$B$25,\"\"))),\"\")","v":""},{"$f":"IF(T5=\"HP/HC\",IF(T30=\"Non\",T38,IF(T30=\"TRVE résidentiel\",T38-Données!$B$22,IF(T30=\"TRVE non résidentiel\",T38-Données!$B$25,\"\"))),\"\")","v":""},{"$f":"IF(U5=\"HP/HC\",IF(U30=\"Non\",U38,IF(U30=\"TRVE résidentiel\",U38-Données!$B$22,IF(U30=\"TRVE non résidentiel\",U38-Données!$B$25,\"\"))),\"\")","v":""},{"$f":"IF(V5=\"HP/HC\",IF(V30=\"Non\",V38,IF(V30=\"TRVE résidentiel\",V38-Données!$B$22,IF(V30=\"TRVE non résidentiel\",V38-Données!$B$25,\"\"))),\"\")","v":""},{"$f":"IF(W5=\"HP/HC\",IF(W30=\"Non\",W38,IF(W30=\"TRVE résidentiel\",W38-Données!$B$22,IF(W30=\"TRVE non résidentiel\",W38-Données!$B$25,\"\"))),\"\")","v":""},{"$f":"IF(X5=\"HP/HC\",IF(X30=\"Non\",X38,IF(X30=\"TRVE résidentiel\",X38-Données!$B$22,IF(X30=\"TRVE non résidentiel\",X38-Données!$B$25,\"\"))),\"\")","v":""},{"$f":"IF(Y5=\"HP/HC\",IF(Y30=\"Non\",Y38,IF(Y30=\"TRVE résidentiel\",Y38-Données!$B$22,IF(Y30=\"TRVE non résidentiel\",Y38-Données!$B$25,\"\"))),\"\")","v":""},{"$f":"IF(Z5=\"HP/HC\",IF(Z30=\"Non\",Z38,IF(Z30=\"TRVE résidentiel\",Z38-Données!$B$22,IF(Z30=\"TRVE non résidentiel\",Z38-Données!$B$25,\"\"))),\"\")","v":""},{"$f":"IF(AA5=\"HP/HC\",IF(AA30=\"Non\",AA38,IF(AA30=\"TRVE résidentiel\",AA38-Données!$B$22,IF(AA30=\"TRVE non résidentiel\",AA38-Données!$B$25,\"\"))),\"\")","v":""}]
[]
[null,"Tarif fourniture moyen payé initialement sur toute la consommation (c€/kWh)",{"$f":"IF(C5=\"Base\",C40,IF(C5=\"HP/HC\",SUMPRODUCT(C7:C10,C41:C44)/C23,\"\"))","v":""},"","","","","","","","","","","","","","","","","","","","","","","",""]
[null,"Tarif fourniture moyen payé sur les plages correspondant à l'autoconsommation (c€/kWh)",{"$f":"IF(C5=\"Base\",C40,IF(C5=\"HP/HC\",SUMPRODUCT(C13:C16,C41:C44)/C24,\"\"))","v":""},"","","","","","","","","","","","","","","","","","","","","","","","",null,"Commentaire : On calcule ici le tarif moyen payé par chaque consommateur à son fournisseur sur les plages horaires où il pourrait   autoconsommer."]
[null,"Valorisation économique du kWh effacé avec l'ACC (c€ / kWh)",{"$f":"IF(C47=\"\",\"\",C47+C32)","v":""},"","","","","","","","","","","","","","","","","","","","","","","","",null,"Commentaire : On prend en compte ici le fait que l'accise est à 0€/kWh sur les kWh autoconsommés "]
[]
[null,"DESCRIPTION DES TARIFS DE L'ELECTRICITE PAYES EN ACC"]
[null,"Classe de tarif",null,null,null,null,null,null,null,null,null,null,null,null,null,null,null,null,null,null,null,null,null,null,null,null,null,null,"Aide à la saisie\n Choisir ici la classe de tarif associé à chaque consommateur. Ces classes sont définies dans l'onglet FR INPUT TARIFS ACC"]
[null,"Tarif ACC (c€ / kWh)",{"$f":"_xlfn.SWITCH(C51,'FR INPUT TARIFS ACC'!$AK$7,'FR INPUT TARIFS ACC'!$C$7,'FR INPUT TARIFS ACC'!$AK$8,'FR INPUT TARIFS ACC'!$C$8,'FR INPUT TARIFS ACC'!$AK$9,'FR INPUT TARIFS ACC'!$C$9,'FR INPUT TARIFS ACC'!$AK$10,'FR INPUT TARIFS ACC'!$C$10,'FR INPUT TARIFS ACC'!$AK$11,'FR INPUT TARIFS ACC'!$C$11)","v":{"$error":"#N/A"}},{"$f":"_xlfn.SWITCH(D51,'FR INPUT TARIFS ACC'!$AK$7,'FR INPUT TARIFS ACC'!$C$7,'FR INPUT TARIFS ACC'!$AK$8,'FR INPUT TARIFS ACC'!$C$8,'FR INPUT TARIFS ACC'!$AK$9,'FR INPUT TARIFS ACC'!$C$9,'FR INPUT TARIFS ACC'!$AK$10,'FR INPUT TARIFS ACC'!$C$10,'FR INPUT TARIFS ACC'!$AK$11,'FR INPUT TARIFS ACC'!$C$11)","v":{"$error":"#N/A"}},{"$f":"_xlfn.SWITCH(E51,'FR INPUT TARIFS ACC'!$AK$7,'FR INPUT TARIFS ACC'!$C$7,'FR INPUT TARIFS ACC'!$AK$8,'FR INPUT TARIFS ACC'!$C$8,'FR INPUT TARIFS ACC'!$AK$9,'FR INPUT TARIFS ACC'!$C$9,'FR INPUT TARIFS ACC'!$AK$10,'FR INPUT TARIFS ACC'!$C$10,'FR INPUT TARIFS ACC'!$AK$11,'FR INPUT TARIFS ACC'!$C$11)","v":{"$error":"#N/A"}},{"$f":"_xlfn.SWITCH(F51,'FR INPUT TARIFS ACC'!$AK$7,'FR INPUT TARIFS ACC'!$C$7,'FR INPUT TARIFS ACC'!$AK$8,'FR INPUT TARIFS ACC'!$C$8,'FR INPUT TARIFS ACC'!$AK$9,'FR INPUT TARIFS ACC'!$C$9,'FR INPUT TARIFS ACC'!$AK$10,'FR INPUT TARIFS ACC'!$C$10,'FR INPUT TARIFS ACC'!$AK$11,'FR INPUT TARIFS ACC'!$C$11)","v":{"$error":"#N/A"}},{"$f":"_xlfn.SWITCH(G51,'FR INPUT TARIFS ACC'!$AK$7,'FR INPUT TARIFS ACC'!$C$7,'FR INPUT TARIFS ACC'!$AK$8,'FR INPUT TARIFS ACC'!$C$8,'FR INPUT TARIFS ACC'!$AK$9,'FR INPUT TARIFS ACC'!$C$9,'FR INPUT TARIFS ACC'!$AK$10,'FR INPUT TARIFS ACC'!$C$10,'FR INPUT TARIFS ACC'!$AK$11,'FR INPUT TARIFS ACC'!$C$11)","v":{"$error":"#N/A"}},{"$f":"_xlfn.SWITCH(H51,'FR INPUT TARIFS ACC'!$AK$7,'FR INPUT TARIFS ACC'!$C$7,'FR INPUT TARIFS ACC'!$AK$8,'FR INPUT TARIFS ACC'!$C$8,'FR INPUT TARIFS ACC'!$AK$9,'FR INPUT TARIFS ACC'!$C$9,'FR INPUT TARIFS ACC'!$AK$10,'FR INPUT TARIFS ACC'!$C$10,'FR INPUT TARIFS ACC'!$AK$11,'FR INPUT TARIFS ACC'!$C$11)","v":{"$error":"#N/A"}},{"$f":"_xlfn.SWITCH(I51,'FR INPUT TARIFS ACC'!$AK$7,'FR INPUT TARIFS ACC'!$C$7,'FR INPUT TARIFS ACC'!$AK$8,'FR INPUT TARIFS ACC'!$C$8,'FR INPUT TARIFS ACC'!$AK$9,'FR INPUT TARIFS ACC'!$C$9,'FR INPUT TARIFS ACC'!$AK$10,'FR INPUT TARIFS ACC'!$C$10,'FR INPUT TARIFS ACC'!$AK$11,'FR INPUT TARIFS ACC'!$C$11)","v":{"$error":"#N/A"}},{"$f":"_xlfn.SWITCH(J51,'FR INPUT TARIFS ACC'!$AK$7,'FR INPUT TARIFS ACC'!$C$7,'FR INPUT TARIFS ACC'!$AK$8,'FR INPUT TARIFS ACC'!$C$8,'FR INPUT TARIFS ACC'!$AK$9,'FR INPUT TARIFS ACC'!$C$9,'FR INPUT TARIFS ACC'!$AK$10,'FR INPUT TARIFS ACC'!$C$10,'FR INPUT TARIFS ACC'!$AK$11,'FR INPUT TARIFS ACC'!$C$11)","v":{"$error":"#N/A"}},{"$f":"_xlfn.SWITCH(K51,'FR INPUT TARIFS ACC'!$AK$7,'FR INPUT TARIFS ACC'!$C$7,'FR INPUT TARIFS ACC'!$AK$8,'FR INPUT TARIFS ACC'!$C$8,'FR INPUT TARIFS ACC'!$AK$9,'FR INPUT TARIFS ACC'!$C$9,'FR INPUT TARIFS ACC'!$AK$10,'FR INPUT TARIFS ACC'!$C$10,'FR INPUT TARIFS ACC'!$AK$11,'FR INPUT TARIFS ACC'!$C$11)","v":{"$error":"#N/A"}},{"$f":"_xlfn.SWITCH(L51,'FR INPUT TARIFS ACC'!$AK$7,'FR INPUT TARIFS ACC'!$C$7,'FR INPUT TARIFS ACC'!$AK$8,'FR INPUT TARIFS ACC'!$C$8,'FR INPUT TARIFS ACC'!$AK$9,'FR INPUT TARIFS ACC'!$C$9,'FR INPUT TARIFS ACC'!$AK$10,'FR INPUT TARIFS ACC'!$C$10,'FR INPUT TARIFS ACC'!$AK$11,'FR INPUT TARIFS ACC'!$C$11)","v":{"$error":"#N/A"}},{"$f":"_xlfn.SWITCH(M51,'FR INPUT TARIFS ACC'!$AK$7,'FR INPUT TARIFS ACC'!$C$7,'FR INPUT TARIFS ACC'!$AK$8,'FR INPUT TARIFS ACC'!$C$8,'FR INPUT TARIFS ACC'!$AK$9,'FR INPUT TARIFS ACC'!$C$9,'FR INPUT TARIFS ACC'!$AK$10,'FR INPUT TARIFS ACC'!$C$10,'FR INPUT TARIFS ACC'!$AK$11,'FR INPUT TARIFS ACC'!$C$11)","v":{"$error":"#N/A"}},{"$f":"_xlfn.SWITCH(N51,'FR INPUT TARIFS ACC'!$AK$7,'FR INPUT TARIFS ACC'!$C$7,'FR INPUT TARIFS ACC'!$AK$8,'FR INPUT TARIFS ACC'!$C$8,'FR INPUT TARIFS ACC'!$AK$9,'FR INPUT TARIFS ACC'!$C$9,'FR INPUT TARIFS ACC'!$AK$10,'FR INPUT TARIFS ACC'!$C$10,'FR INPUT TARIFS ACC'!$AK$11,'FR INPUT TARIFS ACC'!$C$11)","v":{"$error":"#N/A"}},{"$f":"_xlfn.SWITCH(O51,'FR INPUT TARIFS ACC'!$AK$7,'FR INPUT TARIFS ACC'!$C$7,'FR INPUT TARIFS ACC'!$AK$8,'FR INPUT TARIFS ACC'!$C$8,'FR INPUT TARIFS ACC'!$AK$9,'FR INPUT TARIFS ACC'!$C$9,'FR INPUT TARIFS ACC'!$AK$10,'FR INPUT TARIFS ACC'!$C$10,'FR INPUT TARIFS ACC'!$AK$11,'FR INPUT TARIFS ACC'!$C$11)","v":{"$error":"#N/A"}},{"$f":"_xlfn.SWITCH(P51,'FR INPUT TARIFS ACC'!$AK$7,'FR INPUT TARIFS ACC'!$C$7,'FR INPUT TARIFS ACC'!$AK$8,'FR INPUT TARIFS ACC'!$C$8,'FR INPUT TARIFS ACC'!$AK$9,'FR INPUT TARIFS ACC'!$C$9,'FR INPUT TARIFS ACC'!$AK$10,'FR INPUT TARIFS ACC'!$C$10,'FR INPUT TARIFS ACC'!$AK$11,'FR INPUT TARIFS ACC'!$C$11)","v":{"$error":"#N/A"}},{"$f":"_xlfn.SWITCH(Q51,'FR INPUT TARIFS ACC'!$AK$7,'FR INPUT TARIFS ACC'!$C$7,'FR INPUT TARIFS ACC'!$AK$8,'FR INPUT TARIFS ACC'!$C$8,'FR INPUT TARIFS ACC'!$AK$9,'FR INPUT TARIFS ACC'!$C$9,'FR INPUT TARIFS ACC'!$AK$10,'FR INPUT TARIFS ACC'!$C$10,'FR INPUT TARIFS ACC'!$AK$11,'FR INPUT TARIFS ACC'!$C$11)","v":{"$error":"#N/A"}},{"$f":"_xlfn.SWITCH(R51,'FR INPUT TARIFS ACC'!$AK$7,'FR INPUT TARIFS ACC'!$C$7,'FR INPUT TARIFS ACC'!$AK$8,'FR INPUT TARIFS ACC'!$C$8,'FR INPUT TARIFS ACC'!$AK$9,'FR INPUT TARIFS ACC'!$C$9,'FR INPUT TARIFS ACC'!$AK$10,'FR INPUT TARIFS ACC'!$C$10,'FR INPUT TARIFS ACC'!$AK$11,'FR INPUT TARIFS ACC'!$C$11)","v":{"$error":"#N/A"}},{"$f":"_xlfn.SWITCH(S51,'FR INPUT TARIFS ACC'!$AK$7,'FR INPUT TARIFS ACC'!$C$7,'FR INPUT TARIFS ACC'!$AK$8,'FR INPUT TARIFS ACC'!$C$8,'FR INPUT TARIFS ACC'!$AK$9,'FR INPUT TARIFS ACC'!$C$9,'FR INPUT TARIFS ACC'!$AK$10,'FR INPUT TARIFS ACC'!$C$10,'FR INPUT TARIFS ACC'!$AK$11,'FR INPUT TARIFS ACC'!$C$11)","v":{"$error":"#N/A"}},{"$f":"_xlfn.SWITCH(T51,'FR INPUT TARIFS ACC'!$AK$7,'FR INPUT TARIFS ACC'!$C$7,'FR INPUT TARIFS ACC'!$AK$8,'FR INPUT TARIFS ACC'!$C$8,'FR INPUT TARIFS ACC'!$AK$9,'FR INPUT TARIFS ACC'!$C$9,'FR INPUT TARIFS ACC'!$AK$10,'FR INPUT TARIFS ACC'!$C$10,'FR INPUT TARIFS ACC'!$AK$11,'FR INPUT TARIFS ACC'!$C$11)","v":{"$error":"#N/A"}},{"$f":"_xlfn.SWITCH(U51,'FR INPUT TARIFS ACC'!$AK$7,'FR INPUT TARIFS ACC'!$C$7,'FR INPUT TARIFS ACC'!$AK$8,'FR INPUT TARIFS ACC'!$C$8,'FR INPUT TARIFS ACC'!$AK$9,'FR INPUT TARIFS ACC'!$C$9,'FR INPUT TARIFS ACC'!$AK$10,'FR INPUT TARIFS ACC'!$C$10,'FR INPUT TARIFS ACC'!$AK$11,'FR INPUT TARIFS ACC'!$C$11)","v":{"$error":"#N/A"}},{"$f":"_xlfn.SWITCH(V51,'FR INPUT TARIFS ACC'!$AK$7,'FR INPUT TARIFS ACC'!$C$7,'FR INPUT TARIFS ACC'!$AK$8,'FR INPUT TARIFS ACC'!$C$8,'FR INPUT TARIFS ACC'!$AK$9,'FR INPUT TARIFS ACC'!$C$9,'FR INPUT TARIFS ACC'!$AK$10,'FR INPUT TARIFS ACC'!$C$10,'FR INPUT TARIFS ACC'!$AK$11,'FR INPUT TARIFS ACC'!$C$11)","v":{"$error":"#N/A"}},{"$f":"_xlfn.SWITCH(W51,'FR INPUT TARIFS ACC'!$AK$7,'FR INPUT TARIFS ACC'!$C$7,'FR INPUT TARIFS ACC'!$AK$8,'FR INPUT TARIFS ACC'!$C$8,'FR INPUT TARIFS ACC'!$AK$9,'FR INPUT TARIFS ACC'!$C$9,'FR INPUT TARIFS ACC'!$AK$10,'FR INPUT TARIFS ACC'!$C$10,'FR INPUT TARIFS ACC'!$AK$11,'FR INPUT TARIFS ACC'!$C$11)","v":{"$error":"#N/A"}},{"$f":"_xlfn.SWITCH(X51,'FR INPUT TARIFS ACC'!$AK$7,'FR INPUT TARIFS ACC'!$C$7,'FR INPUT TARIFS ACC'!$AK$8,'FR INPUT TARIFS ACC'!$C$8,'FR INPUT TARIFS ACC'!$AK$9,'FR INPUT TARIFS ACC'!$C$9,'FR INPUT TARIFS ACC'!$AK$10,'FR INPUT TARIFS ACC'!$C$10,'FR INPUT TARIFS ACC'!$AK$11,'FR INPUT TARIFS ACC'!$C$11)","v":{"$error":"#N/A"}},{"$f":"_xlfn.SWITCH(Y51,'FR INPUT TARIFS ACC'!$AK$7,'FR INPUT TARIFS ACC'!$C$7,'FR INPUT TARIFS ACC'!$AK$8,'FR INPUT TARIFS ACC'!$C$8,'FR INPUT TARIFS ACC'!$AK$9,'FR INPUT TARIFS ACC'!$C$9,'FR INPUT TARIFS ACC'!$AK$10,'FR INPUT TARIFS ACC'!$C$10,'FR INPUT TARIFS ACC'!$AK$11,'FR INPUT TARIFS ACC'!$C$11)","v":{"$error":"#N/A"}},{"$f":"_xlfn.SWITCH(Z51,'FR INPUT TARIFS ACC'!$AK$7,'FR INPUT TARIFS ACC'!$C$7,'FR INPUT TARIFS ACC'!$AK$8,'FR INPUT TARIFS ACC'!$C$8,'FR INPUT TARIFS ACC'!$AK$9,'FR INPUT TARIFS ACC'!$C$9,'FR INPUT TARIFS ACC'!$AK$10,'FR INPUT TARIFS ACC'!$C$10,'FR INPUT TARIFS ACC'!$AK$11,'FR INPUT TARIFS ACC'!$C$11)","v":{"$error":"#N/A"}},{"$f":"_xlfn.SWITCH(AA51,'FR INPUT TARIFS ACC'!$AK$7,'FR INPUT TARIFS ACC'!$C$7,'FR INPUT TARIFS ACC'!$AK$8,'FR INPUT TARIFS ACC'!$C$8,'FR INPUT TARIFS ACC'!$AK$9,'FR INPUT TARIFS ACC'!$C$9,'FR INPUT TARIFS ACC'!$AK$10,'FR INPUT TARIFS ACC'!$C$10,'FR INPUT TARIFS ACC'!$AK$11,'FR INPUT TARIFS ACC'!$C$11)","v":{"$error":"#N/A"}}]
[null,"Coût ACC (€/an) pour année 1",{"$f":"IF(C24=0,0,C24*C52/100)","v":0},0,0,0,0,0,0,0,0,0,0,0,0,0,0,0,0,0,0,0,0,0,0,0,0]
[null,"Indexation (%/an)",{"$f":"_xlfn.SWITCH(C51,'FR INPUT TARIFS ACC'!$AK$7,'FR INPUT TARIFS ACC'!$D$7,'FR INPUT TARIFS ACC'!$AK$8,'FR INPUT TARIFS ACC'!$D$8,'FR INPUT TARIFS ACC'!$AK$9,'FR INPUT TARIFS ACC'!$D$9,'FR INPUT TARIFS ACC'!$AK$10,'FR INPUT TARIFS ACC'!$D$10,'FR INPUT TARIFS ACC'!$AK$11,'FR INPUT TARIFS ACC'!$D$11)","v":{"$error":"#N/A"}},{"$f":"_xlfn.SWITCH(D51,'FR INPUT TARIFS ACC'!$AK$7,'FR INPUT TARIFS ACC'!$D$7,'FR INPUT TARIFS ACC'!$AK$8,'FR INPUT TARIFS ACC'!$D$8,'FR INPUT TARIFS ACC'!$AK$9,'FR INPUT TARIFS ACC'!$D$9,'FR INPUT TARIFS ACC'!$AK$10,'FR INPUT TARIFS ACC'!$D$10,'FR INPUT TARIFS ACC'!$AK$11,'FR INPUT TARIFS ACC'!$D$11)","v":{"$error":"#N/A"}},{"$f":"_xlfn.SWITCH(E51,'FR INPUT TARIFS ACC'!$AK$7,'FR INPUT TARIFS ACC'!$D$7,'FR INPUT TARIFS ACC'!$AK$8,'FR INPUT TARIFS ACC'!$D$8,'FR INPUT TARIFS ACC'!$AK$9,'FR INPUT TARIFS ACC'!$D$9,'FR INPUT TARIFS ACC'!$AK$10,'FR INPUT TARIFS ACC'!$D$10,'FR INPUT TARIFS ACC'!$AK$11,'FR INPUT TARIFS ACC'!$D$11)","v":{"$error":"#N/A"}},{"$f":"_xlfn.SWITCH(F51,'FR INPUT TARIFS ACC'!$AK$7,'FR INPUT TARIFS ACC'!$D$7,'FR INPUT TARIFS ACC'!$AK$8,'FR INPUT TARIFS ACC'!$D$8,'FR INPUT TARIFS ACC'!$AK$9,'FR INPUT TARIFS ACC'!$D$9,'FR INPUT TARIFS ACC'!$AK$10,'FR INPUT TARIFS ACC'!$D$10,'FR INPUT TARIFS ACC'!$AK$11,'FR INPUT TARIFS ACC'!$D$11)","v":{"$error":"#N/A"}},{"$f":"_xlfn.SWITCH(G51,'FR INPUT TARIFS ACC'!$AK$7,'FR INPUT TARIFS ACC'!$D$7,'FR INPUT TARIFS ACC'!$AK$8,'FR INPUT TARIFS ACC'!$D$8,'FR INPUT TARIFS ACC'!$AK$9,'FR INPUT TARIFS ACC'!$D$9,'FR INPUT TARIFS ACC'!$AK$10,'FR INPUT TARIFS ACC'!$D$10,'FR INPUT TARIFS ACC'!$AK$11,'FR INPUT TARIFS ACC'!$D$11)","v":{"$error":"#N/A"}},{"$f":"_xlfn.SWITCH(H51,'FR INPUT TARIFS ACC'!$AK$7,'FR INPUT TARIFS ACC'!$D$7,'FR INPUT TARIFS ACC'!$AK$8,'FR INPUT TARIFS ACC'!$D$8,'FR INPUT TARIFS ACC'!$AK$9,'FR INPUT TARIFS ACC'!$D$9,'FR INPUT TARIFS ACC'!$AK$10,'FR INPUT TARIFS ACC'!$D$10,'FR INPUT TARIFS ACC'!$AK$11,'FR INPUT TARIFS ACC'!$D$11)","v":{"$error":"#N/A"}},{"$f":"_xlfn.SWITCH(I51,'FR INPUT TARIFS ACC'!$AK$7,'FR INPUT TARIFS ACC'!$D$7,'FR INPUT TARIFS ACC'!$AK$8,'FR INPUT TARIFS ACC'!$D$8,'FR INPUT TARIFS ACC'!$AK$9,'FR INPUT TARIFS ACC'!$D$9,'FR INPUT TARIFS ACC'!$AK$10,'FR INPUT TARIFS ACC'!$D$10,'FR INPUT TARIFS ACC'!$AK$11,'FR INPUT TARIFS ACC'!$D$11)","v":{"$error":"#N/A"}},{"$f":"_xlfn.SWITCH(J51,'FR INPUT TARIFS ACC'!$AK$7,'FR INPUT TARIFS ACC'!$D$7,'FR INPUT TARIFS ACC'!$AK$8,'FR INPUT TARIFS ACC'!$D$8,'FR INPUT TARIFS ACC'!$AK$9,'FR INPUT TARIFS ACC'!$D$9,'FR INPUT TARIFS ACC'!$AK$10,'FR INPUT TARIFS ACC'!$D$10,'FR INPUT TARIFS ACC'!$AK$11,'FR INPUT TARIFS ACC'!$D$11)","v":{"$error":"#N/A"}},{"$f":"_xlfn.SWITCH(K51,'FR INPUT TARIFS ACC'!$AK$7,'FR INPUT TARIFS ACC'!$D$7,'FR INPUT TARIFS ACC'!$AK$8,'FR INPUT TARIFS ACC'!$D$8,'FR INPUT TARIFS ACC'!$AK$9,'FR INPUT TARIFS ACC'!$D$9,'FR INPUT TARIFS ACC'!$AK$10,'FR INPUT TARIFS ACC'!$D$10,'FR INPUT TARIFS ACC'!$AK$11,'FR INPUT TARIFS ACC'!$D$11)","v":{"$error":"#N/A"}},{"$f":"_xlfn.SWITCH(L51,'FR INPUT TARIFS ACC'!$AK$7,'FR INPUT TARIFS ACC'!$D$7,'FR INPUT TARIFS ACC'!$AK$8,'FR INPUT TARIFS ACC'!$D$8,'FR INPUT TARIFS ACC'!$AK$9,'FR INPUT TARIFS ACC'!$D$9,'FR INPUT TARIFS ACC'!$AK$10,'FR INPUT TARIFS ACC'!$D$10,'FR INPUT TARIFS ACC'!$AK$11,'FR INPUT TARIFS ACC'!$D$11)","v":{"$error":"#N/A"}},{"$f":"_xlfn.SWITCH(M51,'FR INPUT TARIFS ACC'!$AK$7,'FR INPUT TARIFS ACC'!$D$7,'FR INPUT TARIFS ACC'!$AK$8,'FR INPUT TARIFS ACC'!$D$8,'FR INPUT TARIFS ACC'!$AK$9,'FR INPUT TARIFS ACC'!$D$9,'FR INPUT TARIFS ACC'!$AK$10,'FR INPUT TARIFS ACC'!$D$10,'FR INPUT TARIFS ACC'!$AK$11,'FR INPUT TARIFS ACC'!$D$11)","v":{"$error":"#N/A"}},{"$f":"_xlfn.SWITCH(N51,'FR INPUT TARIFS ACC'!$AK$7,'FR INPUT TARIFS ACC'!$D$7,'FR INPUT TARIFS ACC'!$AK$8,'FR INPUT TARIFS ACC'!$D$8,'FR INPUT TARIFS ACC'!$AK$9,'FR INPUT TARIFS ACC'!$D$9,'FR INPUT TARIFS ACC'!$AK$10,'FR INPUT TARIFS ACC'!$D$10,'FR INPUT TARIFS ACC'!$AK$11,'FR INPUT TARIFS ACC'!$D$11)","v":{"$error":"#N/A"}},{"$f":"_xlfn.SWITCH(O51,'FR INPUT TARIFS ACC'!$AK$7,'FR INPUT TARIFS ACC'!$D$7,'FR INPUT TARIFS ACC'!$AK$8,'FR INPUT TARIFS ACC'!$D$8,'FR INPUT TARIFS ACC'!$AK$9,'FR INPUT TARIFS ACC'!$D$9,'FR INPUT TARIFS ACC'!$AK$10,'FR INPUT TARIFS ACC'!$D$10,'FR INPUT TARIFS ACC'!$AK$11,'FR INPUT TARIFS ACC'!$D$11)","v":{"$error":"#N/A"}},{"$f":"_xlfn.SWITCH(P51,'FR INPUT TARIFS ACC'!$AK$7,'FR INPUT TARIFS ACC'!$D$7,'FR INPUT TARIFS ACC'!$AK$8,'FR INPUT TARIFS ACC'!$D$8,'FR INPUT TARIFS ACC'!$AK$9,'FR INPUT TARIFS ACC'!$D$9,'FR INPUT TARIFS ACC'!$AK$10,'FR INPUT TARIFS ACC'!$D$10,'FR INPUT TARIFS ACC'!$AK$11,'FR INPUT TARIFS ACC'!$D$11)","v":{"$error":"#N/A"}},{"$f":"_xlfn.SWITCH(Q51,'FR INPUT TARIFS ACC'!$AK$7,'FR INPUT TARIFS ACC'!$D$7,'FR INPUT TARIFS ACC'!$AK$8,'FR INPUT TARIFS ACC'!$D$8,'FR INPUT TARIFS ACC'!$AK$9,'FR INPUT TARIFS ACC'!$D$9,'FR INPUT TARIFS ACC'!$AK$10,'FR INPUT TARIFS ACC'!$D$10,'FR INPUT TARIFS ACC'!$AK$11,'FR INPUT TARIFS ACC'!$D$11)","v":{"$error":"#N/A"}},{"$f":"_xlfn.SWITCH(R51,'FR INPUT TARIFS ACC'!$AK$7,'FR INPUT TARIFS ACC'!$D$7,'FR INPUT TARIFS ACC'!$AK$8,'FR INPUT TARIFS ACC'!$D$8,'FR INPUT TARIFS ACC'!$AK$9,'FR INPUT TARIFS ACC'!$D$9,'FR INPUT TARIFS ACC'!$AK$10,'FR INPUT TARIFS ACC'!$D$10,'FR INPUT TARIFS ACC'!$AK$11,'FR INPUT TARIFS ACC'!$D$11)","v":{"$error":"#N/A"}},{"$f":"_xlfn.SWITCH(S51,'FR INPUT TARIFS ACC'!$AK$7,'FR INPUT TARIFS ACC'!$D$7,'FR INPUT TARIFS ACC'!$AK$8,'FR INPUT TARIFS ACC'!$D$8,'FR INPUT TARIFS ACC'!$AK$9,'FR INPUT TARIFS ACC'!$D$9,'FR INPUT TARIFS ACC'!$AK$10,'FR INPUT TARIFS ACC'!$D$10,'FR INPUT TARIFS ACC'!$AK$11,'FR INPUT TARIFS ACC'!$D$11)","v":{"$error":"#N/A"}},{"$f":"_xlfn.SWITCH(T51,'FR INPUT TARIFS ACC'!$AK$7,'FR INPUT TARIFS ACC'!$D$7,'FR INPUT TARIFS ACC'!$AK$8,'FR INPUT TARIFS ACC'!$D$8,'FR INPUT TARIFS ACC'!$AK$9,'FR INPUT TARIFS ACC'!$D$9,'FR INPUT TARIFS ACC'!$AK$10,'FR INPUT TARIFS ACC'!$D$10,'FR INPUT TARIFS ACC'!$AK$11,'FR INPUT TARIFS ACC'!$D$11)","v":{"$error":"#N/A"}},{"$f":"_xlfn.SWITCH(U51,'FR INPUT TARIFS ACC'!$AK$7,'FR INPUT TARIFS ACC'!$D$7,'FR INPUT TARIFS ACC'!$AK$8,'FR INPUT TARIFS ACC'!$D$8,'FR INPUT TARIFS ACC'!$AK$9,'FR INPUT TARIFS ACC'!$D$9,'FR INPUT TARIFS ACC'!$AK$10,'FR INPUT TARIFS ACC'!$D$10,'FR INPUT TARIFS ACC'!$AK$11,'FR INPUT TARIFS ACC'!$D$11)","v":{"$error":"#N/A"}},{"$f":"_xlfn.SWITCH(V51,'FR INPUT TARIFS ACC'!$AK$7,'FR INPUT TARIFS ACC'!$D$7,'FR INPUT TARIFS ACC'!$AK$8,'FR INPUT TARIFS ACC'!$D$8,'FR INPUT TARIFS ACC'!$AK$9,'FR INPUT TARIFS ACC'!$D$9,'FR INPUT TARIFS ACC'!$AK$10,'FR INPUT TARIFS ACC'!$D$10,'FR INPUT TARIFS ACC'!$AK$11,'FR INPUT TARIFS ACC'!$D$11)","v":{"$error":"#N/A"}},{"$f":"_xlfn.SWITCH(W51,'FR INPUT TARIFS ACC'!$AK$7,'FR INPUT TARIFS ACC'!$D$7,'FR INPUT TARIFS ACC'!$AK$8,'FR INPUT TARIFS ACC'!$D$8,'FR INPUT TARIFS ACC'!$AK$9,'FR INPUT TARIFS ACC'!$D$9,'FR INPUT TARIFS ACC'!$AK$10,'FR INPUT TARIFS ACC'!$D$10,'FR INPUT TARIFS ACC'!$AK$11,'FR INPUT TARIFS ACC'!$D$11)","v":{"$error":"#N/A"}},{"$f":"_xlfn.SWITCH(X51,'FR INPUT TARIFS ACC'!$AK$7,'FR INPUT TARIFS ACC'!$D$7,'FR INPUT TARIFS ACC'!$AK$8,'FR INPUT TARIFS ACC'!$D$8,'FR INPUT TARIFS ACC'!$AK$9,'FR INPUT TARIFS ACC'!$D$9,'FR INPUT TARIFS ACC'!$AK$10,'FR INPUT TARIFS ACC'!$D$10,'FR INPUT TARIFS ACC'!$AK$11,'FR INPUT TARIFS ACC'!$D$11)","v":{"$error":"#N/A"}},{"$f":"_xlfn.SWITCH(Y51,'FR INPUT TARIFS ACC'!$AK$7,'FR INPUT TARIFS ACC'!$D$7,'FR INPUT TARIFS ACC'!$AK$8,'FR INPUT TARIFS ACC'!$D$8,'FR INPUT TARIFS ACC'!$AK$9,'FR INPUT TARIFS ACC'!$D$9,'FR INPUT TARIFS ACC'!$AK$10,'FR INPUT TARIFS ACC'!$D$10,'FR INPUT TARIFS ACC'!$AK$11,'FR INPUT TARIFS ACC'!$D$11)","v":{"$error":"#N/A"}},{"$f":"_xlfn.SWITCH(Z51,'FR INPUT TARIFS ACC'!$AK$7,'FR INPUT TARIFS ACC'!$D$7,'FR INPUT TARIFS ACC'!$AK$8,'FR INPUT TARIFS ACC'!$D$8,'FR INPUT TARIFS ACC'!$AK$9,'FR INPUT TARIFS ACC'!$D$9,'FR INPUT TARIFS ACC'!$AK$10,'FR INPUT TARIFS ACC'!$D$10,'FR INPUT TARIFS ACC'!$AK$11,'FR INPUT TARIFS ACC'!$D$11)","v":{"$error":"#N/A"}},{"$f":"_xlfn.SWITCH(AA51,'FR INPUT TARIFS ACC'!$AK$7,'FR INPUT TARIFS ACC'!$D$7,'FR INPUT TARIFS ACC'!$AK$8,'FR INPUT TARIFS ACC'!$D$8,'FR INPUT TARIFS ACC'!$AK$9,'FR INPUT TARIFS ACC'!$D$9,'FR INPUT TARIFS ACC'!$AK$10,'FR INPUT TARIFS ACC'!$D$10,'FR INPUT TARIFS ACC'!$AK$11,'FR INPUT TARIFS ACC'!$D$11)","v":{"$error":"#N/A"}}]

{"sheet":"FR INPUT TARIFS ACC","index":17,"n_rows":27,"n_cols":37,"rows_kept":27,"cut":false,"hidden":false,"merged":[[4,5,12,15]]}
["ONGLET INPUT TARIFS ACC (FRANCE)"]
[]
["CHOIX DES TARIFS DE VENTE DE L'ELECTRICITE EN ACC"]
[]
[null,null,null,null,null,"Aide à la saisie\nLe fichier permet de simuler une opération d'ACC avec 5 classes de tarif différentes. Les consommateurs achèteront l'électricité à l'un des 5 tarifs proposés. Vous pouvez personnaliser le nom de chaque classe de tarif, puis entrer le montant du tarif de vente du kWh (en c€) ainsi que son indexation annuelle.\nPour vous aider à définir les tarifs pour chaque classe, les deux tableaux ci-dessous vous donnent des informations  précieuses (à condition que les données soient remplies dans les onglets FR INPUT CONSOMMATEUR et FR INPUT PRODUCTEUR) :\n- le 1er tableau présente la valorisation économique du kWh qui ne serait pas acheté au fournisseur habituel : proposer un tarif ACC inférieur à cette valeur devrait garantir une économie au consommateur\n- le 2e tableau présente la valorisation du kWh produit (pour chaque centrale PV et la moyenne globale) s'il était valorisé en Obligation d'Achat : on cherchera généralement à proposer un tarif ACC supérieur à cette valeur"]
["Classe de tarif","Facultatif : nom de la classe de tarif","Tarif (c€/kWh)","Indexation (%/an)",null,null,null,null,null,null,null,null,null,null,null,null,null,null,null,null,null,null,null,null,null,null,null,null,null,null,null,null,null,null,null,null,"colonne à masquer"]
["Classe 1",null,null,null,null,null,null,null,null,null,null,null,null,null,null,null,null,null,null,null,null,null,null,null,null,null,null,null,null,null,null,null,null,null,null,null,{"$f":"IF(B7=\"\",A7,B7)","v":"Classe 1"}]
["Classe 2",null,null,null,null,null,null,null,null,null,null,null,null,null,null,null,null,null,null,null,null,null,null,null,null,null,null,null,null,null,null,null,null,null,null,null,{"$f":"IF(B8=\"\",A8,B8)","v":"Classe 2"}]
["Classe 3",null,null,null,null,null,null,null,null,null,null,null,null,null,null,null,null,null,null,null,null,null,null,null,null,null,null,null,null,null,null,null,null,null,null,null,{"$f":"IF(B9=\"\",A9,B9)","v":"Classe 3"}]
["Classe 4",null,null,null,null,null,null,null,null,null,null,null,null,null,null,null,null,null,null,null,null,null,null,null,null,null,null,null,null,null,null,null,null,null,null,null,{"$f":"IF(B10=\"\",A10,B10)","v":"Classe 4"}]
["Classe 5",null,null,null,null,null,null,null,null,null,null,null,null,null,null,null,null,null,null,null,null,null,null,null,null,null,null,null,null,null,null,null,null,null,null,null,{"$f":"IF(B11=\"\",A11,B11)","v":"Classe 5"}]
[]
[]
[]
["VALORISATION MOYENNE DU KWH EFFACE HORS TURPE (POUR LE CONSOMMATEUR)"]
[null,{"$f":"'FR INPUT CONSOMMATEUR'!C4","v":0},{"$f":"'FR INPUT CONSOMMATEUR'!D4","v":0},{"$f":"'FR INPUT CONSOMMATEUR'!E4","v":0},{"$f":"'FR INPUT CONSOMMATEUR'!F4","v":0},{"$f":"'FR INPUT CONSOMMATEUR'!G4","v":0},{"$f":"'FR INPUT CONSOMMATEUR'!H4","v":0},{"$f":"'FR INPUT CONSOMMATEUR'!I4","v":0},{"$f":"'FR INPUT CONSOMMATEUR'!J4","v":0},{"$f":"'FR INPUT CONSOMMATEUR'!K4","v":0},{"$f":"'FR INPUT CONSOMMATEUR'!L4","v":0},{"$f":"'FR INPUT CONSOMMATEUR'!M4","v":0},{"$f":"'FR INPUT CONSOMMATEUR'!N4","v":0},{"$f":"'FR INPUT CONSOMMATEUR'!O4","v":0},{"$f":"'FR INPUT CONSOMMATEUR'!P4","v":0},{"$f":"'FR INPUT CONSOMMATEUR'!Q4","v":0},{"$f":"'FR INPUT CONSOMMATEUR'!R4","v":0},{"$f":"'FR INPUT CONSOMMATEUR'!S4","v":0},{"$f":"'FR INPUT CONSOMMATEUR'!T4","v":0},{"$f":"'FR INPUT CONSOMMATEUR'!U4","v":0},{"$f":"'FR INPUT CONSOMMATEUR'!V4","v":0},{"$f":"'FR INPUT CONSOMMATEUR'!W4","v":0},{"$f":"'FR INPUT CONSOMMATEUR'!X4","v":0},{"$f":"'FR INPUT CONSOMMATEUR'!Y4","v":0},{"$f":"'FR INPUT CONSOMMATEUR'!Z4","v":0},{"$f":"'FR INPUT CONSOMMATEUR'!AA4","v":0}]
["Classe de tarif envisagée",{"$f":"'FR INPUT CONSOMMATEUR'!C51","v":0},{"$f":"'FR INPUT CONSOMMATEUR'!D51","v":0},{"$f":"'FR INPUT CONSOMMATEUR'!E51","v":0},{"$f":"'FR INPUT CONSOMMATEUR'!F51","v":0},{"$f":"'FR INPUT CONSOMMATEUR'!G51","v":0},{"$f":"'FR INPUT CONSOMMATEUR'!H51","v":0},{"$f":"'FR INPUT CONSOMMATEUR'!I51","v":0},{"$f":"'FR INPUT CONSOMMATEUR'!J51","v":0},{"$f":"'FR INPUT CONSOMMATEUR'!K51","v":0},{"$f":"'FR INPUT CONSOMMATEUR'!L51","v":0},{"$f":"'FR INPUT CONSOMMATEUR'!M51","v":0},{"$f":"'FR INPUT CONSOMMATEUR'!N51","v":0},{"$f":"'FR INPUT CONSOMMATEUR'!O51","v":0},{"$f":"'FR INPUT CONSOMMATEUR'!P51","v":0},{"$f":"'FR INPUT CONSOMMATEUR'!Q51","v":0},{"$f":"'FR INPUT CONSOMMATEUR'!R51","v":0},{"$f":"'FR INPUT CONSOMMATEUR'!S51","v":0},{"$f":"'FR INPUT CONSOMMATEUR'!T51","v":0},{"$f":"'FR INPUT CONSOMMATEUR'!U51","v":0},{"$f":"'FR INPUT CONSOMMATEUR'!V51","v":0},{"$f":"'FR INPUT CONSOMMATEUR'!W51","v":0},{"$f":"'FR INPUT CONSOMMATEUR'!X51","v":0},{"$f":"'FR INPUT CONSOMMATEUR'!Y51","v":0},{"$f":"'FR INPUT CONSOMMATEUR'!Z51","v":0},{"$f":"'FR INPUT CONSOMMATEUR'!AA51","v":0}]
[{"$f":"'FR INPUT CONSOMMATEUR'!B47","v":"Tarif fourniture moyen payé sur les plages correspondant à l'autoconsommation (c€/kWh)"},{"$f":"'FR INPUT CONSOMMATEUR'!C47","v":""},{"$f":"'FR INPUT CONSOMMATEUR'!D47","v":""},{"$f":"'FR INPUT CONSOMMATEUR'!E47","v":""},{"$f":"'FR INPUT CONSOMMATEUR'!F47","v":""},{"$f":"'FR INPUT CONSOMMATEUR'!G47","v":""},{"$f":"'FR INPUT CONSOMMATEUR'!H47","v":""},{"$f":"'FR INPUT CONSOMMATEUR'!I47","v":""},{"$f":"'FR INPUT CONSOMMATEUR'!J47","v":""},{"$f":"'FR INPUT CONSOMMATEUR'!K47","v":""},{"$f":"'FR INPUT CONSOMMATEUR'!L47","v":""},{"$f":"'FR INPUT CONSOMMATEUR'!M47","v":""},{"$f":"'FR INPUT CONSOMMATEUR'!N47","v":""},{"$f":"'FR INPUT CONSOMMATEUR'!O47","v":""},{"$f":"'FR INPUT CONSOMMATEUR'!P47","v":""},{"$f":"'FR INPUT CONSOMMATEUR'!Q47","v":""},{"$f":"'FR INPUT CONSOMMATEUR'!R47","v":""},{"$f":"'FR INPUT CONSOMMATEUR'!S47","v":""},{"$f":"'FR INPUT CONSOMMATEUR'!T47","v":""},{"$f":"'FR INPUT CONSOMMATEUR'!U47","v":""},{"$f":"'FR INPUT CONSOMMATEUR'!V47","v":""},{"$f":"'FR INPUT CONSOMMATEUR'!W47","v":""},{"$f":"'FR INPUT CONSOMMATEUR'!X47","v":""},{"$f":"'FR INPUT CONSOMMATEUR'!Y47","v":""},{"$f":"'FR INPUT CONSOMMATEUR'!Z47","v":""},{"$f":"'FR INPUT CONSOMMATEUR'!AA47","v":""}]
[{"$f":"'FR INPUT CONSOMMATEUR'!B48","v":"Valorisation économique du kWh effacé avec l'ACC (c€ / kWh)"},{"$f":"'FR INPUT CONSOMMATEUR'!C48","v":""},{"$f":"'FR INPUT CONSOMMATEUR'!D48","v":""},{"$f":"'FR INPUT CONSOMMATEUR'!E48","v":""},{"$f":"'FR INPUT CONSOMMATEUR'!F48","v":""},{"$f":"'FR INPUT CONSOMMATEUR'!G48","v":""},{"$f":"'FR INPUT CONSOMMATEUR'!H48","v":""},{"$f":"'FR INPUT CONSOMMATEUR'!I48","v":""},{"$f":"'FR INPUT CONSOMMATEUR'!J48","v":""},{"$f":"'FR INPUT CONSOMMATEUR'!K48","v":""},{"$f":"'FR INPUT CONSOMMATEUR'!L48","v":""},{"$f":"'FR INPUT CONSOMMATEUR'!M48","v":""},{"$f":"'FR INPUT CONSOMMATEUR'!N48","v":""},{"$f":"'FR INPUT CONSOMMATEUR'!O48","v":""},{"$f":"'FR INPUT CONSOMMATEUR'!P48","v":""},{"$f":"'FR INPUT CONSOMMATEUR'!Q48","v":""},{"$f":"'FR INPUT CONSOMMATEUR'!R48","v":""},{"$f":"'FR INPUT CONSOMMATEUR'!S48","v":""},{"$f":"'FR INPUT CONSOMMATEUR'!T48","v":""},{"$f":"'FR INPUT CONSOMMATEUR'!U48","v":""},{"$f":"'FR INPUT CONSOMMATEUR'!V48","v":""},{"$f":"'FR INPUT CONSOMMATEUR'!W48","v":""},{"$f":"'FR INPUT CONSOMMATEUR'!X48","v":""},{"$f":"'FR INPUT CONSOMMATEUR'!Y48","v":""},{"$f":"'FR INPUT CONSOMMATEUR'!Z48","v":""},{"$f":"'FR INPUT CONSOMMATEUR'!AA48","v":""}]
["% écart par rapport au tarif ACC (année 1)",{"$f":"(B19-_xlfn.SWITCH(B17,$B$7,$C$7,$B$8,$C$8,$B$9,$C$9,$B$10,$C$10,$B$11,$C$11))/B19","v":{"$error":"#VALUE!"}},{"$f":"(C19-_xlfn.SWITCH(C17,$B$7,$C$7,$B$8,$C$8,$B$9,$C$9,$B$10,$C$10,$B$11,$C$11))/C19","v":{"$error":"#VALUE!"}},{"$f":"(D19-_xlfn.SWITCH(D17,$B$7,$C$7,$B$8,$C$8,$B$9,$C$9,$B$10,$C$10,$B$11,$C$11))/D19","v":{"$error":"#VALUE!"}},{"$f":"(E19-_xlfn.SWITCH(E17,$B$7,$C$7,$B$8,$C$8,$B$9,$C$9,$B$10,$C$10,$B$11,$C$11))/E19","v":{"$error":"#VALUE!"}},{"$f":"(F19-_xlfn.SWITCH(F17,$B$7,$C$7,$B$8,$C$8,$B$9,$C$9,$B$10,$C$10,$B$11,$C$11))/F19","v":{"$error":"#VALUE!"}},{"$f":"(G19-_xlfn.SWITCH(G17,$B$7,$C$7,$B$8,$C$8,$B$9,$C$9,$B$10,$C$10,$B$11,$C$11))/G19","v":{"$error":"#VALUE!"}},{"$f":"(H19-_xlfn.SWITCH(H17,$B$7,$C$7,$B$8,$C$8,$B$9,$C$9,$B$10,$C$10,$B$11,$C$11))/H19","v":{"$error":"#VALUE!"}},{"$f":"(I19-_xlfn.SWITCH(I17,$B$7,$C$7,$B$8,$C$8,$B$9,$C$9,$B$10,$C$10,$B$11,$C$11))/I19","v":{"$error":"#VALUE!"}},{"$f":"(J19-_xlfn.SWITCH(J17,$B$7,$C$7,$B$8,$C$8,$B$9,$C$9,$B$10,$C$10,$B$11,$C$11))/J19","v":{"$error":"#VALUE!"}},{"$f":"(K19-_xlfn.SWITCH(K17,$B$7,$C$7,$B$8,$C$8,$B$9,$C$9,$B$10,$C$10,$B$11,$C$11))/K19","v":{"$error":"#VALUE!"}},{"$f":"(L19-_xlfn.SWITCH(L17,$B$7,$C$7,$B$8,$C$8,$B$9,$C$9,$B$10,$C$10,$B$11,$C$11))/L19","v":{"$error":"#VALUE!"}},{"$f":"(M19-_xlfn.SWITCH(M17,$B$7,$C$7,$B$8,$C$8,$B$9,$C$9,$B$10,$C$10,$B$11,$C$11))/M19","v":{"$error":"#VALUE!"}},{"$f":"(N19-_xlfn.SWITCH(N17,$B$7,$C$7,$B$8,$C$8,$B$9,$C$9,$B$10,$C$10,$B$11,$C$11))/N19","v":{"$error":"#VALUE!"}},{"$f":"(O19-_xlfn.SWITCH(O17,$B$7,$C$7,$B$8,$C$8,$B$9,$C$9,$B$10,$C$10,$B$11,$C$11))/O19","v":{"$error":"#VALUE!"}},{"$f":"(P19-_xlfn.SWITCH(P17,$B$7,$C$7,$B$8,$C$8,$B$9,$C$9,$B$10,$C$10,$B$11,$C$11))/P19","v":{"$error":"#VALUE!"}},{"$f":"(Q19-_xlfn.SWITCH(Q17,$B$7,$C$7,$B$8,$C$8,$B$9,$C$9,$B$10,$C$10,$B$11,$C$11))/Q19","v":{"$error":"#VALUE!"}},{"$f":"(R19-_xlfn.SWITCH(R17,$B$7,$C$7,$B$8,$C$8,$B$9,$C$9,$B$10,$C$10,$B$11,$C$11))/R19","v":{"$error":"#VALUE!"}},{"$f":"(S19-_xlfn.SWITCH(S17,$B$7,$C$7,$B$8,$C$8,$B$9,$C$9,$B$10,$C$10,$B$11,$C$11))/S19","v":{"$error":"#VALUE!"}},{"$f":"(T19-_xlfn.SWITCH(T17,$B$7,$C$7,$B$8,$C$8,$B$9,$C$9,$B$10,$C$10,$B$11,$C$11))/T19","v":{"$error":"#VALUE!"}},{"$f":"(U19-_xlfn.SWITCH(U17,$B$7,$C$7,$B$8,$C$8,$B$9,$C$9,$B$10,$C$10,$B$11,$C$11))/U19","v":{"$error":"#VALUE!"}},{"$f":"(V19-_xlfn.SWITCH(V17,$B$7,$C$7,$B$8,$C$8,$B$9,$C$9,$B$10,$C$10,$B$11,$C$11))/V19","v":{"$error":"#VALUE!"}},{"$f":"(W19-_xlfn.SWITCH(W17,$B$7,$C$7,$B$8,$C$8,$B$9,$C$9,$B$10,$C$10,$B$11,$C$11))/W19","v":{"$error":"#VALUE!"}},{"$f":"(X19-_xlfn.SWITCH(X17,$B$7,$C$7,$B$8,$C$8,$B$9,$C$9,$B$10,$C$10,$B$11,$C$11))/X19","v":{"$error":"#VALUE!"}},{"$f":"(Y19-_xlfn.SWITCH(Y17,$B$7,$C$7,$B$8,$C$8,$B$9,$C$9,$B$10,$C$10,$B$11,$C$11))/Y19","v":{"$error":"#VALUE!"}},{"$f":"(Z19-_xlfn.SWITCH(Z17,$B$7,$C$7,$B$8,$C$8,$B$9,$C$9,$B$10,$C$10,$B$11,$C$11))/Z19","v":{"$error":"#VALUE!"}}]
[]
["VALORISATION MOYENNE DU KWH EN OBLIGATION D'ACHAT (POUR LE PRODUCTEUR)"]
[null,{"$f":"'FR INPUT PRODUCTEUR'!B4","v":0},{"$f":"'FR INPUT PRODUCTEUR'!C4","v":0},{"$f":"'FR INPUT PRODUCTEUR'!D4","v":0},{"$f":"'FR INPUT PRODUCTEUR'!E4","v":0},{"$f":"'FR INPUT PRODUCTEUR'!F4","v":0},{"$f":"'FR INPUT PRODUCTEUR'!G4","v":0},{"$f":"'FR INPUT PRODUCTEUR'!H4","v":0},{"$f":"'FR INPUT PRODUCTEUR'!I4","v":0},{"$f":"'FR INPUT PRODUCTEUR'!J4","v":0},{"$f":"'FR INPUT PRODUCTEUR'!K4","v":0}]
[{"$f":"'FR INPUT PRODUCTEUR'!A9","v":"Production (kWh/an)"},{"$f":"'FR INPUT PRODUCTEUR'!B9","v":0},{"$f":"'FR INPUT PRODUCTEUR'!C9","v":0},{"$f":"'FR INPUT PRODUCTEUR'!D9","v":0},{"$f":"'FR INPUT PRODUCTEUR'!E9","v":0},{"$f":"'FR INPUT PRODUCTEUR'!F9","v":0},{"$f":"'FR INPUT PRODUCTEUR'!G9","v":0},{"$f":"'FR INPUT PRODUCTEUR'!H9","v":0},{"$f":"'FR INPUT PRODUCTEUR'!I9","v":0},{"$f":"'FR INPUT PRODUCTEUR'!J9","v":0},{"$f":"'FR INPUT PRODUCTEUR'!K9","v":0}]
["Tarif OA (c€/kWh)",{"$f":"'FR INPUT PRODUCTEUR'!B21","v":0},{"$f":"'FR INPUT PRODUCTEUR'!C21","v":0},{"$f":"'FR INPUT PRODUCTEUR'!D21","v":0},{"$f":"'FR INPUT PRODUCTEUR'!E21","v":0},{"$f":"'FR INPUT PRODUCTEUR'!F21","v":0},{"$f":"'FR INPUT PRODUCTEUR'!G21","v":0},{"$f":"'FR INPUT PRODUCTEUR'!H21","v":0},{"$f":"'FR INPUT PRODUCTEUR'!I21","v":0},{"$f":"'FR INPUT PRODUCTEUR'!J21","v":0},{"$f":"'FR INPUT PRODUCTEUR'!K21","v":0}]
[]
["Valorisation moyenne du kWh (€ / kWh) en OA",{"$f":"SUMPRODUCT(B24:K24,B25:K25)/SUM(B24:K24)","v":{"$error":"#DIV/0!"}}]

{"sheet":"FR INPUT PRODUCTEUR","index":18,"n_rows":35,"n_cols":17,"rows_kept":35,"cut":false,"hidden":false,"merged":[[3,12,9,16],[11,12,13,16]]}
["ONGLET INPUT PRODUCTEUR (FRANCE)"]
[]
["CARACTERISTIQUES ENERGETIQUES ET ECONOMIQUES DES INSTALLATIONS  "]
[null,null,null,null,null,null,null,null,null,null,null,null,"Aide à la saisie\nSélectionnez en ligne 4 l'ensemble des centrales de production concernées par l'analyse économique d'un unique Producteur (jusqu'à 10 centrales de production considérées en cliquant sur le + au-dessus de la colonne L).\nPrécisez la nature de la centrale de production (PV, éolien, hydro) ainsi que la puissance de raccordement en kVA"]
["Données énergétiques"]
["Type énergie",{"$f":"_xlfn.XLOOKUP(B4,'OUTPUT OUTIL ENERGETIQUE'!$A$7:$A$31,'OUTPUT OUTIL ENERGETIQUE'!$B$7:$B$31,0)","v":0},{"$f":"_xlfn.XLOOKUP(C4,'OUTPUT OUTIL ENERGETIQUE'!$A$7:$A$31,'OUTPUT OUTIL ENERGETIQUE'!$B$7:$B$31,0)","v":0},{"$f":"_xlfn.XLOOKUP(D4,'OUTPUT OUTIL ENERGETIQUE'!$A$7:$A$31,'OUTPUT OUTIL ENERGETIQUE'!$B$7:$B$31,0)","v":0},{"$f":"_xlfn.XLOOKUP(E4,'OUTPUT OUTIL ENERGETIQUE'!$A$7:$A$31,'OUTPUT OUTIL ENERGETIQUE'!$B$7:$B$31,0)","v":0},{"$f":"_xlfn.XLOOKUP(F4,'OUTPUT OUTIL ENERGETIQUE'!$A$7:$A$31,'OUTPUT OUTIL ENERGETIQUE'!$B$7:$B$31,0)","v":0},{"$f":"_xlfn.XLOOKUP(G4,'OUTPUT OUTIL ENERGETIQUE'!$A$7:$A$31,'OUTPUT OUTIL ENERGETIQUE'!$B$7:$B$31,0)","v":0},{"$f":"_xlfn.XLOOKUP(H4,'OUTPUT OUTIL ENERGETIQUE'!$A$7:$A$31,'OUTPUT OUTIL ENERGETIQUE'!$B$7:$B$31,0)","v":0},{"$f":"_xlfn.XLOOKUP(I4,'OUTPUT OUTIL ENERGETIQUE'!$A$7:$A$31,'OUTPUT OUTIL ENERGETIQUE'!$B$7:$B$31,0)","v":0},{"$f":"_xlfn.XLOOKUP(J4,'OUTPUT OUTIL ENERGETIQUE'!$A$7:$A$31,'OUTPUT OUTIL ENERGETIQUE'!$B$7:$B$31,0)","v":0},{"$f":"_xlfn.XLOOKUP(K4,'OUTPUT OUTIL ENERGETIQUE'!$A$7:$A$31,'OUTPUT OUTIL ENERGETIQUE'!$B$7:$B$31,0)","v":0}]
["Puissance (kW ou kWc)",{"$f":"_xlfn.XLOOKUP(B4,'OUTPUT OUTIL ENERGETIQUE'!$A$7:$A$31,'OUTPUT OUTIL ENERGETIQUE'!$D$7:$D$31,0)","v":0},{"$f":"_xlfn.XLOOKUP(C4,'OUTPUT OUTIL ENERGETIQUE'!$A$7:$A$31,'OUTPUT OUTIL ENERGETIQUE'!$D$7:$D$31,0)","v":0},{"$f":"_xlfn.XLOOKUP(D4,'OUTPUT OUTIL ENERGETIQUE'!$A$7:$A$31,'OUTPUT OUTIL ENERGETIQUE'!$D$7:$D$31,0)","v":0},{"$f":"_xlfn.XLOOKUP(E4,'OUTPUT OUTIL ENERGETIQUE'!$A$7:$A$31,'OUTPUT OUTIL ENERGETIQUE'!$D$7:$D$31,0)","v":0},{"$f":"_xlfn.XLOOKUP(F4,'OUTPUT OUTIL ENERGETIQUE'!$A$7:$A$31,'OUTPUT OUTIL ENERGETIQUE'!$D$7:$D$31,0)","v":0},{"$f":"_xlfn.XLOOKUP(G4,'OUTPUT OUTIL ENERGETIQUE'!$A$7:$A$31,'OUTPUT OUTIL ENERGETIQUE'!$D$7:$D$31,0)","v":0},{"$f":"_xlfn.XLOOKUP(H4,'OUTPUT OUTIL ENERGETIQUE'!$A$7:$A$31,'OUTPUT OUTIL ENERGETIQUE'!$D$7:$D$31,0)","v":0},{"$f":"_xlfn.XLOOKUP(I4,'OUTPUT OUTIL ENERGETIQUE'!$A$7:$A$31,'OUTPUT OUTIL ENERGETIQUE'!$D$7:$D$31,0)","v":0},{"$f":"_xlfn.XLOOKUP(J4,'OUTPUT OUTIL ENERGETIQUE'!$A$7:$A$31,'OUTPUT OUTIL ENERGETIQUE'!$D$7:$D$31,0)","v":0},{"$f":"_xlfn.XLOOKUP(K4,'OUTPUT OUTIL ENERGETIQUE'!$A$7:$A$31,'OUTPUT OUTIL ENERGETIQUE'!$D$7:$D$31,0)","v":0}]
["Puissance raccordement (kVA)"]
["Production (kWh/an)",{"$f":"_xlfn.XLOOKUP(B4,'OUTPUT OUTIL ENERGETIQUE'!$A$7:$A$31,'OUTPUT OUTIL ENERGETIQUE'!$K$7:$K$31,0)","v":0},{"$f":"_xlfn.XLOOKUP(C4,'OUTPUT OUTIL ENERGETIQUE'!$A$7:$A$31,'OUTPUT OUTIL ENERGETIQUE'!$K$7:$K$31,0)","v":0},{"$f":"_xlfn.XLOOKUP(D4,'OUTPUT OUTIL ENERGETIQUE'!$A$7:$A$31,'OUTPUT OUTIL ENERGETIQUE'!$K$7:$K$31,0)","v":0},{"$f":"_xlfn.XLOOKUP(E4,'OUTPUT OUTIL ENERGETIQUE'!$A$7:$A$31,'OUTPUT OUTIL ENERGETIQUE'!$K$7:$K$31,0)","v":0},{"$f":"_xlfn.XLOOKUP(F4,'OUTPUT OUTIL ENERGETIQUE'!$A$7:$A$31,'OUTPUT OUTIL ENERGETIQUE'!$K$7:$K$31,0)","v":0},{"$f":"_xlfn.XLOOKUP(G4,'OUTPUT OUTIL ENERGETIQUE'!$A$7:$A$31,'OUTPUT OUTIL ENERGETIQUE'!$K$7:$K$31,0)","v":0},{"$f":"_xlfn.XLOOKUP(H4,'OUTPUT OUTIL ENERGETIQUE'!$A$7:$A$31,'OUTPUT OUTIL ENERGETIQUE'!$K$7:$K$31,0)","v":0},{"$f":"_xlfn.XLOOKUP(I4,'OUTPUT OUTIL ENERGETIQUE'!$A$7:$A$31,'OUTPUT OUTIL ENERGETIQUE'!$K$7:$K$31,0)","v":0},{"$f":"_xlfn.XLOOKUP(J4,'OUTPUT OUTIL ENERGETIQUE'!$A$7:$A$31,'OUTPUT OUTIL ENERGETIQUE'!$K$7:$K$31,0)","v":0},{"$f":"_xlfn.XLOOKUP(K4,'OUTPUT OUTIL ENERGETIQUE'!$A$7:$A$31,'OUTPUT OUTIL ENERGETIQUE'!$K$7:$K$31,0)","v":0}]
["TAC global opération ACC",{"$f":"'OUTPUT OUTIL ENERGETIQUE'!D53","v":{"$error":"#DIV/0!"}}]
["Données économiques"]
["Décaissements",null,null,null,null,null,null,null,null,null,null,null,"Aide à la saisie\nVoici des ordres de grandeur des principales charges annuelles d'exploitation (pour du PV sur toiture) :"]
["Investissement (€HT)"]
["Charges d'exploitation (€HT / an)"]
["Charges de gestion ACC  (€HT / an)",{"$f":"6*B7","v":0},0,0,0,0,0,0,0,0,0,null,"Puissance","Assurance","Maintenance","Loyer","Total (€/an)"]
["TURPE (€HT / an)",{"$f":"IF(B8>=250,Données!$B$17,IF(B8>=36,Données!$B$16,IF(B8>0,Données!$B$15,0)))","v":0},{"$f":"IF(C8>=250,Données!$B$17,IF(C8>=36,Données!$B$16,IF(C8>0,Données!$B$15,0)))","v":0},{"$f":"IF(D8>=250,Données!$B$17,IF(D8>=36,Données!$B$16,IF(D8>0,Données!$B$15,0)))","v":0},{"$f":"IF(E8>=250,Données!$B$17,IF(E8>=36,Données!$B$16,IF(E8>0,Données!$B$15,0)))","v":0},{"$f":"IF(F8>=250,Données!$B$17,IF(F8>=36,Données!$B$16,IF(F8>0,Données!$B$15,0)))","v":0},{"$f":"IF(G8>=250,Données!$B$17,IF(G8>=36,Données!$B$16,IF(G8>0,Données!$B$15,0)))","v":0},{"$f":"IF(H8>=250,Données!$B$17,IF(H8>=36,Données!$B$16,IF(H8>0,Données!$B$15,0)))","v":0},{"$f":"IF(I8>=250,Données!$B$17,IF(I8>=36,Données!$B$16,IF(I8>0,Données!$B$15,0)))","v":0},{"$f":"IF(J8>=250,Données!$B$17,IF(J8>=36,Données!$B$16,IF(J8>0,Données!$B$15,0)))","v":0},{"$f":"IF(K8>=250,Données!$B$17,IF(K8>=36,Données!$B$16,IF(K8>0,Données!$B$15,0)))","v":0},null,"36 kWc",300,300,300,{"$f":"SUM(N16:P16)","v":900}]
["IFER (€HT / an)",{"$f":"IF(B8>=100,B8*_xlfn.SWITCH(B6,Données!$A$9,Données!$B$9,Données!$A$10,Données!$B$10,Données!$A$11,Données!$B$11),0)","v":0},{"$f":"IF(C8>=100,C8*_xlfn.SWITCH(C6,Données!$A$9,Données!$B$9,Données!$A$10,Données!$B$10,Données!$A$11,Données!$B$11),0)","v":0},{"$f":"IF(D8>=100,D8*_xlfn.SWITCH(D6,Données!$A$9,Données!$B$9,Données!$A$10,Données!$B$10,Données!$A$11,Données!$B$11),0)","v":0},{"$f":"IF(E8>=100,E8*_xlfn.SWITCH(E6,Données!$A$9,Données!$B$9,Données!$A$10,Données!$B$10,Données!$A$11,Données!$B$11),0)","v":0},{"$f":"IF(F8>=100,F8*_xlfn.SWITCH(F6,Données!$A$9,Données!$B$9,Données!$A$10,Données!$B$10,Données!$A$11,Données!$B$11),0)","v":0},{"$f":"IF(G8>=100,G8*_xlfn.SWITCH(G6,Données!$A$9,Données!$B$9,Données!$A$10,Données!$B$10,Données!$A$11,Données!$B$11),0)","v":0},{"$f":"IF(H8>=100,H8*_xlfn.SWITCH(H6,Données!$A$9,Données!$B$9,Données!$A$10,Données!$B$10,Données!$A$11,Données!$B$11),0)","v":0},{"$f":"IF(I8>=100,I8*_xlfn.SWITCH(I6,Données!$A$9,Données!$B$9,Données!$A$10,Données!$B$10,Données!$A$11,Données!$B$11),0)","v":0},{"$f":"IF(J8>=100,J8*_xlfn.SWITCH(J6,Données!$A$9,Données!$B$9,Données!$A$10,Données!$B$10,Données!$A$11,Données!$B$11),0)","v":0},{"$f":"IF(K8>=100,K8*_xlfn.SWITCH(K6,Données!$A$9,Données!$B$9,Données!$A$10,Données!$B$10,Données!$A$11,Données!$B$11),0)","v":0},null,"100 kWc",700,500,700,{"$f":"SUM(N17:P17)","v":1900}]
["Charges de gestion société (€HT/an)",null,null,null,null,null,null,null,null,null,null,null,"250 kWc",1500,1000,1500,{"$f":"SUM(N18:P18)","v":4000}]
["Encaissements"]
["Vente électricité en ACC (€ - année 1)",{"$f":"SUM('FR INPUT CONSOMMATEUR'!$C$53:$AA$53)*(B7/SUM($B$7:$K$7))","v":{"$error":"#DIV/0!"}},{"$f":"SUM('FR INPUT CONSOMMATEUR'!$C$53:$AA$53)*(C7/SUM($B$7:$K$7))","v":{"$error":"#DIV/0!"}},{"$f":"SUM('FR INPUT CONSOMMATEUR'!$C$53:$AA$53)*(D7/SUM($B$7:$K$7))","v":{"$error":"#DIV/0!"}},{"$f":"SUM('FR INPUT CONSOMMATEUR'!$C$53:$AA$53)*(E7/SUM($B$7:$K$7))","v":{"$error":"#DIV/0!"}},{"$f":"SUM('FR INPUT CONSOMMATEUR'!$C$53:$AA$53)*(F7/SUM($B$7:$K$7))","v":{"$error":"#DIV/0!"}},{"$f":"SUM('FR INPUT CONSOMMATEUR'!$C$53:$AA$53)*(G7/SUM($B$7:$K$7))","v":{"$error":"#DIV/0!"}},{"$f":"SUM('FR INPUT CONSOMMATEUR'!$C$53:$AA$53)*(H7/SUM($B$7:$K$7))","v":{"$error":"#DIV/0!"}},{"$f":"SUM('FR INPUT CONSOMMATEUR'!$C$53:$AA$53)*(I7/SUM($B$7:$K$7))","v":{"$error":"#DIV/0!"}},{"$f":"SUM('FR INPUT CONSOMMATEUR'!$C$53:$AA$53)*(J7/SUM($B$7:$K$7))","v":{"$error":"#DIV/0!"}},{"$f":"SUM('FR INPUT CONSOMMATEUR'!$C$53:$AA$53)*(K7/SUM($B$7:$K$7))","v":{"$error":"#DIV/0!"}}]
["Tarif vente surplus ACC (c€ HT/kWh)"]
["Vente surplus (€ - année  1)",{"$f":"B21/100*B9*(1-$B$10)","v":{"$error":"#DIV/0!"}},{"$error":"#DIV/0!"},{"$error":"#DIV/0!"},{"$error":"#DIV/0!"},{"$error":"#DIV/0!"},{"$error":"#DIV/0!"},{"$error":"#DIV/0!"},{"$error":"#DIV/0!"},{"$error":"#DIV/0!"},{"$error":"#DIV/0!"}]
[]
["FINANCEMENT PROJET"]
["Modèle statutaire de la société","SAS"]
[]
["Capital social",null,null,"Comptes-courants d'associés"]
["Capital apporté",{"$f":"B29*B30","v":0},null,"Montant CCA (€)"]
["Nombre de parts",null,null,"Taux (%)"]
["Montant de la part",null,null,"Durée (ans)"]
[]
["Prêt bancaire",null,null,"Subventions"]
["Emprunt bancaire (€)",{"$f":"1.01*SUM(B13:K13)-B28-E28-E33","v":0},null,"Subvention (€)"]
["Taux (%)"]
["Durée (ans)"]

{"sheet":"FR ANALYSE PRODUCTEUR","index":19,"n_rows":61,"n_cols":46,"rows_kept":61,"cut":false,"hidden":false,"merged":[[58,1,58,4],[58,18,58,22],[60,1,60,4],[60,18,60,22],[53,1,53,3],[53,18,53,21],[54,1,54,3],[54,18,54,21],[55,1,55,3],[55,18,55,21],[51,1,51,3],[51,18,51,21],[52,1,52,3],[52,18,52,21],[50,1,50,3],[50,18,50,21],[49,1,49,3],[49,18,49,21],[47,11,47,12],[47,13,47,14],[47,15,47,16],[47,17,47,18],[47,19,47,20],[47,21,47,22],[47,8,47,10],[47,5,47,7],[47,31,47,32],[47,23,47,24],[47,25,47,26],[47,27,47,28],[34,0,34,1],[35,0,35,1],[36,0,36,1],[37,0,37,1],[39,0,39,1],[40,0,40,1],[41,0,41,1],[42,0,42,1],[44,0,44,1],[47,0,47,4],[47,29,47,30],[20,0,20,1],[27,0,27,1],[28,0,28,1],[31,0,31,1],[33,0,33,1],[21,0,21,1],[22,0,22,1],[23,0,23,1],[24,0,24,1],[25,0,25,1],[26,0,26,1],[29,0,29,1],[30,0,30,1],[9,4,9,7],[9,10,9,11],[9,14,9,16],[18,0,18,1],[19,0,19,1],[8,4,8,7],[7,4,7,7],[7,10,7,11],[8,10,8,11],[8,14,8,16],[13,0,13,1],[10,0,10,1],[10,4,10,7],[10,10,10,11],[11,0,11,1],[11,4,11,7],[12,0,12,1],[12,4,12,7],[6,0,6,1],[6,4,6,7],[6,10,6,11],[6,14,6,15],[5,0,5,1],[5,4,5,7],[5,10,5,11],[5,14,5,15],[5,19,5,21],[4,0,4,1],[4,4,4,7],[4,10,4,11],[4,14,4,15],[4,19,4,21]]}
["ONGLET ANALYSE PRODUCTEUR (FRANCE)",null,null,null,null,null,null,null,null,null,null,null,null,null,null,null,null,null,null,null,null,null,null,null,null,null,null,null,null,null,null,null,null,null,null,null,null,null,{"$f":"AM2-20","v":240},7]
[null,null,null,null,null,null,null,null,null,null,null,null,null,null,null,null,null,null,null,null,null,null,null,null,null,null,null,null,null,null,null,null,null,null,null,null,null,null,260,8,1.02,0.05]
["Description du projet ",null,null,null,null,"Hypothèses",null,null,null,null,"Structuration du financement",null,null,null,null,null,null,null,null,"Ratios",null,null,null,null,null,null,null,null,null,null,null,null,null,null,null,null,null,null,280,9,1.03,{"$f":"AP2+5%","v":0.1}]
[null,null,null,null,null,null,null,null,null,null,null,null,null,null,null,null,null,null,null,null,null,null,null,null,null,null,null,null,null,null,null,null,null,null,null,null,null,null,300,10,{"$f":"1%+AO3","v":1.04},0.15000000000000002]
["Modèle statutaire",null,{"$f":"'FR INPUT PRODUCTEUR'!B25","v":"SAS"},null,"Taux perte de production/an",null,null,null,5.0000000000000001E-3,null,"Capital apporté",null,{"$f":"M6*M7","v":0},null,"Comptes-courants d'associés",null,{"$f":"'FR INPUT PRODUCTEUR'!E28","v":0},null,null,null,null,null,null,null,null,null,null,null,null,null,null,null,null,null,null,null,null,null,320,11,1.05,0.2]
["Puissance photovoltaïque (kW)",null,{"$f":"SUM('FR INPUT PRODUCTEUR'!B7:K7)","v":0},null,"Taux d'indexation du tarif d'achat",null,null,null,5.0000000000000001E-3,null,"Nombre de parts",null,{"$f":"'FR INPUT PRODUCTEUR'!B29","v":0},null,"Taux (%)",null,{"$f":"'FR INPUT PRODUCTEUR'!E29","v":0},null,null,"Coût total projet € HT/Wc",null,null,{"$f":"C8/(C6*1000)","v":{"$error":"#DIV/0!"}},null,null,null,null,null,null,null,null,null,null,null,null,null,null,null,340,12,1.06,0.25]
["Production annuelle (kWh/an)",null,{"$f":"SUM('FR INPUT PRODUCTEUR'!B9:K9)","v":0},null,"Inflation",null,null,null,0.02,null,"Montant de la part",null,{"$f":"'FR INPUT PRODUCTEUR'!B30","v":0},null,"Durée (ans)",null,{"$f":"'FR INPUT PRODUCTEUR'!E30","v":0},null,null,null,null,null,null,null,null,null,null,null,null,null,null,null,null,null,null,null,null,null,360,13,1.07,0.3]
["Coût investissement (€)",null,{"$f":"SUM('FR INPUT PRODUCTEUR'!B13:K13)","v":0},null,"Mise en réserve années 1 à 3",null,null,null,1,null,"Emprunt bancaire (€)",null,{"$f":"'FR INPUT PRODUCTEUR'!B33","v":0},null,null,null,null,null,null,null,null,null,null,null,null,null,null,null,null,null,null,null,null,null,null,null,null,null,380,14,1.08,0.35]
["Recettes (€/an)",null,{"$f":"SUM('FR INPUT PRODUCTEUR'!B20:K20)+SUM('FR INPUT PRODUCTEUR'!B22:K22)","v":{"$error":"#DIV/0!"}},null,"Mise en réserve de 4 à 20 ans",null,null,null,0.3,null,"Taux emprunt",null,{"$f":"'FR INPUT PRODUCTEUR'!B34","v":0},null,"Part fonds propres",null,null,{"$f":"(M5+M11)/C8","v":{"$error":"#DIV/0!"}},null,null,null,null,null,null,null,null,null,null,null,null,null,null,null,null,null,null,null,null,400,15,1.0900000000000001,0.39999999999999997,null,"Calcul des recettes associées à chaque Classe"]
["Charges (€/an)",null,{"$f":"SUM('FR INPUT PRODUCTEUR'!B14:K16,'FR INPUT PRODUCTEUR'!B18)","v":0},null,"Taux d'actualisation",null,null,null,{"$f":"(M5*R10+M8*M9*(1-0.15))/(M5+M8)","v":{"$error":"#DIV/0!"}},null,"Durée (ans)",null,{"$f":"'FR INPUT PRODUCTEUR'!B35","v":0},null,"Obj. rémunération fonds pr.",null,null,0.03,null,null,null,null,null,null,null,null,null,null,null,null,null,null,null,null,null,null,null,null,450,16,1.1000000000000001,0.5,null,null,"recettes totales (année 1)","indexation (%)"]
["Charges exceptionnelles 1ère année",null,400,null,"Taux CSG",null,null,null,0.17199999999999999,null,"Subvention",null,{"$f":"'FR INPUT PRODUCTEUR'!E33","v":0},null,null,null,null,null,null,null,null,null,null,null,null,null,null,null,null,null,null,null,null,null,null,null,null,null,475,17,1.1100000000000001,0.55000000000000004,null,{"$f":"'FR INPUT TARIFS ACC'!AK7","v":"Classe 1"},{"$f":"SUMIF('FR INPUT CONSOMMATEUR'!$C$51:$AA$51,AR11,'FR INPUT CONSOMMATEUR'!$C$53:$AA$53)","v":0},{"$f":"'FR INPUT TARIFS ACC'!D7","v":0}]
["Charges exceptionnelles 11ème année",null,{"$f":"600*COUNTA('FR INPUT PRODUCTEUR'!B4:K4)","v":0},null,"Taux de disponibilité centrale",null,null,null,0.99,null,null,null,null,null,null,null,null,null,null,null,null,null,null,null,null,null,null,null,null,null,null,null,null,null,null,null,null,null,500,18,1.1200000000000001,0.57499999999999996,null,{"$f":"'FR INPUT TARIFS ACC'!AK8","v":"Classe 2"},{"$f":"SUMIF('FR INPUT CONSOMMATEUR'!$C$51:$AA$51,AR12,'FR INPUT CONSOMMATEUR'!$C$53:$AA$53)","v":0},{"$f":"'FR INPUT TARIFS ACC'!D8","v":0}]
["Charges exceptionnelles années 11 à 15",null,{"$f":"0.07*SUM('FR INPUT PRODUCTEUR'!B13:K13)","v":0},null,"Taxe CFE €/an",null,null,null,400,null,null,null,null,null,null,null,null,null,null,null,null,null,null,null,null,null,null,null,null,null,null,null,null,null,null,null,null,null,{"$f":"AM12+50","v":550},19,1.1300000000000001,{"$f":"AP11+5%","v":0.60000000000000009},null,{"$f":"'FR INPUT TARIFS ACC'!AK9","v":"Classe 3"},{"$f":"SUMIF('FR INPUT CONSOMMATEUR'!$C$51:$AA$51,AR13,'FR INPUT CONSOMMATEUR'!$C$53:$AA$53)","v":0},{"$f":"'FR INPUT TARIFS ACC'!D9","v":0}]
["Charges exceptionnelles années 21 à 26",null,{"$f":"0.07*SUM('FR INPUT PRODUCTEUR'!B13:K13)","v":0},null,"Tarif achat années 21-30 (c€/kWh) (option)",null,null,null,4,null,null,null,null,null,null,null,null,null,null,null,null,null,null,null,null,null,null,null,null,null,null,null,null,null,null,null,null,null,{"$f":"AM13+10","v":560},20,1.1400000000000001,{"$f":"AP13+5%","v":0.65000000000000013},null,{"$f":"'FR INPUT TARIFS ACC'!AK10","v":"Classe 4"},{"$f":"SUMIF('FR INPUT CONSOMMATEUR'!$C$51:$AA$51,AR14,'FR INPUT CONSOMMATEUR'!$C$53:$AA$53)","v":0},{"$f":"'FR INPUT TARIFS ACC'!D10","v":0}]
[null,null,null,null,null,null,null,null,null,null,null,null,null,null,null,null,null,null,null,null,null,null,null,null,null,null,null,null,null,null,null,null,null,null,null,null,null,null,570,21,1.1500000000000001,0.70000000000000018,null,{"$f":"'FR INPUT TARIFS ACC'!AK11","v":"Classe 5"},{"$f":"SUMIF('FR INPUT CONSOMMATEUR'!$C$51:$AA$51,AR15,'FR INPUT CONSOMMATEUR'!$C$53:$AA$53)","v":0},{"$f":"'FR INPUT TARIFS ACC'!D11","v":0}]
["Soldes intermédiaires de gestion",null,null,null,null,null,null,null,null,null,null,null,null,null,null,null,null,null,null,null,null,null,null,null,null,null,null,null,null,null,null,null,null,null,null,null,null,null,580,22,1.1600000000000001,0.75000000000000022]
[null,null,null,null,null,null,null,null,null,null,null,null,null,null,null,null,null,null,null,null,null,null,null,null,null,null,null,null,null,null,null,null,null,null,null,null,null,null,590,23,null,0.80000000000000027]
[null,null,0,1,2,3,4,5,6,7,8,9,10,11,12,13,14,15,16,17,18,19,20,21,22,23,24,25,26,27,28,29,30,null,null,null,null,null,600,24,null,0.85000000000000031]
["Ventes d'électicité ",null,null,{"$f":"C9*$I$12","v":{"$error":"#DIV/0!"}},{"$f":"SUM('FR INPUT PRODUCTEUR'!$B$22:$K$22)*(1-perte_prod)^(E18-1)*(1+index_tarif)^(E18-1)+$AS$11*(1-perte_prod)^(E18-1)*(1+$AT$11)^(E18-1)+$AS$12*(1-perte_prod)^(E18-1)*(1+$AT$12)^(E18-1)+$AS$13*(1-perte_prod)^(E18-1)*(1+$AT$13)^(E18-1)+$AS$14*(1-perte_prod)^(E18-1)*(1+$AT$14)^(E18-1)+$AS$15*(1-perte_prod)^(E18-1)*(1+$AT$15)^(E18-1)","v":{"$error":"#DIV/0!"}},{"$f":"SUM('FR INPUT PRODUCTEUR'!$B$22:$K$22)*(1-perte_prod)^(F18-1)*(1+index_tarif)^(F18-1)+$AS$11*(1-perte_prod)^(F18-1)*(1+$AT$11)^(F18-1)+$AS$12*(1-perte_prod)^(F18-1)*(1+$AT$12)^(F18-1)+$AS$13*(1-perte_prod)^(F18-1)*(1+$AT$13)^(F18-1)+$AS$14*(1-perte_prod)^(F18-1)*(1+$AT$14)^(F18-1)+$AS$15*(1-perte_prod)^(F18-1)*(1+$AT$15)^(F18-1)","v":{"$error":"#DIV/0!"}},{"$f":"SUM('FR INPUT PRODUCTEUR'!$B$22:$K$22)*(1-perte_prod)^(G18-1)*(1+index_tarif)^(G18-1)+$AS$11*(1-perte_prod)^(G18-1)*(1+$AT$11)^(G18-1)+$AS$12*(1-perte_prod)^(G18-1)*(1+$AT$12)^(G18-1)+$AS$13*(1-perte_prod)^(G18-1)*(1+$AT$13)^(G18-1)+$AS$14*(1-perte_prod)^(G18-1)*(1+$AT$14)^(G18-1)+$AS$15*(1-perte_prod)^(G18-1)*(1+$AT$15)^(G18-1)","v":{"$error":"#DIV/0!"}},{"$f":"SUM('FR INPUT PRODUCTEUR'!$B$22:$K$22)*(1-perte_prod)^(H18-1)*(1+index_tarif)^(H18-1)+$AS$11*(1-perte_prod)^(H18-1)*(1+$AT$11)^(H18-1)+$AS$12*(1-perte_prod)^(H18-1)*(1+$AT$12)^(H18-1)+$AS$13*(1-perte_prod)^(H18-1)*(1+$AT$13)^(H18-1)+$AS$14*(1-perte_prod)^(H18-1)*(1+$AT$14)^(H18-1)+$AS$15*(1-perte_prod)^(H18-1)*(1+$AT$15)^(H18-1)","v":{"$error":"#DIV/0!"}},{"$f":"SUM('FR INPUT PRODUCTEUR'!$B$22:$K$22)*(1-perte_prod)^(I18-1)*(1+index_tarif)^(I18-1)+$AS$11*(1-perte_prod)^(I18-1)*(1+$AT$11)^(I18-1)+$AS$12*(1-perte_prod)^(I18-1)*(1+$AT$12)^(I18-1)+$AS$13*(1-perte_prod)^(I18-1)*(1+$AT$13)^(I18-1)+$AS$14*(1-perte_prod)^(I18-1)*(1+$AT$14)^(I18-1)+$AS$15*(1-perte_prod)^(I18-1)*(1+$AT$15)^(I18-1)","v":{"$error":"#DIV/0!"}},{"$f":"SUM('FR INPUT PRODUCTEUR'!$B$22:$K$22)*(1-perte_prod)^(J18-1)*(1+index_tarif)^(J18-1)+$AS$11*(1-perte_prod)^(J18-1)*(1+$AT$11)^(J18-1)+$AS$12*(1-perte_prod)^(J18-1)*(1+$AT$12)^(J18-1)+$AS$13*(1-perte_prod)^(J18-1)*(1+$AT$13)^(J18-1)+$AS$14*(1-perte_prod)^(J18-1)*(1+$AT$14)^(J18-1)+$AS$15*(1-perte_prod)^(J18-1)*(1+$AT$15)^(J18-1)","v":{"$error":"#DIV/0!"}},{"$f":"SUM('FR INPUT PRODUCTEUR'!$B$22:$K$22)*(1-perte_prod)^(K18-1)*(1+index_tarif)^(K18-1)+$AS$11*(1-perte_prod)^(K18-1)*(1+$AT$11)^(K18-1)+$AS$12*(1-perte_prod)^(K18-1)*(1+$AT$12)^(K18-1)+$AS$13*(1-perte_prod)^(K18-1)*(1+$AT$13)^(K18-1)+$AS$14*(1-perte_prod)^(K18-1)*(1+$AT$14)^(K18-1)+$AS$15*(1-perte_prod)^(K18-1)*(1+$AT$15)^(K18-1)","v":{"$error":"#DIV/0!"}},{"$f":"SUM('FR INPUT PRODUCTEUR'!$B$22:$K$22)*(1-perte_prod)^(L18-1)*(1+index_tarif)^(L18-1)+$AS$11*(1-perte_prod)^(L18-1)*(1+$AT$11)^(L18-1)+$AS$12*(1-perte_prod)^(L18-1)*(1+$AT$12)^(L18-1)+$AS$13*(1-perte_prod)^(L18-1)*(1+$AT$13)^(L18-1)+$AS$14*(1-perte_prod)^(L18-1)*(1+$AT$14)^(L18-1)+$AS$15*(1-perte_prod)^(L18-1)*(1+$AT$15)^(L18-1)","v":{"$error":"#DIV/0!"}},{"$f":"SUM('FR INPUT PRODUCTEUR'!$B$22:$K$22)*(1-perte_prod)^(M18-1)*(1+index_tarif)^(M18-1)+$AS$11*(1-perte_prod)^(M18-1)*(1+$AT$11)^(M18-1)+$AS$12*(1-perte_prod)^(M18-1)*(1+$AT$12)^(M18-1)+$AS$13*(1-perte_prod)^(M18-1)*(1+$AT$13)^(M18-1)+$AS$14*(1-perte_prod)^(M18-1)*(1+$AT$14)^(M18-1)+$AS$15*(1-perte_prod)^(M18-1)*(1+$AT$15)^(M18-1)","v":{"$error":"#DIV/0!"}},{"$f":"SUM('FR INPUT PRODUCTEUR'!$B$22:$K$22)*(1-perte_prod)^(N18-1)*(1+index_tarif)^(N18-1)+$AS$11*(1-perte_prod)^(N18-1)*(1+$AT$11)^(N18-1)+$AS$12*(1-perte_prod)^(N18-1)*(1+$AT$12)^(N18-1)+$AS$13*(1-perte_prod)^(N18-1)*(1+$AT$13)^(N18-1)+$AS$14*(1-perte_prod)^(N18-1)*(1+$AT$14)^(N18-1)+$AS$15*(1-perte_prod)^(N18-1)*(1+$AT$15)^(N18-1)","v":{"$error":"#DIV/0!"}},{"$f":"SUM('FR INPUT PRODUCTEUR'!$B$22:$K$22)*(1-perte_prod)^(O18-1)*(1+index_tarif)^(O18-1)+$AS$11*(1-perte_prod)^(O18-1)*(1+$AT$11)^(O18-1)+$AS$12*(1-perte_prod)^(O18-1)*(1+$AT$12)^(O18-1)+$AS$13*(1-perte_prod)^(O18-1)*(1+$AT$13)^(O18-1)+$AS$14*(1-perte_prod)^(O18-1)*(1+$AT$14)^(O18-1)+$AS$15*(1-perte_prod)^(O18-1)*(1+$AT$15)^(O18-1)","v":{"$error":"#DIV/0!"}},{"$f":"SUM('FR INPUT PRODUCTEUR'!$B$22:$K$22)*(1-perte_prod)^(P18-1)*(1+index_tarif)^(P18-1)+$AS$11*(1-perte_prod)^(P18-1)*(1+$AT$11)^(P18-1)+$AS$12*(1-perte_prod)^(P18-1)*(1+$AT$12)^(P18-1)+$AS$13*(1-perte_prod)^(P18-1)*(1+$AT$13)^(P18-1)+$AS$14*(1-perte_prod)^(P18-1)*(1+$AT$14)^(P18-1)+$AS$15*(1-perte_prod)^(P18-1)*(1+$AT$15)^(P18-1)","v":{"$error":"#DIV/0!"}},{"$f":"SUM('FR INPUT PRODUCTEUR'!$B$22:$K$22)*(1-perte_prod)^(Q18-1)*(1+index_tarif)^(Q18-1)+$AS$11*(1-perte_prod)^(Q18-1)*(1+$AT$11)^(Q18-1)+$AS$12*(1-perte_prod)^(Q18-1)*(1+$AT$12)^(Q18-1)+$AS$13*(1-perte_prod)^(Q18-1)*(1+$AT$13)^(Q18-1)+$AS$14*(1-perte_prod)^(Q18-1)*(1+$AT$14)^(Q18-1)+$AS$15*(1-perte_prod)^(Q18-1)*(1+$AT$15)^(Q18-1)","v":{"$error":"#DIV/0!"}},{"$f":"SUM('FR INPUT PRODUCTEUR'!$B$22:$K$22)*(1-perte_prod)^(R18-1)*(1+index_tarif)^(R18-1)+$AS$11*(1-perte_prod)^(R18-1)*(1+$AT$11)^(R18-1)+$AS$12*(1-perte_prod)^(R18-1)*(1+$AT$12)^(R18-1)+$AS$13*(1-perte_prod)^(R18-1)*(1+$AT$13)^(R18-1)+$AS$14*(1-perte_prod)^(R18-1)*(1+$AT$14)^(R18-1)+$AS$15*(1-perte_prod)^(R18-1)*(1+$AT$15)^(R18-1)","v":{"$error":"#DIV/0!"}},{"$f":"SUM('FR INPUT PRODUCTEUR'!$B$22:$K$22)*(1-perte_prod)^(S18-1)*(1+index_tarif)^(S18-1)+$AS$11*(1-perte_prod)^(S18-1)*(1+$AT$11)^(S18-1)+$AS$12*(1-perte_prod)^(S18-1)*(1+$AT$12)^(S18-1)+$AS$13*(1-perte_prod)^(S18-1)*(1+$AT$13)^(S18-1)+$AS$14*(1-perte_prod)^(S18-1)*(1+$AT$14)^(S18-1)+$AS$15*(1-perte_prod)^(S18-1)*(1+$AT$15)^(S18-1)","v":{"$error":"#DIV/0!"}},{"$f":"SUM('FR INPUT PRODUCTEUR'!$B$22:$K$22)*(1-perte_prod)^(T18-1)*(1+index_tarif)^(T18-1)+$AS$11*(1-perte_prod)^(T18-1)*(1+$AT$11)^(T18-1)+$AS$12*(1-perte_prod)^(T18-1)*(1+$AT$12)^(T18-1)+$AS$13*(1-perte_prod)^(T18-1)*(1+$AT$13)^(T18-1)+$AS$14*(1-perte_prod)^(T18-1)*(1+$AT$14)^(T18-1)+$AS$15*(1-perte_prod)^(T18-1)*(1+$AT$15)^(T18-1)","v":{"$error":"#DIV/0!"}},{"$f":"SUM('FR INPUT PRODUCTEUR'!$B$22:$K$22)*(1-perte_prod)^(U18-1)*(1+index_tarif)^(U18-1)+$AS$11*(1-perte_prod)^(U18-1)*(1+$AT$11)^(U18-1)+$AS$12*(1-perte_prod)^(U18-1)*(1+$AT$12)^(U18-1)+$AS$13*(1-perte_prod)^(U18-1)*(1+$AT$13)^(U18-1)+$AS$14*(1-perte_prod)^(U18-1)*(1+$AT$14)^(U18-1)+$AS$15*(1-perte_prod)^(U18-1)*(1+$AT$15)^(U18-1)","v":{"$error":"#DIV/0!"}},{"$f":"SUM('FR INPUT PRODUCTEUR'!$B$22:$K$22)*(1-perte_prod)^(V18-1)*(1+index_tarif)^(V18-1)+$AS$11*(1-perte_prod)^(V18-1)*(1+$AT$11)^(V18-1)+$AS$12*(1-perte_prod)^(V18-1)*(1+$AT$12)^(V18-1)+$AS$13*(1-perte_prod)^(V18-1)*(1+$AT$13)^(V18-1)+$AS$14*(1-perte_prod)^(V18-1)*(1+$AT$14)^(V18-1)+$AS$15*(1-perte_prod)^(V18-1)*(1+$AT$15)^(V18-1)","v":{"$error":"#DIV/0!"}},{"$f":"SUM('FR INPUT PRODUCTEUR'!$B$22:$K$22)*(1-perte_prod)^(W18-1)*(1+index_tarif)^(W18-1)+$AS$11*(1-perte_prod)^(W18-1)*(1+$AT$11)^(W18-1)+$AS$12*(1-perte_prod)^(W18-1)*(1+$AT$12)^(W18-1)+$AS$13*(1-perte_prod)^(W18-1)*(1+$AT$13)^(W18-1)+$AS$14*(1-perte_prod)^(W18-1)*(1+$AT$14)^(W18-1)+$AS$15*(1-perte_prod)^(W18-1)*(1+$AT$15)^(W18-1)","v":{"$error":"#DIV/0!"}},{"$f":"$I$14/100*SUM('FR INPUT PRODUCTEUR'!$B$9:$K$9)*(1-'FR INPUT PRODUCTEUR'!$B$10)*(1-perte_prod)^(X18-1)+$AS$11*(1-perte_prod)^(X18-1)*(1+$AT$11)^(X18-1)+$AS$12*(1-perte_prod)^(X18-1)*(1+$AT$12)^(X18-1)+$AS$13*(1-perte_prod)^(X18-1)*(1+$AT$13)^(X18-1)+$AS$14*(1-perte_prod)^(X18-1)*(1+$AT$14)^(X18-1)+$AS$15*(1-perte_prod)^(X18-1)*(1+$AT$15)^(X18-1)","v":{"$error":"#DIV/0!"}},{"$f":"$I$14/100*SUM('FR INPUT PRODUCTEUR'!$B$9:$K$9)*(1-'FR INPUT PRODUCTEUR'!$B$10)*(1-perte_prod)^(Y18-1)+$AS$11*(1-perte_prod)^(Y18-1)*(1+$AT$11)^(Y18-1)+$AS$12*(1-perte_prod)^(Y18-1)*(1+$AT$12)^(Y18-1)+$AS$13*(1-perte_prod)^(Y18-1)*(1+$AT$13)^(Y18-1)+$AS$14*(1-perte_prod)^(Y18-1)*(1+$AT$14)^(Y18-1)+$AS$15*(1-perte_prod)^(Y18-1)*(1+$AT$15)^(Y18-1)","v":{"$error":"#DIV/0!"}},{"$f":"$I$14/100*SUM('FR INPUT PRODUCTEUR'!$B$9:$K$9)*(1-'FR INPUT PRODUCTEUR'!$B$10)*(1-perte_prod)^(Z18-1)+$AS$11*(1-perte_prod)^(Z18-1)*(1+$AT$11)^(Z18-1)+$AS$12*(1-perte_prod)^(Z18-1)*(1+$AT$12)^(Z18-1)+$AS$13*(1-perte_prod)^(Z18-1)*(1+$AT$13)^(Z18-1)+$AS$14*(1-perte_prod)^(Z18-1)*(1+$AT$14)^(Z18-1)+$AS$15*(1-perte_prod)^(Z18-1)*(1+$AT$15)^(Z18-1)","v":{"$error":"#DIV/0!"}},{"$f":"$I$14/100*SUM('FR INPUT PRODUCTEUR'!$B$9:$K$9)*(1-'FR INPUT PRODUCTEUR'!$B$10)*(1-perte_prod)^(AA18-1)+$AS$11*(1-perte_prod)^(AA18-1)*(1+$AT$11)^(AA18-1)+$AS$12*(1-perte_prod)^(AA18-1)*(1+$AT$12)^(AA18-1)+$AS$13*(1-perte_prod)^(AA18-1)*(1+$AT$13)^(AA18-1)+$AS$14*(1-perte_prod)^(AA18-1)*(1+$AT$14)^(AA18-1)+$AS$15*(1-perte_prod)^(AA18-1)*(1+$AT$15)^(AA18-1)","v":{"$error":"#DIV/0!"}},{"$f":"$I$14/100*SUM('FR INPUT PRODUCTEUR'!$B$9:$K$9)*(1-'FR INPUT PRODUCTEUR'!$B$10)*(1-perte_prod)^(AB18-1)+$AS$11*(1-perte_prod)^(AB18-1)*(1+$AT$11)^(AB18-1)+$AS$12*(1-perte_prod)^(AB18-1)*(1+$AT$12)^(AB18-1)+$AS$13*(1-perte_prod)^(AB18-1)*(1+$AT$13)^(AB18-1)+$AS$14*(1-perte_prod)^(AB18-1)*(1+$AT$14)^(AB18-1)+$AS$15*(1-perte_prod)^(AB18-1)*(1+$AT$15)^(AB18-1)","v":{"$error":"#DIV/0!"}},{"$f":"$I$14/100*SUM('FR INPUT PRODUCTEUR'!$B$9:$K$9)*(1-'FR INPUT PRODUCTEUR'!$B$10)*(1-perte_prod)^(AC18-1)+$AS$11*(1-perte_prod)^(AC18-1)*(1+$AT$11)^(AC18-1)+$AS$12*(1-perte_prod)^(AC18-1)*(1+$AT$12)^(AC18-1)+$AS$13*(1-perte_prod)^(AC18-1)*(1+$AT$13)^(AC18-1)+$AS$14*(1-perte_prod)^(AC18-1)*(1+$AT$14)^(AC18-1)+$AS$15*(1-perte_prod)^(AC18-1)*(1+$AT$15)^(AC18-1)","v":{"$error":"#DIV/0!"}},{"$f":"$I$14/100*SUM('FR INPUT PRODUCTEUR'!$B$9:$K$9)*(1-'FR INPUT PRODUCTEUR'!$B$10)*(1-perte_prod)^(AD18-1)+$AS$11*(1-perte_prod)^(AD18-1)*(1+$AT$11)^(AD18-1)+$AS$12*(1-perte_prod)^(AD18-1)*(1+$AT$12)^(AD18-1)+$AS$13*(1-perte_prod)^(AD18-1)*(1+$AT$13)^(AD18-1)+$AS$14*(1-perte_prod)^(AD18-1)*(1+$AT$14)^(AD18-1)+$AS$15*(1-perte_prod)^(AD18-1)*(1+$AT$15)^(AD18-1)","v":{"$error":"#DIV/0!"}},{"$f":"$I$14/100*SUM('FR INPUT PRODUCTEUR'!$B$9:$K$9)*(1-'FR INPUT PRODUCTEUR'!$B$10)*(1-perte_prod)^(AE18-1)+$AS$11*(1-perte_prod)^(AE18-1)*(1+$AT$11)^(AE18-1)+$AS$12*(1-perte_prod)^(AE18-1)*(1+$AT$12)^(AE18-1)+$AS$13*(1-perte_prod)^(AE18-1)*(1+$AT$13)^(AE18-1)+$AS$14*(1-perte_prod)^(AE18-1)*(1+$AT$14)^(AE18-1)+$AS$15*(1-perte_prod)^(AE18-1)*(1+$AT$15)^(AE18-1)","v":{"$error":"#DIV/0!"}},{"$f":"$I$14/100*SUM('FR INPUT PRODUCTEUR'!$B$9:$K$9)*(1-'FR INPUT PRODUCTEUR'!$B$10)*(1-perte_prod)^(AF18-1)+$AS$11*(1-perte_prod)^(AF18-1)*(1+$AT$11)^(AF18-1)+$AS$12*(1-perte_prod)^(AF18-1)*(1+$AT$12)^(AF18-1)+$AS$13*(1-perte_prod)^(AF18-1)*(1+$AT$13)^(AF18-1)+$AS$14*(1-perte_prod)^(AF18-1)*(1+$AT$14)^(AF18-1)+$AS$15*(1-perte_prod)^(AF18-1)*(1+$AT$15)^(AF18-1)","v":{"$error":"#DIV/0!"}},{"$f":"$I$14/100*SUM('FR INPUT PRODUCTEUR'!$B$9:$K$9)*(1-'FR INPUT PRODUCTEUR'!$B$10)*(1-perte_prod)^(AG18-1)+$AS$11*(1-perte_prod)^(AG18-1)*(1+$AT$11)^(AG18-1)+$AS$12*(1-perte_prod)^(AG18-1)*(1+$AT$12)^(AG18-1)+$AS$13*(1-perte_prod)^(AG18-1)*(1+$AT$13)^(AG18-1)+$AS$14*(1-perte_prod)^(AG18-1)*(1+$AT$14)^(AG18-1)+$AS$15*(1-perte_prod)^(AG18-1)*(1+$AT$15)^(AG18-1)","v":{"$error":"#DIV/0!"}},null,null,null,null,null,610,25,null,0.90000000000000036]
["Charges",null,null,{"$f":"C11+C10","v":400},{"$f":"$C$10*(1+inflation)^(E18-1)","v":0},0,0,0,0,0,0,0,0,{"$f":"(C12+C10+C13/5)*(1+inflation)^(N18-1)","v":0},{"$f":"($C$10+C13/5)*(1+inflation)^(O18-1)","v":0},{"$f":"($C$10+C13/5)*(1+inflation)^(P18-1)","v":0},{"$f":"($C$10+C13/5)*(1+inflation)^(Q18-1)","v":0},{"$f":"($C$10+C13/5)*(1+inflation)^(R18-1)","v":0},{"$f":"$C$10*(1+inflation)^(S18-1)","v":0},{"$f":"$C$10*(1+inflation)^(T18-1)","v":0},{"$f":"$C$10*(1+inflation)^(U18-1)","v":0},{"$f":"$C$10*(1+inflation)^(V18-1)","v":0},{"$f":"$C$10*(1+inflation)^(W18-1)","v":0},{"$f":"($C$10)*(1+inflation)^(X18-1)","v":0},{"$f":"($C$10+$C$14/5)*(1+inflation)^(Y18-1)","v":0},{"$f":"($C$10+$C$14/5)*(1+inflation)^(Z18-1)","v":0},{"$f":"($C$10+$C$14/5)*(1+inflation)^(AA18-1)","v":0},{"$f":"($C$10+$C$14/5)*(1+inflation)^(AB18-1)","v":0},{"$f":"($C$10+$C$14/5)*(1+inflation)^(AC18-1)","v":0},{"$f":"$C$10*(1+inflation)^(AD18-1)","v":0},{"$f":"$C$10*(1+inflation)^(AE18-1)","v":0},{"$f":"$C$10*(1+inflation)^(AF18-1)","v":0},{"$f":"$C$10*(1+inflation)^(AG18-1)","v":0},null,null,null,null,null,620,null,null,0.9500000000000004]
["Valeur ajoutée",null,null,{"$f":"D19-D20","v":{"$error":"#DIV/0!"}},{"$error":"#DIV/0!"},{"$error":"#DIV/0!"},{"$error":"#DIV/0!"},{"$error":"#DIV/0!"},{"$error":"#DIV/0!"},{"$error":"#DIV/0!"},{"$error":"#DIV/0!"},{"$error":"#DIV/0!"},{"$error":"#DIV/0!"},{"$error":"#DIV/0!"},{"$error":"#DIV/0!"},{"$error":"#DIV/0!"},{"$error":"#DIV/0!"},{"$error":"#DIV/0!"},{"$error":"#DIV/0!"},{"$error":"#DIV/0!"},{"$error":"#DIV/0!"},{"$error":"#DIV/0!"},{"$error":"#DIV/0!"},{"$error":"#DIV/0!"},{"$error":"#DIV/0!"},{"$error":"#DIV/0!"},{"$error":"#DIV/0!"},{"$error":"#DIV/0!"},{"$error":"#DIV/0!"},{"$error":"#DIV/0!"},{"$error":"#DIV/0!"},{"$error":"#DIV/0!"},{"$error":"#DIV/0!"},null,null,null,null,null,630,null,null,1.0000000000000004]
["Taxes (CFE, IFER)",null,null,{"$f":"$I$13+SUM('FR INPUT PRODUCTEUR'!$B$17:$K$17)","v":400},{"$f":"$I$13+SUM('FR INPUT PRODUCTEUR'!$B$17:$K$17)","v":400},{"$f":"$I$13+SUM('FR INPUT PRODUCTEUR'!$B$17:$K$17)","v":400},{"$f":"$I$13+SUM('FR INPUT PRODUCTEUR'!$B$17:$K$17)","v":400},{"$f":"$I$13+SUM('FR INPUT PRODUCTEUR'!$B$17:$K$17)","v":400},{"$f":"$I$13+SUM('FR INPUT PRODUCTEUR'!$B$17:$K$17)","v":400},{"$f":"$I$13+SUM('FR INPUT PRODUCTEUR'!$B$17:$K$17)","v":400},{"$f":"$I$13+SUM('FR INPUT PRODUCTEUR'!$B$17:$K$17)","v":400},{"$f":"$I$13+SUM('FR INPUT PRODUCTEUR'!$B$17:$K$17)","v":400},{"$f":"$I$13+SUM('FR INPUT PRODUCTEUR'!$B$17:$K$17)","v":400},{"$f":"$I$13+SUM('FR INPUT PRODUCTEUR'!$B$17:$K$17)","v":400},{"$f":"$I$13+SUM('FR INPUT PRODUCTEUR'!$B$17:$K$17)","v":400},{"$f":"$I$13+SUM('FR INPUT PRODUCTEUR'!$B$17:$K$17)","v":400},{"$f":"$I$13+SUM('FR INPUT PRODUCTEUR'!$B$17:$K$17)","v":400},{"$f":"$I$13+SUM('FR INPUT PRODUCTEUR'!$B$17:$K$17)","v":400},{"$f":"$I$13+SUM('FR INPUT PRODUCTEUR'!$B$17:$K$17)","v":400},{"$f":"$I$13+SUM('FR INPUT PRODUCTEUR'!$B$17:$K$17)","v":400},{"$f":"$I$13+SUM('FR INPUT PRODUCTEUR'!$B$17:$K$17)","v":400},{"$f":"$I$13+SUM('FR INPUT PRODUCTEUR'!$B$17:$K$17)","v":400},{"$f":"$I$13+SUM('FR INPUT PRODUCTEUR'!$B$17:$K$17)","v":400},{"$f":"$I$13+SUM('FR INPUT PRODUCTEUR'!$B$17:$K$17)","v":400},{"$f":"$I$13+SUM('FR INPUT PRODUCTEUR'!$B$17:$K$17)","v":400},{"$f":"$I$13+SUM('FR INPUT PRODUCTEUR'!$B$17:$K$17)","v":400},{"$f":"$I$13+SUM('FR INPUT PRODUCTEUR'!$B$17:$K$17)","v":400},{"$f":"$I$13+SUM('FR INPUT PRODUCTEUR'!$B$17:$K$17)","v":400},{"$f":"$I$13+SUM('FR INPUT PRODUCTEUR'!$B$17:$K$17)","v":400},{"$f":"$I$13+SUM('FR INPUT PRODUCTEUR'!$B$17:$K$17)","v":400},{"$f":"$I$13+SUM('FR INPUT PRODUCTEUR'!$B$17:$K$17)","v":400},{"$f":"$I$13+SUM('FR INPUT PRODUCTEUR'!$B$17:$K$17)","v":400},{"$f":"$I$13+SUM('FR INPUT PRODUCTEUR'!$B$17:$K$17)","v":400},null,null,null,null,null,640]
["Excédent Brut d'Exploitation",null,null,{"$f":"D21-D22","v":{"$error":"#DIV/0!"}},{"$error":"#DIV/0!"},{"$error":"#DIV/0!"},{"$error":"#DIV/0!"},{"$error":"#DIV/0!"},{"$error":"#DIV/0!"},{"$error":"#DIV/0!"},{"$error":"#DIV/0!"},{"$error":"#DIV/0!"},{"$error":"#DIV/0!"},{"$error":"#DIV/0!"},{"$error":"#DIV/0!"},{"$error":"#DIV/0!"},{"$error":"#DIV/0!"},{"$error":"#DIV/0!"},{"$error":"#DIV/0!"},{"$error":"#DIV/0!"},{"$error":"#DIV/0!"},{"$error":"#DIV/0!"},{"$error":"#DIV/0!"},{"$error":"#DIV/0!"},{"$error":"#DIV/0!"},{"$error":"#DIV/0!"},{"$error":"#DIV/0!"},{"$error":"#DIV/0!"},{"$error":"#DIV/0!"},{"$error":"#DIV/0!"},{"$error":"#DIV/0!"},{"$error":"#DIV/0!"},{"$error":"#DIV/0!"},null,null,null,null,null,650]
["Dotations aux amortissements",null,null,{"$f":"($C$8-$M$11)/20","v":0},0,0,0,0,0,0,0,0,0,0,0,0,0,0,0,0,0,0,0,0,0,0,0,0,0,0,0,0,0,null,null,null,null,null,660]
["Provisions",null,null,0,0,0,0,0,0,0,0,0,0,0,0,0,0,0,0,0,0,0,0,0,0,0,0,0,0,0,0,0,0,null,null,null,null,null,670]
["Résultat d'Exploitation",null,null,{"$f":"D23-D24-D25","v":{"$error":"#DIV/0!"}},{"$error":"#DIV/0!"},{"$error":"#DIV/0!"},{"$error":"#DIV/0!"},{"$error":"#DIV/0!"},{"$error":"#DIV/0!"},{"$error":"#DIV/0!"},{"$error":"#DIV/0!"},{"$error":"#DIV/0!"},{"$error":"#DIV/0!"},{"$error":"#DIV/0!"},{"$error":"#DIV/0!"},{"$error":"#DIV/0!"},{"$error":"#DIV/0!"},{"$error":"#DIV/0!"},{"$error":"#DIV/0!"},{"$error":"#DIV/0!"},{"$error":"#DIV/0!"},{"$error":"#DIV/0!"},{"$error":"#DIV/0!"},{"$error":"#DIV/0!"},{"$error":"#DIV/0!"},{"$error":"#DIV/0!"},{"$error":"#DIV/0!"},{"$error":"#DIV/0!"},{"$error":"#DIV/0!"},{"$error":"#DIV/0!"},{"$error":"#DIV/0!"},{"$error":"#DIV/0!"},{"$error":"#DIV/0!"},null,null,null,null,null,680]
["Frais financiers (remb. annuité constante)",null,null,{"$f":"IF(D18<=$M$10,-IPMT($M$9,D18,$M$10,$M$8),0)","v":0},0,0,0,0,0,0,0,0,0,0,0,0,0,0,0,0,0,0,0,0,0,0,0,0,0,0,0,0,0,null,null,null,null,null,690]
["Intérêts CCA",null,null,{"$f":"IF(D18<=$Q$7,$Q$6*$Q$5,0)","v":0},0,0,0,0,0,0,0,0,0,0,0,0,0,0,0,0,0,0,0,0,0,0,0,0,0,0,0,0,0,null,null,null,null,null,700]
["Résultat courant avant impôt",null,null,{"$f":"D26-D27-D28","v":{"$error":"#DIV/0!"}},{"$error":"#DIV/0!"},{"$error":"#DIV/0!"},{"$error":"#DIV/0!"},{"$error":"#DIV/0!"},{"$error":"#DIV/0!"},{"$error":"#DIV/0!"},{"$error":"#DIV/0!"},{"$error":"#DIV/0!"},{"$error":"#DIV/0!"},{"$error":"#DIV/0!"},{"$error":"#DIV/0!"},{"$error":"#DIV/0!"},{"$error":"#DIV/0!"},{"$error":"#DIV/0!"},{"$error":"#DIV/0!"},{"$error":"#DIV/0!"},{"$error":"#DIV/0!"},{"$error":"#DIV/0!"},{"$error":"#DIV/0!"},{"$error":"#DIV/0!"},{"$error":"#DIV/0!"},{"$error":"#DIV/0!"},{"$error":"#DIV/0!"},{"$error":"#DIV/0!"},{"$error":"#DIV/0!"},{"$error":"#DIV/0!"},{"$error":"#DIV/0!"},{"$error":"#DIV/0!"},{"$error":"#DIV/0!"},null,null,null,null,null,710]
["Déficit reportable",null,null,{"$f":"IF(D29<0,D29,0)","v":{"$error":"#DIV/0!"}},{"$f":"IF(D30+E29<0,D30+E29,0)","v":{"$error":"#DIV/0!"}},{"$error":"#DIV/0!"},{"$error":"#DIV/0!"},{"$error":"#DIV/0!"},{"$error":"#DIV/0!"},{"$error":"#DIV/0!"},{"$error":"#DIV/0!"},{"$error":"#DIV/0!"},{"$error":"#DIV/0!"},{"$error":"#DIV/0!"},{"$error":"#DIV/0!"},{"$error":"#DIV/0!"},{"$error":"#DIV/0!"},{"$error":"#DIV/0!"},{"$error":"#DIV/0!"},{"$error":"#DIV/0!"},{"$error":"#DIV/0!"},{"$error":"#DIV/0!"},{"$error":"#DIV/0!"},{"$error":"#DIV/0!"},{"$error":"#DIV/0!"},{"$error":"#DIV/0!"},{"$error":"#DIV/0!"},{"$error":"#DIV/0!"},{"$error":"#DIV/0!"},{"$error":"#DIV/0!"},{"$error":"#DIV/0!"},{"$error":"#DIV/0!"},{"$error":"#DIV/0!"},null,null,null,null,null,720]
["Impôts",null,null,{"$f":"IF(D29<0,0,IF(D29<38120,IF(C5=\"SAS\",0.15*D29,0.15*D29*(1-I8)),IF(C5=\"SAS\",0.28*D29,0.28*D29*(1-I8))))","v":{"$error":"#DIV/0!"}},{"$f":"IF((E29+D30)<0,0,IF(E29<38120,IF($C$5=\"SAS\",0.15*(E29+D30),0.15*(E29+D30)*(1-$I$8)),IF($C$5=\"SAS\",0.28*(E29+D30),0.28*(1-$I$8)*(E29+D30))))","v":{"$error":"#DIV/0!"}},{"$f":"IF((F29+E30)<0,0,IF(F29<38120,IF($C$5=\"SAS\",0.15*(F29+E30),0.15*(F29+E30)*(1-$I$8)),IF($C$5=\"SAS\",0.28*(F29+E30),0.28*(1-$I$8)*(F29+E30))))","v":{"$error":"#DIV/0!"}},{"$f":"IF((G29+F30)<0,0,IF(G29<38120,IF($C$5=\"SAS\",0.15*(G29+F30),0.15*(G29+F30)*(1-$I$9)),IF($C$5=\"SAS\",0.28*(G29+F30),0.28*(1-$I$9)*(G29+F30))))","v":{"$error":"#DIV/0!"}},{"$error":"#DIV/0!"},{"$error":"#DIV/0!"},{"$error":"#DIV/0!"},{"$error":"#DIV/0!"},{"$error":"#DIV/0!"},{"$error":"#DIV/0!"},{"$error":"#DIV/0!"},{"$error":"#DIV/0!"},{"$error":"#DIV/0!"},{"$error":"#DIV/0!"},{"$error":"#DIV/0!"},{"$error":"#DIV/0!"},{"$error":"#DIV/0!"},{"$error":"#DIV/0!"},{"$error":"#DIV/0!"},{"$error":"#DIV/0!"},{"$error":"#DIV/0!"},{"$error":"#DIV/0!"},{"$error":"#DIV/0!"},{"$error":"#DIV/0!"},{"$error":"#DIV/0!"},{"$error":"#DIV/0!"},{"$error":"#DIV/0!"},{"$error":"#DIV/0!"},{"$error":"#DIV/0!"},{"$error":"#DIV/0!"},null,null,null,null,null,730]
["Résultat Net Comptable",null,null,{"$f":"D29-D31","v":{"$error":"#DIV/0!"}},{"$error":"#DIV/0!"},{"$error":"#DIV/0!"},{"$error":"#DIV/0!"},{"$error":"#DIV/0!"},{"$error":"#DIV/0!"},{"$error":"#DIV/0!"},{"$error":"#DIV/0!"},{"$error":"#DIV/0!"},{"$error":"#DIV/0!"},{"$error":"#DIV/0!"},{"$error":"#DIV/0!"},{"$error":"#DIV/0!"},{"$error":"#DIV/0!"},{"$error":"#DIV/0!"},{"$error":"#DIV/0!"},{"$error":"#DIV/0!"},{"$error":"#DIV/0!"},{"$error":"#DIV/0!"},{"$error":"#DIV/0!"},{"$error":"#DIV/0!"},{"$error":"#DIV/0!"},{"$error":"#DIV/0!"},{"$error":"#DIV/0!"},{"$error":"#DIV/0!"},{"$error":"#DIV/0!"},{"$error":"#DIV/0!"},{"$error":"#DIV/0!"},{"$error":"#DIV/0!"},{"$error":"#DIV/0!"},null,null,null,null,null,740]
[null,null,null,null,null,null,null,null,null,null,null,null,null,null,null,null,null,null,null,null,null,null,null,null,null,null,null,null,null,null,null,null,null,null,null,null,null,null,750]
["Capacité d'Autofinancement",null,null,{"$f":"D32+D25+D24","v":{"$error":"#DIV/0!"}},{"$error":"#DIV/0!"},{"$error":"#DIV/0!"},{"$error":"#DIV/0!"},{"$error":"#DIV/0!"},{"$error":"#DIV/0!"},{"$error":"#DIV/0!"},{"$error":"#DIV/0!"},{"$error":"#DIV/0!"},{"$error":"#DIV/0!"},{"$error":"#DIV/0!"},{"$error":"#DIV/0!"},{"$error":"#DIV/0!"},{"$error":"#DIV/0!"},{"$error":"#DIV/0!"},{"$error":"#DIV/0!"},{"$error":"#DIV/0!"},{"$error":"#DIV/0!"},{"$error":"#DIV/0!"},{"$error":"#DIV/0!"},{"$error":"#DIV/0!"},{"$error":"#DIV/0!"},{"$error":"#DIV/0!"},{"$error":"#DIV/0!"},{"$error":"#DIV/0!"},{"$error":"#DIV/0!"},{"$error":"#DIV/0!"},{"$error":"#DIV/0!"},{"$error":"#DIV/0!"},{"$error":"#DIV/0!"},null,null,null,null,null,760]
["Cash Flow - investissement (pour le TRI)",null,{"$f":"-C8+M11","v":0},{"$f":"D34+D28+D27","v":{"$error":"#DIV/0!"}},{"$error":"#DIV/0!"},{"$error":"#DIV/0!"},{"$error":"#DIV/0!"},{"$error":"#DIV/0!"},{"$error":"#DIV/0!"},{"$error":"#DIV/0!"},{"$error":"#DIV/0!"},{"$error":"#DIV/0!"},{"$error":"#DIV/0!"},{"$error":"#DIV/0!"},{"$error":"#DIV/0!"},{"$error":"#DIV/0!"},{"$error":"#DIV/0!"},{"$error":"#DIV/0!"},{"$error":"#DIV/0!"},{"$error":"#DIV/0!"},{"$error":"#DIV/0!"},{"$error":"#DIV/0!"},{"$error":"#DIV/0!"},{"$error":"#DIV/0!"},{"$error":"#DIV/0!"},{"$error":"#DIV/0!"},{"$error":"#DIV/0!"},{"$error":"#DIV/0!"},{"$error":"#DIV/0!"},{"$error":"#DIV/0!"},{"$error":"#DIV/0!"},{"$error":"#DIV/0!"},{"$error":"#DIV/0!"},null,null,null,null,null,770]
["Cash flow - TRI sur fonds propres",null,{"$f":"-M5-Q5","v":0},{"$f":"D34","v":{"$error":"#DIV/0!"}},{"$error":"#DIV/0!"},{"$error":"#DIV/0!"},{"$error":"#DIV/0!"},{"$error":"#DIV/0!"},{"$error":"#DIV/0!"},{"$error":"#DIV/0!"},{"$error":"#DIV/0!"},{"$error":"#DIV/0!"},{"$error":"#DIV/0!"},{"$error":"#DIV/0!"},{"$error":"#DIV/0!"},{"$error":"#DIV/0!"},{"$error":"#DIV/0!"},{"$error":"#DIV/0!"},{"$error":"#DIV/0!"},{"$error":"#DIV/0!"},{"$error":"#DIV/0!"},{"$error":"#DIV/0!"},{"$error":"#DIV/0!"},{"$error":"#DIV/0!"},{"$error":"#DIV/0!"},{"$error":"#DIV/0!"},{"$error":"#DIV/0!"},{"$error":"#DIV/0!"},{"$error":"#DIV/0!"},{"$error":"#DIV/0!"},{"$error":"#DIV/0!"},{"$error":"#DIV/0!"},{"$error":"#DIV/0!"},null,null,null,null,null,780]
["Cash Flow Actualisés",null,null,{"$f":"D34*(1+taux_actu)^-(D18-1)","v":{"$error":"#DIV/0!"}},{"$error":"#DIV/0!"},{"$error":"#DIV/0!"},{"$error":"#DIV/0!"},{"$error":"#DIV/0!"},{"$error":"#DIV/0!"},{"$error":"#DIV/0!"},{"$error":"#DIV/0!"},{"$error":"#DIV/0!"},{"$error":"#DIV/0!"},{"$error":"#DIV/0!"},{"$error":"#DIV/0!"},{"$error":"#DIV/0!"},{"$error":"#DIV/0!"},{"$error":"#DIV/0!"},{"$error":"#DIV/0!"},{"$error":"#DIV/0!"},{"$error":"#DIV/0!"},{"$error":"#DIV/0!"},{"$error":"#DIV/0!"},{"$error":"#DIV/0!"},{"$error":"#DIV/0!"},{"$error":"#DIV/0!"},{"$error":"#DIV/0!"},{"$error":"#DIV/0!"},{"$error":"#DIV/0!"},{"$error":"#DIV/0!"},{"$error":"#DIV/0!"},{"$error":"#DIV/0!"},{"$error":"#DIV/0!"},null,null,null,null,null,790]
["VAN",null,{"$f":"-C8+M11","v":0},{"$f":"D37+C38","v":{"$error":"#DIV/0!"}},{"$f":"D38+E37","v":{"$error":"#DIV/0!"}},{"$error":"#DIV/0!"},{"$error":"#DIV/0!"},{"$error":"#DIV/0!"},{"$error":"#DIV/0!"},{"$error":"#DIV/0!"},{"$error":"#DIV/0!"},{"$error":"#DIV/0!"},{"$error":"#DIV/0!"},{"$error":"#DIV/0!"},{"$error":"#DIV/0!"},{"$error":"#DIV/0!"},{"$error":"#DIV/0!"},{"$error":"#DIV/0!"},{"$error":"#DIV/0!"},{"$error":"#DIV/0!"},{"$error":"#DIV/0!"},{"$error":"#DIV/0!"},{"$error":"#DIV/0!"},{"$error":"#DIV/0!"},{"$error":"#DIV/0!"},{"$error":"#DIV/0!"},{"$error":"#DIV/0!"},{"$error":"#DIV/0!"},{"$error":"#DIV/0!"},{"$error":"#DIV/0!"},{"$error":"#DIV/0!"},{"$error":"#DIV/0!"},{"$error":"#DIV/0!"},null,null,null,null,null,800]
[null,null,null,null,null,null,null,null,null,null,null,null,null,null,null,null,null,null,null,null,null,null,null,null,null,null,null,null,null,null,null,null,null,null,null,null,null,null,810]
["Mise en réserves",null,null,{"$f":"IF(D18<4,IF(D32<0,0,$I$8*D32),$I$9*D32)","v":{"$error":"#DIV/0!"}},{"$error":"#DIV/0!"},{"$error":"#DIV/0!"},{"$error":"#DIV/0!"},{"$error":"#DIV/0!"},{"$error":"#DIV/0!"},{"$error":"#DIV/0!"},{"$error":"#DIV/0!"},{"$error":"#DIV/0!"},{"$error":"#DIV/0!"},{"$error":"#DIV/0!"},{"$error":"#DIV/0!"},{"$error":"#DIV/0!"},{"$error":"#DIV/0!"},{"$error":"#DIV/0!"},{"$error":"#DIV/0!"},{"$error":"#DIV/0!"},{"$error":"#DIV/0!"},{"$error":"#DIV/0!"},{"$error":"#DIV/0!"},{"$error":"#DIV/0!"},{"$error":"#DIV/0!"},{"$error":"#DIV/0!"},{"$error":"#DIV/0!"},{"$error":"#DIV/0!"},{"$error":"#DIV/0!"},{"$error":"#DIV/0!"},{"$error":"#DIV/0!"},{"$error":"#DIV/0!"},{"$error":"#DIV/0!"},null,null,null,null,null,820]
["Dividendes bruts distribuables",null,null,{"$f":"IF(D18<4,0,D32-D40)","v":0},0,0,{"$error":"#DIV/0!"},{"$error":"#DIV/0!"},{"$error":"#DIV/0!"},{"$error":"#DIV/0!"},{"$error":"#DIV/0!"},{"$error":"#DIV/0!"},{"$error":"#DIV/0!"},{"$error":"#DIV/0!"},{"$error":"#DIV/0!"},{"$error":"#DIV/0!"},{"$error":"#DIV/0!"},{"$error":"#DIV/0!"},{"$error":"#DIV/0!"},{"$error":"#DIV/0!"},{"$error":"#DIV/0!"},{"$error":"#DIV/0!"},{"$error":"#DIV/0!"},{"$error":"#DIV/0!"},{"$error":"#DIV/0!"},{"$error":"#DIV/0!"},{"$error":"#DIV/0!"},{"$error":"#DIV/0!"},{"$error":"#DIV/0!"},{"$error":"#DIV/0!"},{"$error":"#DIV/0!"},{"$error":"#DIV/0!"},{"$error":"#DIV/0!"},null,null,null,null,null,830]
["Dividendes nets distribuables",null,null,{"$f":"D41*(100%-$I$11)","v":0},0,0,{"$error":"#DIV/0!"},{"$error":"#DIV/0!"},{"$error":"#DIV/0!"},{"$error":"#DIV/0!"},{"$error":"#DIV/0!"},{"$error":"#DIV/0!"},{"$error":"#DIV/0!"},{"$error":"#DIV/0!"},{"$error":"#DIV/0!"},{"$error":"#DIV/0!"},{"$error":"#DIV/0!"},{"$error":"#DIV/0!"},{"$error":"#DIV/0!"},{"$error":"#DIV/0!"},{"$error":"#DIV/0!"},{"$error":"#DIV/0!"},{"$error":"#DIV/0!"},{"$error":"#DIV/0!"},{"$error":"#DIV/0!"},{"$error":"#DIV/0!"},{"$error":"#DIV/0!"},{"$error":"#DIV/0!"},{"$error":"#DIV/0!"},{"$error":"#DIV/0!"},{"$error":"#DIV/0!"},{"$error":"#DIV/0!"},{"$error":"#DIV/0!"},null,null,null,null,null,840]
["Rémunération des fonds propres",null,null,{"$f":"(D42/$M$6)/$M$7","v":{"$error":"#DIV/0!"}},{"$error":"#DIV/0!"},{"$error":"#DIV/0!"},{"$error":"#DIV/0!"},{"$error":"#DIV/0!"},{"$error":"#DIV/0!"},{"$error":"#DIV/0!"},{"$error":"#DIV/0!"},{"$error":"#DIV/0!"},{"$error":"#DIV/0!"},{"$error":"#DIV/0!"},{"$error":"#DIV/0!"},{"$error":"#DIV/0!"},{"$error":"#DIV/0!"},{"$error":"#DIV/0!"},{"$error":"#DIV/0!"},{"$error":"#DIV/0!"},{"$error":"#DIV/0!"},{"$error":"#DIV/0!"},{"$error":"#DIV/0!"},{"$error":"#DIV/0!"},{"$error":"#DIV/0!"},{"$error":"#DIV/0!"},{"$error":"#DIV/0!"},{"$error":"#DIV/0!"},{"$error":"#DIV/0!"},{"$error":"#DIV/0!"},{"$error":"#DIV/0!"},{"$error":"#DIV/0!"},{"$error":"#DIV/0!"},null,null,null,null,null,850]
[null,null,null,null,null,null,null,null,null,null,null,null,null,null,null,null,null,null,null,null,null,null,null,null,null,null,null,null,null,null,null,null,null,null,null,null,null,null,860]
["Taux de couverture de la dette (DSCR)",null,null,{"$f":"IF(D18<=$M$10,D23/-PMT($M$9,$M$10,$M$8),\"\")","v":""},"","","","","","","","","","","","","","","","","","","","","","","","","","","","","",null,null,null,null,null,870]
[null,"Moyenne DSCR ",{"$f":"AVERAGE(C45:W45)","v":{"$error":"#DIV/0!"}},{"$f":"IF(C46<1.15,\"Couverture de la dette insuffisante\",\"\")","v":{"$error":"#DIV/0!"}}]
[null,null,null,null,null,null,null,null,null,null,null,null,null,null,null,null,null,null,null,null,null,null,null,null,null,null,null,null,null,null,null,null,null,null,null,null,null,null,{"$f":"AM45+10","v":880}]
["Indicateurs de rentabilité",null,null,null,null,null,null,null,null,null,null,null,null,null,null,null,null,null,null,null,null,null,null,null,null,null,null,null,null,null,null,null,null,null,null,null,null,null,{"$f":"AM47+10","v":890}]
[]
[null,"Résultat cumulé sur 20 ans (sans actualisation)",null,null,{"$f":"SUM(D32:W32)","v":{"$error":"#DIV/0!"}},null,null,null,null,null,null,null,null,null,null,null,null,null,"Résultat cumulé sur 30 ans (sans actualisation)",null,null,null,{"$f":"SUM(D32:AG32)","v":{"$error":"#DIV/0!"}},null,null,null,null,null,null,null,null,null,null,null,null,null,null,null,{"$f":"AM48+10","v":900}]
[null,"Valeur Actuelle Nette sur 20 ans",null,null,{"$f":"W38","v":{"$error":"#DIV/0!"}},null,null,null,null,null,null,null,null,null,null,null,null,null,"Valeur Actuelle Nette sur 30 ans",null,null,null,{"$f":"AG38","v":{"$error":"#DIV/0!"}},null,null,null,null,null,null,null,null,null,null,null,null,null,null,null,{"$f":"AM50+10","v":910}]
[null,"Réserves cumulées",null,null,{"$f":"SUM(D40:W40)","v":{"$error":"#DIV/0!"}},null,null,null,null,null,null,null,null,null,null,null,null,null,"Réserves cumulées",null,null,null,{"$f":"SUM(D40:AG40)","v":{"$error":"#DIV/0!"}},null,null,null,null,null,null,null,null,null,null,null,null,null,null,null,920]
[null,"TRI du Projet",null,null,{"$f":"IRR(C35:W35)","v":{"$error":"#VALUE!"}},null,null,null,null,null,null,null,null,null,null,null,null,null,"TRI du Projet",null,null,null,{"$f":"IRR(C35:AG35)","v":{"$error":"#VALUE!"}},null,null,null,null,null,null,null,null,null,null,null,null,null,null,null,930]
[null,"Rentabilité financière (Résultat Net / Fonds propres)",null,null,{"$f":"AVERAGE(D32:W32)/M5","v":{"$error":"#DIV/0!"}},null,null,null,null,null,null,null,null,null,null,null,null,null,"Rentabilité financière (Résultat Net / Fonds propres)",null,null,null,{"$f":"AVERAGE(D32:AG32)/M5","v":{"$error":"#DIV/0!"}},null,null,null,null,null,null,null,null,null,null,null,null,null,null,null,940]
[null,"Rémunération des fonds propres sur 20 ans",null,null,{"$f":"AVERAGE(D43:W43)","v":{"$error":"#DIV/0!"}},null,null,null,null,null,null,null,null,null,null,null,null,null,"Rémunération des fonds propres sur 30 ans",null,null,null,{"$f":"AVERAGE(D43:AG43)","v":{"$error":"#DIV/0!"}},null,null,null,null,null,null,null,null,null,null,null,null,null,null,null,950]
[null,"Temps de Retour Actualisé (TRA)",null,null,{"$f":"IF(COUNTIF((D38:AG38),\"<0\")>20,\"> 20 ans\",COUNTIF((D38:AG38),\"<0\"))","v":0},null,null,null,null,null,null,null,null,null,null,null,null,null,"Temps de Retour Actualisé (TRA)",null,null,null,{"$f":"IF(COUNTIF((D38:AG38),\"<0\")>30,\"> 30 ans\",COUNTIF((D38:AG38),\"<0\"))","v":0},null,null,null,null,null,null,null,null,null,null,null,null,null,null,null,960]
[null,null,null,null,null,null,null,null,null,null,null,null,null,null,null,null,null,null,null,null,null,null,null,null,null,null,null,null,null,null,null,null,null,null,null,null,null,null,970]
[null,null,null,null,null,null,null,null,null,null,null,null,null,null,null,null,null,null,null,null,null,null,null,null,null,null,null,null,null,null,null,null,null,null,null,null,null,null,980]
[null,{"$f":"IF(E51>0,\"VAN positive : viable\",\"VAN négative : non viable\")","v":{"$error":"#DIV/0!"}},null,null,null,null,null,null,null,null,null,null,null,null,null,null,null,null,{"$f":"IF(W51>0,\"VAN positive : viable\",\"VAN négative : non viable\")","v":{"$error":"#DIV/0!"}},null,null,null,null,null,null,null,null,null,null,null,null,null,null,null,null,null,null,null,990]
[null,null,null,null,null,null,null,null,null,null,null,null,null,null,null,null,null,null,null,null,null,null,null,null,null,null,null,null,null,null,null,null,null,null,null,null,null,null,1000]
[null,{"$f":"IF(E53>M9,\"TRI > Taux emprunt : viable\",\"TRI < Taux emprunt : non viable\")","v":{"$error":"#VALUE!"}},null,null,null,null,null,null,null,null,null,null,null,null,null,null,null,null,{"$f":"IF(W53>M9,\"TRI > Taux emprunt : viable\",\"TRI < Taux emprunt : non viable\")","v":{"$error":"#VALUE!"}}]

{"sheet":"FR ANALYSE CONSOMMATEUR","index":20,"n_rows":14,"n_cols":26,"rows_kept":14,"cut":false,"hidden":false,"merged":[]}
["ONGLET ANALYSE CONSOMMATEUR (FRANCE)"]
[]
["IMPACT DE L'ACC SUR LA FACTURE DES CONSOMMATEURS"]
[null,{"$f":"'FR INPUT CONSOMMATEUR'!C4","v":0},{"$f":"'FR INPUT CONSOMMATEUR'!D4","v":0},{"$f":"'FR INPUT CONSOMMATEUR'!E4","v":0},{"$f":"'FR INPUT CONSOMMATEUR'!F4","v":0},{"$f":"'FR INPUT CONSOMMATEUR'!G4","v":0},{"$f":"'FR INPUT CONSOMMATEUR'!H4","v":0},{"$f":"'FR INPUT CONSOMMATEUR'!I4","v":0},{"$f":"'FR INPUT CONSOMMATEUR'!J4","v":0},{"$f":"'FR INPUT CONSOMMATEUR'!K4","v":0},{"$f":"'FR INPUT CONSOMMATEUR'!L4","v":0},{"$f":"'FR INPUT CONSOMMATEUR'!M4","v":0},{"$f":"'FR INPUT CONSOMMATEUR'!N4","v":0},{"$f":"'FR INPUT CONSOMMATEUR'!O4","v":0},{"$f":"'FR INPUT CONSOMMATEUR'!P4","v":0},{"$f":"'FR INPUT CONSOMMATEUR'!Q4","v":0},{"$f":"'FR INPUT CONSOMMATEUR'!R4","v":0},{"$f":"'FR INPUT CONSOMMATEUR'!S4","v":0},{"$f":"'FR INPUT CONSOMMATEUR'!T4","v":0},{"$f":"'FR INPUT CONSOMMATEUR'!U4","v":0},{"$f":"'FR INPUT CONSOMMATEUR'!V4","v":0},{"$f":"'FR INPUT CONSOMMATEUR'!W4","v":0},{"$f":"'FR INPUT CONSOMMATEUR'!X4","v":0},{"$f":"'FR INPUT CONSOMMATEUR'!Y4","v":0},{"$f":"'FR INPUT CONSOMMATEUR'!Z4","v":0},{"$f":"'FR INPUT CONSOMMATEUR'!AA4","v":0}]
["Facture AVANT ACC"]
["Coût moyen part fourniture du kWh (c€/kWh)",{"$f":"'FR INPUT CONSOMMATEUR'!C46","v":""},{"$f":"'FR INPUT CONSOMMATEUR'!D46","v":""},{"$f":"'FR INPUT CONSOMMATEUR'!E46","v":""},{"$f":"'FR INPUT CONSOMMATEUR'!F46","v":""},{"$f":"'FR INPUT CONSOMMATEUR'!G46","v":""},{"$f":"'FR INPUT CONSOMMATEUR'!H46","v":""},{"$f":"'FR INPUT CONSOMMATEUR'!I46","v":""},{"$f":"'FR INPUT CONSOMMATEUR'!J46","v":""},{"$f":"'FR INPUT CONSOMMATEUR'!K46","v":""},{"$f":"'FR INPUT CONSOMMATEUR'!L46","v":""},{"$f":"'FR INPUT CONSOMMATEUR'!M46","v":""},{"$f":"'FR INPUT CONSOMMATEUR'!N46","v":""},{"$f":"'FR INPUT CONSOMMATEUR'!O46","v":""},{"$f":"'FR INPUT CONSOMMATEUR'!P46","v":""},{"$f":"'FR INPUT CONSOMMATEUR'!Q46","v":""},{"$f":"'FR INPUT CONSOMMATEUR'!R46","v":""},{"$f":"'FR INPUT CONSOMMATEUR'!S46","v":""},{"$f":"'FR INPUT CONSOMMATEUR'!T46","v":""},{"$f":"'FR INPUT CONSOMMATEUR'!U46","v":""},{"$f":"'FR INPUT CONSOMMATEUR'!V46","v":""},{"$f":"'FR INPUT CONSOMMATEUR'!W46","v":""},{"$f":"'FR INPUT CONSOMMATEUR'!X46","v":""},{"$f":"'FR INPUT CONSOMMATEUR'!Y46","v":""},{"$f":"'FR INPUT CONSOMMATEUR'!Z46","v":""},{"$f":"'FR INPUT CONSOMMATEUR'!AA46","v":""}]
["Coût total part fourniture (€HT/an)",{"$f":"B6/100*'FR INPUT CONSOMMATEUR'!C23","v":{"$error":"#VALUE!"}},{"$f":"C6/100*'FR INPUT CONSOMMATEUR'!D23","v":{"$error":"#VALUE!"}},{"$f":"D6/100*'FR INPUT CONSOMMATEUR'!E23","v":{"$error":"#VALUE!"}},{"$f":"E6/100*'FR INPUT CONSOMMATEUR'!F23","v":{"$error":"#VALUE!"}},{"$f":"F6/100*'FR INPUT CONSOMMATEUR'!G23","v":{"$error":"#VALUE!"}},{"$f":"G6/100*'FR INPUT CONSOMMATEUR'!H23","v":{"$error":"#VALUE!"}},{"$f":"H6/100*'FR INPUT CONSOMMATEUR'!I23","v":{"$error":"#VALUE!"}},{"$f":"I6/100*'FR INPUT CONSOMMATEUR'!J23","v":{"$error":"#VALUE!"}},{"$f":"J6/100*'FR INPUT CONSOMMATEUR'!K23","v":{"$error":"#VALUE!"}},{"$f":"K6/100*'FR INPUT CONSOMMATEUR'!L23","v":{"$error":"#VALUE!"}},{"$f":"L6/100*'FR INPUT CONSOMMATEUR'!M23","v":{"$error":"#VALUE!"}},{"$f":"M6/100*'FR INPUT CONSOMMATEUR'!N23","v":{"$error":"#VALUE!"}},{"$f":"N6/100*'FR INPUT CONSOMMATEUR'!O23","v":{"$error":"#VALUE!"}},{"$f":"O6/100*'FR INPUT CONSOMMATEUR'!P23","v":{"$error":"#VALUE!"}},{"$f":"P6/100*'FR INPUT CONSOMMATEUR'!Q23","v":{"$error":"#VALUE!"}},{"$f":"Q6/100*'FR INPUT CONSOMMATEUR'!R23","v":{"$error":"#VALUE!"}},{"$f":"R6/100*'FR INPUT CONSOMMATEUR'!S23","v":{"$error":"#VALUE!"}},{"$f":"S6/100*'FR INPUT CONSOMMATEUR'!T23","v":{"$error":"#VALUE!"}},{"$f":"T6/100*'FR INPUT CONSOMMATEUR'!U23","v":{"$error":"#VALUE!"}},{"$f":"U6/100*'FR INPUT CONSOMMATEUR'!V23","v":{"$error":"#VALUE!"}},{"$f":"V6/100*'FR INPUT CONSOMMATEUR'!W23","v":{"$error":"#VALUE!"}},{"$f":"W6/100*'FR INPUT CONSOMMATEUR'!X23","v":{"$error":"#VALUE!"}},{"$f":"X6/100*'FR INPUT CONSOMMATEUR'!Y23","v":{"$error":"#VALUE!"}},{"$f":"Y6/100*'FR INPUT CONSOMMATEUR'!Z23","v":{"$error":"#VALUE!"}},{"$f":"Z6/100*'FR INPUT CONSOMMATEUR'!AA23","v":{"$error":"#VALUE!"}}]
["Facture APRES ACC"]
["Coût moyen part fourniture du kWh (c€/kWh)",{"$f":"B10/'FR INPUT CONSOMMATEUR'!C23*100","v":{"$error":"#N/A"}},{"$f":"C10/'FR INPUT CONSOMMATEUR'!D23*100","v":{"$error":"#N/A"}},{"$f":"D10/'FR INPUT CONSOMMATEUR'!E23*100","v":{"$error":"#N/A"}},{"$f":"E10/'FR INPUT CONSOMMATEUR'!F23*100","v":{"$error":"#N/A"}},{"$f":"F10/'FR INPUT CONSOMMATEUR'!G23*100","v":{"$error":"#N/A"}},{"$f":"G10/'FR INPUT CONSOMMATEUR'!H23*100","v":{"$error":"#N/A"}},{"$f":"H10/'FR INPUT CONSOMMATEUR'!I23*100","v":{"$error":"#N/A"}},{"$f":"I10/'FR INPUT CONSOMMATEUR'!J23*100","v":{"$error":"#N/A"}},{"$f":"J10/'FR INPUT CONSOMMATEUR'!K23*100","v":{"$error":"#N/A"}},{"$f":"K10/'FR INPUT CONSOMMATEUR'!L23*100","v":{"$error":"#N/A"}},{"$f":"L10/'FR INPUT CONSOMMATEUR'!M23*100","v":{"$error":"#N/A"}},{"$f":"M10/'FR INPUT CONSOMMATEUR'!N23*100","v":{"$error":"#N/A"}},{"$f":"N10/'FR INPUT CONSOMMATEUR'!O23*100","v":{"$error":"#N/A"}},{"$f":"O10/'FR INPUT CONSOMMATEUR'!P23*100","v":{"$error":"#N/A"}},{"$f":"P10/'FR INPUT CONSOMMATEUR'!Q23*100","v":{"$error":"#N/A"}},{"$f":"Q10/'FR INPUT CONSOMMATEUR'!R23*100","v":{"$error":"#N/A"}},{"$f":"R10/'FR INPUT CONSOMMATEUR'!S23*100","v":{"$error":"#N/A"}},{"$f":"S10/'FR INPUT CONSOMMATEUR'!T23*100","v":{"$error":"#N/A"}},{"$f":"T10/'FR INPUT CONSOMMATEUR'!U23*100","v":{"$error":"#N/A"}},{"$f":"U10/'FR INPUT CONSOMMATEUR'!V23*100","v":{"$error":"#N/A"}},{"$f":"V10/'FR INPUT CONSOMMATEUR'!W23*100","v":{"$error":"#N/A"}},{"$f":"W10/'FR INPUT CONSOMMATEUR'!X23*100","v":{"$error":"#N/A"}},{"$f":"X10/'FR INPUT CONSOMMATEUR'!Y23*100","v":{"$error":"#N/A"}},{"$f":"Y10/'FR INPUT CONSOMMATEUR'!Z23*100","v":{"$error":"#N/A"}},{"$f":"Z10/'FR INPUT CONSOMMATEUR'!AA23*100","v":{"$error":"#N/A"}}]
["Coût total part fourniture (€HT/an)",{"$f":"'FR INPUT CONSOMMATEUR'!C52/100*'FR INPUT CONSOMMATEUR'!C24+IF('FR INPUT CONSOMMATEUR'!C5=\"Base\",'FR INPUT CONSOMMATEUR'!C40/100*'FR INPUT CONSOMMATEUR'!C17,SUMPRODUCT('FR INPUT CONSOMMATEUR'!C18:C21,'FR INPUT CONSOMMATEUR'!C41:C44)/100)","v":{"$error":"#N/A"}},{"$f":"'FR INPUT CONSOMMATEUR'!D52/100*'FR INPUT CONSOMMATEUR'!D24+IF('FR INPUT CONSOMMATEUR'!D5=\"Base\",'FR INPUT CONSOMMATEUR'!D40/100*'FR INPUT CONSOMMATEUR'!D17,SUMPRODUCT('FR INPUT CONSOMMATEUR'!D18:D21,'FR INPUT CONSOMMATEUR'!D41:D44)/100)","v":{"$error":"#N/A"}},{"$f":"'FR INPUT CONSOMMATEUR'!E52/100*'FR INPUT CONSOMMATEUR'!E24+IF('FR INPUT CONSOMMATEUR'!E5=\"Base\",'FR INPUT CONSOMMATEUR'!E40/100*'FR INPUT CONSOMMATEUR'!E17,SUMPRODUCT('FR INPUT CONSOMMATEUR'!E18:E21,'FR INPUT CONSOMMATEUR'!E41:E44)/100)","v":{"$error":"#N/A"}},{"$f":"'FR INPUT CONSOMMATEUR'!F52/100*'FR INPUT CONSOMMATEUR'!F24+IF('FR INPUT CONSOMMATEUR'!F5=\"Base\",'FR INPUT CONSOMMATEUR'!F40/100*'FR INPUT CONSOMMATEUR'!F17,SUMPRODUCT('FR INPUT CONSOMMATEUR'!F18:F21,'FR INPUT CONSOMMATEUR'!F41:F44)/100)","v":{"$error":"#N/A"}},{"$f":"'FR INPUT CONSOMMATEUR'!G52/100*'FR INPUT CONSOMMATEUR'!G24+IF('FR INPUT CONSOMMATEUR'!G5=\"Base\",'FR INPUT CONSOMMATEUR'!G40/100*'FR INPUT CONSOMMATEUR'!G17,SUMPRODUCT('FR INPUT CONSOMMATEUR'!G18:G21,'FR INPUT CONSOMMATEUR'!G41:G44)/100)","v":{"$error":"#N/A"}},{"$f":"'FR INPUT CONSOMMATEUR'!H52/100*'FR INPUT CONSOMMATEUR'!H24+IF('FR INPUT CONSOMMATEUR'!H5=\"Base\",'FR INPUT CONSOMMATEUR'!H40/100*'FR INPUT CONSOMMATEUR'!H17,SUMPRODUCT('FR INPUT CONSOMMATEUR'!H18:H21,'FR INPUT CONSOMMATEUR'!H41:H44)/100)","v":{"$error":"#N/A"}},{"$f":"'FR INPUT CONSOMMATEUR'!I52/100*'FR INPUT CONSOMMATEUR'!I24+IF('FR INPUT CONSOMMATEUR'!I5=\"Base\",'FR INPUT CONSOMMATEUR'!I40/100*'FR INPUT CONSOMMATEUR'!I17,SUMPRODUCT('FR INPUT CONSOMMATEUR'!I18:I21,'FR INPUT CONSOMMATEUR'!I41:I44)/100)","v":{"$error":"#N/A"}},{"$f":"'FR INPUT CONSOMMATEUR'!J52/100*'FR INPUT CONSOMMATEUR'!J24+IF('FR INPUT CONSOMMATEUR'!J5=\"Base\",'FR INPUT CONSOMMATEUR'!J40/100*'FR INPUT CONSOMMATEUR'!J17,SUMPRODUCT('FR INPUT CONSOMMATEUR'!J18:J21,'FR INPUT CONSOMMATEUR'!J41:J44)/100)","v":{"$error":"#N/A"}},{"$f":"'FR INPUT CONSOMMATEUR'!K52/100*'FR INPUT CONSOMMATEUR'!K24+IF('FR INPUT CONSOMMATEUR'!K5=\"Base\",'FR INPUT CONSOMMATEUR'!K40/100*'FR INPUT CONSOMMATEUR'!K17,SUMPRODUCT('FR INPUT CONSOMMATEUR'!K18:K21,'FR INPUT CONSOMMATEUR'!K41:K44)/100)","v":{"$error":"#N/A"}},{"$f":"'FR INPUT CONSOMMATEUR'!L52/100*'FR INPUT CONSOMMATEUR'!L24+IF('FR INPUT CONSOMMATEUR'!L5=\"Base\",'FR INPUT CONSOMMATEUR'!L40/100*'FR INPUT CONSOMMATEUR'!L17,SUMPRODUCT('FR INPUT CONSOMMATEUR'!L18:L21,'FR INPUT CONSOMMATEUR'!L41:L44)/100)","v":{"$error":"#N/A"}},{"$f":"'FR INPUT CONSOMMATEUR'!M52/100*'FR INPUT CONSOMMATEUR'!M24+IF('FR INPUT CONSOMMATEUR'!M5=\"Base\",'FR INPUT CONSOMMATEUR'!M40/100*'FR INPUT CONSOMMATEUR'!M17,SUMPRODUCT('FR INPUT CONSOMMATEUR'!M18:M21,'FR INPUT CONSOMMATEUR'!M41:M44)/100)","v":{"$error":"#N/A"}},{"$f":"'FR INPUT CONSOMMATEUR'!N52/100*'FR INPUT CONSOMMATEUR'!N24+IF('FR INPUT CONSOMMATEUR'!N5=\"Base\",'FR INPUT CONSOMMATEUR'!N40/100*'FR INPUT CONSOMMATEUR'!N17,SUMPRODUCT('FR INPUT CONSOMMATEUR'!N18:N21,'FR INPUT CONSOMMATEUR'!N41:N44)/100)","v":{"$error":"#N/A"}},{"$f":"'FR INPUT CONSOMMATEUR'!O52/100*'FR INPUT CONSOMMATEUR'!O24+IF('FR INPUT CONSOMMATEUR'!O5=\"Base\",'FR INPUT CONSOMMATEUR'!O40/100*'FR INPUT CONSOMMATEUR'!O17,SUMPRODUCT('FR INPUT CONSOMMATEUR'!O18:O21,'FR INPUT CONSOMMATEUR'!O41:O44)/100)","v":{"$error":"#N/A"}},{"$f":"'FR INPUT CONSOMMATEUR'!P52/100*'FR INPUT CONSOMMATEUR'!P24+IF('FR INPUT CONSOMMATEUR'!P5=\"Base\",'FR INPUT CONSOMMATEUR'!P40/100*'FR INPUT CONSOMMATEUR'!P17,SUMPRODUCT('FR INPUT CONSOMMATEUR'!P18:P21,'FR INPUT CONSOMMATEUR'!P41:P44)/100)","v":{"$error":"#N/A"}},{"$f":"'FR INPUT CONSOMMATEUR'!Q52/100*'FR INPUT CONSOMMATEUR'!Q24+IF('FR INPUT CONSOMMATEUR'!Q5=\"Base\",'FR INPUT CONSOMMATEUR'!Q40/100*'FR INPUT CONSOMMATEUR'!Q17,SUMPRODUCT('FR INPUT CONSOMMATEUR'!Q18:Q21,'FR INPUT CONSOMMATEUR'!Q41:Q44)/100)","v":{"$error":"#N/A"}},{"$f":"'FR INPUT CONSOMMATEUR'!R52/100*'FR INPUT CONSOMMATEUR'!R24+IF('FR INPUT CONSOMMATEUR'!R5=\"Base\",'FR INPUT CONSOMMATEUR'!R40/100*'FR INPUT CONSOMMATEUR'!R17,SUMPRODUCT('FR INPUT CONSOMMATEUR'!R18:R21,'FR INPUT CONSOMMATEUR'!R41:R44)/100)","v":{"$error":"#N/A"}},{"$f":"'FR INPUT CONSOMMATEUR'!S52/100*'FR INPUT CONSOMMATEUR'!S24+IF('FR INPUT CONSOMMATEUR'!S5=\"Base\",'FR INPUT CONSOMMATEUR'!S40/100*'FR INPUT CONSOMMATEUR'!S17,SUMPRODUCT('FR INPUT CONSOMMATEUR'!S18:S21,'FR INPUT CONSOMMATEUR'!S41:S44)/100)","v":{"$error":"#N/A"}},{"$f":"'FR INPUT CONSOMMATEUR'!T52/100*'FR INPUT CONSOMMATEUR'!T24+IF('FR INPUT CONSOMMATEUR'!T5=\"Base\",'FR INPUT CONSOMMATEUR'!T40/100*'FR INPUT CONSOMMATEUR'!T17,SUMPRODUCT('FR INPUT CONSOMMATEUR'!T18:T21,'FR INPUT CONSOMMATEUR'!T41:T44)/100)","v":{"$error":"#N/A"}},{"$f":"'FR INPUT CONSOMMATEUR'!U52/100*'FR INPUT CONSOMMATEUR'!U24+IF('FR INPUT CONSOMMATEUR'!U5=\"Base\",'FR INPUT CONSOMMATEUR'!U40/100*'FR INPUT CONSOMMATEUR'!U17,SUMPRODUCT('FR INPUT CONSOMMATEUR'!U18:U21,'FR INPUT CONSOMMATEUR'!U41:U44)/100)","v":{"$error":"#N/A"}},{"$f":"'FR INPUT CONSOMMATEUR'!V52/100*'FR INPUT CONSOMMATEUR'!V24+IF('FR INPUT CONSOMMATEUR'!V5=\"Base\",'FR INPUT CONSOMMATEUR'!V40/100*'FR INPUT CONSOMMATEUR'!V17,SUMPRODUCT('FR INPUT CONSOMMATEUR'!V18:V21,'FR INPUT CONSOMMATEUR'!V41:V44)/100)","v":{"$error":"#N/A"}},{"$f":"'FR INPUT CONSOMMATEUR'!W52/100*'FR INPUT CONSOMMATEUR'!W24+IF('FR INPUT CONSOMMATEUR'!W5=\"Base\",'FR INPUT CONSOMMATEUR'!W40/100*'FR INPUT CONSOMMATEUR'!W17,SUMPRODUCT('FR INPUT CONSOMMATEUR'!W18:W21,'FR INPUT CONSOMMATEUR'!W41:W44)/100)","v":{"$error":"#N/A"}},{"$f":"'FR INPUT CONSOMMATEUR'!X52/100*'FR INPUT CONSOMMATEUR'!X24+IF('FR INPUT CONSOMMATEUR'!X5=\"Base\",'FR INPUT CONSOMMATEUR'!X40/100*'FR INPUT CONSOMMATEUR'!X17,SUMPRODUCT('FR INPUT CONSOMMATEUR'!X18:X21,'FR INPUT CONSOMMATEUR'!X41:X44)/100)","v":{"$error":"#N/A"}},{"$f":"'FR INPUT CONSOMMATEUR'!Y52/100*'FR INPUT CONSOMMATEUR'!Y24+IF('FR INPUT CONSOMMATEUR'!Y5=\"Base\",'FR INPUT CONSOMMATEUR'!Y40/100*'FR INPUT CONSOMMATEUR'!Y17,SUMPRODUCT('FR INPUT CONSOMMATEUR'!Y18:Y21,'FR INPUT CONSOMMATEUR'!Y41:Y44)/100)","v":{"$error":"#N/A"}},{"$f":"'FR INPUT CONSOMMATEUR'!Z52/100*'FR INPUT CONSOMMATEUR'!Z24+IF('FR INPUT CONSOMMATEUR'!Z5=\"Base\",'FR INPUT CONSOMMATEUR'!Z40/100*'FR INPUT CONSOMMATEUR'!Z17,SUMPRODUCT('FR INPUT CONSOMMATEUR'!Z18:Z21,'FR INPUT CONSOMMATEUR'!Z41:Z44)/100)","v":{"$error":"#N/A"}},{"$f":"'FR INPUT CONSOMMATEUR'!AA52/100*'FR INPUT CONSOMMATEUR'!AA24+IF('FR INPUT CONSOMMATEUR'!AA5=\"Base\",'FR INPUT CONSOMMATEUR'!AA40/100*'FR INPUT CONSOMMATEUR'!AA17,SUMPRODUCT('FR INPUT CONSOMMATEUR'!AA18:AA21,'FR INPUT CONSOMMATEUR'!AA41:AA44)/100)","v":{"$error":"#N/A"}}]
["Réduction accise énergie",{"$f":"'FR INPUT CONSOMMATEUR'!C32*'FR INPUT CONSOMMATEUR'!C24/100","v":{"$error":"#N/A"}},{"$f":"'FR INPUT CONSOMMATEUR'!D32*'FR INPUT CONSOMMATEUR'!D24/100","v":{"$error":"#N/A"}},{"$f":"'FR INPUT CONSOMMATEUR'!E32*'FR INPUT CONSOMMATEUR'!E24/100","v":{"$error":"#N/A"}},{"$f":"'FR INPUT CONSOMMATEUR'!F32*'FR INPUT CONSOMMATEUR'!F24/100","v":{"$error":"#N/A"}},{"$f":"'FR INPUT CONSOMMATEUR'!G32*'FR INPUT CONSOMMATEUR'!G24/100","v":{"$error":"#N/A"}},{"$f":"'FR INPUT CONSOMMATEUR'!H32*'FR INPUT CONSOMMATEUR'!H24/100","v":{"$error":"#N/A"}},{"$f":"'FR INPUT CONSOMMATEUR'!I32*'FR INPUT CONSOMMATEUR'!I24/100","v":{"$error":"#N/A"}},{"$f":"'FR INPUT CONSOMMATEUR'!J32*'FR INPUT CONSOMMATEUR'!J24/100","v":{"$error":"#N/A"}},{"$f":"'FR INPUT CONSOMMATEUR'!K32*'FR INPUT CONSOMMATEUR'!K24/100","v":{"$error":"#N/A"}},{"$f":"'FR INPUT CONSOMMATEUR'!L32*'FR INPUT CONSOMMATEUR'!L24/100","v":{"$error":"#N/A"}},{"$f":"'FR INPUT CONSOMMATEUR'!M32*'FR INPUT CONSOMMATEUR'!M24/100","v":{"$error":"#N/A"}},{"$f":"'FR INPUT CONSOMMATEUR'!N32*'FR INPUT CONSOMMATEUR'!N24/100","v":{"$error":"#N/A"}},{"$f":"'FR INPUT CONSOMMATEUR'!O32*'FR INPUT CONSOMMATEUR'!O24/100","v":{"$error":"#N/A"}},{"$f":"'FR INPUT CONSOMMATEUR'!P32*'FR INPUT CONSOMMATEUR'!P24/100","v":{"$error":"#N/A"}},{"$f":"'FR INPUT CONSOMMATEUR'!Q32*'FR INPUT CONSOMMATEUR'!Q24/100","v":{"$error":"#N/A"}},{"$f":"'FR INPUT CONSOMMATEUR'!R32*'FR INPUT CONSOMMATEUR'!R24/100","v":{"$error":"#N/A"}},{"$f":"'FR INPUT CONSOMMATEUR'!S32*'FR INPUT CONSOMMATEUR'!S24/100","v":{"$error":"#N/A"}},{"$f":"'FR INPUT CONSOMMATEUR'!T32*'FR INPUT CONSOMMATEUR'!T24/100","v":{"$error":"#N/A"}},{"$f":"'FR INPUT CONSOMMATEUR'!U32*'FR INPUT CONSOMMATEUR'!U24/100","v":{"$error":"#N/A"}},{"$f":"'FR INPUT CONSOMMATEUR'!V32*'FR INPUT CONSOMMATEUR'!V24/100","v":{"$error":"#N/A"}},{"$f":"'FR INPUT CONSOMMATEUR'!W32*'FR INPUT CONSOMMATEUR'!W24/100","v":{"$error":"#N/A"}},{"$f":"'FR INPUT CONSOMMATEUR'!X32*'FR INPUT CONSOMMATEUR'!X24/100","v":{"$error":"#N/A"}},{"$f":"'FR INPUT CONSOMMATEUR'!Y32*'FR INPUT CONSOMMATEUR'!Y24/100","v":{"$error":"#N/A"}},{"$f":"'FR INPUT CONSOMMATEUR'!Z32*'FR INPUT CONSOMMATEUR'!Z24/100","v":{"$error":"#N/A"}},{"$f":"'FR INPUT CONSOMMATEUR'!AA32*'FR INPUT CONSOMMATEUR'!AA24/100","v":{"$error":"#N/A"}}]
["Supplément composante de gestion TURPE (€/an)",{"$f":"IF('FR INPUT CONSOMMATEUR'!C29=0,0,IF('FR INPUT CONSOMMATEUR'!C29<=36,Données!$E$29,Données!$E$31))","v":0},{"$f":"IF('FR INPUT CONSOMMATEUR'!D29=0,0,IF('FR INPUT CONSOMMATEUR'!D29<=36,Données!$E$29,Données!$E$31))","v":0},{"$f":"IF('FR INPUT CONSOMMATEUR'!E29=0,0,IF('FR INPUT CONSOMMATEUR'!E29<=36,Données!$E$29,Données!$E$31))","v":0},{"$f":"IF('FR INPUT CONSOMMATEUR'!F29=0,0,IF('FR INPUT CONSOMMATEUR'!F29<=36,Données!$E$29,Données!$E$31))","v":0},{"$f":"IF('FR INPUT CONSOMMATEUR'!G29=0,0,IF('FR INPUT CONSOMMATEUR'!G29<=36,Données!$E$29,Données!$E$31))","v":0},{"$f":"IF('FR INPUT CONSOMMATEUR'!H29=0,0,IF('FR INPUT CONSOMMATEUR'!H29<=36,Données!$E$29,Données!$E$31))","v":0},{"$f":"IF('FR INPUT CONSOMMATEUR'!I29=0,0,IF('FR INPUT CONSOMMATEUR'!I29<=36,Données!$E$29,Données!$E$31))","v":0},{"$f":"IF('FR INPUT CONSOMMATEUR'!J29=0,0,IF('FR INPUT CONSOMMATEUR'!J29<=36,Données!$E$29,Données!$E$31))","v":0},{"$f":"IF('FR INPUT CONSOMMATEUR'!K29=0,0,IF('FR INPUT CONSOMMATEUR'!K29<=36,Données!$E$29,Données!$E$31))","v":0},{"$f":"IF('FR INPUT CONSOMMATEUR'!L29=0,0,IF('FR INPUT CONSOMMATEUR'!L29<=36,Données!$E$29,Données!$E$31))","v":0},{"$f":"IF('FR INPUT CONSOMMATEUR'!M29=0,0,IF('FR INPUT CONSOMMATEUR'!M29<=36,Données!$E$29,Données!$E$31))","v":0},{"$f":"IF('FR INPUT CONSOMMATEUR'!N29=0,0,IF('FR INPUT CONSOMMATEUR'!N29<=36,Données!$E$29,Données!$E$31))","v":0},{"$f":"IF('FR INPUT CONSOMMATEUR'!O29=0,0,IF('FR INPUT CONSOMMATEUR'!O29<=36,Données!$E$29,Données!$E$31))","v":0},{"$f":"IF('FR INPUT CONSOMMATEUR'!P29=0,0,IF('FR INPUT CONSOMMATEUR'!P29<=36,Données!$E$29,Données!$E$31))","v":0},{"$f":"IF('FR INPUT CONSOMMATEUR'!Q29=0,0,IF('FR INPUT CONSOMMATEUR'!Q29<=36,Données!$E$29,Données!$E$31))","v":0},{"$f":"IF('FR INPUT CONSOMMATEUR'!R29=0,0,IF('FR INPUT CONSOMMATEUR'!R29<=36,Données!$E$29,Données!$E$31))","v":0},{"$f":"IF('FR INPUT CONSOMMATEUR'!S29=0,0,IF('FR INPUT CONSOMMATEUR'!S29<=36,Données!$E$29,Données!$E$31))","v":0},{"$f":"IF('FR INPUT CONSOMMATEUR'!T29=0,0,IF('FR INPUT CONSOMMATEUR'!T29<=36,Données!$E$29,Données!$E$31))","v":0},{"$f":"IF('FR INPUT CONSOMMATEUR'!U29=0,0,IF('FR INPUT CONSOMMATEUR'!U29<=36,Données!$E$29,Données!$E$31))","v":0},{"$f":"IF('FR INPUT CONSOMMATEUR'!V29=0,0,IF('FR INPUT CONSOMMATEUR'!V29<=36,Données!$E$29,Données!$E$31))","v":0},{"$f":"IF('FR INPUT CONSOMMATEUR'!W29=0,0,IF('FR INPUT CONSOMMATEUR'!W29<=36,Données!$E$29,Données!$E$31))","v":0},{"$f":"IF('FR INPUT CONSOMMATEUR'!X29=0,0,IF('FR INPUT CONSOMMATEUR'!X29<=36,Données!$E$29,Données!$E$31))","v":0},{"$f":"IF('FR INPUT CONSOMMATEUR'!Y29=0,0,IF('FR INPUT CONSOMMATEUR'!Y29<=36,Données!$E$29,Données!$E$31))","v":0},{"$f":"IF('FR INPUT CONSOMMATEUR'!Z29=0,0,IF('FR INPUT CONSOMMATEUR'!Z29<=36,Données!$E$29,Données!$E$31))","v":0},{"$f":"IF('FR INPUT CONSOMMATEUR'!AA29=0,0,IF('FR INPUT CONSOMMATEUR'!AA29<=36,Données!$E$29,Données!$E$31))","v":0}]
["Economie consommateur avec ACC (€HT/an)",{"$f":"B7-(B10-B11+B12)","v":{"$error":"#VALUE!"}},{"$error":"#VALUE!"},{"$error":"#VALUE!"},{"$error":"#VALUE!"},{"$error":"#VALUE!"},{"$error":"#VALUE!"},{"$error":"#VALUE!"},{"$error":"#VALUE!"},{"$error":"#VALUE!"},{"$error":"#VALUE!"},{"$error":"#VALUE!"},{"$error":"#VALUE!"},{"$error":"#VALUE!"},{"$error":"#VALUE!"},{"$error":"#VALUE!"},{"$error":"#VALUE!"},{"$error":"#VALUE!"},{"$error":"#VALUE!"},{"$error":"#VALUE!"},{"$error":"#VALUE!"},{"$error":"#VALUE!"},{"$error":"#VALUE!"},{"$error":"#VALUE!"},{"$error":"#VALUE!"},{"$error":"#VALUE!"}]
["Economie consommateur avec ACC (% de la part fourniture initiale)",{"$f":"B13/B7","v":{"$error":"#VALUE!"}},{"$error":"#VALUE!"},{"$error":"#VALUE!"},{"$error":"#VALUE!"},{"$error":"#VALUE!"},{"$error":"#VALUE!"},{"$error":"#VALUE!"},{"$error":"#VALUE!"},{"$error":"#VALUE!"},{"$error":"#VALUE!"},{"$error":"#VALUE!"},{"$error":"#VALUE!"},{"$error":"#VALUE!"},{"$error":"#VALUE!"},{"$error":"#VALUE!"},{"$error":"#VALUE!"},{"$error":"#VALUE!"},{"$error":"#VALUE!"},{"$error":"#VALUE!"},{"$error":"#VALUE!"},{"$error":"#VALUE!"},{"$error":"#VALUE!"},{"$error":"#VALUE!"},{"$error":"#VALUE!"},{"$error":"#VALUE!"}]

{"sheet":"percorso file","index":21,"n_rows":1,"n_cols":1,"rows_kept":1,"cut":false,"hidden":true,"merged":[]}
[{"$f":"CELL(\"filename\")","v":"C:\\Users\\etien\\Desktop\\Nextcloud AssoCV\\AssoCV\\12_PROJETS UE\\02_ALCOTRA_RECROSSES\\4_OUTILLAGE_CER\\Fusion outils énergétiques et économiques\\Version française\\[2025_06_02_RECROSSES TOOL WP4.2_output_statique.xlsm]MODE D'EMPLOI"}]